{"text_format":"1","workbook":"xlsx","n_sheets":16,"sheets":["1. Liga","Spiele","Tabelle","Teilnehmertabelle","TabGraph","TeilnehmernGraph","Graphik-Tip","Platz-Historie","Platz","Abschluss","Platz1","zur Grafik Teilnehmer","zur Grafik","Index","TabGraph2","zur Grafik2"],"not_rendered":{"charts":9,"images":1,"macros":1,"external_links":0,"defined_names":20,"comments":1,"pivot_tables":0},"unopened":[{"sheet":"TabGraph","index":4,"reason":"not_a_worksheet"},{"sheet":"TeilnehmernGraph","index":5,"reason":"not_a_worksheet"},{"sheet":"Graphik-Tip","index":6,"reason":"not_a_worksheet"},{"sheet":"TabGraph2","index":14,"reason":"not_a_worksheet"}],"bounds":{"document_bytes":16777216,"sheet_cells":100000,"rows_first":2000,"rows_last":500,"rows_between":2000,"halvings":0,"cell_chars":16384,"cell_head_chars":4096},"cells_cut":0,"cells_raw":0,"read":"whole","date_system":"1900"}

{"sheet":"1. Liga","index":0,"n_rows":450,"n_cols":116,"rows_kept":450,"cut":false,"hidden":false,"merged":[[0,111,1,114],[0,16,2,16],[1,74,1,91],[1,5,1,7],[1,9,1,11],[1,36,1,53],[1,55,1,72],[1,17,1,34],[1,13,1,15]]}
[null,null,"Für Kurzbedienung die Maus links vom roten Pfeil positionieren",null,{"$f":"VLOOKUP(Index!G1,Index!$F$2:$G$19,2,FALSE)","v":"SV Werder Bremen"},"X",null,"X",null,null,null,null,null,null,null,null,{"$f":"COUNT(A5:A443)","v":34},{"$f":"AK1","v":"SV Werder Bremen"},{"$f":"AL1","v":"FC Bayern München"},"VfB Stuttgart","VfL Bochum 1848","Borussia Dortmund","1. FC Köln","Eintracht Frankfurt","SV Darmstadt 98","Bayer 04 Leverkusen","RB Leipzig","VfL Wolfsburg","1. FC Heidenheim 1846","1. FC Union Berlin","1. FSV Mainz 05","FC Augsburg","Borussia Mönchengladbach","TSG Hoffenheim","Sport-Club Freiburg",null,{"$f":"C6","v":"SV Werder Bremen"},{"$f":"E6","v":"FC Bayern München"},{"$f":"C7","v":"VfB Stuttgart"},{"$f":"E7","v":"VfL Bochum 1848"},{"$f":"C8","v":"Borussia Dortmund"},{"$f":"E8","v":"1. FC Köln"},{"$f":"C9","v":"Eintracht Frankfurt"},{"$f":"E9","v":"SV Darmstadt 98"},{"$f":"C10","v":"Bayer 04 Leverkusen"},{"$f":"E10","v":"RB Leipzig"},{"$f":"C11","v":"VfL Wolfsburg"},{"$f":"E11","v":"1. FC Heidenheim 1846"},{"$f":"C12","v":"1. FC Union Berlin"},{"$f":"E12","v":"1. FSV Mainz 05"},{"$f":"C13","v":"FC Augsburg"},{"$f":"E13","v":"Borussia Mönchengladbach"},{"$f":"C14","v":"TSG Hoffenheim"},{"$f":"E14","v":"Sport-Club Freiburg"},null,{"$f":"AK1","v":"SV Werder Bremen"},"FC Bayern München","VfB Stuttgart","VfL Bochum 1848","Borussia Dortmund","1. FC Köln","Eintracht Frankfurt","SV Darmstadt 98","Bayer 04 Leverkusen","RB Leipzig","VfL Wolfsburg","1. FC Heidenheim 1846","1. FC Union Berlin","1. FSV Mainz 05","FC Augsburg","Borussia Mönchengladbach","TSG Hoffenheim","Sport-Club Freiburg",null,{"$f":"BD1","v":"SV Werder Bremen"},"FC Bayern München","VfB Stuttgart","VfL Bochum 1848","Borussia Dortmund","1. FC Köln","Eintracht Frankfurt","SV Darmstadt 98","Bayer 04 Leverkusen","RB Leipzig","VfL Wolfsburg","1. FC Heidenheim 1846","1. FC Union Berlin","1. FSV Mainz 05","FC Augsburg","Borussia Mönchengladbach","TSG Hoffenheim","Sport-Club Freiburg",null,{"$f":"BW1","v":"SV Werder Bremen"},"FC Bayern München","VfB Stuttgart","VfL Bochum 1848","Borussia Dortmund","1. FC Köln","Eintracht Frankfurt","SV Darmstadt 98","Bayer 04 Leverkusen","RB Leipzig","VfL Wolfsburg","1. FC Heidenheim 1846","1. FC Union Berlin","1. FSV Mainz 05","FC Augsburg","Borussia Mönchengladbach","TSG Hoffenheim","Sport-Club Freiburg","Direkter Vergleich\n(Alle 1.+2. BuLi-Spiele)"]
[null,null,null,null,null,null,null,null,null,"Punkte",null,null,null,"Tore",null,null,null,"Berechnung Tabellenplatz",null,null,null,null,null,null,null,null,null,null,null,null,null,null,null,null,null,null,"Berechnung Punkte",null,null,null,null,null,null,null,null,null,null,null,null,null,null,null,null,null,null,"Berechnung Tordifferenz",null,null,null,null,null,null,null,null,null,null,null,null,null,null,null,null,null,null,"Berechnung Anzahl Tore",null,null,null,null,null,null,null,null,null,null,null,null,null,null,null,null,null,null,{"$f":"RANK(CP3,$CP3:$DG3,0)","v":6},{"$f":"RANK(CQ3,$CP3:$DG3,0)","v":3},2,11,7,13,13,16,1,3,9,9,15,3,16,16,7,12,null,null,null,null,0]
[null,null,null,null,null,null,null,null,null,null,null,null,null,null,null,null,null,{"$f":"R449","v":9},3,2,16,5,17,6,18,1,4,12,8,15,13,11,14,7,10,null,{"$f":"AK448","v":42},72,73,33,63,27,47,17,90,65,37,42,33,35,39,34,46,42,null,{"$f":"BD448","v":-6},49,39,-32,25,-32,1,-56,65,38,-15,-5,-25,-12,-10,-11,0,-13,null,{"$f":"BW448","v":48},94,78,42,68,28,51,30,89,77,41,50,33,39,50,56,66,45,6,{"$f":"SUMIF($CO4:$CO444,\"x\",CP4:CP444)","v":11},12,13,7,10,5,5,3,14,12,9,9,4,12,3,3,10,6,"S","U","N","Tore","Ø"]
[null,null,"1. Spieltag"]
[{"$f":"IF(SUM(J6:L14)>0,1,\"Z\")","v":1},null,"18.-20.08.2023"]
[null,{"$f":"C6&E6","v":"SV Werder BremenFC Bayern München"},"SV Werder Bremen","-","FC Bayern München",0,":",4,null,{"$f":"IF(F6>H6,3,IF(F6<H6,0,IF(AND(H6<>\"\",F6=H6),1,0)))","v":0}," : ",{"$f":"IF(F6>H6,0,IF(F6<H6,3,IF(AND(H6<>\"\",F6=H6),1,0)))","v":3},null,{"$f":"F6-H6","v":-4},null,{"$f":"H6-F6","v":4},null,{"$f":"(AK6*10000+BD6*100+BW6)","v":-400},{"$f":"(AL6*10000+BE6*100+BX6)","v":30404},{"$f":"(AM6*10000+BF6*100+BY6)","v":0},{"$f":"(AN6*10000+BG6*100+BZ6)","v":0},{"$f":"(AO6*10000+BH6*100+CA6)","v":0},{"$f":"(AP6*10000+BI6*100+CB6)","v":0},{"$f":"(AQ6*10000+BJ6*100+CC6)","v":0},{"$f":"(AR6*10000+BK6*100+CD6)","v":0},{"$f":"(AS6*10000+BL6*100+CE6)","v":0},{"$f":"(AT6*10000+BM6*100+CF6)","v":0},{"$f":"(AU6*10000+BN6*100+CG6)","v":0},{"$f":"(AV6*10000+BO6*100+CH6)","v":0},{"$f":"(AW6*10000+BP6*100+CI6)","v":0},{"$f":"(AX6*10000+BQ6*100+CJ6)","v":0},{"$f":"(AY6*10000+BR6*100+CK6)","v":0},{"$f":"(AZ6*10000+BS6*100+CL6)","v":0},{"$f":"(BA6*10000+BT6*100+CM6)","v":0},{"$f":"(BB6*10000+BU6*100+CN6)","v":0},null,{"$f":"IF($C6=AK$1,$J6,IF($E6=AK$1,$L6,0))","v":0},3,0,0,0,0,0,0,0,0,{"$f":"IF($C6=AU$1,$J6,IF($E6=AU$1,$L6,0))","v":0},0,0,0,0,0,0,0,null,{"$f":"IF($C6=BD$1,$F6-$H6,IF($E6=BD$1,$H6-$F6,0))","v":-4},4,0,0,0,0,0,0,0,0,{"$f":"IF($C6=BN$1,$F6-$H6,IF($E6=BN$1,$H6-$F6,0))","v":0},0,0,0,0,0,0,0,null,{"$f":"IF($C6=BW$1,$F6,IF($E6=BW$1,$H6,0))","v":0},4,0,0,0,0,0,0,0,0,{"$f":"IF($C6=CG$1,$F6,IF($E6=CG$1,$H6,0))","v":0},0,0,0,0,0,0,0,null,{"$f":"IF($C6=CP$1,IF($F6<>\"\",1,0),IF($E6=CP$1,IF($H6<>\"\",2,0),0))","v":1},2,0,0,0,0,0,0,0,0,{"$f":"IF($C6=CZ$1,IF($F6<>\"\",1,0),IF($E6=CZ$1,IF($H6<>\"\",2,0),0))","v":0},0,0,0,0,0,0,0,26,26,60,"128:230",{"$f":"IFERROR(ROUND(MID(DK6,1,SEARCH(\":\",DK6,1)-1)/SUM(DH6:DJ6),$DL$2)&\" : \"&ROUND(MID(DK6,SEARCH(\":\",DK6,1)+1,99)/SUM(DH6:DJ6),$DL$2),\"\")","v":"1 : 2"}]
[null,"VfB StuttgartVfL Bochum 1848","VfB Stuttgart","-","VfL Bochum 1848",5,":",0,null,3," : ",0,null,{"$f":"F7-H7","v":5},null,{"$f":"H7-F7","v":-5},null,0,0,30505,-500,0,0,0,0,0,0,0,0,0,0,0,0,0,0,null,0,0,3,0,0,0,0,0,0,0,0,0,0,0,0,0,0,0,null,0,0,5,-5,0,0,0,0,0,0,0,0,0,0,0,0,0,0,null,0,0,5,0,0,0,0,0,0,0,0,0,0,0,0,0,0,0,null,0,0,1,2,0,0,0,0,0,0,0,0,0,0,0,0,0,0,37,20,15,"126:87",{"$f":"IFERROR(ROUND(MID(DK7,1,SEARCH(\":\",DK7,1)-1)/SUM(DH7:DJ7),$DL$2)&\" : \"&ROUND(MID(DK7,SEARCH(\":\",DK7,1)+1,99)/SUM(DH7:DJ7),$DL$2),\"\")","v":"2 : 1"}]
[null,"Borussia Dortmund1. FC Köln","Borussia Dortmund","-","1. FC Köln",1,":",0,null,3," : ",0,null,1,null,-1,null,0,0,0,0,30101,-100,0,0,0,0,0,0,0,0,0,0,0,0,null,0,0,0,0,3,0,0,0,0,0,0,0,0,0,0,0,0,0,null,0,0,0,0,1,-1,0,0,0,0,0,0,0,0,0,0,0,0,null,0,0,0,0,1,0,0,0,0,0,0,0,0,0,0,0,0,0,null,0,0,0,0,1,2,0,0,0,0,0,0,0,0,0,0,0,0,40,25,29,"162:134","2 : 1"]
[null,"Eintracht FrankfurtSV Darmstadt 98","Eintracht Frankfurt","-","SV Darmstadt 98",1,":",0,null,3," : ",0,null,1,null,-1,null,0,0,0,0,0,0,30101,-100,0,0,0,0,0,0,0,0,0,0,null,0,0,0,0,0,0,3,0,0,0,0,0,0,0,0,0,0,0,null,0,0,0,0,0,0,1,-1,0,0,0,0,0,0,0,0,0,0,null,0,0,0,0,0,0,1,0,0,0,0,0,0,0,0,0,0,0,null,0,0,0,0,0,0,1,2,0,0,0,0,0,0,0,0,0,0,5,0,3,"12:7","2 : 1"]
[null,"Bayer 04 LeverkusenRB Leipzig","Bayer 04 Leverkusen","-","RB Leipzig",3,":",2,null,3," : ",0,null,1,null,-1,null,0,0,0,0,0,0,0,0,30103,-98,0,0,0,0,0,0,0,0,null,0,0,0,0,0,0,0,0,3,0,0,0,0,0,0,0,0,0,null,0,0,0,0,0,0,0,0,1,-1,0,0,0,0,0,0,0,0,null,0,0,0,0,0,0,0,0,3,2,0,0,0,0,0,0,0,0,null,0,0,0,0,0,0,0,0,1,2,0,0,0,0,0,0,0,0,3,4,7,"18:22","1 : 2"]
[null,"VfL Wolfsburg1. FC Heidenheim 1846","VfL Wolfsburg","-","1. FC Heidenheim 1846",2,":",0,null,3," : ",0,null,2,null,-2,null,0,0,0,0,0,0,0,0,0,0,30202,-200,0,0,0,0,0,0,null,0,0,0,0,0,0,0,0,0,0,3,0,0,0,0,0,0,0,null,0,0,0,0,0,0,0,0,0,0,2,-2,0,0,0,0,0,0,null,0,0,0,0,0,0,0,0,0,0,2,0,0,0,0,0,0,0,null,0,0,0,0,0,0,0,0,0,0,1,2,0,0,0,0,0,0,"-","-","-","-",""]
[null,"1. FC Union Berlin1. FSV Mainz 05","1. FC Union Berlin","-","1. FSV Mainz 05",4,":",1,null,3," : ",0,null,3,null,-3,null,0,0,0,0,0,0,0,0,0,0,0,0,30304,-299,0,0,0,0,null,0,0,0,0,0,0,0,0,0,0,0,0,3,0,0,0,0,0,null,0,0,0,0,0,0,0,0,0,0,0,0,3,-3,0,0,0,0,null,0,0,0,0,0,0,0,0,0,0,0,0,4,1,0,0,0,0,null,0,0,0,0,0,0,0,0,0,0,0,0,1,2,0,0,0,0,6,3,5,"20:15","1 : 1"]
[null,"FC AugsburgBorussia Mönchengladbach","FC Augsburg","-","Borussia Mönchengladbach",4,":",4,null,1," : ",1,null,0,null,0,null,0,0,0,0,0,0,0,0,0,0,0,0,0,0,10004,10004,0,0,null,0,0,0,0,0,0,0,0,0,0,0,0,0,0,1,1,0,0,null,0,0,0,0,0,0,0,0,0,0,0,0,0,0,0,0,0,0,null,0,0,0,0,0,0,0,0,0,0,0,0,0,0,4,4,0,0,null,0,0,0,0,0,0,0,0,0,0,0,0,0,0,1,2,0,0,8,8,10,"33:42","1 : 2"]
[null,"TSG HoffenheimSport-Club Freiburg","TSG Hoffenheim","-","Sport-Club Freiburg",1,":",2,null,0," : ",3,null,-1,null,1,null,0,0,0,0,0,0,0,0,0,0,0,0,0,0,0,0,-99,30102,null,0,0,0,0,0,0,0,0,0,0,0,0,0,0,0,0,0,3,null,0,0,0,0,0,0,0,0,0,0,0,0,0,0,0,0,-1,1,null,0,0,0,0,0,0,0,0,0,0,0,0,0,0,0,0,1,2,null,0,0,0,0,0,0,0,0,0,0,0,0,0,0,0,0,1,2,7,11,10,"43:47","2 : 2"]
[null,null,null,null,null,null,null,null,null,null,null,null,null,null,null,null,null,{"$f":"SUM(R6:R14)","v":-400},{"$f":"SUM(S6:S14)","v":30404},30505,-500,30101,-100,30101,-100,30103,-98,30202,-200,30304,-299,10004,10004,-99,30102,null,{"$f":"SUM(AK6:AK14)","v":0},3,3,0,3,0,3,0,3,0,3,0,3,0,1,1,0,3,null,{"$f":"SUM(BD6:BD14)","v":-4},4,5,-5,1,-1,1,-1,1,-1,2,-2,3,-3,0,0,-1,1,null,{"$f":"SUM(BW6:BW14)","v":0},4,5,0,1,0,1,0,3,2,2,0,4,1,4,4,1,2,"x",{"$f":"IF(CP16<=$CO$3,SUMIF(CP6:CP14,1,$J6:$J14)+SUMIF(CP6:CP14,2,$L6:$L14),0)","v":0},0,0,0,0,0,0,0,0,0,0,0,0,0,0,0,0,0]
[null,null,null,null,null,null,null,null,null,null,null,null,null,null,null,null,null,{"$f":"RANK(R15,$R15:$AI15,0)","v":17},2,1,18,7,13,7,13,5,11,4,15,3,16,9,9,12,6,null,null,null,null,null,null,null,null,null,null,null,null,null,null,null,null,null,null,null,null,null,null,null,null,null,null,null,null,null,null,null,null,null,null,null,null,null,null,null,null,null,null,null,null,null,null,null,null,null,null,null,null,null,null,null,null,null,null,{"$f":"IF(SUM(CP6:CP14)>0,IF(CP29=0,1,CP29+1),IF(CP29<>0,CP29,0))","v":34},34,34,34,34,34,34,34,34,34,34,34,34,34,34,34,34,34]
[null,null,"2. Spieltag",null,null,null,null,null,null,null,null,null,null,null,null,null,null,null,null,null,null,null,null,null,null,null,"   "," "]
[{"$f":"IF(SUM(J19:L27)>0,1,\"Z\")","v":1},null,"25.-27.08.2023"]
[null,{"$f":"C19&E19","v":"FC Bayern MünchenFC Augsburg"},"FC Bayern München","-","FC Augsburg",3,":",1,null,{"$f":"IF(F19>H19,3,IF(F19<H19,0,IF(AND(H19<>\"\",F19=H19),1,0)))","v":3}," : ",{"$f":"IF(F19>H19,0,IF(F19<H19,3,IF(AND(H19<>\"\",F19=H19),1,0)))","v":0},null,{"$f":"F19-H19","v":2},null,{"$f":"H19-F19","v":-2},null,{"$f":"(AK19*10000+BD19*100+BW19)","v":0},{"$f":"(AL19*10000+BE19*100+BX19)","v":30203},{"$f":"(AM19*10000+BF19*100+BY19)","v":0},{"$f":"(AN19*10000+BG19*100+BZ19)","v":0},{"$f":"(AO19*10000+BH19*100+CA19)","v":0},{"$f":"(AP19*10000+BI19*100+CB19)","v":0},{"$f":"(AQ19*10000+BJ19*100+CC19)","v":0},{"$f":"(AR19*10000+BK19*100+CD19)","v":0},{"$f":"(AS19*10000+BL19*100+CE19)","v":0},{"$f":"(AT19*10000+BM19*100+CF19)","v":0},{"$f":"(AU19*10000+BN19*100+CG19)","v":0},{"$f":"(AV19*10000+BO19*100+CH19)","v":0},{"$f":"(AW19*10000+BP19*100+CI19)","v":0},{"$f":"(AX19*10000+BQ19*100+CJ19)","v":0},{"$f":"(AY19*10000+BR19*100+CK19)","v":-199},{"$f":"(AZ19*10000+BS19*100+CL19)","v":0},{"$f":"(BA19*10000+BT19*100+CM19)","v":0},{"$f":"(BB19*10000+BU19*100+CN19)","v":0},null,{"$f":"IF($C19=AK$1,$J19,IF($E19=AK$1,$L19,0))","v":0},3,0,0,0,0,0,0,0,0,{"$f":"IF($C19=AU$1,$J19,IF($E19=AU$1,$L19,0))","v":0},0,0,0,0,0,0,0,null,{"$f":"IF($C19=BD$1,$F19-$H19,IF($E19=BD$1,$H19-$F19,0))","v":0},2,0,0,0,0,0,0,0,0,{"$f":"IF($C19=BN$1,$F19-$H19,IF($E19=BN$1,$H19-$F19,0))","v":0},0,0,0,-2,0,0,0,null,{"$f":"IF($C19=BW$1,$F19,IF($E19=BW$1,$H19,0))","v":0},3,0,0,0,0,0,0,0,0,{"$f":"IF($C19=CG$1,$F19,IF($E19=CG$1,$H19,0))","v":0},0,0,0,1,0,0,0,null,{"$f":"IF($C19=CP$1,IF($F19<>\"\",1,0),IF($E19=CP$1,IF($H19<>\"\",2,0),0))","v":0},1,0,0,0,0,0,0,0,0,{"$f":"IF($C19=CZ$1,IF($F19<>\"\",1,0),IF($E19=CZ$1,IF($H19<>\"\",2,0),0))","v":0},0,0,0,2,0,0,0,18,2,4,"58:21",{"$f":"IFERROR(ROUND(MID(DK19,1,SEARCH(\":\",DK19,1)-1)/SUM(DH19:DJ19),$DL$2)&\" : \"&ROUND(MID(DK19,SEARCH(\":\",DK19,1)+1,99)/SUM(DH19:DJ19),$DL$2),\"\")","v":"2 : 1"}]
[null,"Borussia MönchengladbachBayer 04 Leverkusen","Borussia Mönchengladbach","-","Bayer 04 Leverkusen",0,":",3,null,0," : ",3,null,{"$f":"F20-H20","v":-3},null,{"$f":"H20-F20","v":3},null,0,0,0,0,0,0,0,0,30303,0,0,0,0,0,0,-300,0,0,null,0,0,0,0,0,0,0,0,3,0,0,0,0,0,0,0,0,0,null,0,0,0,0,0,0,0,0,3,0,0,0,0,0,0,-3,0,0,null,0,0,0,0,0,0,0,0,3,0,0,0,0,0,0,0,0,0,null,0,0,0,0,0,0,0,0,2,0,0,0,0,0,0,1,0,0,22,27,33,"120:157","1 : 2"]
[null,"1. FC KölnVfL Wolfsburg","1. FC Köln","-","VfL Wolfsburg",1,":",2,null,0," : ",3,null,-1,null,1,null,0,0,0,0,0,-99,0,0,0,0,30102,0,0,0,0,0,0,0,null,0,0,0,0,0,0,0,0,0,0,3,0,0,0,0,0,0,0,null,0,0,0,0,0,-1,0,0,0,0,1,0,0,0,0,0,0,0,null,0,0,0,0,0,1,0,0,0,0,2,0,0,0,0,0,0,0,null,0,0,0,0,0,1,0,0,0,0,2,0,0,0,0,0,0,0,8,10,16,"42:65","1 : 2"]
[null,"VfL Bochum 1848Borussia Dortmund","VfL Bochum 1848","-","Borussia Dortmund",1,":",1,null,1," : ",1,null,0,null,0,null,0,0,0,10001,10001,0,0,0,0,0,0,0,0,0,0,0,0,0,null,0,0,0,1,1,0,0,0,0,0,0,0,0,0,0,0,0,0,null,0,0,0,0,0,0,0,0,0,0,0,0,0,0,0,0,0,0,null,0,0,0,1,1,0,0,0,0,0,0,0,0,0,0,0,0,0,null,0,0,0,1,2,0,0,0,0,0,0,0,0,0,0,0,0,0,17,22,25,"91:108","1 : 2"]
[null,"Sport-Club FreiburgSV Werder Bremen","Sport-Club Freiburg","-","SV Werder Bremen",1,":",0,null,3," : ",0,null,1,null,-1,null,-100,0,0,0,0,0,0,0,0,0,0,0,0,0,0,0,0,30101,null,0,0,0,0,0,0,0,0,0,0,0,0,0,0,0,0,0,3,null,-1,0,0,0,0,0,0,0,0,0,0,0,0,0,0,0,0,1,null,0,0,0,0,0,0,0,0,0,0,0,0,0,0,0,0,0,1,null,2,0,0,0,0,0,0,0,0,0,0,0,0,0,0,0,0,1,11,10,23,"56:90","1 : 2"]
[null,"1. FSV Mainz 05Eintracht Frankfurt","1. FSV Mainz 05","-","Eintracht Frankfurt",1,":",1,null,1," : ",1,null,0,null,0,null,0,0,0,0,0,0,10001,0,0,0,0,0,0,10001,0,0,0,0,null,0,0,0,0,0,0,1,0,0,0,0,0,0,1,0,0,0,0,null,0,0,0,0,0,0,0,0,0,0,0,0,0,0,0,0,0,0,null,0,0,0,0,0,0,1,0,0,0,0,0,0,1,0,0,0,0,null,0,0,0,0,0,0,2,0,0,0,0,0,0,1,0,0,0,0,10,17,11,"48:51","1 : 1"]
[null,"SV Darmstadt 981. FC Union Berlin","SV Darmstadt 98","-","1. FC Union Berlin",1,":",4,null,0," : ",3,null,-3,null,3,null,0,0,0,0,0,0,0,-299,0,0,0,0,30304,0,0,0,0,0,null,0,0,0,0,0,0,0,0,0,0,0,0,3,0,0,0,0,0,null,0,0,0,0,0,0,0,-3,0,0,0,0,3,0,0,0,0,0,null,0,0,0,0,0,0,0,1,0,0,0,0,4,0,0,0,0,0,null,0,0,0,0,0,0,0,1,0,0,0,0,2,0,0,0,0,0,3,2,1,"15:9","3 : 2"]
[null,"1. FC Heidenheim 1846TSG Hoffenheim","1. FC Heidenheim 1846","-","TSG Hoffenheim",2,":",3,null,0," : ",3,null,-1,null,1,null,0,0,0,0,0,0,0,0,0,0,0,-98,0,0,0,0,30103,0,null,0,0,0,0,0,0,0,0,0,0,0,0,0,0,0,0,3,0,null,0,0,0,0,0,0,0,0,0,0,0,-1,0,0,0,0,1,0,null,0,0,0,0,0,0,0,0,0,0,0,2,0,0,0,0,3,0,null,0,0,0,0,0,0,0,0,0,0,0,1,0,0,0,0,2,0,"-","-","-","-",""]
[null,"RB LeipzigVfB Stuttgart","RB Leipzig","-","VfB Stuttgart",5,":",1,null,3," : ",0,null,4,null,-4,null,0,0,-399,0,0,0,0,0,0,30405,0,0,0,0,0,0,0,0,null,0,0,0,0,0,0,0,0,0,3,0,0,0,0,0,0,0,0,null,0,0,-4,0,0,0,0,0,0,4,0,0,0,0,0,0,0,0,null,0,0,1,0,0,0,0,0,0,5,0,0,0,0,0,0,0,0,null,0,0,2,0,0,0,0,0,0,1,0,0,0,0,0,0,0,0,8,2,0,"18:3","2 : 0"]
[null,null,null,null,null,null,null,null,null,null,null,null,null,null,null,null,null,{"$f":"SUM(R19:R27)+R15","v":-500},{"$f":"SUM(S19:S27)+S15","v":60607},30106,9501,40102,-199,40102,-399,60406,30307,60304,-298,60608,9702,9805,9704,30004,60203,null,{"$f":"SUM(AK19:AK27)+AK15","v":0},{"$f":"SUM(AL19:AL27)+AL15","v":6},3,1,4,0,4,0,6,3,6,0,6,1,1,1,3,6,null,{"$f":"SUM(BD19:BD27)+BD15","v":-5},6,1,-5,1,-2,1,-4,4,3,3,-3,6,-3,-2,-3,0,2,null,{"$f":"SUM(BW19:BW27)+BW15","v":0},7,6,1,2,1,2,1,6,7,4,2,8,2,5,4,4,3,"x",{"$f":"IF(CP29<=$CO$3,SUMIF(CP19:CP27,1,$J19:$J27)+SUMIF(CP19:CP27,2,$L19:$L27),0)","v":0},0,0,0,0,0,0,0,0,0,0,0,0,0,0,0,0,0]
["Bundesliga-Tipp 20221/2023",null,null,null,null,null,null,null,null,null,null,null,null,null,null,null,null,{"$f":"RANK(R28,$R28:$AI28,0)","v":18},2,9,14,6,15,6,17,3,8,4,16,1,13,11,12,10,5,null,null,null,null,null,null,null,null,null,null,null,null,null,null,null,null,null,null,null,null,null,null,null,null,null,null,null,null,null,null,null,null,null,null,null,null,null,null,null,null,null,null,null,null,null,null,null,null,null,null,null,null,null,null,null,null,null,null,{"$f":"IF(SUM(CP19:CP27)>0,IF(CP42=0,1,CP42+1),IF(CP42<>0,CP42,0))","v":33},33,33,33,33,33,33,33,33,33,33,33,33,33,33,33,33,33]
[null,null,"3. Spieltag"]
[{"$f":"IF(SUM(J32:L40)>0,1,\"Z\")","v":1},null,"01.-03.09.2023"]
[null,{"$f":"C32&E32","v":"SV Werder Bremen1. FSV Mainz 05"},"SV Werder Bremen","-","1. FSV Mainz 05",4,":",0,null,{"$f":"IF(F32>H32,3,IF(F32<H32,0,IF(AND(H32<>\"\",F32=H32),1,0)))","v":3}," : ",{"$f":"IF(F32>H32,0,IF(F32<H32,3,IF(AND(H32<>\"\",F32=H32),1,0)))","v":0},null,{"$f":"F32-H32","v":4},null,{"$f":"H32-F32","v":-4},null,{"$f":"(AK32*10000+BD32*100+BW32)","v":30404},{"$f":"(AL32*10000+BE32*100+BX32)","v":0},{"$f":"(AM32*10000+BF32*100+BY32)","v":0},{"$f":"(AN32*10000+BG32*100+BZ32)","v":0},{"$f":"(AO32*10000+BH32*100+CA32)","v":0},{"$f":"(AP32*10000+BI32*100+CB32)","v":0},{"$f":"(AQ32*10000+BJ32*100+CC32)","v":0},{"$f":"(AR32*10000+BK32*100+CD32)","v":0},{"$f":"(AS32*10000+BL32*100+CE32)","v":0},{"$f":"(AT32*10000+BM32*100+CF32)","v":0},{"$f":"(AU32*10000+BN32*100+CG32)","v":0},{"$f":"(AV32*10000+BO32*100+CH32)","v":0},{"$f":"(AW32*10000+BP32*100+CI32)","v":0},{"$f":"(AX32*10000+BQ32*100+CJ32)","v":-400},{"$f":"(AY32*10000+BR32*100+CK32)","v":0},{"$f":"(AZ32*10000+BS32*100+CL32)","v":0},{"$f":"(BA32*10000+BT32*100+CM32)","v":0},{"$f":"(BB32*10000+BU32*100+CN32)","v":0},null,{"$f":"IF($C32=AK$1,$J32,IF($E32=AK$1,$L32,0))","v":3},0,0,0,0,0,0,0,0,0,{"$f":"IF($C32=AU$1,$J32,IF($E32=AU$1,$L32,0))","v":0},0,0,0,0,0,0,0,null,{"$f":"IF($C32=BD$1,$F32-$H32,IF($E32=BD$1,$H32-$F32,0))","v":4},0,0,0,0,0,0,0,0,0,{"$f":"IF($C32=BN$1,$F32-$H32,IF($E32=BN$1,$H32-$F32,0))","v":0},0,0,-4,0,0,0,0,null,{"$f":"IF($C32=BW$1,$F32,IF($E32=BW$1,$H32,0))","v":4},0,0,0,0,0,0,0,0,0,{"$f":"IF($C32=CG$1,$F32,IF($E32=CG$1,$H32,0))","v":0},0,0,0,0,0,0,0,null,{"$f":"IF($C32=CP$1,IF($F32<>\"\",1,0),IF($E32=CP$1,IF($H32<>\"\",2,0),0))","v":1},0,0,0,0,0,0,0,0,0,{"$f":"IF($C32=CZ$1,IF($F32<>\"\",1,0),IF($E32=CZ$1,IF($H32<>\"\",2,0),0))","v":0},0,0,2,0,0,0,0,14,7,11,"50:45",{"$f":"IFERROR(ROUND(MID(DK32,1,SEARCH(\":\",DK32,1)-1)/SUM(DH32:DJ32),$DL$2)&\" : \"&ROUND(MID(DK32,SEARCH(\":\",DK32,1)+1,99)/SUM(DH32:DJ32),$DL$2),\"\")","v":"2 : 1"}]
[null,"VfB StuttgartSport-Club Freiburg","VfB Stuttgart","-","Sport-Club Freiburg",5,":",0,null,3," : ",0,null,{"$f":"F33-H33","v":5},null,{"$f":"H33-F33","v":-5},null,0,0,30505,0,0,0,0,0,0,0,0,0,0,0,0,0,0,-500,null,0,0,3,0,0,0,0,0,0,0,0,0,0,0,0,0,0,0,null,0,0,5,0,0,0,0,0,0,0,0,0,0,0,0,0,0,-5,null,0,0,5,0,0,0,0,0,0,0,0,0,0,0,0,0,0,0,null,0,0,1,0,0,0,0,0,0,0,0,0,0,0,0,0,0,2,21,5,16,"69:58","2 : 1"]
[null,"Borussia MönchengladbachFC Bayern München","Borussia Mönchengladbach","-","FC Bayern München",1,":",2,null,0," : ",3,null,-1,null,1,null,0,30102,0,0,0,0,0,0,0,0,0,0,0,0,0,-99,0,0,null,0,3,0,0,0,0,0,0,0,0,0,0,0,0,0,0,0,0,null,0,1,0,0,0,0,0,0,0,0,0,0,0,0,0,-1,0,0,null,0,2,0,0,0,0,0,0,0,0,0,0,0,0,0,1,0,0,null,0,2,0,0,0,0,0,0,0,0,0,0,0,0,0,1,0,0,28,31,51,"141:211","1 : 2"]
[null,"Borussia Dortmund1. FC Heidenheim 1846","Borussia Dortmund","-","1. FC Heidenheim 1846",2,":",2,null,1," : ",1,null,0,null,0,null,0,0,0,0,10002,0,0,0,0,0,0,10002,0,0,0,0,0,0,null,0,0,0,0,1,0,0,0,0,0,0,1,0,0,0,0,0,0,null,0,0,0,0,0,0,0,0,0,0,0,0,0,0,0,0,0,0,null,0,0,0,0,2,0,0,0,0,0,0,2,0,0,0,0,0,0,null,0,0,0,0,1,0,0,0,0,0,0,2,0,0,0,0,0,0,"-","-","-","-",""]
[null,"Eintracht Frankfurt1. FC Köln","Eintracht Frankfurt","-","1. FC Köln",1,":",1,null,1," : ",1,null,0,null,0,null,0,0,0,0,0,10001,10001,0,0,0,0,0,0,0,0,0,0,0,null,0,0,0,0,0,1,1,0,0,0,0,0,0,0,0,0,0,0,null,0,0,0,0,0,0,0,0,0,0,0,0,0,0,0,0,0,0,null,0,0,0,0,0,1,1,0,0,0,0,0,0,0,0,0,0,0,null,0,0,0,0,0,2,1,0,0,0,0,0,0,0,0,0,0,0,32,30,36,"145:161","1 : 2"]
[null,"Bayer 04 LeverkusenSV Darmstadt 98","Bayer 04 Leverkusen","-","SV Darmstadt 98",5,":",1,null,3," : ",0,null,4,null,-4,null,0,0,0,0,0,0,0,-399,30405,0,0,0,0,0,0,0,0,0,null,0,0,0,0,0,0,0,0,3,0,0,0,0,0,0,0,0,0,null,0,0,0,0,0,0,0,-4,4,0,0,0,0,0,0,0,0,0,null,0,0,0,0,0,0,0,1,5,0,0,0,0,0,0,0,0,0,null,0,0,0,0,0,0,0,2,1,0,0,0,0,0,0,0,0,0,5,0,1,"13:7","2 : 1"]
[null,"1. FC Union BerlinRB Leipzig","1. FC Union Berlin","-","RB Leipzig",0,":",3,null,0," : ",3,null,-3,null,3,null,0,0,0,0,0,0,0,0,0,30303,0,0,-300,0,0,0,0,0,null,0,0,0,0,0,0,0,0,0,3,0,0,0,0,0,0,0,0,null,0,0,0,0,0,0,0,0,0,3,0,0,-3,0,0,0,0,0,null,0,0,0,0,0,0,0,0,0,3,0,0,0,0,0,0,0,0,null,0,0,0,0,0,0,0,0,0,2,0,0,1,0,0,0,0,0,6,1,5,"16:21","1 : 2"]
[null,"FC AugsburgVfL Bochum 1848","FC Augsburg","-","VfL Bochum 1848",2,":",2,null,1," : ",1,null,0,null,0,null,0,0,0,10002,0,0,0,0,0,0,0,0,0,0,10002,0,0,0,null,0,0,0,1,0,0,0,0,0,0,0,0,0,0,1,0,0,0,null,0,0,0,0,0,0,0,0,0,0,0,0,0,0,0,0,0,0,null,0,0,0,2,0,0,0,0,0,0,0,0,0,0,2,0,0,0,null,0,0,0,2,0,0,0,0,0,0,0,0,0,0,1,0,0,0,2,0,4,"8:8","1 : 1"]
[null,"TSG HoffenheimVfL Wolfsburg","TSG Hoffenheim","-","VfL Wolfsburg",3,":",1,null,3," : ",0,null,2,null,-2,null,0,0,0,0,0,0,0,0,0,0,-199,0,0,0,0,0,30203,0,null,0,0,0,0,0,0,0,0,0,0,0,0,0,0,0,0,3,0,null,0,0,0,0,0,0,0,0,0,0,-2,0,0,0,0,0,2,0,null,0,0,0,0,0,0,0,0,0,0,1,0,0,0,0,0,3,0,null,0,0,0,0,0,0,0,0,0,0,2,0,0,0,0,0,1,0,9,7,14,"47:58","2 : 2"]
[null,null,null,null,null,null,null,null,null,null,null,null,null,null,null,null,null,{"$f":"SUM(R32:R40)+R28","v":29904},90709,60611,19503,50104,9802,50103,-798,90811,60610,60105,9704,60308,9302,19807,9605,60207,59703,null,{"$f":"SUM(AK32:AK40)+AK28","v":3},9,6,2,5,1,5,0,9,6,6,1,6,1,2,1,6,6,null,{"$f":"SUM(BD32:BD40)+BD28","v":-1},7,6,-5,1,-2,1,-8,8,6,1,-3,3,-7,-2,-4,2,-3,null,{"$f":"SUM(BW32:BW40)+BW28","v":4},9,11,3,4,2,3,2,11,10,5,4,8,2,7,5,7,3,"x",{"$f":"IF(CP42<=$CO$3,SUMIF(CP32:CP40,1,$J32:$J40)+SUMIF(CP32:CP40,2,$L32:$L40),0)","v":0},0,0,0,0,0,0,0,0,0,0,0,0,0,0,0,0,0]
[null,null,null,null,null,null,null,null,null,null,null,null,null,null,null,null,null,{"$f":"RANK(R41,$R41:$AI41,0)","v":11},2,3,13,9,14,10,18,1,4,7,15,5,17,12,16,6,8,null,null,null,null,null,null,null,null,null,null,null,null,null,null,null,null,null,null,null,null,null,null,null,null,null,null,null,null,null,null,null,null,null,null,null,null,null,null,null,null,null,null,null,null,null,null,null,null,null,null,null,null,null,null,null,null,null,null,{"$f":"IF(SUM(CP32:CP40)>0,IF(CP55=0,1,CP55+1),IF(CP55<>0,CP55,0))","v":32},32,32,32,32,32,32,32,32,32,32,32,32,32,32,32,32,32]
[null,null,"4. Spieltag"]
[{"$f":"IF(SUM(J45:L53)>0,1,\"Z\")","v":1},null,"15.-17.09.2023"]
[null,{"$f":"C45&E45","v":"FC Bayern MünchenBayer 04 Leverkusen"},"FC Bayern München","-","Bayer 04 Leverkusen",2,":",2,null,{"$f":"IF(F45>H45,3,IF(F45<H45,0,IF(AND(H45<>\"\",F45=H45),1,0)))","v":1}," : ",{"$f":"IF(F45>H45,0,IF(F45<H45,3,IF(AND(H45<>\"\",F45=H45),1,0)))","v":1},null,{"$f":"F45-H45","v":0},null,{"$f":"H45-F45","v":0},null,{"$f":"(AK45*10000+BD45*100+BW45)","v":0},{"$f":"(AL45*10000+BE45*100+BX45)","v":10002},{"$f":"(AM45*10000+BF45*100+BY45)","v":0},{"$f":"(AN45*10000+BG45*100+BZ45)","v":0},{"$f":"(AO45*10000+BH45*100+CA45)","v":0},{"$f":"(AP45*10000+BI45*100+CB45)","v":0},{"$f":"(AQ45*10000+BJ45*100+CC45)","v":0},{"$f":"(AR45*10000+BK45*100+CD45)","v":0},{"$f":"(AS45*10000+BL45*100+CE45)","v":10002},{"$f":"(AT45*10000+BM45*100+CF45)","v":0},{"$f":"(AU45*10000+BN45*100+CG45)","v":0},{"$f":"(AV45*10000+BO45*100+CH45)","v":0},{"$f":"(AW45*10000+BP45*100+CI45)","v":0},{"$f":"(AX45*10000+BQ45*100+CJ45)","v":0},{"$f":"(AY45*10000+BR45*100+CK45)","v":0},{"$f":"(AZ45*10000+BS45*100+CL45)","v":0},{"$f":"(BA45*10000+BT45*100+CM45)","v":0},{"$f":"(BB45*10000+BU45*100+CN45)","v":0},null,{"$f":"IF($C45=AK$1,$J45,IF($E45=AK$1,$L45,0))","v":0},1,0,0,0,0,0,0,1,0,{"$f":"IF($C45=AU$1,$J45,IF($E45=AU$1,$L45,0))","v":0},0,0,0,0,0,0,0,null,{"$f":"IF($C45=BD$1,$F45-$H45,IF($E45=BD$1,$H45-$F45,0))","v":0},0,0,0,0,0,0,0,0,0,{"$f":"IF($C45=BN$1,$F45-$H45,IF($E45=BN$1,$H45-$F45,0))","v":0},0,0,0,0,0,0,0,null,{"$f":"IF($C45=BW$1,$F45,IF($E45=BW$1,$H45,0))","v":0},2,0,0,0,0,0,0,2,0,{"$f":"IF($C45=CG$1,$F45,IF($E45=CG$1,$H45,0))","v":0},0,0,0,0,0,0,0,null,{"$f":"IF($C45=CP$1,IF($F45<>\"\",1,0),IF($E45=CP$1,IF($H45<>\"\",2,0),0))","v":0},1,0,0,0,0,0,0,2,0,{"$f":"IF($C45=CZ$1,IF($F45<>\"\",1,0),IF($E45=CZ$1,IF($H45<>\"\",2,0),0))","v":0},0,0,0,0,0,0,0,52,17,19,"171:103",{"$f":"IFERROR(ROUND(MID(DK45,1,SEARCH(\":\",DK45,1)-1)/SUM(DH45:DJ45),$DL$2)&\" : \"&ROUND(MID(DK45,SEARCH(\":\",DK45,1)+1,99)/SUM(DH45:DJ45),$DL$2),\"\")","v":"2 : 1"}]
[null,"1. FC KölnTSG Hoffenheim","1. FC Köln","-","TSG Hoffenheim",1,":",3,null,0," : ",3,null,{"$f":"F46-H46","v":-2},null,{"$f":"H46-F46","v":2},null,0,0,0,0,0,-199,0,0,0,0,0,0,0,0,0,0,30203,0,null,0,0,0,0,0,0,0,0,0,0,0,0,0,0,0,0,3,0,null,0,0,0,0,0,-2,0,0,0,0,0,0,0,0,0,0,2,0,null,0,0,0,0,0,1,0,0,0,0,0,0,0,0,0,0,3,0,null,0,0,0,0,0,1,0,0,0,0,0,0,0,0,0,0,2,0,7,7,12,"30:52","1 : 2"]
[null,"VfL Bochum 1848Eintracht Frankfurt","VfL Bochum 1848","-","Eintracht Frankfurt",1,":",1,null,1," : ",1,null,0,null,0,null,0,0,0,10001,0,0,10001,0,0,0,0,0,0,0,0,0,0,0,null,0,0,0,1,0,0,1,0,0,0,0,0,0,0,0,0,0,0,null,0,0,0,0,0,0,0,0,0,0,0,0,0,0,0,0,0,0,null,0,0,0,1,0,0,1,0,0,0,0,0,0,0,0,0,0,0,null,0,0,0,1,0,0,2,0,0,0,0,0,0,0,0,0,0,0,26,16,26,"92:101","1 : 1"]
[null,"Sport-Club FreiburgBorussia Dortmund","Sport-Club Freiburg","-","Borussia Dortmund",2,":",4,null,0," : ",3,null,-2,null,2,null,0,0,0,0,30204,0,0,0,0,0,0,0,0,0,0,0,0,-198,null,0,0,0,0,3,0,0,0,0,0,0,0,0,0,0,0,0,0,null,0,0,0,0,2,0,0,0,0,0,0,0,0,0,0,0,0,-2,null,0,0,0,0,4,0,0,0,0,0,0,0,0,0,0,0,0,2,null,0,0,0,0,2,0,0,0,0,0,0,0,0,0,0,0,0,1,5,11,30,"45:106","1 : 2"]
[null,"VfL Wolfsburg1. FC Union Berlin","VfL Wolfsburg","-","1. FC Union Berlin",2,":",1,null,3," : ",0,null,1,null,-1,null,0,0,0,0,0,0,0,0,0,0,30102,0,-99,0,0,0,0,0,null,0,0,0,0,0,0,0,0,0,0,3,0,0,0,0,0,0,0,null,0,0,0,0,0,0,0,0,0,0,1,0,-1,0,0,0,0,0,null,0,0,0,0,0,0,0,0,0,0,2,0,1,0,0,0,0,0,null,0,0,0,0,0,0,0,0,0,0,1,0,2,0,0,0,0,0,3,3,2,"10:9","1 : 1"]
[null,"1. FSV Mainz 05VfB Stuttgart","1. FSV Mainz 05","-","VfB Stuttgart",1,":",3,null,0," : ",3,null,-2,null,2,null,0,0,30203,0,0,0,0,0,0,0,0,0,0,-199,0,0,0,0,null,0,0,3,0,0,0,0,0,0,0,0,0,0,0,0,0,0,0,null,0,0,2,0,0,0,0,0,0,0,0,0,0,-2,0,0,0,0,null,0,0,3,0,0,0,0,0,0,0,0,0,0,1,0,0,0,0,null,0,0,2,0,0,0,0,0,0,0,0,0,0,1,0,0,0,0,11,8,13,"46:52","1 : 2"]
[null,"SV Darmstadt 98Borussia Mönchengladbach","SV Darmstadt 98","-","Borussia Mönchengladbach",3,":",3,null,1," : ",1,null,0,null,0,null,0,0,0,0,0,0,0,10003,0,0,0,0,0,0,0,10003,0,0,null,0,0,0,0,0,0,0,1,0,0,0,0,0,0,0,1,0,0,null,0,0,0,0,0,0,0,0,0,0,0,0,0,0,0,0,0,0,null,0,0,0,0,0,0,0,3,0,0,0,0,0,0,0,3,0,0,null,0,0,0,0,0,0,0,1,0,0,0,0,0,0,0,2,0,0,1,3,4,"9:17","1 : 2"]
[null,"1. FC Heidenheim 1846SV Werder Bremen","1. FC Heidenheim 1846","-","SV Werder Bremen",4,":",2,null,3," : ",0,null,2,null,-2,null,-198,0,0,0,0,0,0,0,0,0,0,30204,0,0,0,0,0,0,null,0,0,0,0,0,0,0,0,0,0,0,3,0,0,0,0,0,0,null,-2,0,0,0,0,0,0,0,0,0,0,2,0,0,0,0,0,0,null,2,0,0,0,0,0,0,0,0,0,0,4,0,0,0,0,0,0,null,2,0,0,0,0,0,0,0,0,0,0,1,0,0,0,0,0,0,1,0,1,"2:4","1 : 2"]
[null,"RB LeipzigFC Augsburg","RB Leipzig","-","FC Augsburg",3,":",0,null,3," : ",0,null,3,null,-3,null,0,0,0,0,0,0,0,0,0,30303,0,0,0,0,-300,0,0,0,null,0,0,0,0,0,0,0,0,0,3,0,0,0,0,0,0,0,0,null,0,0,0,0,0,0,0,0,0,3,0,0,0,0,-3,0,0,0,null,0,0,0,0,0,0,0,0,0,3,0,0,0,0,0,0,0,0,null,0,0,0,0,0,0,0,0,0,1,0,0,0,0,2,0,0,0,8,5,1,"26:13","2 : 1"]
[null,null,null,null,null,null,null,null,null,null,null,null,null,null,null,null,null,{"$f":"SUM(R45:R53)+R41","v":29706},100711,90814,29504,80308,9603,60104,9205,100813,90913,90207,39908,60209,9103,19507,19608,90410,{"$f":"SUM(AI45:AI53)+AI41","v":59505},null,{"$f":"SUM(AK45:AK53)+AK41","v":3},10,9,3,8,1,6,1,10,9,9,4,6,1,2,2,9,6,null,{"$f":"SUM(BD45:BD53)+BD41","v":-3},7,8,-5,3,-4,1,-8,8,9,2,-1,2,-9,-5,-4,4,-5,null,{"$f":"SUM(BW45:BW53)+BW41","v":6},11,14,4,8,3,4,5,13,13,7,8,9,3,7,8,10,5,"x",{"$f":"IF(CP55<=$CO$3,SUMIF(CP45:CP53,1,$J45:$J53)+SUMIF(CP45:CP53,2,$L45:$L53),0)","v":0},0,0,0,0,0,0,0,0,0,0,0,0,0,0,0,0,0]
[null,null,null,null,null,null,null,null,null,null,null,null,null,null,null,null,null,{"$f":"RANK(R54,$R54:$AI54,0)","v":12},2,4,13,7,16,9,17,1,3,6,11,8,18,15,14,5,10,null,null,null,null,null,null,null,null,null,null,null,null,null,null,null,null,null,null,null,null,null,null,null,null,null,null,null,null,null,null,null,null,null,null,null,null,null,null,null,null,null,null,null,null,null,null,null,null,null,null,null,null,null,null,null,null,null,null,{"$f":"IF(SUM(CP45:CP53)>0,IF(CP68=0,1,CP68+1),IF(CP68<>0,CP68,0))","v":31},31,31,31,31,31,31,31,31,31,31,31,31,31,31,31,31,31]
[null,null,"5. Spieltag"]
[{"$f":"IF(SUM(J58:L66)>0,1,\"Z\")","v":1},null,"22.-24.09.2023"]
[null,{"$f":"C58&E58","v":"SV Werder Bremen1. FC Köln"},"SV Werder Bremen","-","1. FC Köln",2,":",1,null,{"$f":"IF(F58>H58,3,IF(F58<H58,0,IF(AND(H58<>\"\",F58=H58),1,0)))","v":3}," : ",{"$f":"IF(F58>H58,0,IF(F58<H58,3,IF(AND(H58<>\"\",F58=H58),1,0)))","v":0},null,{"$f":"F58-H58","v":1},null,{"$f":"H58-F58","v":-1},null,{"$f":"(AK58*10000+BD58*100+BW58)","v":30102},{"$f":"(AL58*10000+BE58*100+BX58)","v":0},{"$f":"(AM58*10000+BF58*100+BY58)","v":0},{"$f":"(AN58*10000+BG58*100+BZ58)","v":0},{"$f":"(AO58*10000+BH58*100+CA58)","v":0},{"$f":"(AP58*10000+BI58*100+CB58)","v":-99},{"$f":"(AQ58*10000+BJ58*100+CC58)","v":0},{"$f":"(AR58*10000+BK58*100+CD58)","v":0},{"$f":"(AS58*10000+BL58*100+CE58)","v":0},{"$f":"(AT58*10000+BM58*100+CF58)","v":0},{"$f":"(AU58*10000+BN58*100+CG58)","v":0},{"$f":"(AV58*10000+BO58*100+CH58)","v":0},{"$f":"(AW58*10000+BP58*100+CI58)","v":0},{"$f":"(AX58*10000+BQ58*100+CJ58)","v":0},{"$f":"(AY58*10000+BR58*100+CK58)","v":0},{"$f":"(AZ58*10000+BS58*100+CL58)","v":0},{"$f":"(BA58*10000+BT58*100+CM58)","v":0},{"$f":"(BB58*10000+BU58*100+CN58)","v":0},null,{"$f":"IF($C58=AK$1,$J58,IF($E58=AK$1,$L58,0))","v":3},0,0,0,0,0,0,0,0,0,{"$f":"IF($C58=AU$1,$J58,IF($E58=AU$1,$L58,0))","v":0},0,0,0,0,0,0,0,null,{"$f":"IF($C58=BD$1,$F58-$H58,IF($E58=BD$1,$H58-$F58,0))","v":1},0,0,0,0,-1,0,0,0,0,{"$f":"IF($C58=BN$1,$F58-$H58,IF($E58=BN$1,$H58-$F58,0))","v":0},0,0,0,0,0,0,0,null,{"$f":"IF($C58=BW$1,$F58,IF($E58=BW$1,$H58,0))","v":2},0,0,0,0,1,0,0,0,0,{"$f":"IF($C58=CG$1,$F58,IF($E58=CG$1,$H58,0))","v":0},0,0,0,0,0,0,0,null,{"$f":"IF($C58=CP$1,IF($F58<>\"\",1,0),IF($E58=CP$1,IF($H58<>\"\",2,0),0))","v":1},0,0,0,0,2,0,0,0,0,{"$f":"IF($C58=CZ$1,IF($F58<>\"\",1,0),IF($E58=CZ$1,IF($H58<>\"\",2,0),0))","v":0},0,0,0,0,0,0,0,35,27,36,"158:167",{"$f":"IFERROR(ROUND(MID(DK58,1,SEARCH(\":\",DK58,1)-1)/SUM(DH58:DJ58),$DL$2)&\" : \"&ROUND(MID(DK58,SEARCH(\":\",DK58,1)+1,99)/SUM(DH58:DJ58),$DL$2),\"\")","v":"2 : 2"}]
[null,"FC Bayern MünchenVfL Bochum 1848","FC Bayern München","-","VfL Bochum 1848",7,":",0,null,3," : ",0,null,{"$f":"F59-H59","v":7},null,{"$f":"H59-F59","v":-7},null,0,30707,0,-700,0,0,0,0,0,0,0,0,0,0,0,0,0,0,null,0,3,0,0,0,0,0,0,0,0,0,0,0,0,0,0,0,0,null,0,7,0,-7,0,0,0,0,0,0,0,0,0,0,0,0,0,0,null,0,7,0,0,0,0,0,0,0,0,0,0,0,0,0,0,0,0,null,0,1,0,2,0,0,0,0,0,0,0,0,0,0,0,0,0,0,48,15,9,"182:76","3 : 1"]
[null,"VfB StuttgartSV Darmstadt 98","VfB Stuttgart","-","SV Darmstadt 98",3,":",1,null,3," : ",0,null,2,null,-2,null,0,0,30203,0,0,0,0,-199,0,0,0,0,0,0,0,0,0,0,null,0,0,3,0,0,0,0,0,0,0,0,0,0,0,0,0,0,0,null,0,0,2,0,0,0,0,-2,0,0,0,0,0,0,0,0,0,0,null,0,0,3,0,0,0,0,1,0,0,0,0,0,0,0,0,0,0,null,0,0,1,0,0,0,0,2,0,0,0,0,0,0,0,0,0,0,5,4,3,"27:18","2 : 2"]
[null,"Borussia MönchengladbachRB Leipzig","Borussia Mönchengladbach","-","RB Leipzig",0,":",1,null,0," : ",3,null,-1,null,1,null,0,0,0,0,0,0,0,0,0,30101,0,0,0,0,0,-100,0,0,null,0,0,0,0,0,0,0,0,0,3,0,0,0,0,0,0,0,0,null,0,0,0,0,0,0,0,0,0,1,0,0,0,0,0,-1,0,0,null,0,0,0,0,0,0,0,0,0,1,0,0,0,0,0,0,0,0,null,0,0,0,0,0,0,0,0,0,2,0,0,0,0,0,1,0,0,3,3,8,"18:26","1 : 2"]
[null,"Borussia DortmundVfL Wolfsburg","Borussia Dortmund","-","VfL Wolfsburg",1,":",0,null,3," : ",0,null,1,null,-1,null,0,0,0,0,30101,0,0,0,0,0,-100,0,0,0,0,0,0,0,null,0,0,0,0,3,0,0,0,0,0,0,0,0,0,0,0,0,0,null,0,0,0,0,1,0,0,0,0,0,-1,0,0,0,0,0,0,0,null,0,0,0,0,1,0,0,0,0,0,0,0,0,0,0,0,0,0,null,0,0,0,0,1,0,0,0,0,0,2,0,0,0,0,0,0,0,32,12,10,"116:58","2 : 1"]
[null,"Eintracht FrankfurtSport-Club Freiburg","Eintracht Frankfurt","-","Sport-Club Freiburg",0,":",0,null,1," : ",1,null,0,null,0,null,0,0,0,0,0,0,10000,0,0,0,0,0,0,0,0,0,0,10000,null,0,0,0,0,0,0,1,0,0,0,0,0,0,0,0,0,0,1,null,0,0,0,0,0,0,0,0,0,0,0,0,0,0,0,0,0,0,null,0,0,0,0,0,0,0,0,0,0,0,0,0,0,0,0,0,0,null,0,0,0,0,0,0,1,0,0,0,0,0,0,0,0,0,0,2,18,10,14,"59:48","1 : 1"]
[null,"Bayer 04 Leverkusen1. FC Heidenheim 1846","Bayer 04 Leverkusen","-","1. FC Heidenheim 1846",4,":",1,null,3," : ",0,null,3,null,-3,null,0,0,0,0,0,0,0,0,30304,0,0,-299,0,0,0,0,0,0,null,0,0,0,0,0,0,0,0,3,0,0,0,0,0,0,0,0,0,null,0,0,0,0,0,0,0,0,3,0,0,-3,0,0,0,0,0,0,null,0,0,0,0,0,0,0,0,4,0,0,1,0,0,0,0,0,0,null,0,0,0,0,0,0,0,0,1,0,0,2,0,0,0,0,0,0,"-","-","-","-",""]
[null,"1. FC Union BerlinTSG Hoffenheim","1. FC Union Berlin","-","TSG Hoffenheim",0,":",2,null,0," : ",3,null,-2,null,2,null,0,0,0,0,0,0,0,0,0,0,0,0,-200,0,0,0,30202,0,null,0,0,0,0,0,0,0,0,0,0,0,0,0,0,0,0,3,0,null,0,0,0,0,0,0,0,0,0,0,0,0,-2,0,0,0,2,0,null,0,0,0,0,0,0,0,0,0,0,0,0,0,0,0,0,2,0,null,0,0,0,0,0,0,0,0,0,0,0,0,1,0,0,0,2,0,3,2,3,"13:16","2 : 2"]
[null,"FC Augsburg1. FSV Mainz 05","FC Augsburg","-","1. FSV Mainz 05",2,":",1,null,3," : ",0,null,1,null,-1,null,0,0,0,0,0,0,0,0,0,0,0,0,0,-99,30102,0,0,0,null,0,0,0,0,0,0,0,0,0,0,0,0,0,0,3,0,0,0,null,0,0,0,0,0,0,0,0,0,0,0,0,0,-1,1,0,0,0,null,0,0,0,0,0,0,0,0,0,0,0,0,0,1,2,0,0,0,null,0,0,0,0,0,0,0,0,0,0,0,0,0,2,1,0,0,0,13,6,13,"44:49","1 : 2"]
[null,null,null,null,null,null,null,null,null,null,null,null,null,null,null,null,null,{"$f":"SUM(R58:R66)+R54","v":59808},131418,121017,28804,110409,9504,70104,9006,131117,121014,90107,39609,60009,9004,49609,19508,120612,69505,null,{"$f":"SUM(AK58:AK66)+AK54","v":6},13,12,3,11,1,7,1,13,12,9,4,6,1,5,2,12,7,null,{"$f":"SUM(BD58:BD66)+BD54","v":-2},14,10,-12,4,-5,1,-10,11,10,1,-4,0,-10,-4,-5,6,-5,null,{"$f":"SUM(BW58:BW66)+BW54","v":8},18,17,4,9,4,4,6,17,14,7,9,9,4,9,8,12,5,"x",{"$f":"IF(CP68<=$CO$3,SUMIF(CP58:CP66,1,$J58:$J66)+SUMIF(CP58:CP66,2,$L58:$L66),0)","v":0},0,0,0,0,0,0,0,0,0,0,0,0,0,0,0,0,0]
[null,null,null,null,null,null,null,null,null,null,null,null,null,null,null,null,null,{"$f":"RANK(R67,$R67:$AI67,0)","v":11},1,3,14,6,16,8,17,2,4,7,13,10,18,12,15,5,9,null,null,null,null,null,null,null,null,null,null,null,null,null,null,null,null,null,null,null,null,null,null,null,null,null,null,null,null,null,null,null,null,null,null,null,null,null,null,null,null,null,null,null,null,null,null,null,null,null,null,null,null,null,null,null,null,null,null,{"$f":"IF(SUM(CP58:CP66)>0,IF(CP81=0,1,CP81+1),IF(CP81<>0,CP81,0))","v":30},30,30,30,30,30,30,30,30,30,30,30,30,30,30,30,30,30]
[null,null,"6. Spieltag"]
[{"$f":"IF(SUM(J71:L79)>0,1,\"Z\")","v":1},null,"29.09.-01.10.2023"]
[null,{"$f":"C71&E71","v":"1. FC KölnVfB Stuttgart"},"1. FC Köln","-","VfB Stuttgart",0,":",2,null,{"$f":"IF(F71>H71,3,IF(F71<H71,0,IF(AND(H71<>\"\",F71=H71),1,0)))","v":0}," : ",{"$f":"IF(F71>H71,0,IF(F71<H71,3,IF(AND(H71<>\"\",F71=H71),1,0)))","v":3},null,{"$f":"F71-H71","v":-2},null,{"$f":"H71-F71","v":2},null,{"$f":"(AK71*10000+BD71*100+BW71)","v":0},{"$f":"(AL71*10000+BE71*100+BX71)","v":0},{"$f":"(AM71*10000+BF71*100+BY71)","v":30202},{"$f":"(AN71*10000+BG71*100+BZ71)","v":0},{"$f":"(AO71*10000+BH71*100+CA71)","v":0},{"$f":"(AP71*10000+BI71*100+CB71)","v":-200},{"$f":"(AQ71*10000+BJ71*100+CC71)","v":0},{"$f":"(AR71*10000+BK71*100+CD71)","v":0},{"$f":"(AS71*10000+BL71*100+CE71)","v":0},{"$f":"(AT71*10000+BM71*100+CF71)","v":0},{"$f":"(AU71*10000+BN71*100+CG71)","v":0},{"$f":"(AV71*10000+BO71*100+CH71)","v":0},{"$f":"(AW71*10000+BP71*100+CI71)","v":0},{"$f":"(AX71*10000+BQ71*100+CJ71)","v":0},{"$f":"(AY71*10000+BR71*100+CK71)","v":0},{"$f":"(AZ71*10000+BS71*100+CL71)","v":0},{"$f":"(BA71*10000+BT71*100+CM71)","v":0},{"$f":"(BB71*10000+BU71*100+CN71)","v":0},null,{"$f":"IF($C71=AK$1,$J71,IF($E71=AK$1,$L71,0))","v":0},0,3,0,0,0,0,0,0,0,{"$f":"IF($C71=AU$1,$J71,IF($E71=AU$1,$L71,0))","v":0},0,0,0,0,0,0,0,null,{"$f":"IF($C71=BD$1,$F71-$H71,IF($E71=BD$1,$H71-$F71,0))","v":0},0,2,0,0,-2,0,0,0,0,{"$f":"IF($C71=BN$1,$F71-$H71,IF($E71=BN$1,$H71-$F71,0))","v":0},0,0,0,0,0,0,0,null,{"$f":"IF($C71=BW$1,$F71,IF($E71=BW$1,$H71,0))","v":0},0,2,0,0,0,0,0,0,0,{"$f":"IF($C71=CG$1,$F71,IF($E71=CG$1,$H71,0))","v":0},0,0,0,0,0,0,0,null,{"$f":"IF($C71=CP$1,IF($F71<>\"\",1,0),IF($E71=CP$1,IF($H71<>\"\",2,0),0))","v":0},0,2,0,0,1,0,0,0,0,{"$f":"IF($C71=CZ$1,IF($F71<>\"\",1,0),IF($E71=CZ$1,IF($H71<>\"\",2,0),0))","v":0},0,0,0,0,0,0,0,36,26,32,"147:154",{"$f":"IFERROR(ROUND(MID(DK71,1,SEARCH(\":\",DK71,1)-1)/SUM(DH71:DJ71),$DL$2)&\" : \"&ROUND(MID(DK71,SEARCH(\":\",DK71,1)+1,99)/SUM(DH71:DJ71),$DL$2),\"\")","v":"2 : 2"}]
[null,"VfL Bochum 1848Borussia Mönchengladbach","VfL Bochum 1848","-","Borussia Mönchengladbach",1,":",3,null,0," : ",3,null,{"$f":"F72-H72","v":-2},null,{"$f":"H72-F72","v":2},null,0,0,0,-199,0,0,0,0,0,0,0,0,0,0,0,30203,0,0,null,0,0,0,0,0,0,0,0,0,0,0,0,0,0,0,3,0,0,null,0,0,0,-2,0,0,0,0,0,0,0,0,0,0,0,2,0,0,null,0,0,0,1,0,0,0,0,0,0,0,0,0,0,0,3,0,0,null,0,0,0,1,0,0,0,0,0,0,0,0,0,0,0,2,0,0,21,22,27,"93:119","1 : 2"]
[null,"Sport-Club FreiburgFC Augsburg","Sport-Club Freiburg","-","FC Augsburg",2,":",0,null,3," : ",0,null,2,null,-2,null,0,0,0,0,0,0,0,0,0,0,0,0,0,0,-200,0,0,30202,null,0,0,0,0,0,0,0,0,0,0,0,0,0,0,0,0,0,3,null,0,0,0,0,0,0,0,0,0,0,0,0,0,0,-2,0,0,2,null,0,0,0,0,0,0,0,0,0,0,0,0,0,0,0,0,0,2,null,0,0,0,0,0,0,0,0,0,0,0,0,0,0,2,0,0,1,19,10,5,"60:33","2 : 1"]
[null,"VfL WolfsburgEintracht Frankfurt","VfL Wolfsburg","-","Eintracht Frankfurt",2,":",0,null,3," : ",0,null,2,null,-2,null,0,0,0,0,0,0,-200,0,0,0,30202,0,0,0,0,0,0,0,null,0,0,0,0,0,0,0,0,0,0,3,0,0,0,0,0,0,0,null,0,0,0,0,0,0,-2,0,0,0,2,0,0,0,0,0,0,0,null,0,0,0,0,0,0,0,0,0,0,2,0,0,0,0,0,0,0,null,0,0,0,0,0,0,2,0,0,0,1,0,0,0,0,0,0,0,22,14,8,"72:54","2 : 1"]
[null,"1. FSV Mainz 05Bayer 04 Leverkusen","1. FSV Mainz 05","-","Bayer 04 Leverkusen",0,":",3,null,0," : ",3,null,-3,null,3,null,0,0,0,0,0,0,0,0,30303,0,0,0,0,-300,0,0,0,0,null,0,0,0,0,0,0,0,0,3,0,0,0,0,0,0,0,0,0,null,0,0,0,0,0,0,0,0,3,0,0,0,0,-3,0,0,0,0,null,0,0,0,0,0,0,0,0,3,0,0,0,0,0,0,0,0,0,null,0,0,0,0,0,0,0,0,2,0,0,0,0,1,0,0,0,0,12,5,17,"44:54","1 : 2"]
[null,"SV Darmstadt 98SV Werder Bremen","SV Darmstadt 98","-","SV Werder Bremen",4,":",2,null,3," : ",0,null,2,null,-2,null,-198,0,0,0,0,0,0,30204,0,0,0,0,0,0,0,0,0,0,null,0,0,0,0,0,0,0,3,0,0,0,0,0,0,0,0,0,0,null,-2,0,0,0,0,0,0,2,0,0,0,0,0,0,0,0,0,0,null,2,0,0,0,0,0,0,4,0,0,0,0,0,0,0,0,0,0,null,2,0,0,0,0,0,0,1,0,0,0,0,0,0,0,0,0,0,3,4,3,"17:16","2 : 2"]
[null,"TSG HoffenheimBorussia Dortmund","TSG Hoffenheim","-","Borussia Dortmund",1,":",3,null,0," : ",3,null,-2,null,2,null,0,0,0,0,30203,0,0,0,0,0,0,0,0,0,0,0,-199,0,null,0,0,0,0,3,0,0,0,0,0,0,0,0,0,0,0,0,0,null,0,0,0,0,2,0,0,0,0,0,0,0,0,0,0,0,-2,0,null,0,0,0,0,3,0,0,0,0,0,0,0,0,0,0,0,1,0,null,0,0,0,0,2,0,0,0,0,0,0,0,0,0,0,0,1,0,7,10,13,"43:46","1 : 2"]
[null,"1. FC Heidenheim 18461. FC Union Berlin","1. FC Heidenheim 1846","-","1. FC Union Berlin",1,":",0,null,3," : ",0,null,1,null,-1,null,0,0,0,0,0,0,0,0,0,0,0,30101,-100,0,0,0,0,0,null,0,0,0,0,0,0,0,0,0,0,0,3,0,0,0,0,0,0,null,0,0,0,0,0,0,0,0,0,0,0,1,-1,0,0,0,0,0,null,0,0,0,0,0,0,0,0,0,0,0,1,0,0,0,0,0,0,null,0,0,0,0,0,0,0,0,0,0,0,1,2,0,0,0,0,0,5,2,3,"16:13","2 : 1"]
[null,"RB LeipzigFC Bayern München","RB Leipzig","-","FC Bayern München",2,":",2,null,1," : ",1,null,0,null,0,null,0,10002,0,0,0,0,0,0,0,10002,0,0,0,0,0,0,0,0,null,0,1,0,0,0,0,0,0,0,1,0,0,0,0,0,0,0,0,null,0,0,0,0,0,0,0,0,0,0,0,0,0,0,0,0,0,0,null,0,2,0,0,0,0,0,0,0,2,0,0,0,0,0,0,0,0,null,0,2,0,0,0,0,0,0,0,1,0,0,0,0,0,0,0,0,2,5,7,"17:26","1 : 2"]
[null,null,null,null,null,null,null,null,null,null,null,null,null,null,null,null,null,{"$f":"SUM(R71:R79)+R67","v":59610},141420,151219,28605,140612,9304,69904,39210,161420,131016,120309,69710,59909,8704,49409,49711,120413,99707,null,{"$f":"SUM(AK71:AK79)+AK67","v":6},14,15,3,14,1,7,4,16,13,12,7,6,1,5,5,12,10,null,{"$f":"SUM(BD71:BD79)+BD67","v":-4},14,12,-14,6,-7,-1,-8,14,10,3,-3,-1,-13,-6,-3,4,-3,null,{"$f":"SUM(BW71:BW79)+BW67","v":10},20,19,5,12,4,4,10,20,16,9,10,9,4,9,11,13,7,"x",{"$f":"IF(CP81<=$CO$3,SUMIF(CP71:CP79,1,$J71:$J79)+SUMIF(CP71:CP79,2,$L71:$L79),0)","v":0},0,0,0,0,0,0,0,0,0,0,0,0,0,0,0,0,0]
[null,null,null,null,null,null,null,null,null,null,null,null,null,null,null,null,null,{"$f":"RANK(R80,$R80:$AI80,0)","v":12},3,2,16,4,17,9,15,1,5,7,10,11,18,14,13,6,8,null,null,null,null,null,null,null,null,null,null,null,null,null,null,null,null,null,null,null,null,null,null,null,null,null,null,null,null,null,null,null,null,null,null,null,null,null,null,null,null,null,null,null,null,null,null,null,null,null,null,null,null,null,null,null,null,null,null,{"$f":"IF(SUM(CP71:CP79)>0,IF(CP94=0,1,CP94+1),IF(CP94<>0,CP94,0))","v":29},29,29,29,29,29,29,29,29,29,29,29,29,29,29,29,29,29]
[null,null,"7. Spieltag"]
[{"$f":"IF(SUM(J84:L92)>0,1,\"Z\")","v":1},null,"06.-08.10.2023"]
[null,{"$f":"C84&E84","v":"SV Werder BremenTSG Hoffenheim"},"SV Werder Bremen","-","TSG Hoffenheim",2,":",3,null,{"$f":"IF(F84>H84,3,IF(F84<H84,0,IF(AND(H84<>\"\",F84=H84),1,0)))","v":0}," : ",{"$f":"IF(F84>H84,0,IF(F84<H84,3,IF(AND(H84<>\"\",F84=H84),1,0)))","v":3},null,{"$f":"F84-H84","v":-1},null,{"$f":"H84-F84","v":1},null,{"$f":"(AK84*10000+BD84*100+BW84)","v":-98},{"$f":"(AL84*10000+BE84*100+BX84)","v":0},{"$f":"(AM84*10000+BF84*100+BY84)","v":0},{"$f":"(AN84*10000+BG84*100+BZ84)","v":0},{"$f":"(AO84*10000+BH84*100+CA84)","v":0},{"$f":"(AP84*10000+BI84*100+CB84)","v":0},{"$f":"(AQ84*10000+BJ84*100+CC84)","v":0},{"$f":"(AR84*10000+BK84*100+CD84)","v":0},{"$f":"(AS84*10000+BL84*100+CE84)","v":0},{"$f":"(AT84*10000+BM84*100+CF84)","v":0},{"$f":"(AU84*10000+BN84*100+CG84)","v":0},{"$f":"(AV84*10000+BO84*100+CH84)","v":0},{"$f":"(AW84*10000+BP84*100+CI84)","v":0},{"$f":"(AX84*10000+BQ84*100+CJ84)","v":0},{"$f":"(AY84*10000+BR84*100+CK84)","v":0},{"$f":"(AZ84*10000+BS84*100+CL84)","v":0},{"$f":"(BA84*10000+BT84*100+CM84)","v":30103},{"$f":"(BB84*10000+BU84*100+CN84)","v":0},null,{"$f":"IF($C84=AK$1,$J84,IF($E84=AK$1,$L84,0))","v":0},0,0,0,0,0,0,0,0,0,{"$f":"IF($C84=AU$1,$J84,IF($E84=AU$1,$L84,0))","v":0},0,0,0,0,0,3,0,null,{"$f":"IF($C84=BD$1,$F84-$H84,IF($E84=BD$1,$H84-$F84,0))","v":-1},0,0,0,0,0,0,0,0,0,{"$f":"IF($C84=BN$1,$F84-$H84,IF($E84=BN$1,$H84-$F84,0))","v":0},0,0,0,0,0,1,0,null,{"$f":"IF($C84=BW$1,$F84,IF($E84=BW$1,$H84,0))","v":2},0,0,0,0,0,0,0,0,0,{"$f":"IF($C84=CG$1,$F84,IF($E84=CG$1,$H84,0))","v":0},0,0,0,0,0,3,0,null,{"$f":"IF($C84=CP$1,IF($F84<>\"\",1,0),IF($E84=CP$1,IF($H84<>\"\",2,0),0))","v":1},0,0,0,0,0,0,0,0,0,{"$f":"IF($C84=CZ$1,IF($F84<>\"\",1,0),IF($E84=CZ$1,IF($H84<>\"\",2,0),0))","v":0},0,0,0,0,0,2,0,11,10,7,"47:46",{"$f":"IFERROR(ROUND(MID(DK84,1,SEARCH(\":\",DK84,1)-1)/SUM(DH84:DJ84),$DL$2)&\" : \"&ROUND(MID(DK84,SEARCH(\":\",DK84,1)+1,99)/SUM(DH84:DJ84),$DL$2),\"\")","v":"2 : 2"}]
[null,"FC Bayern MünchenSport-Club Freiburg","FC Bayern München","-","Sport-Club Freiburg",3,":",0,null,3," : ",0,null,{"$f":"F85-H85","v":3},null,{"$f":"H85-F85","v":-3},null,0,30303,0,0,0,0,0,0,0,0,0,0,0,0,0,0,0,-300,null,0,3,0,0,0,0,0,0,0,0,0,0,0,0,0,0,0,0,null,0,3,0,0,0,0,0,0,0,0,0,0,0,0,0,0,0,-3,null,0,3,0,0,0,0,0,0,0,0,0,0,0,0,0,0,0,0,null,0,1,0,0,0,0,0,0,0,0,0,0,0,0,0,0,0,2,33,9,4,"106:37","2 : 1"]
[null,"VfB StuttgartVfL Wolfsburg","VfB Stuttgart","-","VfL Wolfsburg",3,":",1,null,3," : ",0,null,2,null,-2,null,0,0,30203,0,0,0,0,0,0,0,-199,0,0,0,0,0,0,0,null,0,0,3,0,0,0,0,0,0,0,0,0,0,0,0,0,0,0,null,0,0,2,0,0,0,0,0,0,0,-2,0,0,0,0,0,0,0,null,0,0,3,0,0,0,0,0,0,0,1,0,0,0,0,0,0,0,null,0,0,1,0,0,0,0,0,0,0,2,0,0,0,0,0,0,0,19,7,22,"64:73","1 : 2"]
[null,"Borussia Mönchengladbach1. FSV Mainz 05","Borussia Mönchengladbach","-","1. FSV Mainz 05",2,":",2,null,1," : ",1,null,0,null,0,null,0,0,0,0,0,0,0,0,0,0,0,0,0,10002,0,10002,0,0,null,0,0,0,0,0,0,0,0,0,0,0,0,0,1,0,1,0,0,null,0,0,0,0,0,0,0,0,0,0,0,0,0,0,0,0,0,0,null,0,0,0,0,0,0,0,0,0,0,0,0,0,2,0,2,0,0,null,0,0,0,0,0,0,0,0,0,0,0,0,0,2,0,1,0,0,16,12,12,"55:45","1 : 1"]
[null,"Borussia Dortmund1. FC Union Berlin","Borussia Dortmund","-","1. FC Union Berlin",4,":",2,null,3," : ",0,null,2,null,-2,null,0,0,0,0,30204,0,0,0,0,0,0,0,-198,0,0,0,0,0,null,0,0,0,0,3,0,0,0,0,0,0,0,0,0,0,0,0,0,null,0,0,0,0,2,0,0,0,0,0,0,0,-2,0,0,0,0,0,null,0,0,0,0,4,0,0,0,0,0,0,0,2,0,0,0,0,0,null,0,0,0,0,1,0,0,0,0,0,0,0,2,0,0,0,0,0,5,0,3,"18:10","2 : 1"]
[null,"Eintracht Frankfurt1. FC Heidenheim 1846","Eintracht Frankfurt","-","1. FC Heidenheim 1846",2,":",0,null,3," : ",0,null,2,null,-2,null,0,0,0,0,0,0,30202,0,0,0,0,-200,0,0,0,0,0,0,null,0,0,0,0,0,0,3,0,0,0,0,0,0,0,0,0,0,0,null,0,0,0,0,0,0,2,0,0,0,0,-2,0,0,0,0,0,0,null,0,0,0,0,0,0,2,0,0,0,0,0,0,0,0,0,0,0,null,0,0,0,0,0,0,1,0,0,0,0,2,0,0,0,0,0,0,"-","-","-","-",""]
[null,"Bayer 04 Leverkusen1. FC Köln","Bayer 04 Leverkusen","-","1. FC Köln",3,":",0,null,3," : ",0,null,3,null,-3,null,0,0,0,0,0,-300,0,0,30303,0,0,0,0,0,0,0,0,0,null,0,0,0,0,0,0,0,0,3,0,0,0,0,0,0,0,0,0,null,0,0,0,0,0,-3,0,0,3,0,0,0,0,0,0,0,0,0,null,0,0,0,0,0,0,0,0,3,0,0,0,0,0,0,0,0,0,null,0,0,0,0,0,2,0,0,1,0,0,0,0,0,0,0,0,0,27,25,18,"110:92","2 : 1"]
[null,"FC AugsburgSV Darmstadt 98","FC Augsburg","-","SV Darmstadt 98",1,":",2,null,0," : ",3,null,-1,null,1,null,0,0,0,0,0,0,0,30102,0,0,0,0,0,0,-99,0,0,0,null,0,0,0,0,0,0,0,3,0,0,0,0,0,0,0,0,0,0,null,0,0,0,0,0,0,0,1,0,0,0,0,0,0,-1,0,0,0,null,0,0,0,0,0,0,0,2,0,0,0,0,0,0,1,0,0,0,null,0,0,0,0,0,0,0,2,0,0,0,0,0,0,1,0,0,0,5,3,8,"20:26","1 : 2"]
[null,"RB LeipzigVfL Bochum 1848","RB Leipzig","-","VfL Bochum 1848",0,":",0,null,1," : ",1,null,0,null,0,null,0,0,0,10000,0,0,0,0,0,10000,0,0,0,0,0,0,0,0,null,0,0,0,1,0,0,0,0,0,1,0,0,0,0,0,0,0,0,null,0,0,0,0,0,0,0,0,0,0,0,0,0,0,0,0,0,0,null,0,0,0,0,0,0,0,0,0,0,0,0,0,0,0,0,0,0,null,0,0,0,2,0,0,0,0,0,1,0,0,0,0,0,0,0,0,7,0,1,"16:3","2 : 0"]
[null,null,null,null,null,null,null,null,null,null,null,null,null,null,null,null,null,{"$f":"SUM(R84:R92)+R80","v":59512},171723,181422,38605,170816,9004,100106,69312,191723,141016,120110,69510,59711,18706,49310,59713,150516,99407,null,{"$f":"SUM(AK84:AK92)+AK80","v":6},17,18,4,17,1,10,7,19,14,12,7,6,2,5,6,15,10,null,{"$f":"SUM(BD84:BD92)+BD80","v":-5},17,14,-14,8,-10,1,-7,17,10,1,-5,-3,-13,-7,-3,5,-6,null,{"$f":"SUM(BW84:BW92)+BW80","v":12},23,22,5,16,4,6,12,23,16,10,10,11,6,10,13,16,7,"x",{"$f":"IF(CP94<=$CO$3,SUMIF(CP84:CP92,1,$J84:$J92)+SUMIF(CP84:CP92,2,$L84:$L92),0)","v":0},0,0,0,0,0,0,0,0,0,0,0,0,0,0,0,0,0]
[null,null,null,null,null,null,null,null,null,null,null,null,null,null,null,null,null,{"$f":"RANK(R93,$R93:$AI93,0)","v":14},3,2,16,4,18,8,11,1,6,7,10,13,17,15,12,5,9,null,null,null,null,null,null,null,null,null,null,null,null,null,null,null,null,null,null,null,null,null,null,null,null,null,null,null,null,null,null,null,null,null,null,null,null,null,null,null,null,null,null,null,null,null,null,null,null,null,null,null,null,null,null,null,null,null,null,{"$f":"IF(SUM(CP84:CP92)>0,IF(CP107=0,1,CP107+1),IF(CP107<>0,CP107,0))","v":28},28,28,28,28,28,28,28,28,28,28,28,28,28,28,28,28,28]
[null,null,"8. Spieltag"]
[{"$f":"IF(SUM(J97:L105)>0,1,\"Z\")","v":1},null,"20.-22.10.2023"]
[null,{"$f":"C97&E97","v":"1. FC KölnBorussia Mönchengladbach"},"1. FC Köln","-","Borussia Mönchengladbach",3,":",1,null,{"$f":"IF(F97>H97,3,IF(F97<H97,0,IF(AND(H97<>\"\",F97=H97),1,0)))","v":3}," : ",{"$f":"IF(F97>H97,0,IF(F97<H97,3,IF(AND(H97<>\"\",F97=H97),1,0)))","v":0},null,{"$f":"F97-H97","v":2},null,{"$f":"H97-F97","v":-2},null,{"$f":"(AK97*10000+BD97*100+BW97)","v":0},{"$f":"(AL97*10000+BE97*100+BX97)","v":0},{"$f":"(AM97*10000+BF97*100+BY97)","v":0},{"$f":"(AN97*10000+BG97*100+BZ97)","v":0},{"$f":"(AO97*10000+BH97*100+CA97)","v":0},{"$f":"(AP97*10000+BI97*100+CB97)","v":30203},{"$f":"(AQ97*10000+BJ97*100+CC97)","v":0},{"$f":"(AR97*10000+BK97*100+CD97)","v":0},{"$f":"(AS97*10000+BL97*100+CE97)","v":0},{"$f":"(AT97*10000+BM97*100+CF97)","v":0},{"$f":"(AU97*10000+BN97*100+CG97)","v":0},{"$f":"(AV97*10000+BO97*100+CH97)","v":0},{"$f":"(AW97*10000+BP97*100+CI97)","v":0},{"$f":"(AX97*10000+BQ97*100+CJ97)","v":0},{"$f":"(AY97*10000+BR97*100+CK97)","v":0},{"$f":"(AZ97*10000+BS97*100+CL97)","v":-199},{"$f":"(BA97*10000+BT97*100+CM97)","v":0},{"$f":"(BB97*10000+BU97*100+CN97)","v":0},null,{"$f":"IF($C97=AK$1,$J97,IF($E97=AK$1,$L97,0))","v":0},0,0,0,0,3,0,0,0,0,{"$f":"IF($C97=AU$1,$J97,IF($E97=AU$1,$L97,0))","v":0},0,0,0,0,0,0,0,null,{"$f":"IF($C97=BD$1,$F97-$H97,IF($E97=BD$1,$H97-$F97,0))","v":0},0,0,0,0,2,0,0,0,0,{"$f":"IF($C97=BN$1,$F97-$H97,IF($E97=BN$1,$H97-$F97,0))","v":0},0,0,0,0,-2,0,0,null,{"$f":"IF($C97=BW$1,$F97,IF($E97=BW$1,$H97,0))","v":0},0,0,0,0,3,0,0,0,0,{"$f":"IF($C97=CG$1,$F97,IF($E97=CG$1,$H97,0))","v":0},0,0,0,0,1,0,0,null,{"$f":"IF($C97=CP$1,IF($F97<>\"\",1,0),IF($E97=CP$1,IF($H97<>\"\",2,0),0))","v":0},0,0,0,0,1,0,0,0,0,{"$f":"IF($C97=CZ$1,IF($F97<>\"\",1,0),IF($E97=CZ$1,IF($H97<>\"\",2,0),0))","v":0},0,0,0,0,2,0,0,27,20,53,"133:195",{"$f":"IFERROR(ROUND(MID(DK97,1,SEARCH(\":\",DK97,1)-1)/SUM(DH97:DJ97),$DL$2)&\" : \"&ROUND(MID(DK97,SEARCH(\":\",DK97,1)+1,99)/SUM(DH97:DJ97),$DL$2),\"\")","v":"1 : 2"}]
[null,"Borussia DortmundSV Werder Bremen","Borussia Dortmund","-","SV Werder Bremen",1,":",0,null,3," : ",0,null,{"$f":"F98-H98","v":1},null,{"$f":"H98-F98","v":-1},null,-100,0,0,0,30101,0,0,0,0,0,0,0,0,0,0,0,0,0,null,0,0,0,0,3,0,0,0,0,0,0,0,0,0,0,0,0,0,null,-1,0,0,0,1,0,0,0,0,0,0,0,0,0,0,0,0,0,null,0,0,0,0,1,0,0,0,0,0,0,0,0,0,0,0,0,0,null,2,0,0,0,1,0,0,0,0,0,0,0,0,0,0,0,0,0,47,19,42,"177:175","2 : 2"]
[null,"Sport-Club FreiburgVfL Bochum 1848","Sport-Club Freiburg","-","VfL Bochum 1848",2,":",1,null,3," : ",0,null,1,null,-1,null,0,0,0,-99,0,0,0,0,0,0,0,0,0,0,0,0,0,30102,null,0,0,0,0,0,0,0,0,0,0,0,0,0,0,0,0,0,3,null,0,0,0,-1,0,0,0,0,0,0,0,0,0,0,0,0,0,1,null,0,0,0,1,0,0,0,0,0,0,0,0,0,0,0,0,0,2,null,0,0,0,2,0,0,0,0,0,0,0,0,0,0,0,0,0,1,9,4,9,"34:32","2 : 1"]
[null,"VfL WolfsburgBayer 04 Leverkusen","VfL Wolfsburg","-","Bayer 04 Leverkusen",1,":",2,null,0," : ",3,null,-1,null,1,null,0,0,0,0,0,0,0,0,30102,0,-99,0,0,0,0,0,0,0,null,0,0,0,0,0,0,0,0,3,0,0,0,0,0,0,0,0,0,null,0,0,0,0,0,0,0,0,1,0,-1,0,0,0,0,0,0,0,null,0,0,0,0,0,0,0,0,2,0,1,0,0,0,0,0,0,0,null,0,0,0,0,0,0,0,0,2,0,1,0,0,0,0,0,0,0,20,10,24,"81:93","2 : 2"]
[null,"1. FSV Mainz 05FC Bayern München","1. FSV Mainz 05","-","FC Bayern München",1,":",3,null,0," : ",3,null,-2,null,2,null,0,30203,0,0,0,0,0,0,0,0,0,0,0,-199,0,0,0,0,null,0,3,0,0,0,0,0,0,0,0,0,0,0,0,0,0,0,0,null,0,2,0,0,0,0,0,0,0,0,0,0,0,-2,0,0,0,0,null,0,3,0,0,0,0,0,0,0,0,0,0,0,1,0,0,0,0,null,0,2,0,0,0,0,0,0,0,0,0,0,0,1,0,0,0,0,7,3,24,"41:95","1 : 3"]
[null,"SV Darmstadt 98RB Leipzig","SV Darmstadt 98","-","RB Leipzig",1,":",3,null,0," : ",3,null,-2,null,2,null,0,0,0,0,0,0,0,-199,0,30203,0,0,0,0,0,0,0,0,null,0,0,0,0,0,0,0,0,0,3,0,0,0,0,0,0,0,0,null,0,0,0,0,0,0,0,-2,0,2,0,0,0,0,0,0,0,0,null,0,0,0,0,0,0,0,1,0,3,0,0,0,0,0,0,0,0,null,0,0,0,0,0,0,0,1,0,2,0,0,0,0,0,0,0,0,1,0,3,"2:8","1 : 2"]
[null,"1. FC Union BerlinVfB Stuttgart","1. FC Union Berlin","-","VfB Stuttgart",0,":",3,null,0," : ",3,null,-3,null,3,null,0,0,30303,0,0,0,0,0,0,0,0,0,-300,0,0,0,0,0,null,0,0,3,0,0,0,0,0,0,0,0,0,0,0,0,0,0,0,null,0,0,3,0,0,0,0,0,0,0,0,0,-3,0,0,0,0,0,null,0,0,3,0,0,0,0,0,0,0,0,0,0,0,0,0,0,0,null,0,0,2,0,0,0,0,0,0,0,0,0,1,0,0,0,0,0,3,4,1,"12:9","2 : 1"]
[null,"TSG HoffenheimEintracht Frankfurt","TSG Hoffenheim","-","Eintracht Frankfurt",1,":",3,null,0," : ",3,null,-2,null,2,null,0,0,0,0,0,0,30203,0,0,0,0,0,0,0,0,0,-199,0,null,0,0,0,0,0,0,3,0,0,0,0,0,0,0,0,0,0,0,null,0,0,0,0,0,0,2,0,0,0,0,0,0,0,0,0,-2,0,null,0,0,0,0,0,0,3,0,0,0,0,0,0,0,0,0,1,0,null,0,0,0,0,0,0,2,0,0,0,0,0,0,0,0,0,1,0,10,8,10,"39:40","1 : 1"]
[null,"1. FC Heidenheim 1846FC Augsburg","1. FC Heidenheim 1846","-","FC Augsburg",2,":",5,null,0," : ",3,null,-3,null,3,null,0,0,0,0,0,0,0,0,0,0,0,-298,0,0,30305,0,0,0,null,0,0,0,0,0,0,0,0,0,0,0,0,0,0,3,0,0,0,null,0,0,0,0,0,0,0,0,0,0,0,-3,0,0,3,0,0,0,null,0,0,0,0,0,0,0,0,0,0,0,2,0,0,5,0,0,0,null,0,0,0,0,0,0,0,0,0,0,0,1,0,0,2,0,0,0,"-","-","-","-",""]
[null,null,null,null,null,null,null,null,null,null,null,null,null,null,null,null,null,{"$f":"SUM(R97:R105)+R93","v":59412},201926,211725,38506,200917,39207,130309,69113,221825,171219,120011,69212,59411,18507,79615,59514,150317,129509,null,{"$f":"SUM(AK97:AK105)+AK93","v":6},20,21,4,20,4,13,7,22,17,12,7,6,2,8,6,15,13,null,{"$f":"SUM(BD97:BD105)+BD93","v":-6},19,17,-15,9,-8,3,-9,18,12,0,-8,-6,-15,-4,-5,3,-5,null,{"$f":"SUM(BW97:BW105)+BW93","v":12},26,25,6,17,7,9,13,25,19,11,12,11,7,15,14,17,9,"x",{"$f":"IF(CP107<=$CO$3,SUMIF(CP97:CP105,1,$J97:$J105)+SUMIF(CP97:CP105,2,$L97:$L105),0)","v":0},0,0,0,0,0,0,0,0,0,0,0,0,0,0,0,0,0]
[null,null,null,null,null,null,null,null,null,null,null,null,null,null,null,null,null,{"$f":"RANK(R106,$R106:$AI106,0)","v":14},3,2,17,4,16,7,12,1,5,9,11,15,18,10,13,6,8,null,null,null,null,null,null,null,null,null,null,null,null,null,null,null,null,null,null,null,null,null,null,null,null,null,null,null,null,null,null,null,null,null,null,null,null,null,null,null,null,null,null,null,null,null,null,null,null,null,null,null,null,null,null,null,null,null,null,{"$f":"IF(SUM(CP97:CP105)>0,IF(CP120=0,1,CP120+1),IF(CP120<>0,CP120,0))","v":27},27,27,27,27,27,27,27,27,27,27,27,27,27,27,27,27,27]
[null,null,"9. Spieltag"]
[{"$f":"IF(SUM(J110:L118)>0,1,\"Z\")","v":1},null,"27.-29.10.2023"]
[null,{"$f":"C110&E110","v":"SV Werder Bremen1. FC Union Berlin"},"SV Werder Bremen","-","1. FC Union Berlin",2,":",0,null,{"$f":"IF(F110>H110,3,IF(F110<H110,0,IF(AND(H110<>\"\",F110=H110),1,0)))","v":3}," : ",{"$f":"IF(F110>H110,0,IF(F110<H110,3,IF(AND(H110<>\"\",F110=H110),1,0)))","v":0},null,{"$f":"F110-H110","v":2},null,{"$f":"H110-F110","v":-2},null,{"$f":"(AK110*10000+BD110*100+BW110)","v":30202},{"$f":"(AL110*10000+BE110*100+BX110)","v":0},{"$f":"(AM110*10000+BF110*100+BY110)","v":0},{"$f":"(AN110*10000+BG110*100+BZ110)","v":0},{"$f":"(AO110*10000+BH110*100+CA110)","v":0},{"$f":"(AP110*10000+BI110*100+CB110)","v":0},{"$f":"(AQ110*10000+BJ110*100+CC110)","v":0},{"$f":"(AR110*10000+BK110*100+CD110)","v":0},{"$f":"(AS110*10000+BL110*100+CE110)","v":0},{"$f":"(AT110*10000+BM110*100+CF110)","v":0},{"$f":"(AU110*10000+BN110*100+CG110)","v":0},{"$f":"(AV110*10000+BO110*100+CH110)","v":0},{"$f":"(AW110*10000+BP110*100+CI110)","v":-200},{"$f":"(AX110*10000+BQ110*100+CJ110)","v":0},{"$f":"(AY110*10000+BR110*100+CK110)","v":0},{"$f":"(AZ110*10000+BS110*100+CL110)","v":0},{"$f":"(BA110*10000+BT110*100+CM110)","v":0},{"$f":"(BB110*10000+BU110*100+CN110)","v":0},null,{"$f":"IF($C110=AK$1,$J110,IF($E110=AK$1,$L110,0))","v":3},0,0,0,0,0,0,0,0,0,{"$f":"IF($C110=AU$1,$J110,IF($E110=AU$1,$L110,0))","v":0},0,0,0,0,0,0,0,null,{"$f":"IF($C110=BD$1,$F110-$H110,IF($E110=BD$1,$H110-$F110,0))","v":2},0,0,0,0,0,0,0,0,0,{"$f":"IF($C110=BN$1,$F110-$H110,IF($E110=BN$1,$H110-$F110,0))","v":0},0,-2,0,0,0,0,0,null,{"$f":"IF($C110=BW$1,$F110,IF($E110=BW$1,$H110,0))","v":2},0,0,0,0,0,0,0,0,0,{"$f":"IF($C110=CG$1,$F110,IF($E110=CG$1,$H110,0))","v":0},0,0,0,0,0,0,0,null,{"$f":"IF($C110=CP$1,IF($F110<>\"\",1,0),IF($E110=CP$1,IF($H110<>\"\",2,0),0))","v":1},0,0,0,0,0,0,0,0,0,{"$f":"IF($C110=CZ$1,IF($F110<>\"\",1,0),IF($E110=CZ$1,IF($H110<>\"\",2,0),0))","v":0},0,2,0,0,0,0,0,1,0,5,"4:11",{"$f":"IFERROR(ROUND(MID(DK110,1,SEARCH(\":\",DK110,1)-1)/SUM(DH110:DJ110),$DL$2)&\" : \"&ROUND(MID(DK110,SEARCH(\":\",DK110,1)+1,99)/SUM(DH110:DJ110),$DL$2),\"\")","v":"1 : 2"}]
[null,"FC Bayern MünchenSV Darmstadt 98","FC Bayern München","-","SV Darmstadt 98",8,":",0,null,3," : ",0,null,{"$f":"F111-H111","v":8},null,{"$f":"H111-F111","v":-8},null,0,30808,0,0,0,0,0,-800,0,0,0,0,0,0,0,0,0,0,null,0,3,0,0,0,0,0,0,0,0,0,0,0,0,0,0,0,0,null,0,8,0,0,0,0,0,-8,0,0,0,0,0,0,0,0,0,0,null,0,8,0,0,0,0,0,0,0,0,0,0,0,0,0,0,0,0,null,0,1,0,0,0,0,0,2,0,0,0,0,0,0,0,0,0,0,7,1,0,"18:5","2 : 1"]
[null,"VfB StuttgartTSG Hoffenheim","VfB Stuttgart","-","TSG Hoffenheim",2,":",3,null,0," : ",3,null,-1,null,1,null,0,0,-98,0,0,0,0,0,0,0,0,0,0,0,0,0,30103,0,null,0,0,0,0,0,0,0,0,0,0,0,0,0,0,0,0,3,0,null,0,0,-1,0,0,0,0,0,0,0,0,0,0,0,0,0,1,0,null,0,0,2,0,0,0,0,0,0,0,0,0,0,0,0,0,3,0,null,0,0,1,0,0,0,0,0,0,0,0,0,0,0,0,0,2,0,10,9,7,"45:39","2 : 2"]
[null,"Borussia Mönchengladbach1. FC Heidenheim 1846","Borussia Mönchengladbach","-","1. FC Heidenheim 1846",2,":",1,null,3," : ",0,null,1,null,-1,null,0,0,0,0,0,0,0,0,0,0,0,-99,0,0,0,30102,0,0,null,0,0,0,0,0,0,0,0,0,0,0,0,0,0,0,3,0,0,null,0,0,0,0,0,0,0,0,0,0,0,-1,0,0,0,1,0,0,null,0,0,0,0,0,0,0,0,0,0,0,1,0,0,0,2,0,0,null,0,0,0,0,0,0,0,0,0,0,0,2,0,0,0,1,0,0,"-","-","-","-",""]
[null,"Eintracht FrankfurtBorussia Dortmund","Eintracht Frankfurt","-","Borussia Dortmund",3,":",3,null,1," : ",1,null,0,null,0,null,0,0,0,0,10003,0,10003,0,0,0,0,0,0,0,0,0,0,0,null,0,0,0,0,1,0,1,0,0,0,0,0,0,0,0,0,0,0,null,0,0,0,0,0,0,0,0,0,0,0,0,0,0,0,0,0,0,null,0,0,0,0,3,0,3,0,0,0,0,0,0,0,0,0,0,0,null,0,0,0,0,2,0,1,0,0,0,0,0,0,0,0,0,0,0,31,20,49,"133:194","1 : 2"]
[null,"VfL Bochum 18481. FSV Mainz 05","VfL Bochum 1848","-","1. FSV Mainz 05",2,":",2,null,1," : ",1,null,0,null,0,null,0,0,0,10002,0,0,0,0,0,0,0,0,0,10002,0,0,0,0,null,0,0,0,1,0,0,0,0,0,0,0,0,0,1,0,0,0,0,null,0,0,0,0,0,0,0,0,0,0,0,0,0,0,0,0,0,0,null,0,0,0,2,0,0,0,0,0,0,0,0,0,2,0,0,0,0,null,0,0,0,1,0,0,0,0,0,0,0,0,0,2,0,0,0,0,5,2,11,"21:28","1 : 2"]
[null,"Bayer 04 LeverkusenSport-Club Freiburg","Bayer 04 Leverkusen","-","Sport-Club Freiburg",2,":",1,null,3," : ",0,null,1,null,-1,null,0,0,0,0,0,0,0,0,30102,0,0,0,0,0,0,0,0,-99,null,0,0,0,0,0,0,0,0,3,0,0,0,0,0,0,0,0,0,null,0,0,0,0,0,0,0,0,1,0,0,0,0,0,0,0,0,-1,null,0,0,0,0,0,0,0,0,2,0,0,0,0,0,0,0,0,1,null,0,0,0,0,0,0,0,0,1,0,0,0,0,0,0,0,0,2,20,14,12,"76:51","2 : 1"]
[null,"FC AugsburgVfL Wolfsburg","FC Augsburg","-","VfL Wolfsburg",3,":",2,null,3," : ",0,null,1,null,-1,null,0,0,0,0,0,0,0,0,0,0,-98,0,0,0,30103,0,0,0,null,0,0,0,0,0,0,0,0,0,0,0,0,0,0,3,0,0,0,null,0,0,0,0,0,0,0,0,0,0,-1,0,0,0,1,0,0,0,null,0,0,0,0,0,0,0,0,0,0,2,0,0,0,3,0,0,0,null,0,0,0,0,0,0,0,0,0,0,2,0,0,0,1,0,0,0,7,9,8,"24:29","1 : 1"]
[null,"RB Leipzig1. FC Köln","RB Leipzig","-","1. FC Köln",6,":",0,null,3," : ",0,null,6,null,-6,null,0,0,0,0,0,-600,0,0,0,30606,0,0,0,0,0,0,0,0,null,0,0,0,0,0,0,0,0,0,3,0,0,0,0,0,0,0,0,null,0,0,0,0,0,-6,0,0,0,6,0,0,0,0,0,0,0,0,null,0,0,0,0,0,0,0,0,0,6,0,0,0,0,0,0,0,0,null,0,0,0,0,0,2,0,0,0,1,0,0,0,0,0,0,0,0,5,5,2,"22:14","2 : 1"]
[null,null,null,null,null,null,null,null,null,null,null,null,null,null,null,null,null,{"$f":"SUM(R110:R118)+R106","v":89614},232734,211627,48508,210920,38607,140312,68313,251927,201825,119913,69113,59211,28509,109718,89616,180420,129410,null,{"$f":"SUM(AK110:AK118)+AK106","v":9},23,21,5,21,4,14,7,25,20,12,7,6,3,11,9,18,13,null,{"$f":"SUM(BD110:BD118)+BD106","v":-4},27,16,-15,9,-14,3,-17,19,18,-1,-9,-8,-15,-3,-4,4,-6,null,{"$f":"SUM(BW110:BW118)+BW106","v":14},34,27,8,20,7,12,13,27,25,13,13,11,9,18,16,20,10,"x",{"$f":"IF(CP120<=$CO$3,SUMIF(CP110:CP118,1,$J110:$J118)+SUMIF(CP110:CP118,2,$L110:$L118),0)","v":0},0,0,0,0,0,0,0,0,0,0,0,0,0,0,0,0,0]
[null,null,null,null,null,null,null,null,null,null,null,null,null,null,null,null,null,{"$f":"RANK(R119,$R119:$AI119,0)","v":12},2,3,16,4,17,7,14,1,5,9,13,15,18,10,11,6,8,null,null,null,null,null,null,null,null,null,null,null,null,null,null,null,null,null,null,null,null,null,null,null,null,null,null,null,null,null,null,null,null,null,null,null,null,null,null,null,null,null,null,null,null,null,null,null,null,null,null,null,null,null,null,null,null,null,null,{"$f":"IF(SUM(CP110:CP118)>0,IF(CP133=0,1,CP133+1),IF(CP133<>0,CP133,0))","v":26},26,26,26,26,26,26,26,26,26,26,26,26,26,26,26,26,26]
[null,null,"10. Spieltag"]
[{"$f":"IF(SUM(J123:L131)>0,1,\"Z\")","v":1},null,"03.-05.11.2023"]
[null,{"$f":"C123&E123","v":"1. FC KölnFC Augsburg"},"1. FC Köln","-","FC Augsburg",1,":",1,null,{"$f":"IF(F123>H123,3,IF(F123<H123,0,IF(AND(H123<>\"\",F123=H123),1,0)))","v":1}," : ",{"$f":"IF(F123>H123,0,IF(F123<H123,3,IF(AND(H123<>\"\",F123=H123),1,0)))","v":1},null,{"$f":"F123-H123","v":0},null,{"$f":"H123-F123","v":0},null,{"$f":"(AK123*10000+BD123*100+BW123)","v":0},{"$f":"(AL123*10000+BE123*100+BX123)","v":0},{"$f":"(AM123*10000+BF123*100+BY123)","v":0},{"$f":"(AN123*10000+BG123*100+BZ123)","v":0},{"$f":"(AO123*10000+BH123*100+CA123)","v":0},{"$f":"(AP123*10000+BI123*100+CB123)","v":10001},{"$f":"(AQ123*10000+BJ123*100+CC123)","v":0},{"$f":"(AR123*10000+BK123*100+CD123)","v":0},{"$f":"(AS123*10000+BL123*100+CE123)","v":0},{"$f":"(AT123*10000+BM123*100+CF123)","v":0},{"$f":"(AU123*10000+BN123*100+CG123)","v":0},{"$f":"(AV123*10000+BO123*100+CH123)","v":0},{"$f":"(AW123*10000+BP123*100+CI123)","v":0},{"$f":"(AX123*10000+BQ123*100+CJ123)","v":0},{"$f":"(AY123*10000+BR123*100+CK123)","v":10001},{"$f":"(AZ123*10000+BS123*100+CL123)","v":0},{"$f":"(BA123*10000+BT123*100+CM123)","v":0},{"$f":"(BB123*10000+BU123*100+CN123)","v":0},null,{"$f":"IF($C123=AK$1,$J123,IF($E123=AK$1,$L123,0))","v":0},0,0,0,0,1,0,0,0,0,{"$f":"IF($C123=AU$1,$J123,IF($E123=AU$1,$L123,0))","v":0},0,0,0,1,0,0,0,null,{"$f":"IF($C123=BD$1,$F123-$H123,IF($E123=BD$1,$H123-$F123,0))","v":0},0,0,0,0,0,0,0,0,0,{"$f":"IF($C123=BN$1,$F123-$H123,IF($E123=BN$1,$H123-$F123,0))","v":0},0,0,0,0,0,0,0,null,{"$f":"IF($C123=BW$1,$F123,IF($E123=BW$1,$H123,0))","v":0},0,0,0,0,1,0,0,0,0,{"$f":"IF($C123=CG$1,$F123,IF($E123=CG$1,$H123,0))","v":0},0,0,0,1,0,0,0,null,{"$f":"IF($C123=CP$1,IF($F123<>\"\",1,0),IF($E123=CP$1,IF($H123<>\"\",2,0),0))","v":0},0,0,0,0,1,0,0,0,0,{"$f":"IF($C123=CZ$1,IF($F123<>\"\",1,0),IF($E123=CZ$1,IF($H123<>\"\",2,0),0))","v":0},0,0,0,2,0,0,0,8,7,7,"31:24",{"$f":"IFERROR(ROUND(MID(DK123,1,SEARCH(\":\",DK123,1)-1)/SUM(DH123:DJ123),$DL$2)&\" : \"&ROUND(MID(DK123,SEARCH(\":\",DK123,1)+1,99)/SUM(DH123:DJ123),$DL$2),\"\")","v":"1 : 1"}]
[null,"Borussia DortmundFC Bayern München","Borussia Dortmund","-","FC Bayern München",0,":",4,null,0," : ",3,null,{"$f":"F124-H124","v":-4},null,{"$f":"H124-F124","v":4},null,0,30404,0,0,-400,0,0,0,0,0,0,0,0,0,0,0,0,0,null,0,3,0,0,0,0,0,0,0,0,0,0,0,0,0,0,0,0,null,0,4,0,0,-4,0,0,0,0,0,0,0,0,0,0,0,0,0,null,0,4,0,0,0,0,0,0,0,0,0,0,0,0,0,0,0,0,null,0,2,0,0,1,0,0,0,0,0,0,0,0,0,0,0,0,0,25,30,53,"133:219","1 : 2"]
[null,"Sport-Club FreiburgBorussia Mönchengladbach","Sport-Club Freiburg","-","Borussia Mönchengladbach",3,":",3,null,1," : ",1,null,0,null,0,null,0,0,0,0,0,0,0,0,0,0,0,0,0,0,0,10003,0,10003,null,0,0,0,0,0,0,0,0,0,0,0,0,0,0,0,1,0,1,null,0,0,0,0,0,0,0,0,0,0,0,0,0,0,0,0,0,0,null,0,0,0,0,0,0,0,0,0,0,0,0,0,0,0,3,0,3,null,0,0,0,0,0,0,0,0,0,0,0,0,0,0,0,2,0,1,15,16,13,"68:58","2 : 1"]
[null,"VfL WolfsburgSV Werder Bremen","VfL Wolfsburg","-","SV Werder Bremen",2,":",2,null,1," : ",1,null,0,null,0,null,10002,0,0,0,0,0,0,0,0,0,10002,0,0,0,0,0,0,0,null,1,0,0,0,0,0,0,0,0,0,1,0,0,0,0,0,0,0,null,0,0,0,0,0,0,0,0,0,0,0,0,0,0,0,0,0,0,null,2,0,0,0,0,0,0,0,0,0,2,0,0,0,0,0,0,0,null,2,0,0,0,0,0,0,0,0,0,1,0,0,0,0,0,0,0,20,10,20,"89:89","2 : 2"]
[null,"1. FSV Mainz 05RB Leipzig","1. FSV Mainz 05","-","RB Leipzig",2,":",0,null,3," : ",0,null,2,null,-2,null,0,0,0,0,0,0,0,0,0,-200,0,0,0,30202,0,0,0,0,null,0,0,0,0,0,0,0,0,0,0,0,0,0,3,0,0,0,0,null,0,0,0,0,0,0,0,0,0,-2,0,0,0,2,0,0,0,0,null,0,0,0,0,0,0,0,0,0,0,0,0,0,2,0,0,0,0,null,0,0,0,0,0,0,0,0,0,2,0,0,0,1,0,0,0,0,4,3,7,"22:38","2 : 3"]
[null,"SV Darmstadt 98VfL Bochum 1848","SV Darmstadt 98","-","VfL Bochum 1848",1,":",2,null,0," : ",3,null,-1,null,1,null,0,0,0,30102,0,0,0,-99,0,0,0,0,0,0,0,0,0,0,null,0,0,0,3,0,0,0,0,0,0,0,0,0,0,0,0,0,0,null,0,0,0,1,0,0,0,-1,0,0,0,0,0,0,0,0,0,0,null,0,0,0,2,0,0,0,1,0,0,0,0,0,0,0,0,0,0,null,0,0,0,2,0,0,0,1,0,0,0,0,0,0,0,0,0,0,5,4,5,"18:14","1 : 1"]
[null,"1. FC Union BerlinEintracht Frankfurt","1. FC Union Berlin","-","Eintracht Frankfurt",0,":",3,null,0," : ",3,null,-3,null,3,null,0,0,0,0,0,0,30303,0,0,0,0,0,-300,0,0,0,0,0,null,0,0,0,0,0,0,3,0,0,0,0,0,0,0,0,0,0,0,null,0,0,0,0,0,0,3,0,0,0,0,0,-3,0,0,0,0,0,null,0,0,0,0,0,0,3,0,0,0,0,0,0,0,0,0,0,0,null,0,0,0,0,0,0,2,0,0,0,0,0,1,0,0,0,0,0,3,4,7,"17:29","1 : 2"]
[null,"TSG HoffenheimBayer 04 Leverkusen","TSG Hoffenheim","-","Bayer 04 Leverkusen",2,":",3,null,0," : ",3,null,-1,null,1,null,0,0,0,0,0,0,0,0,30103,0,0,0,0,0,0,0,-98,0,null,0,0,0,0,0,0,0,0,3,0,0,0,0,0,0,0,0,0,null,0,0,0,0,0,0,0,0,1,0,0,0,0,0,0,0,-1,0,null,0,0,0,0,0,0,0,0,3,0,0,0,0,0,0,0,2,0,null,0,0,0,0,0,0,0,0,2,0,0,0,0,0,0,0,1,0,7,6,17,"39:59","1 : 2"]
[null,"1. FC Heidenheim 1846VfB Stuttgart","1. FC Heidenheim 1846","-","VfB Stuttgart",2,":",0,null,3," : ",0,null,2,null,-2,null,0,0,-200,0,0,0,0,0,0,0,0,30202,0,0,0,0,0,0,null,0,0,0,0,0,0,0,0,0,0,0,3,0,0,0,0,0,0,null,0,0,-2,0,0,0,0,0,0,0,0,2,0,0,0,0,0,0,null,0,0,0,0,0,0,0,0,0,0,0,2,0,0,0,0,0,0,null,0,0,2,0,0,0,0,0,0,0,0,1,0,0,0,0,0,0,1,1,2,"5:8","1 : 2"]
[null,null,null,null,null,null,null,null,null,null,null,null,null,null,null,null,null,{"$f":"SUM(R123:R131)+R119","v":99616},263138,211427,78610,210520,48608,170615,68214,282030,201625,129915,99315,58911,58711,119719,99619,180322,139413,null,{"$f":"SUM(AK123:AK131)+AK119","v":10},26,21,8,21,5,17,7,28,20,13,10,6,6,12,10,18,14,null,{"$f":"SUM(BD123:BD131)+BD119","v":-4},31,14,-14,5,-14,6,-18,20,16,-1,-7,-11,-13,-3,-4,3,-6,null,{"$f":"SUM(BW123:BW131)+BW119","v":16},38,27,10,20,8,15,14,30,25,15,15,11,11,19,19,22,13,"x",{"$f":"IF(CP133<=$CO$3,SUMIF(CP123:CP131,1,$J123:$J131)+SUMIF(CP123:CP131,2,$L123:$L131),0)","v":0},0,0,0,0,0,0,0,0,0,0,0,0,0,0,0,0,0]
[null,null,null,null,null,null,null,null,null,null,null,null,null,null,null,null,null,{"$f":"RANK(R132,$R132:$AI132,0)","v":12},2,3,14,4,18,7,15,1,5,9,13,16,17,10,11,6,8,null,null,null,null,null,null,null,null,null,null,null,null,null,null,null,null,null,null,null,null,null,null,null,null,null,null,null,null,null,null,null,null,null,null,null,null,null,null,null,null,null,null,null,null,null,null,null,null,null,null,null,null,null,null,null,null,null,null,{"$f":"IF(SUM(CP123:CP131)>0,IF(CP146=0,1,CP146+1),IF(CP146<>0,CP146,0))","v":25},25,25,25,25,25,25,25,25,25,25,25,25,25,25,25,25,25]
[null,null,"11. Spieltag"]
[{"$f":"IF(SUM(J136:L144)>0,1,\"Z\")","v":1},null,"10.-12.11.2023"]
[null,{"$f":"C136&E136","v":"SV Werder BremenEintracht Frankfurt"},"SV Werder Bremen","-","Eintracht Frankfurt",2,":",2,null,{"$f":"IF(F136>H136,3,IF(F136<H136,0,IF(AND(H136<>\"\",F136=H136),1,0)))","v":1}," : ",{"$f":"IF(F136>H136,0,IF(F136<H136,3,IF(AND(H136<>\"\",F136=H136),1,0)))","v":1},null,{"$f":"F136-H136","v":0},null,{"$f":"H136-F136","v":0},null,{"$f":"(AK136*10000+BD136*100+BW136)","v":10002},{"$f":"(AL136*10000+BE136*100+BX136)","v":0},{"$f":"(AM136*10000+BF136*100+BY136)","v":0},{"$f":"(AN136*10000+BG136*100+BZ136)","v":0},{"$f":"(AO136*10000+BH136*100+CA136)","v":0},{"$f":"(AP136*10000+BI136*100+CB136)","v":0},{"$f":"(AQ136*10000+BJ136*100+CC136)","v":10002},{"$f":"(AR136*10000+BK136*100+CD136)","v":0},{"$f":"(AS136*10000+BL136*100+CE136)","v":0},{"$f":"(AT136*10000+BM136*100+CF136)","v":0},{"$f":"(AU136*10000+BN136*100+CG136)","v":0},{"$f":"(AV136*10000+BO136*100+CH136)","v":0},{"$f":"(AW136*10000+BP136*100+CI136)","v":0},{"$f":"(AX136*10000+BQ136*100+CJ136)","v":0},{"$f":"(AY136*10000+BR136*100+CK136)","v":0},{"$f":"(AZ136*10000+BS136*100+CL136)","v":0},{"$f":"(BA136*10000+BT136*100+CM136)","v":0},{"$f":"(BB136*10000+BU136*100+CN136)","v":0},null,{"$f":"IF($C136=AK$1,$J136,IF($E136=AK$1,$L136,0))","v":1},0,0,0,0,0,1,0,0,0,{"$f":"IF($C136=AU$1,$J136,IF($E136=AU$1,$L136,0))","v":0},0,0,0,0,0,0,0,null,{"$f":"IF($C136=BD$1,$F136-$H136,IF($E136=BD$1,$H136-$F136,0))","v":0},0,0,0,0,0,0,0,0,0,{"$f":"IF($C136=BN$1,$F136-$H136,IF($E136=BN$1,$H136-$F136,0))","v":0},0,0,0,0,0,0,0,null,{"$f":"IF($C136=BW$1,$F136,IF($E136=BW$1,$H136,0))","v":2},0,0,0,0,0,2,0,0,0,{"$f":"IF($C136=CG$1,$F136,IF($E136=CG$1,$H136,0))","v":0},0,0,0,0,0,0,0,null,{"$f":"IF($C136=CP$1,IF($F136<>\"\",1,0),IF($E136=CP$1,IF($H136<>\"\",2,0),0))","v":1},0,0,0,0,0,2,0,0,0,{"$f":"IF($C136=CZ$1,IF($F136<>\"\",1,0),IF($E136=CZ$1,IF($H136<>\"\",2,0),0))","v":0},0,0,0,0,0,0,0,43,23,38,"163:156",{"$f":"IFERROR(ROUND(MID(DK136,1,SEARCH(\":\",DK136,1)-1)/SUM(DH136:DJ136),$DL$2)&\" : \"&ROUND(MID(DK136,SEARCH(\":\",DK136,1)+1,99)/SUM(DH136:DJ136),$DL$2),\"\")","v":"2 : 2"}]
[null,"FC Bayern München1. FC Heidenheim 1846","FC Bayern München","-","1. FC Heidenheim 1846",4,":",2,null,3," : ",0,null,{"$f":"F137-H137","v":2},null,{"$f":"H137-F137","v":-2},null,0,30204,0,0,0,0,0,0,0,0,0,-198,0,0,0,0,0,0,null,0,3,0,0,0,0,0,0,0,0,0,0,0,0,0,0,0,0,null,0,2,0,0,0,0,0,0,0,0,0,-2,0,0,0,0,0,0,null,0,4,0,0,0,0,0,0,0,0,0,2,0,0,0,0,0,0,null,0,1,0,0,0,0,0,0,0,0,0,2,0,0,0,0,0,0,"-","-","-","-",""]
[null,"VfB StuttgartBorussia Dortmund","VfB Stuttgart","-","Borussia Dortmund",2,":",1,null,3," : ",0,null,1,null,-1,null,0,0,30102,0,-99,0,0,0,0,0,0,0,0,0,0,0,0,0,null,0,0,3,0,0,0,0,0,0,0,0,0,0,0,0,0,0,0,null,0,0,1,0,-1,0,0,0,0,0,0,0,0,0,0,0,0,0,null,0,0,2,0,1,0,0,0,0,0,0,0,0,0,0,0,0,0,null,0,0,1,0,2,0,0,0,0,0,0,0,0,0,0,0,0,0,40,25,41,"175:185","2 : 2"]
[null,"Borussia MönchengladbachVfL Wolfsburg","Borussia Mönchengladbach","-","VfL Wolfsburg",4,":",0,null,3," : ",0,null,4,null,-4,null,0,0,0,0,0,0,0,0,0,0,-400,0,0,0,0,30404,0,0,null,0,0,0,0,0,0,0,0,0,0,0,0,0,0,0,3,0,0,null,0,0,0,0,0,0,0,0,0,0,-4,0,0,0,0,4,0,0,null,0,0,0,0,0,0,0,0,0,0,0,0,0,0,0,4,0,0,null,0,0,0,0,0,0,0,0,0,0,2,0,0,0,0,1,0,0,14,10,22,"59:72","1 : 2"]
[null,"VfL Bochum 18481. FC Köln","VfL Bochum 1848","-","1. FC Köln",1,":",1,null,1," : ",1,null,0,null,0,null,0,0,0,10001,0,10001,0,0,0,0,0,0,0,0,0,0,0,0,null,0,0,0,1,0,1,0,0,0,0,0,0,0,0,0,0,0,0,null,0,0,0,0,0,0,0,0,0,0,0,0,0,0,0,0,0,0,null,0,0,0,1,0,1,0,0,0,0,0,0,0,0,0,0,0,0,null,0,0,0,1,0,2,0,0,0,0,0,0,0,0,0,0,0,0,15,17,38,"76:121","1 : 2"]
[null,"Bayer 04 Leverkusen1. FC Union Berlin","Bayer 04 Leverkusen","-","1. FC Union Berlin",4,":",0,null,3," : ",0,null,4,null,-4,null,0,0,0,0,0,0,0,0,30404,0,0,0,-400,0,0,0,0,0,null,0,0,0,0,0,0,0,0,3,0,0,0,0,0,0,0,0,0,null,0,0,0,0,0,0,0,0,4,0,0,0,-4,0,0,0,0,0,null,0,0,0,0,0,0,0,0,4,0,0,0,0,0,0,0,0,0,null,0,0,0,0,0,0,0,0,1,0,0,0,2,0,0,0,0,0,3,4,1,"14:7","2 : 1"]
[null,"SV Darmstadt 981. FSV Mainz 05","SV Darmstadt 98","-","1. FSV Mainz 05",0,":",0,null,1," : ",1,null,0,null,0,null,0,0,0,0,0,0,0,10000,0,0,0,0,0,10000,0,0,0,0,null,0,0,0,0,0,0,0,1,0,0,0,0,0,1,0,0,0,0,null,0,0,0,0,0,0,0,0,0,0,0,0,0,0,0,0,0,0,null,0,0,0,0,0,0,0,0,0,0,0,0,0,0,0,0,0,0,null,0,0,0,0,0,0,0,1,0,0,0,0,0,2,0,0,0,0,6,2,10,"28:29","2 : 2"]
[null,"FC AugsburgTSG Hoffenheim","FC Augsburg","-","TSG Hoffenheim",1,":",1,null,1," : ",1,null,0,null,0,null,0,0,0,0,0,0,0,0,0,0,0,0,0,0,10001,0,10001,0,null,0,0,0,0,0,0,0,0,0,0,0,0,0,0,1,0,1,0,null,0,0,0,0,0,0,0,0,0,0,0,0,0,0,0,0,0,0,null,0,0,0,0,0,0,0,0,0,0,0,0,0,0,1,0,1,0,null,0,0,0,0,0,0,0,0,0,0,0,0,0,0,1,0,2,0,6,5,15,"26:48","1 : 2"]
[null,"RB LeipzigSport-Club Freiburg","RB Leipzig","-","Sport-Club Freiburg",3,":",1,null,3," : ",0,null,2,null,-2,null,0,0,0,0,0,0,0,0,0,30203,0,0,0,0,0,0,0,-199,null,0,0,0,0,0,0,0,0,0,3,0,0,0,0,0,0,0,0,null,0,0,0,0,0,0,0,0,0,2,0,0,0,0,0,0,0,-2,null,0,0,0,0,0,0,0,0,0,3,0,0,0,0,0,0,0,1,null,0,0,0,0,0,0,0,0,0,1,0,0,0,0,0,0,0,2,8,4,4,"31:17","2 : 1"]
[null,null,null,null,null,null,null,null,null,null,null,null,null,null,null,null,null,{"$f":"SUM(R136:R144)+R132","v":109618},293342,241529,88611,210421,58609,180617,78214,312434,231828,129515,99117,58511,68711,129720,130023,190323,139214,null,{"$f":"SUM(AK136:AK144)+AK132","v":11},29,24,9,21,6,18,8,31,23,13,10,6,7,13,13,19,14,null,{"$f":"SUM(BD136:BD144)+BD132","v":-4},33,15,-14,4,-14,6,-18,24,18,-5,-9,-15,-13,-3,0,3,-8,null,{"$f":"SUM(BW136:BW144)+BW132","v":18},42,29,11,21,9,17,14,34,28,15,17,11,11,20,23,23,14,"x",{"$f":"IF(CP146<=$CO$3,SUMIF(CP136:CP144,1,$J136:$J144)+SUMIF(CP136:CP144,2,$L136:$L144),0)","v":0},0,0,0,0,0,0,0,0,0,0,0,0,0,0,0,0,0]
[null,null,null,null,null,null,null,null,null,null,null,null,null,null,null,null,null,{"$f":"RANK(R145,$R145:$AI145,0)","v":12},2,3,14,5,17,7,15,1,4,11,13,18,16,10,9,6,8,null,null,null,null,null,null,null,null,null,null,null,null,null,null,null,null,null,null,null,null,null,null,null,null,null,null,null,null,null,null,null,null,null,null,null,null,null,null,null,null,null,null,null,null,null,null,null,null,null,null,null,null,null,null,null,null,null,null,{"$f":"IF(SUM(CP136:CP144)>0,IF(CP159=0,1,CP159+1),IF(CP159<>0,CP159,0))","v":24},24,24,24,24,24,24,24,24,24,24,24,24,24,24,24,24,24]
[null,null,"12. Spieltag"]
[{"$f":"IF(SUM(J149:L157)>0,1,\"Z\")","v":1},null,"24.-26.11.2023"]
[null,{"$f":"C149&E149","v":"SV Werder BremenBayer 04 Leverkusen"},"SV Werder Bremen","-","Bayer 04 Leverkusen",0,":",3,null,{"$f":"IF(F149>H149,3,IF(F149<H149,0,IF(AND(H149<>\"\",F149=H149),1,0)))","v":0}," : ",{"$f":"IF(F149>H149,0,IF(F149<H149,3,IF(AND(H149<>\"\",F149=H149),1,0)))","v":3},null,{"$f":"F149-H149","v":-3},null,{"$f":"H149-F149","v":3},null,{"$f":"(AK149*10000+BD149*100+BW149)","v":-300},{"$f":"(AL149*10000+BE149*100+BX149)","v":0},{"$f":"(AM149*10000+BF149*100+BY149)","v":0},{"$f":"(AN149*10000+BG149*100+BZ149)","v":0},{"$f":"(AO149*10000+BH149*100+CA149)","v":0},{"$f":"(AP149*10000+BI149*100+CB149)","v":0},{"$f":"(AQ149*10000+BJ149*100+CC149)","v":0},{"$f":"(AR149*10000+BK149*100+CD149)","v":0},{"$f":"(AS149*10000+BL149*100+CE149)","v":30303},{"$f":"(AT149*10000+BM149*100+CF149)","v":0},{"$f":"(AU149*10000+BN149*100+CG149)","v":0},{"$f":"(AV149*10000+BO149*100+CH149)","v":0},{"$f":"(AW149*10000+BP149*100+CI149)","v":0},{"$f":"(AX149*10000+BQ149*100+CJ149)","v":0},{"$f":"(AY149*10000+BR149*100+CK149)","v":0},{"$f":"(AZ149*10000+BS149*100+CL149)","v":0},{"$f":"(BA149*10000+BT149*100+CM149)","v":0},{"$f":"(BB149*10000+BU149*100+CN149)","v":0},null,{"$f":"IF($C149=AK$1,$J149,IF($E149=AK$1,$L149,0))","v":0},0,0,0,0,0,0,0,3,0,{"$f":"IF($C149=AU$1,$J149,IF($E149=AU$1,$L149,0))","v":0},0,0,0,0,0,0,0,null,{"$f":"IF($C149=BD$1,$F149-$H149,IF($E149=BD$1,$H149-$F149,0))","v":-3},0,0,0,0,0,0,0,3,0,{"$f":"IF($C149=BN$1,$F149-$H149,IF($E149=BN$1,$H149-$F149,0))","v":0},0,0,0,0,0,0,0,null,{"$f":"IF($C149=BW$1,$F149,IF($E149=BW$1,$H149,0))","v":0},0,0,0,0,0,0,0,3,0,{"$f":"IF($C149=CG$1,$F149,IF($E149=CG$1,$H149,0))","v":0},0,0,0,0,0,0,0,null,{"$f":"IF($C149=CP$1,IF($F149<>\"\",1,0),IF($E149=CP$1,IF($H149<>\"\",2,0),0))","v":1},0,0,0,0,0,0,0,2,0,{"$f":"IF($C149=CZ$1,IF($F149<>\"\",1,0),IF($E149=CZ$1,IF($H149<>\"\",2,0),0))","v":0},0,0,0,0,0,0,0,27,34,23,"127:134",{"$f":"IFERROR(ROUND(MID(DK149,1,SEARCH(\":\",DK149,1)-1)/SUM(DH149:DJ149),$DL$2)&\" : \"&ROUND(MID(DK149,SEARCH(\":\",DK149,1)+1,99)/SUM(DH149:DJ149),$DL$2),\"\")","v":"2 : 2"}]
[null,"1. FC KölnFC Bayern München","1. FC Köln","-","FC Bayern München",0,":",1,null,0," : ",3,null,{"$f":"F150-H150","v":-1},null,{"$f":"H150-F150","v":1},null,0,30101,0,0,0,-100,0,0,0,0,0,0,0,0,0,0,0,0,null,0,3,0,0,0,0,0,0,0,0,0,0,0,0,0,0,0,0,null,0,1,0,0,0,-1,0,0,0,0,0,0,0,0,0,0,0,0,null,0,1,0,0,0,0,0,0,0,0,0,0,0,0,0,0,0,0,null,0,2,0,0,0,1,0,0,0,0,0,0,0,0,0,0,0,0,23,24,51,"124:201","1 : 2"]
[null,"Borussia DortmundBorussia Mönchengladbach","Borussia Dortmund","-","Borussia Mönchengladbach",4,":",2,null,3," : ",0,null,2,null,-2,null,0,0,0,0,30204,0,0,0,0,0,0,0,0,0,0,-198,0,0,null,0,0,0,0,3,0,0,0,0,0,0,0,0,0,0,0,0,0,null,0,0,0,0,2,0,0,0,0,0,0,0,0,0,0,-2,0,0,null,0,0,0,0,4,0,0,0,0,0,0,0,0,0,0,2,0,0,null,0,0,0,0,1,0,0,0,0,0,0,0,0,0,0,2,0,0,42,28,32,"185:162","2 : 2"]
[null,"Eintracht FrankfurtVfB Stuttgart","Eintracht Frankfurt","-","VfB Stuttgart",1,":",2,null,0," : ",3,null,-1,null,1,null,0,0,30102,0,0,0,-99,0,0,0,0,0,0,0,0,0,0,0,null,0,0,3,0,0,0,0,0,0,0,0,0,0,0,0,0,0,0,null,0,0,1,0,0,0,-1,0,0,0,0,0,0,0,0,0,0,0,null,0,0,2,0,0,0,1,0,0,0,0,0,0,0,0,0,0,0,null,0,0,2,0,0,0,1,0,0,0,0,0,0,0,0,0,0,0,35,23,42,"171:181","2 : 2"]
[null,"Sport-Club FreiburgSV Darmstadt 98","Sport-Club Freiburg","-","SV Darmstadt 98",1,":",1,null,1," : ",1,null,0,null,0,null,0,0,0,0,0,0,0,10001,0,0,0,0,0,0,0,0,0,10001,null,0,0,0,0,0,0,0,1,0,0,0,0,0,0,0,0,0,1,null,0,0,0,0,0,0,0,0,0,0,0,0,0,0,0,0,0,0,null,0,0,0,0,0,0,0,1,0,0,0,0,0,0,0,0,0,1,null,0,0,0,0,0,0,0,2,0,0,0,0,0,0,0,0,0,1,11,8,9,"38:34","1 : 1"]
[null,"VfL WolfsburgRB Leipzig","VfL Wolfsburg","-","RB Leipzig",2,":",1,null,3," : ",0,null,1,null,-1,null,0,0,0,0,0,0,0,0,0,-99,30102,0,0,0,0,0,0,0,null,0,0,0,0,0,0,0,0,0,0,3,0,0,0,0,0,0,0,null,0,0,0,0,0,0,0,0,0,-1,1,0,0,0,0,0,0,0,null,0,0,0,0,0,0,0,0,0,1,2,0,0,0,0,0,0,0,null,0,0,0,0,0,0,0,0,0,2,1,0,0,0,0,0,0,0,3,5,6,"10:20","1 : 1"]
[null,"1. FC Union BerlinFC Augsburg","1. FC Union Berlin","-","FC Augsburg",1,":",1,null,1," : ",1,null,0,null,0,null,0,0,0,0,0,0,0,0,0,0,0,0,10001,0,10001,0,0,0,null,0,0,0,0,0,0,0,0,0,0,0,0,1,0,1,0,0,0,null,0,0,0,0,0,0,0,0,0,0,0,0,0,0,0,0,0,0,null,0,0,0,0,0,0,0,0,0,0,0,0,1,0,1,0,0,0,null,0,0,0,0,0,0,0,0,0,0,0,0,1,0,2,0,0,0,1,6,5,"9:14","1 : 1"]
[null,"TSG Hoffenheim1. FSV Mainz 05","TSG Hoffenheim","-","1. FSV Mainz 05",1,":",1,null,1," : ",1,null,0,null,0,null,0,0,0,0,0,0,0,0,0,0,0,0,0,10001,0,0,10001,0,null,0,0,0,0,0,0,0,0,0,0,0,0,0,1,0,0,1,0,null,0,0,0,0,0,0,0,0,0,0,0,0,0,0,0,0,0,0,null,0,0,0,0,0,0,0,0,0,0,0,0,0,1,0,0,1,0,null,0,0,0,0,0,0,0,0,0,0,0,0,0,2,0,0,1,0,9,8,13,"47:52","2 : 2"]
[null,"1. FC Heidenheim 1846VfL Bochum 1848","1. FC Heidenheim 1846","-","VfL Bochum 1848",0,":",0,null,1," : ",1,null,0,null,0,null,0,0,0,10000,0,0,0,0,0,0,0,10000,0,0,0,0,0,0,null,0,0,0,1,0,0,0,0,0,0,0,1,0,0,0,0,0,0,null,0,0,0,0,0,0,0,0,0,0,0,0,0,0,0,0,0,0,null,0,0,0,0,0,0,0,0,0,0,0,0,0,0,0,0,0,0,null,0,0,0,2,0,0,0,0,0,0,0,1,0,0,0,0,0,0,4,2,8,"18:26","1 : 2"]
[null,null,null,null,null,null,null,null,null,null,null,null,null,null,null,null,null,{"$f":"SUM(R149:R157)+R145","v":109318},323443,271631,98611,240625,58509,180518,88215,342737,231729,159617,109117,68512,78712,139721,129825,200324,149215,null,{"$f":"SUM(AK149:AK157)+AK145","v":11},32,27,10,24,6,18,9,34,23,16,11,7,8,14,13,20,15,null,{"$f":"SUM(BD149:BD157)+BD145","v":-7},34,16,-14,6,-15,5,-18,27,17,-4,-9,-15,-13,-3,-2,3,-8,null,{"$f":"SUM(BW149:BW157)+BW145","v":18},43,31,11,25,9,18,15,37,29,17,17,12,12,21,25,24,15,"x",{"$f":"IF(CP159<=$CO$3,SUMIF(CP149:CP157,1,$J149:$J157)+SUMIF(CP149:CP157,2,$L149:$L157),0)","v":0},0,0,0,0,0,0,0,0,0,0,0,0,0,0,0,0,0]
[null,null,null,null,null,null,null,null,null,null,null,null,null,null,null,null,null,{"$f":"RANK(R158,$R158:$AI158,0)","v":12},2,3,14,4,18,7,15,1,5,8,13,17,16,10,11,6,9,null,null,null,null,null,null,null,null,null,null,null,null,null,null,null,null,null,null,null,null,null,null,null,null,null,null,null,null,null,null,null,null,null,null,null,null,null,null,null,null,null,null,null,null,null,null,null,null,null,null,null,null,null,null,null,null,null,null,{"$f":"IF(SUM(CP149:CP157)>0,IF(CP172=0,1,CP172+1),IF(CP172<>0,CP172,0))","v":23},23,23,23,23,23,23,23,23,23,23,23,23,23,23,23,23,23]
[null,null,"13. Spieltag"]
[{"$f":"IF(SUM(J162:L170)>0,1,\"Z\")","v":1},null,"01.-03.12.2023"]
[null,{"$f":"C162&E162","v":"FC Bayern München1. FC Union Berlin"},"FC Bayern München","-","1. FC Union Berlin",1,":",0,null,{"$f":"IF(F162>H162,3,IF(F162<H162,0,IF(AND(H162<>\"\",F162=H162),1,0)))","v":3}," : ",{"$f":"IF(F162>H162,0,IF(F162<H162,3,IF(AND(H162<>\"\",F162=H162),1,0)))","v":0},null,{"$f":"F162-H162","v":1},null,{"$f":"H162-F162","v":-1},null,{"$f":"(AK162*10000+BD162*100+BW162)","v":0},{"$f":"(AL162*10000+BE162*100+BX162)","v":30101},{"$f":"(AM162*10000+BF162*100+BY162)","v":0},{"$f":"(AN162*10000+BG162*100+BZ162)","v":0},{"$f":"(AO162*10000+BH162*100+CA162)","v":0},{"$f":"(AP162*10000+BI162*100+CB162)","v":0},{"$f":"(AQ162*10000+BJ162*100+CC162)","v":0},{"$f":"(AR162*10000+BK162*100+CD162)","v":0},{"$f":"(AS162*10000+BL162*100+CE162)","v":0},{"$f":"(AT162*10000+BM162*100+CF162)","v":0},{"$f":"(AU162*10000+BN162*100+CG162)","v":0},{"$f":"(AV162*10000+BO162*100+CH162)","v":0},{"$f":"(AW162*10000+BP162*100+CI162)","v":-100},{"$f":"(AX162*10000+BQ162*100+CJ162)","v":0},{"$f":"(AY162*10000+BR162*100+CK162)","v":0},{"$f":"(AZ162*10000+BS162*100+CL162)","v":0},{"$f":"(BA162*10000+BT162*100+CM162)","v":0},{"$f":"(BB162*10000+BU162*100+CN162)","v":0},null,{"$f":"IF($C162=AK$1,$J162,IF($E162=AK$1,$L162,0))","v":0},3,0,0,0,0,0,0,0,0,{"$f":"IF($C162=AU$1,$J162,IF($E162=AU$1,$L162,0))","v":0},0,0,0,0,0,0,0,null,{"$f":"IF($C162=BD$1,$F162-$H162,IF($E162=BD$1,$H162-$F162,0))","v":0},1,0,0,0,0,0,0,0,0,{"$f":"IF($C162=BN$1,$F162-$H162,IF($E162=BN$1,$H162-$F162,0))","v":0},0,-1,0,0,0,0,0,null,{"$f":"IF($C162=BW$1,$F162,IF($E162=BW$1,$H162,0))","v":0},1,0,0,0,0,0,0,0,0,{"$f":"IF($C162=CG$1,$F162,IF($E162=CG$1,$H162,0))","v":0},0,0,0,0,0,0,0,null,{"$f":"IF($C162=CP$1,IF($F162<>\"\",1,0),IF($E162=CP$1,IF($H162<>\"\",2,0),0))","v":0},1,0,0,0,0,0,0,0,0,{"$f":"IF($C162=CZ$1,IF($F162<>\"\",1,0),IF($E162=CZ$1,IF($H162<>\"\",2,0),0))","v":0},0,2,0,0,0,0,0,5,3,0,"19:6",{"$f":"IFERROR(ROUND(MID(DK162,1,SEARCH(\":\",DK162,1)-1)/SUM(DH162:DJ162),$DL$2)&\" : \"&ROUND(MID(DK162,SEARCH(\":\",DK162,1)+1,99)/SUM(DH162:DJ162),$DL$2),\"\")","v":"2 : 1"}]
[null,"VfB StuttgartSV Werder Bremen","VfB Stuttgart","-","SV Werder Bremen",2,":",0,null,3," : ",0,null,{"$f":"F163-H163","v":2},null,{"$f":"H163-F163","v":-2},null,-200,0,30202,0,0,0,0,0,0,0,0,0,0,0,0,0,0,0,null,0,0,3,0,0,0,0,0,0,0,0,0,0,0,0,0,0,0,null,-2,0,2,0,0,0,0,0,0,0,0,0,0,0,0,0,0,0,null,0,0,2,0,0,0,0,0,0,0,0,0,0,0,0,0,0,0,null,2,0,1,0,0,0,0,0,0,0,0,0,0,0,0,0,0,0,38,34,36,"167:183","2 : 2"]
[null,"Borussia MönchengladbachTSG Hoffenheim","Borussia Mönchengladbach","-","TSG Hoffenheim",2,":",1,null,3," : ",0,null,1,null,-1,null,0,0,0,0,0,0,0,0,0,0,0,0,0,0,0,30102,-99,0,null,0,0,0,0,0,0,0,0,0,0,0,0,0,0,0,3,0,0,null,0,0,0,0,0,0,0,0,0,0,0,0,0,0,0,1,-1,0,null,0,0,0,0,0,0,0,0,0,0,0,0,0,0,0,2,1,0,null,0,0,0,0,0,0,0,0,0,0,0,0,0,0,0,1,2,0,10,12,10,"62:51","2 : 2"]
[null,"VfL Bochum 1848VfL Wolfsburg","VfL Bochum 1848","-","VfL Wolfsburg",3,":",1,null,3," : ",0,null,2,null,-2,null,0,0,0,30203,0,0,0,0,0,0,-199,0,0,0,0,0,0,0,null,0,0,0,3,0,0,0,0,0,0,0,0,0,0,0,0,0,0,null,0,0,0,2,0,0,0,0,0,0,-2,0,0,0,0,0,0,0,null,0,0,0,3,0,0,0,0,0,0,1,0,0,0,0,0,0,0,null,0,0,0,1,0,0,0,0,0,0,2,0,0,0,0,0,0,0,12,4,12,"40:45","1 : 2"]
[null,"Bayer 04 LeverkusenBorussia Dortmund","Bayer 04 Leverkusen","-","Borussia Dortmund",1,":",1,null,1," : ",1,null,0,null,0,null,0,0,0,0,10001,0,0,0,10001,0,0,0,0,0,0,0,0,0,null,0,0,0,0,1,0,0,0,1,0,0,0,0,0,0,0,0,0,null,0,0,0,0,0,0,0,0,0,0,0,0,0,0,0,0,0,0,null,0,0,0,0,1,0,0,0,1,0,0,0,0,0,0,0,0,0,null,0,0,0,0,2,0,0,0,1,0,0,0,0,0,0,0,0,0,30,22,38,"132:154","1 : 2"]
[null,"1. FSV Mainz 05Sport-Club Freiburg","1. FSV Mainz 05","-","Sport-Club Freiburg",0,":",1,null,0," : ",3,null,-1,null,1,null,0,0,0,0,0,0,0,0,0,0,0,0,0,-100,0,0,0,30101,null,0,0,0,0,0,0,0,0,0,0,0,0,0,0,0,0,0,3,null,0,0,0,0,0,0,0,0,0,0,0,0,0,-1,0,0,0,1,null,0,0,0,0,0,0,0,0,0,0,0,0,0,0,0,0,0,1,null,0,0,0,0,0,0,0,0,0,0,0,0,0,1,0,0,0,2,16,14,14,"58:44","1 : 1"]
[null,"SV Darmstadt 981. FC Köln","SV Darmstadt 98","-","1. FC Köln",0,":",1,null,0," : ",3,null,-1,null,1,null,0,0,0,0,0,30101,0,-100,0,0,0,0,0,0,0,0,0,0,null,0,0,0,0,0,3,0,0,0,0,0,0,0,0,0,0,0,0,null,0,0,0,0,0,1,0,-1,0,0,0,0,0,0,0,0,0,0,null,0,0,0,0,0,1,0,0,0,0,0,0,0,0,0,0,0,0,null,0,0,0,0,0,2,0,1,0,0,0,0,0,0,0,0,0,0,1,2,7,"8:24","1 : 2"]
[null,"FC AugsburgEintracht Frankfurt","FC Augsburg","-","Eintracht Frankfurt",2,":",1,null,3," : ",0,null,1,null,-1,null,0,0,0,0,0,0,-99,0,0,0,0,0,0,0,30102,0,0,0,null,0,0,0,0,0,0,0,0,0,0,0,0,0,0,3,0,0,0,null,0,0,0,0,0,0,-1,0,0,0,0,0,0,0,1,0,0,0,null,0,0,0,0,0,0,1,0,0,0,0,0,0,0,2,0,0,0,null,0,0,0,0,0,0,2,0,0,0,0,0,0,0,1,0,0,0,7,8,7,"27:32","1 : 1"]
[null,"RB Leipzig1. FC Heidenheim 1846","RB Leipzig","-","1. FC Heidenheim 1846",2,":",1,null,3," : ",0,null,1,null,-1,null,0,0,0,0,0,0,0,0,0,30102,0,-99,0,0,0,0,0,0,null,0,0,0,0,0,0,0,0,0,3,0,0,0,0,0,0,0,0,null,0,0,0,0,0,0,0,0,0,1,0,-1,0,0,0,0,0,0,null,0,0,0,0,0,0,0,0,0,2,0,1,0,0,0,0,0,0,null,0,0,0,0,0,0,0,0,0,1,0,2,0,0,0,0,0,0,1,2,1,"5:4","1 : 1"]
[null,null,null,null,null,null,null,null,null,null,null,null,null,null,null,null,null,{"$f":"SUM(R162:R170)+R158","v":109118},353544,301833,128814,250626,88610,180419,88115,352738,261831,159418,109018,68412,78612,169823,159927,200225,179316,null,{"$f":"SUM(AK162:AK170)+AK158","v":11},35,30,13,25,9,18,9,35,26,16,11,7,8,17,16,20,18,null,{"$f":"SUM(BD162:BD170)+BD158","v":-9},35,18,-12,6,-14,4,-19,27,18,-6,-10,-16,-14,-2,-1,2,-7,null,{"$f":"SUM(BW162:BW170)+BW158","v":18},44,33,14,26,10,19,15,38,31,18,18,12,12,23,27,25,16,"x",{"$f":"IF(CP172<=$CO$3,SUMIF(CP162:CP170,1,$J162:$J170)+SUMIF(CP162:CP170,2,$L162:$L170),0)","v":0},0,0,0,0,0,0,0,0,0,0,0,0,0,0,0,0,0]
[null,null,null,null,null,null,null,null,null,null,null,null,null,null,null,null,null,{"$f":"RANK(R171,$R171:$AI171,0)","v":13},1,3,12,5,15,7,16,2,4,11,14,18,17,9,10,6,8,null,null,null,null,null,null,null,null,null,null,null,null,null,null,null,null,null,null,null,null,null,null,null,null,null,null,null,null,null,null,null,null,null,null,null,null,null,null,null,null,null,null,null,null,null,null,null,null,null,null,null,null,null,null,null,null,null,null,{"$f":"IF(SUM(CP162:CP170)>0,IF(CP185=0,1,CP185+1),IF(CP185<>0,CP185,0))","v":22},22,22,22,22,22,22,22,22,22,22,22,22,22,22,22,22,22]
[null,null,"14. Spieltag"]
[{"$f":"IF(SUM(J175:L183)>0,1,\"Z\")","v":1},null,"08.-10.12.2023"]
[null,{"$f":"C175&E175","v":"SV Werder BremenFC Augsburg"},"SV Werder Bremen","-","FC Augsburg",2,":",0,null,{"$f":"IF(F175>H175,3,IF(F175<H175,0,IF(AND(H175<>\"\",F175=H175),1,0)))","v":3}," : ",{"$f":"IF(F175>H175,0,IF(F175<H175,3,IF(AND(H175<>\"\",F175=H175),1,0)))","v":0},null,{"$f":"F175-H175","v":2},null,{"$f":"H175-F175","v":-2},null,{"$f":"(AK175*10000+BD175*100+BW175)","v":30202},{"$f":"(AL175*10000+BE175*100+BX175)","v":0},{"$f":"(AM175*10000+BF175*100+BY175)","v":0},{"$f":"(AN175*10000+BG175*100+BZ175)","v":0},{"$f":"(AO175*10000+BH175*100+CA175)","v":0},{"$f":"(AP175*10000+BI175*100+CB175)","v":0},{"$f":"(AQ175*10000+BJ175*100+CC175)","v":0},{"$f":"(AR175*10000+BK175*100+CD175)","v":0},{"$f":"(AS175*10000+BL175*100+CE175)","v":0},{"$f":"(AT175*10000+BM175*100+CF175)","v":0},{"$f":"(AU175*10000+BN175*100+CG175)","v":0},{"$f":"(AV175*10000+BO175*100+CH175)","v":0},{"$f":"(AW175*10000+BP175*100+CI175)","v":0},{"$f":"(AX175*10000+BQ175*100+CJ175)","v":0},{"$f":"(AY175*10000+BR175*100+CK175)","v":-200},{"$f":"(AZ175*10000+BS175*100+CL175)","v":0},{"$f":"(BA175*10000+BT175*100+CM175)","v":0},{"$f":"(BB175*10000+BU175*100+CN175)","v":0},null,{"$f":"IF($C175=AK$1,$J175,IF($E175=AK$1,$L175,0))","v":3},0,0,0,0,0,0,0,0,0,{"$f":"IF($C175=AU$1,$J175,IF($E175=AU$1,$L175,0))","v":0},0,0,0,0,0,0,0,null,{"$f":"IF($C175=BD$1,$F175-$H175,IF($E175=BD$1,$H175-$F175,0))","v":2},0,0,0,0,0,0,0,0,0,{"$f":"IF($C175=BN$1,$F175-$H175,IF($E175=BN$1,$H175-$F175,0))","v":0},0,0,0,-2,0,0,0,null,{"$f":"IF($C175=BW$1,$F175,IF($E175=BW$1,$H175,0))","v":2},0,0,0,0,0,0,0,0,0,{"$f":"IF($C175=CG$1,$F175,IF($E175=CG$1,$H175,0))","v":0},0,0,0,0,0,0,0,null,{"$f":"IF($C175=CP$1,IF($F175<>\"\",1,0),IF($E175=CP$1,IF($H175<>\"\",2,0),0))","v":1},0,0,0,0,0,0,0,0,0,{"$f":"IF($C175=CZ$1,IF($F175<>\"\",1,0),IF($E175=CZ$1,IF($H175<>\"\",2,0),0))","v":0},0,0,0,2,0,0,0,8,2,12,"33:38",{"$f":"IFERROR(ROUND(MID(DK175,1,SEARCH(\":\",DK175,1)-1)/SUM(DH175:DJ175),$DL$2)&\" : \"&ROUND(MID(DK175,SEARCH(\":\",DK175,1)+1,99)/SUM(DH175:DJ175),$DL$2),\"\")","v":"2 : 2"}]
[null,"VfB StuttgartBayer 04 Leverkusen","VfB Stuttgart","-","Bayer 04 Leverkusen",1,":",1,null,1," : ",1,null,{"$f":"F176-H176","v":0},null,{"$f":"H176-F176","v":0},null,0,0,10001,0,0,0,0,0,10001,0,0,0,0,0,0,0,0,0,null,0,0,1,0,0,0,0,0,1,0,0,0,0,0,0,0,0,0,null,0,0,0,0,0,0,0,0,0,0,0,0,0,0,0,0,0,0,null,0,0,1,0,0,0,0,0,1,0,0,0,0,0,0,0,0,0,null,0,0,1,0,0,0,0,0,2,0,0,0,0,0,0,0,0,0,23,21,40,"107:149","1 : 2"]
[null,"1. FC Köln1. FSV Mainz 05","1. FC Köln","-","1. FSV Mainz 05",0,":",0,null,1," : ",1,null,0,null,0,null,0,0,0,0,0,10000,0,0,0,0,0,0,0,10000,0,0,0,0,null,0,0,0,0,0,1,0,0,0,0,0,0,0,1,0,0,0,0,null,0,0,0,0,0,0,0,0,0,0,0,0,0,0,0,0,0,0,null,0,0,0,0,0,0,0,0,0,0,0,0,0,0,0,0,0,0,null,0,0,0,0,0,1,0,0,0,0,0,0,0,2,0,0,0,0,10,10,12,"35:47","1 : 1"]
[null,"Borussia DortmundRB Leipzig","Borussia Dortmund","-","RB Leipzig",2,":",3,null,0," : ",3,null,-1,null,1,null,0,0,0,0,-98,0,0,0,0,30103,0,0,0,0,0,0,0,0,null,0,0,0,0,0,0,0,0,0,3,0,0,0,0,0,0,0,0,null,0,0,0,0,-1,0,0,0,0,1,0,0,0,0,0,0,0,0,null,0,0,0,0,2,0,0,0,0,3,0,0,0,0,0,0,0,0,null,0,0,0,0,1,0,0,0,0,2,0,0,0,0,0,0,0,0,7,2,5,"24:22","2 : 2"]
[null,"Eintracht FrankfurtFC Bayern München","Eintracht Frankfurt","-","FC Bayern München",5,":",1,null,3," : ",0,null,4,null,-4,null,0,-399,0,0,0,0,30405,0,0,0,0,0,0,0,0,0,0,0,null,0,0,0,0,0,0,3,0,0,0,0,0,0,0,0,0,0,0,null,0,-4,0,0,0,0,4,0,0,0,0,0,0,0,0,0,0,0,null,0,1,0,0,0,0,5,0,0,0,0,0,0,0,0,0,0,0,null,0,2,0,0,0,0,1,0,0,0,0,0,0,0,0,0,0,0,24,23,57,"127:212","1 : 2"]
[null,"VfL WolfsburgSport-Club Freiburg","VfL Wolfsburg","-","Sport-Club Freiburg",0,":",1,null,0," : ",3,null,-1,null,1,null,0,0,0,0,0,0,0,0,0,0,-100,0,0,0,0,0,0,30101,null,0,0,0,0,0,0,0,0,0,0,0,0,0,0,0,0,0,3,null,0,0,0,0,0,0,0,0,0,0,-1,0,0,0,0,0,0,1,null,0,0,0,0,0,0,0,0,0,0,0,0,0,0,0,0,0,1,null,0,0,0,0,0,0,0,0,0,0,1,0,0,0,0,0,0,2,14,11,15,"68:56","2 : 1"]
[null,"1. FC Union BerlinBorussia Mönchengladbach","1. FC Union Berlin","-","Borussia Mönchengladbach",3,":",1,null,3," : ",0,null,2,null,-2,null,0,0,0,0,0,0,0,0,0,0,0,0,30203,0,0,-199,0,0,null,0,0,0,0,0,0,0,0,0,0,0,0,3,0,0,0,0,0,null,0,0,0,0,0,0,0,0,0,0,0,0,2,0,0,-2,0,0,null,0,0,0,0,0,0,0,0,0,0,0,0,3,0,0,1,0,0,null,0,0,0,0,0,0,0,0,0,0,0,0,1,0,0,2,0,0,5,2,1,"12:9","2 : 1"]
[null,"TSG HoffenheimVfL Bochum 1848","TSG Hoffenheim","-","VfL Bochum 1848",3,":",1,null,3," : ",0,null,2,null,-2,null,0,0,0,-199,0,0,0,0,0,0,0,0,0,0,0,0,30203,0,null,0,0,0,0,0,0,0,0,0,0,0,0,0,0,0,0,3,0,null,0,0,0,-2,0,0,0,0,0,0,0,0,0,0,0,0,2,0,null,0,0,0,1,0,0,0,0,0,0,0,0,0,0,0,0,3,0,null,0,0,0,2,0,0,0,0,0,0,0,0,0,0,0,0,1,0,3,0,5,"13:17","2 : 2"]
[null,"1. FC Heidenheim 1846SV Darmstadt 98","1. FC Heidenheim 1846","-","SV Darmstadt 98",3,":",2,null,3," : ",0,null,1,null,-1,null,0,0,0,0,0,0,0,-98,0,0,0,30103,0,0,0,0,0,0,null,0,0,0,0,0,0,0,0,0,0,0,3,0,0,0,0,0,0,null,0,0,0,0,0,0,0,-1,0,0,0,1,0,0,0,0,0,0,null,0,0,0,0,0,0,0,2,0,0,0,3,0,0,0,0,0,0,null,0,0,0,0,0,0,0,2,0,0,0,1,0,0,0,0,0,0,5,5,4,"19:20","1 : 1"]
[null,null,null,null,null,null,null,null,null,null,null,null,null,null,null,null,null,{"$f":"SUM(R175:R183)+R171","v":139320},353145,311834,128615,250528,98610,210824,88017,362739,291934,159318,139121,98615,88612,169623,159728,230428,209417,null,{"$f":"SUM(AK175:AK183)+AK171","v":14},35,31,13,25,10,21,9,36,29,16,14,10,9,17,16,23,21,null,{"$f":"SUM(BD175:BD183)+BD171","v":-7},31,18,-14,5,-14,8,-20,27,19,-7,-9,-14,-14,-4,-3,4,-6,null,{"$f":"SUM(BW175:BW183)+BW171","v":20},45,34,15,28,10,24,17,39,34,18,21,15,12,23,28,28,17,"x",{"$f":"IF(CP185<=$CO$3,SUMIF(CP175:CP183,1,$J175:$J183)+SUMIF(CP175:CP183,2,$L175:$L183),0)","v":0},0,0,0,0,0,0,0,0,0,0,0,0,0,0,0,0,0]
[null,null,null,null,null,null,null,null,null,null,null,null,null,null,null,null,null,{"$f":"RANK(R184,$R184:$AI184,0)","v":12},2,3,14,5,16,7,18,1,4,11,13,15,17,9,10,6,8,null,null,null,null,null,null,null,null,null,null,null,null,null,null,null,null,null,null,null,null,null,null,null,null,null,null,null,null,null,null,null,null,null,null,null,null,null,null,null,null,null,null,null,null,null,null,null,null,null,null,null,null,null,null,null,null,null,null,{"$f":"IF(SUM(CP175:CP183)>0,IF(CP198=0,1,CP198+1),IF(CP198<>0,CP198,0))","v":21},21,21,21,21,21,21,21,21,21,21,21,21,21,21,21,21,21]
[null,null,"15. Spieltag"]
[{"$f":"IF(SUM(J188:L196)>0,1,\"Z\")","v":1},null,"15.-17.12.2023"]
[null,{"$f":"C188&E188","v":"FC Bayern MünchenVfB Stuttgart"},"FC Bayern München","-","VfB Stuttgart",3,":",0,null,{"$f":"IF(F188>H188,3,IF(F188<H188,0,IF(AND(H188<>\"\",F188=H188),1,0)))","v":3}," : ",{"$f":"IF(F188>H188,0,IF(F188<H188,3,IF(AND(H188<>\"\",F188=H188),1,0)))","v":0},null,{"$f":"F188-H188","v":3},null,{"$f":"H188-F188","v":-3},null,{"$f":"(AK188*10000+BD188*100+BW188)","v":0},{"$f":"(AL188*10000+BE188*100+BX188)","v":30303},{"$f":"(AM188*10000+BF188*100+BY188)","v":-300},{"$f":"(AN188*10000+BG188*100+BZ188)","v":0},{"$f":"(AO188*10000+BH188*100+CA188)","v":0},{"$f":"(AP188*10000+BI188*100+CB188)","v":0},{"$f":"(AQ188*10000+BJ188*100+CC188)","v":0},{"$f":"(AR188*10000+BK188*100+CD188)","v":0},{"$f":"(AS188*10000+BL188*100+CE188)","v":0},{"$f":"(AT188*10000+BM188*100+CF188)","v":0},{"$f":"(AU188*10000+BN188*100+CG188)","v":0},{"$f":"(AV188*10000+BO188*100+CH188)","v":0},{"$f":"(AW188*10000+BP188*100+CI188)","v":0},{"$f":"(AX188*10000+BQ188*100+CJ188)","v":0},{"$f":"(AY188*10000+BR188*100+CK188)","v":0},{"$f":"(AZ188*10000+BS188*100+CL188)","v":0},{"$f":"(BA188*10000+BT188*100+CM188)","v":0},{"$f":"(BB188*10000+BU188*100+CN188)","v":0},null,{"$f":"IF($C188=AK$1,$J188,IF($E188=AK$1,$L188,0))","v":0},3,0,0,0,0,0,0,0,0,{"$f":"IF($C188=AU$1,$J188,IF($E188=AU$1,$L188,0))","v":0},0,0,0,0,0,0,0,null,{"$f":"IF($C188=BD$1,$F188-$H188,IF($E188=BD$1,$H188-$F188,0))","v":0},3,-3,0,0,0,0,0,0,0,{"$f":"IF($C188=BN$1,$F188-$H188,IF($E188=BN$1,$H188-$F188,0))","v":0},0,0,0,0,0,0,0,null,{"$f":"IF($C188=BW$1,$F188,IF($E188=BW$1,$H188,0))","v":0},3,0,0,0,0,0,0,0,0,{"$f":"IF($C188=CG$1,$F188,IF($E188=CG$1,$H188,0))","v":0},0,0,0,0,0,0,0,null,{"$f":"IF($C188=CP$1,IF($F188<>\"\",1,0),IF($E188=CP$1,IF($H188<>\"\",2,0),0))","v":0},1,2,0,0,0,0,0,0,0,{"$f":"IF($C188=CZ$1,IF($F188<>\"\",1,0),IF($E188=CZ$1,IF($H188<>\"\",2,0),0))","v":0},0,0,0,0,0,0,0,68,22,18,"227:121",{"$f":"IFERROR(ROUND(MID(DK188,1,SEARCH(\":\",DK188,1)-1)/SUM(DH188:DJ188),$DL$2)&\" : \"&ROUND(MID(DK188,SEARCH(\":\",DK188,1)+1,99)/SUM(DH188:DJ188),$DL$2),\"\")","v":"2 : 1"}]
[null,"Borussia MönchengladbachSV Werder Bremen","Borussia Mönchengladbach","-","SV Werder Bremen",2,":",2,null,1," : ",1,null,{"$f":"F189-H189","v":0},null,{"$f":"H189-F189","v":0},null,10002,0,0,0,0,0,0,0,0,0,0,0,0,0,0,10002,0,0,null,1,0,0,0,0,0,0,0,0,0,0,0,0,0,0,1,0,0,null,0,0,0,0,0,0,0,0,0,0,0,0,0,0,0,0,0,0,null,2,0,0,0,0,0,0,0,0,0,0,0,0,0,0,2,0,0,null,2,0,0,0,0,0,0,0,0,0,0,0,0,0,0,1,0,0,41,26,39,"180:163","2 : 2"]
[null,"VfL Bochum 18481. FC Union Berlin","VfL Bochum 1848","-","1. FC Union Berlin",3,":",0,null,3," : ",0,null,3,null,-3,null,0,0,0,30303,0,0,0,0,0,0,0,0,-300,0,0,0,0,0,null,0,0,0,3,0,0,0,0,0,0,0,0,0,0,0,0,0,0,null,0,0,0,3,0,0,0,0,0,0,0,0,-3,0,0,0,0,0,null,0,0,0,3,0,0,0,0,0,0,0,0,0,0,0,0,0,0,null,0,0,0,1,0,0,0,0,0,0,0,0,2,0,0,0,0,0,8,4,12,"31:37","1 : 2"]
[null,"Bayer 04 LeverkusenEintracht Frankfurt","Bayer 04 Leverkusen","-","Eintracht Frankfurt",3,":",0,null,3," : ",0,null,3,null,-3,null,0,0,0,0,0,0,-300,0,30303,0,0,0,0,0,0,0,0,0,null,0,0,0,0,0,0,0,0,3,0,0,0,0,0,0,0,0,0,null,0,0,0,0,0,0,-3,0,3,0,0,0,0,0,0,0,0,0,null,0,0,0,0,0,0,0,0,3,0,0,0,0,0,0,0,0,0,null,0,0,0,0,0,0,2,0,1,0,0,0,0,0,0,0,0,0,35,13,28,"136:111","2 : 1"]
[null,"Sport-Club Freiburg1. FC Köln","Sport-Club Freiburg","-","1. FC Köln",2,":",0,null,3," : ",0,null,2,null,-2,null,0,0,0,0,0,-200,0,0,0,0,0,0,0,0,0,0,0,30202,null,0,0,0,0,0,0,0,0,0,0,0,0,0,0,0,0,0,3,null,0,0,0,0,0,-2,0,0,0,0,0,0,0,0,0,0,0,2,null,0,0,0,0,0,0,0,0,0,0,0,0,0,0,0,0,0,2,null,0,0,0,0,0,2,0,0,0,0,0,0,0,0,0,0,0,1,19,7,14,"58:48","1 : 1"]
[null,"1. FSV Mainz 051. FC Heidenheim 1846","1. FSV Mainz 05","-","1. FC Heidenheim 1846",0,":",1,null,0," : ",3,null,-1,null,1,null,0,0,0,0,0,0,0,0,0,0,0,30101,0,-100,0,0,0,0,null,0,0,0,0,0,0,0,0,0,0,0,3,0,0,0,0,0,0,null,0,0,0,0,0,0,0,0,0,0,0,1,0,-1,0,0,0,0,null,0,0,0,0,0,0,0,0,0,0,0,1,0,0,0,0,0,0,null,0,0,0,0,0,0,0,0,0,0,0,2,0,1,0,0,0,0,"-","-","-","-",""]
[null,"SV Darmstadt 98VfL Wolfsburg","SV Darmstadt 98","-","VfL Wolfsburg",0,":",1,null,0," : ",3,null,-1,null,1,null,0,0,0,0,0,0,0,-100,0,0,30101,0,0,0,0,0,0,0,null,0,0,0,0,0,0,0,0,0,0,3,0,0,0,0,0,0,0,null,0,0,0,0,0,0,0,-1,0,0,1,0,0,0,0,0,0,0,null,0,0,0,0,0,0,0,0,0,0,1,0,0,0,0,0,0,0,null,0,0,0,0,0,0,0,1,0,0,2,0,0,0,0,0,0,0,2,1,3,"8:7","1 : 1"]
[null,"FC AugsburgBorussia Dortmund","FC Augsburg","-","Borussia Dortmund",1,":",1,null,1," : ",1,null,0,null,0,null,0,0,0,0,10001,0,0,0,0,0,0,0,0,0,10001,0,0,0,null,0,0,0,0,1,0,0,0,0,0,0,0,0,0,1,0,0,0,null,0,0,0,0,0,0,0,0,0,0,0,0,0,0,0,0,0,0,null,0,0,0,0,1,0,0,0,0,0,0,0,0,0,1,0,0,0,null,0,0,0,0,2,0,0,0,0,0,0,0,0,0,1,0,0,0,3,6,15,"31:61","1 : 3"]
[null,"RB LeipzigTSG Hoffenheim","RB Leipzig","-","TSG Hoffenheim",3,":",1,null,3," : ",0,null,2,null,-2,null,0,0,0,0,0,0,0,0,0,30203,0,0,0,0,0,0,-199,0,null,0,0,0,0,0,0,0,0,0,3,0,0,0,0,0,0,0,0,null,0,0,0,0,0,0,0,0,0,2,0,0,0,0,0,0,-2,0,null,0,0,0,0,0,0,0,0,0,3,0,0,0,0,0,0,1,0,null,0,0,0,0,0,0,0,0,0,1,0,0,0,0,0,0,2,0,8,3,3,"22:18","2 : 1"]
[null,null,null,null,null,null,null,null,null,null,null,null,null,null,null,null,null,{"$f":"SUM(R188:R196)+R184","v":149322},383448,311534,158918,260529,98410,210524,87917,393042,322137,189419,169222,98315,88512,179624,169730,230229,239619,null,{"$f":"SUM(AK188:AK196)+AK184","v":15},38,31,16,26,10,21,9,39,32,19,17,10,9,18,17,23,24,null,{"$f":"SUM(BD188:BD196)+BD184","v":-7},34,15,-11,5,-16,5,-21,30,21,-6,-8,-17,-15,-4,-3,2,-4,null,{"$f":"SUM(BW188:BW196)+BW184","v":22},48,34,18,29,10,24,17,42,37,19,22,15,12,24,30,29,19,"x",{"$f":"IF(CP198<=$CO$3,SUMIF(CP188:CP196,1,$J188:$J196)+SUMIF(CP188:CP196,2,$L188:$L196),0)","v":0},0,0,0,0,0,0,0,0,0,0,0,0,0,0,0,0,0]
[null,null,null,null,null,null,null,null,null,null,null,null,null,null,null,null,null,{"$f":"RANK(R197,$R197:$AI197,0)","v":14},2,4,13,5,15,8,18,1,3,9,12,16,17,10,11,7,6,null,null,null,null,null,null,null,null,null,null,null,null,null,null,null,null,null,null,null,null,null,null,null,null,null,null,null,null,null,null,null,null,null,null,null,null,null,null,null,null,null,null,null,null,null,null,null,null,null,null,null,null,null,null,null,null,null,null,{"$f":"IF(SUM(CP188:CP196)>0,IF(CP211=0,1,CP211+1),IF(CP211<>0,CP211,0))","v":20},20,20,20,20,20,20,20,20,20,20,20,20,20,20,20,20,20]
[null,null,"16. Spieltag"]
[{"$f":"IF(SUM(J201:L209)>0,1,\"Z\")","v":1},null,"19./20.12.2023"]
[null,{"$f":"C201&E201","v":"SV Werder BremenRB Leipzig"},"SV Werder Bremen","-","RB Leipzig",1,":",1,null,{"$f":"IF(F201>H201,3,IF(F201<H201,0,IF(AND(H201<>\"\",F201=H201),1,0)))","v":1}," : ",{"$f":"IF(F201>H201,0,IF(F201<H201,3,IF(AND(H201<>\"\",F201=H201),1,0)))","v":1},null,{"$f":"F201-H201","v":0},null,{"$f":"H201-F201","v":0},null,{"$f":"(AK201*10000+BD201*100+BW201)","v":10001},{"$f":"(AL201*10000+BE201*100+BX201)","v":0},{"$f":"(AM201*10000+BF201*100+BY201)","v":0},{"$f":"(AN201*10000+BG201*100+BZ201)","v":0},{"$f":"(AO201*10000+BH201*100+CA201)","v":0},{"$f":"(AP201*10000+BI201*100+CB201)","v":0},{"$f":"(AQ201*10000+BJ201*100+CC201)","v":0},{"$f":"(AR201*10000+BK201*100+CD201)","v":0},{"$f":"(AS201*10000+BL201*100+CE201)","v":0},{"$f":"(AT201*10000+BM201*100+CF201)","v":10001},{"$f":"(AU201*10000+BN201*100+CG201)","v":0},{"$f":"(AV201*10000+BO201*100+CH201)","v":0},{"$f":"(AW201*10000+BP201*100+CI201)","v":0},{"$f":"(AX201*10000+BQ201*100+CJ201)","v":0},{"$f":"(AY201*10000+BR201*100+CK201)","v":0},{"$f":"(AZ201*10000+BS201*100+CL201)","v":0},{"$f":"(BA201*10000+BT201*100+CM201)","v":0},{"$f":"(BB201*10000+BU201*100+CN201)","v":0},null,{"$f":"IF($C201=AK$1,$J201,IF($E201=AK$1,$L201,0))","v":1},0,0,0,0,0,0,0,0,1,{"$f":"IF($C201=AU$1,$J201,IF($E201=AU$1,$L201,0))","v":0},0,0,0,0,0,0,0,null,{"$f":"IF($C201=BD$1,$F201-$H201,IF($E201=BD$1,$H201-$F201,0))","v":0},0,0,0,0,0,0,0,0,0,{"$f":"IF($C201=BN$1,$F201-$H201,IF($E201=BN$1,$H201-$F201,0))","v":0},0,0,0,0,0,0,0,null,{"$f":"IF($C201=BW$1,$F201,IF($E201=BW$1,$H201,0))","v":1},0,0,0,0,0,0,0,0,1,{"$f":"IF($C201=CG$1,$F201,IF($E201=CG$1,$H201,0))","v":0},0,0,0,0,0,0,0,null,{"$f":"IF($C201=CP$1,IF($F201<>\"\",1,0),IF($E201=CP$1,IF($H201<>\"\",2,0),0))","v":1},0,0,0,0,0,0,0,0,2,{"$f":"IF($C201=CZ$1,IF($F201<>\"\",1,0),IF($E201=CZ$1,IF($H201<>\"\",2,0),0))","v":0},0,0,0,0,0,0,0,2,1,9,"12:26",{"$f":"IFERROR(ROUND(MID(DK201,1,SEARCH(\":\",DK201,1)-1)/SUM(DH201:DJ201),$DL$2)&\" : \"&ROUND(MID(DK201,SEARCH(\":\",DK201,1)+1,99)/SUM(DH201:DJ201),$DL$2),\"\")","v":"1 : 2"}]
[null,"VfB StuttgartFC Augsburg","VfB Stuttgart","-","FC Augsburg",3,":",0,null,3," : ",0,null,{"$f":"F202-H202","v":3},null,{"$f":"H202-F202","v":-3},null,0,0,30303,0,0,0,0,0,0,0,0,0,0,0,-300,0,0,0,null,0,0,3,0,0,0,0,0,0,0,0,0,0,0,0,0,0,0,null,0,0,3,0,0,0,0,0,0,0,0,0,0,0,-3,0,0,0,null,0,0,3,0,0,0,0,0,0,0,0,0,0,0,0,0,0,0,null,0,0,1,0,0,0,0,0,0,0,0,0,0,0,2,0,0,0,11,2,11,"34:42","1 : 2"]
[null,"Borussia Dortmund1. FSV Mainz 05","Borussia Dortmund","-","1. FSV Mainz 05",1,":",1,null,1," : ",1,null,0,null,0,null,0,0,0,0,10001,0,0,0,0,0,0,0,0,10001,0,0,0,0,null,0,0,0,0,1,0,0,0,0,0,0,0,0,1,0,0,0,0,null,0,0,0,0,0,0,0,0,0,0,0,0,0,0,0,0,0,0,null,0,0,0,0,1,0,0,0,0,0,0,0,0,1,0,0,0,0,null,0,0,0,0,1,0,0,0,0,0,0,0,0,2,0,0,0,0,20,9,5,"59:31","2 : 1"]
[null,"Eintracht FrankfurtBorussia Mönchengladbach","Eintracht Frankfurt","-","Borussia Mönchengladbach",2,":",1,null,3," : ",0,null,1,null,-1,null,0,0,0,0,0,0,30102,0,0,0,0,0,0,0,0,-99,0,0,null,0,0,0,0,0,0,3,0,0,0,0,0,0,0,0,0,0,0,null,0,0,0,0,0,0,1,0,0,0,0,0,0,0,0,-1,0,0,null,0,0,0,0,0,0,2,0,0,0,0,0,0,0,0,1,0,0,null,0,0,0,0,0,0,1,0,0,0,0,0,0,0,0,2,0,0,36,29,33,"150:149","2 : 2"]
[null,"Bayer 04 LeverkusenVfL Bochum 1848","Bayer 04 Leverkusen","-","VfL Bochum 1848",4,":",0,null,3," : ",0,null,4,null,-4,null,0,0,0,-400,0,0,0,0,30404,0,0,0,0,0,0,0,0,0,null,0,0,0,0,0,0,0,0,3,0,0,0,0,0,0,0,0,0,null,0,0,0,-4,0,0,0,0,4,0,0,0,0,0,0,0,0,0,null,0,0,0,0,0,0,0,0,4,0,0,0,0,0,0,0,0,0,null,0,0,0,2,0,0,0,0,1,0,0,0,0,0,0,0,0,0,26,13,17,"96:78","2 : 1"]
[null,"VfL WolfsburgFC Bayern München","VfL Wolfsburg","-","FC Bayern München",1,":",2,null,0," : ",3,null,-1,null,1,null,0,30102,0,0,0,0,0,0,0,0,-99,0,0,0,0,0,0,0,null,0,3,0,0,0,0,0,0,0,0,0,0,0,0,0,0,0,0,null,0,1,0,0,0,0,0,0,0,0,-1,0,0,0,0,0,0,0,null,0,2,0,0,0,0,0,0,0,0,1,0,0,0,0,0,0,0,null,0,2,0,0,0,0,0,0,0,0,1,0,0,0,0,0,0,0,4,7,41,"44:132","1 : 3"]
[null,"1. FC Union Berlin1. FC Köln","1. FC Union Berlin","-","1. FC Köln",2,":",0,null,3," : ",0,null,2,null,-2,null,0,0,0,0,0,-200,0,0,0,0,0,0,30202,0,0,0,0,0,null,0,0,0,0,0,0,0,0,0,0,0,0,3,0,0,0,0,0,null,0,0,0,0,0,-2,0,0,0,0,0,0,2,0,0,0,0,0,null,0,0,0,0,0,0,0,0,0,0,0,0,2,0,0,0,0,0,null,0,0,0,0,0,2,0,0,0,0,0,0,1,0,0,0,0,0,8,3,5,"18:25","1 : 2"]
[null,"TSG HoffenheimSV Darmstadt 98","TSG Hoffenheim","-","SV Darmstadt 98",3,":",3,null,1," : ",1,null,0,null,0,null,0,0,0,0,0,0,0,10003,0,0,0,0,0,0,0,0,10003,0,null,0,0,0,0,0,0,0,1,0,0,0,0,0,0,0,0,1,0,null,0,0,0,0,0,0,0,0,0,0,0,0,0,0,0,0,0,0,null,0,0,0,0,0,0,0,3,0,0,0,0,0,0,0,0,3,0,null,0,0,0,0,0,0,0,2,0,0,0,0,0,0,0,0,1,0,1,2,1,"3:3","1 : 1"]
[null,"1. FC Heidenheim 1846Sport-Club Freiburg","1. FC Heidenheim 1846","-","Sport-Club Freiburg",3,":",2,null,3," : ",0,null,1,null,-1,null,0,0,0,0,0,0,0,0,0,0,0,30103,0,0,0,0,0,-98,null,0,0,0,0,0,0,0,0,0,0,0,3,0,0,0,0,0,0,null,0,0,0,0,0,0,0,0,0,0,0,1,0,0,0,0,0,-1,null,0,0,0,0,0,0,0,0,0,0,0,3,0,0,0,0,0,2,null,0,0,0,0,0,0,0,0,0,0,0,1,0,0,0,0,0,2,0,0,2,"1:4","1 : 2"]
[null,null,null,null,null,null,null,null,null,null,null,null,null,null,null,null,null,{"$f":"SUM(R201:R209)+R197","v":159323},413550,341837,158518,270530,98210,240626,97920,423446,332138,189320,199325,128517,98513,179324,169631,240232,239521,null,{"$f":"SUM(AK201:AK209)+AK197","v":16},41,34,16,27,10,24,10,42,33,19,20,13,10,18,17,24,24,null,{"$f":"SUM(BD201:BD209)+BD197","v":-7},35,18,-15,5,-18,6,-21,34,21,-7,-7,-15,-15,-7,-4,2,-5,null,{"$f":"SUM(BW201:BW209)+BW197","v":23},50,37,18,30,10,26,20,46,38,20,25,17,13,24,31,32,21,"x",{"$f":"IF(CP211<=$CO$3,SUMIF(CP201:CP209,1,$J201:$J209)+SUMIF(CP201:CP209,2,$L201:$L209),0)","v":0},0,0,0,0,0,0,0,0,0,0,0,0,0,0,0,0,0]
[null,null,null,null,null,null,null,null,null,null,null,null,null,null,null,null,null,{"$f":"RANK(R210,$R210:$AI210,0)","v":13},2,3,14,5,17,6,18,1,4,10,9,15,16,11,12,7,8,null,null,null,null,null,null,null,null,null,null,null,null,null,null,null,null,null,null,null,null,null,null,null,null,null,null,null,null,null,null,null,null,null,null,null,null,null,null,null,null,null,null,null,null,null,null,null,null,null,null,null,null,null,null,null,null,null,null,{"$f":"IF(SUM(CP201:CP209)>0,IF(CP224=0,1,CP224+1),IF(CP224<>0,CP224,0))","v":19},19,19,19,19,19,19,19,19,19,19,19,19,19,19,19,19,19]
[null,null,"17. Spieltag"]
[{"$f":"IF(SUM(J214:L222)>0,1,\"Z\")","v":1},null,"12.-14.01.2024"]
[null,{"$f":"C214&E214","v":"FC Bayern MünchenTSG Hoffenheim"},"FC Bayern München","-","TSG Hoffenheim",3,":",0,null,{"$f":"IF(F214>H214,3,IF(F214<H214,0,IF(AND(H214<>\"\",F214=H214),1,0)))","v":3}," : ",{"$f":"IF(F214>H214,0,IF(F214<H214,3,IF(AND(H214<>\"\",F214=H214),1,0)))","v":0},null,{"$f":"F214-H214","v":3},null,{"$f":"H214-F214","v":-3},null,{"$f":"(AK214*10000+BD214*100+BW214)","v":0},{"$f":"(AL214*10000+BE214*100+BX214)","v":30303},{"$f":"(AM214*10000+BF214*100+BY214)","v":0},{"$f":"(AN214*10000+BG214*100+BZ214)","v":0},{"$f":"(AO214*10000+BH214*100+CA214)","v":0},{"$f":"(AP214*10000+BI214*100+CB214)","v":0},{"$f":"(AQ214*10000+BJ214*100+CC214)","v":0},{"$f":"(AR214*10000+BK214*100+CD214)","v":0},{"$f":"(AS214*10000+BL214*100+CE214)","v":0},{"$f":"(AT214*10000+BM214*100+CF214)","v":0},{"$f":"(AU214*10000+BN214*100+CG214)","v":0},{"$f":"(AV214*10000+BO214*100+CH214)","v":0},{"$f":"(AW214*10000+BP214*100+CI214)","v":0},{"$f":"(AX214*10000+BQ214*100+CJ214)","v":0},{"$f":"(AY214*10000+BR214*100+CK214)","v":0},{"$f":"(AZ214*10000+BS214*100+CL214)","v":0},{"$f":"(BA214*10000+BT214*100+CM214)","v":-300},{"$f":"(BB214*10000+BU214*100+CN214)","v":0},null,{"$f":"IF($C214=AK$1,$J214,IF($E214=AK$1,$L214,0))","v":0},3,0,0,0,0,0,0,0,0,{"$f":"IF($C214=AU$1,$J214,IF($E214=AU$1,$L214,0))","v":0},0,0,0,0,0,0,0,null,{"$f":"IF($C214=BD$1,$F214-$H214,IF($E214=BD$1,$H214-$F214,0))","v":0},3,0,0,0,0,0,0,0,0,{"$f":"IF($C214=BN$1,$F214-$H214,IF($E214=BN$1,$H214-$F214,0))","v":0},0,0,0,0,0,-3,0,null,{"$f":"IF($C214=BW$1,$F214,IF($E214=BW$1,$H214,0))","v":0},3,0,0,0,0,0,0,0,0,{"$f":"IF($C214=CG$1,$F214,IF($E214=CG$1,$H214,0))","v":0},0,0,0,0,0,0,0,null,{"$f":"IF($C214=CP$1,IF($F214<>\"\",1,0),IF($E214=CP$1,IF($H214<>\"\",2,0),0))","v":0},1,0,0,0,0,0,0,0,0,{"$f":"IF($C214=CZ$1,IF($F214<>\"\",1,0),IF($E214=CZ$1,IF($H214<>\"\",2,0),0))","v":0},0,0,0,0,0,2,0,19,7,4,"70:28",{"$f":"IFERROR(ROUND(MID(DK214,1,SEARCH(\":\",DK214,1)-1)/SUM(DH214:DJ214),$DL$2)&\" : \"&ROUND(MID(DK214,SEARCH(\":\",DK214,1)+1,99)/SUM(DH214:DJ214),$DL$2),\"\")","v":"2 : 1"}]
[null,"Borussia MönchengladbachVfB Stuttgart","Borussia Mönchengladbach","-","VfB Stuttgart",3,":",1,null,3," : ",0,null,{"$f":"F215-H215","v":2},null,{"$f":"H215-F215","v":-2},null,0,0,-199,0,0,0,0,0,0,0,0,0,0,0,0,30203,0,0,null,0,0,0,0,0,0,0,0,0,0,0,0,0,0,0,3,0,0,null,0,0,-2,0,0,0,0,0,0,0,0,0,0,0,0,2,0,0,null,0,0,1,0,0,0,0,0,0,0,0,0,0,0,0,3,0,0,null,0,0,2,0,0,0,0,0,0,0,0,0,0,0,0,1,0,0,30,30,42,"136:166","1 : 2"]
[null,"1. FC Köln1. FC Heidenheim 1846","1. FC Köln","-","1. FC Heidenheim 1846",1,":",1,null,1," : ",1,null,0,null,0,null,0,0,0,0,0,10001,0,0,0,0,0,10001,0,0,0,0,0,0,null,0,0,0,0,0,1,0,0,0,0,0,1,0,0,0,0,0,0,null,0,0,0,0,0,0,0,0,0,0,0,0,0,0,0,0,0,0,null,0,0,0,0,0,1,0,0,0,0,0,1,0,0,0,0,0,0,null,0,0,0,0,0,1,0,0,0,0,0,2,0,0,0,0,0,0,1,1,0,"3:1","2 : 1"]
[null,"VfL Bochum 1848SV Werder Bremen","VfL Bochum 1848","-","SV Werder Bremen",1,":",1,null,1," : ",1,null,0,null,0,null,10001,0,0,10001,0,0,0,0,0,0,0,0,0,0,0,0,0,0,null,1,0,0,1,0,0,0,0,0,0,0,0,0,0,0,0,0,0,null,0,0,0,0,0,0,0,0,0,0,0,0,0,0,0,0,0,0,null,1,0,0,1,0,0,0,0,0,0,0,0,0,0,0,0,0,0,null,2,0,0,1,0,0,0,0,0,0,0,0,0,0,0,0,0,0,10,15,43,"69:141","1 : 2"]
[null,"Sport-Club Freiburg1. FC Union Berlin","Sport-Club Freiburg","-","1. FC Union Berlin",0,":",0,null,1," : ",1,null,0,null,0,null,0,0,0,0,0,0,0,0,0,0,0,0,10000,0,0,0,0,10000,null,0,0,0,0,0,0,0,0,0,0,0,0,1,0,0,0,0,1,null,0,0,0,0,0,0,0,0,0,0,0,0,0,0,0,0,0,0,null,0,0,0,0,0,0,0,0,0,0,0,0,0,0,0,0,0,0,null,0,0,0,0,0,0,0,0,0,0,0,0,2,0,0,0,0,1,4,3,5,"20:17","2 : 1"]
[null,"1. FSV Mainz 05VfL Wolfsburg","1. FSV Mainz 05","-","VfL Wolfsburg",1,":",1,null,1," : ",1,null,0,null,0,null,0,0,0,0,0,0,0,0,0,0,10001,0,0,10001,0,0,0,0,null,0,0,0,0,0,0,0,0,0,0,1,0,0,1,0,0,0,0,null,0,0,0,0,0,0,0,0,0,0,0,0,0,0,0,0,0,0,null,0,0,0,0,0,0,0,0,0,0,1,0,0,1,0,0,0,0,null,0,0,0,0,0,0,0,0,0,0,2,0,0,1,0,0,0,0,10,15,19,"55:75","1 : 2"]
[null,"SV Darmstadt 98Borussia Dortmund","SV Darmstadt 98","-","Borussia Dortmund",0,":",3,null,0," : ",3,null,-3,null,3,null,0,0,0,0,30303,0,0,-300,0,0,0,0,0,0,0,0,0,0,null,0,0,0,0,3,0,0,0,0,0,0,0,0,0,0,0,0,0,null,0,0,0,0,3,0,0,-3,0,0,0,0,0,0,0,0,0,0,null,0,0,0,0,3,0,0,0,0,0,0,0,0,0,0,0,0,0,null,0,0,0,0,2,0,0,1,0,0,0,0,0,0,0,0,0,0,2,2,4,"8:20","1 : 3"]
[null,"FC AugsburgBayer 04 Leverkusen","FC Augsburg","-","Bayer 04 Leverkusen",0,":",1,null,0," : ",3,null,-1,null,1,null,0,0,0,0,0,0,0,0,30101,0,0,0,0,0,-100,0,0,0,null,0,0,0,0,0,0,0,0,3,0,0,0,0,0,0,0,0,0,null,0,0,0,0,0,0,0,0,1,0,0,0,0,0,-1,0,0,0,null,0,0,0,0,0,0,0,0,1,0,0,0,0,0,0,0,0,0,null,0,0,0,0,0,0,0,0,2,0,0,0,0,0,1,0,0,0,2,7,15,"22:53","1 : 2"]
[null,"RB LeipzigEintracht Frankfurt","RB Leipzig","-","Eintracht Frankfurt",0,":",1,null,0," : ",3,null,-1,null,1,null,0,0,0,0,0,0,30101,0,0,-100,0,0,0,0,0,0,0,0,null,0,0,0,0,0,0,3,0,0,0,0,0,0,0,0,0,0,0,null,0,0,0,0,0,0,1,0,0,-1,0,0,0,0,0,0,0,0,null,0,0,0,0,0,0,1,0,0,0,0,0,0,0,0,0,0,0,null,0,0,0,0,0,0,2,0,0,1,0,0,0,0,0,0,0,0,4,7,3,"16:17","1 : 1"]
[null,null,null,null,null,null,null,null,null,null,null,null,null,null,null,null,null,{"$f":"SUM(R214:R222)+R210","v":169324},443853,341638,168519,300833,108211,270727,97620,453547,332038,199321,209326,138517,108514,179224,199834,239932,249521,null,{"$f":"SUM(AK214:AK222)+AK210","v":17},44,34,17,30,11,27,10,45,33,20,21,14,11,18,20,24,25,null,{"$f":"SUM(BD214:BD222)+BD210","v":-7},38,16,-15,8,-18,7,-24,35,20,-7,-7,-15,-15,-8,-2,-1,-5,null,{"$f":"SUM(BW214:BW222)+BW210","v":24},53,38,19,33,11,27,20,47,38,21,26,17,14,24,34,32,21,"x",{"$f":"IF(CP224<=$CO$3,SUMIF(CP214:CP222,1,$J214:$J222)+SUMIF(CP214:CP222,2,$L214:$L222),0)","v":0},0,0,0,0,0,0,0,0,0,0,0,0,0,0,0,0,0]
[null,null,null,null,null,null,null,null,null,null,null,null,null,null,null,null,null,{"$f":"RANK(R223,$R223:$AI223,0)","v":13},2,3,14,5,17,6,18,1,4,11,9,15,16,12,10,8,7,null,null,null,null,null,null,null,null,null,null,null,null,null,null,null,null,null,null,null,null,null,null,null,null,null,null,null,null,null,null,null,null,null,null,null,null,null,null,null,null,null,null,null,null,null,null,null,null,null,null,null,null,null,null,null,null,null,null,{"$f":"IF(SUM(CP214:CP222)>0,IF(CP237=0,1,CP237+1),IF(CP237<>0,CP237,0))","v":18},18,18,18,18,18,18,18,18,18,18,18,18,18,18,18,18,18]
[null,null,"18. Spieltag"]
[{"$f":"IF(SUM(J227:L235)>0,1,\"Z\")","v":1},null,"19.-21.01.2024"]
[null,{"$f":"C227&E227","v":"FC Bayern MünchenSV Werder Bremen"},"FC Bayern München","-","SV Werder Bremen",0,":",1,null,{"$f":"IF(F227>H227,3,IF(F227<H227,0,IF(AND(H227<>\"\",F227=H227),1,0)))","v":0}," : ",{"$f":"IF(F227>H227,0,IF(F227<H227,3,IF(AND(H227<>\"\",F227=H227),1,0)))","v":3},null,{"$f":"F227-H227","v":-1},null,{"$f":"H227-F227","v":1},null,{"$f":"(AK227*10000+BD227*100+BW227)","v":30101},{"$f":"(AL227*10000+BE227*100+BX227)","v":-100},{"$f":"(AM227*10000+BF227*100+BY227)","v":0},{"$f":"(AN227*10000+BG227*100+BZ227)","v":0},{"$f":"(AO227*10000+BH227*100+CA227)","v":0},{"$f":"(AP227*10000+BI227*100+CB227)","v":0},{"$f":"(AQ227*10000+BJ227*100+CC227)","v":0},{"$f":"(AR227*10000+BK227*100+CD227)","v":0},{"$f":"(AS227*10000+BL227*100+CE227)","v":0},{"$f":"(AT227*10000+BM227*100+CF227)","v":0},{"$f":"(AU227*10000+BN227*100+CG227)","v":0},{"$f":"(AV227*10000+BO227*100+CH227)","v":0},{"$f":"(AW227*10000+BP227*100+CI227)","v":0},{"$f":"(AX227*10000+BQ227*100+CJ227)","v":0},{"$f":"(AY227*10000+BR227*100+CK227)","v":0},{"$f":"(AZ227*10000+BS227*100+CL227)","v":0},{"$f":"(BA227*10000+BT227*100+CM227)","v":0},{"$f":"(BB227*10000+BU227*100+CN227)","v":0},null,{"$f":"IF($C227=AK$1,$J227,IF($E227=AK$1,$L227,0))","v":3},0,0,0,0,0,0,0,0,0,{"$f":"IF($C227=AU$1,$J227,IF($E227=AU$1,$L227,0))","v":0},0,0,0,0,0,0,0,null,{"$f":"IF($C227=BD$1,$F227-$H227,IF($E227=BD$1,$H227-$F227,0))","v":1},-1,0,0,0,0,0,0,0,0,{"$f":"IF($C227=BN$1,$F227-$H227,IF($E227=BN$1,$H227-$F227,0))","v":0},0,0,0,0,0,0,0,null,{"$f":"IF($C227=BW$1,$F227,IF($E227=BW$1,$H227,0))","v":1},0,0,0,0,0,0,0,0,0,{"$f":"IF($C227=CG$1,$F227,IF($E227=CG$1,$H227,0))","v":0},0,0,0,0,0,0,0,null,{"$f":"IF($C227=CP$1,IF($F227<>\"\",1,0),IF($E227=CP$1,IF($H227<>\"\",2,0),0))","v":2},1,0,0,0,0,0,0,0,0,{"$f":"IF($C227=CZ$1,IF($F227<>\"\",1,0),IF($E227=CZ$1,IF($H227<>\"\",2,0),0))","v":0},0,0,0,0,0,0,0,60,26,26,"230:128",{"$f":"IFERROR(ROUND(MID(DK227,1,SEARCH(\":\",DK227,1)-1)/SUM(DH227:DJ227),$DL$2)&\" : \"&ROUND(MID(DK227,SEARCH(\":\",DK227,1)+1,99)/SUM(DH227:DJ227),$DL$2),\"\")","v":"2 : 1"}]
[null,"Borussia MönchengladbachFC Augsburg","Borussia Mönchengladbach","-","FC Augsburg",1,":",2,null,0," : ",3,null,{"$f":"F228-H228","v":-1},null,{"$f":"H228-F228","v":1},null,0,0,0,0,0,0,0,0,0,0,0,0,0,0,30102,-99,0,0,null,0,0,0,0,0,0,0,0,0,0,0,0,0,0,3,0,0,0,null,0,0,0,0,0,0,0,0,0,0,0,0,0,0,1,-1,0,0,null,0,0,0,0,0,0,0,0,0,0,0,0,0,0,2,1,0,0,null,0,0,0,0,0,0,0,0,0,0,0,0,0,0,2,1,0,0,10,8,8,"42:33","2 : 1"]
[null,"1. FC KölnBorussia Dortmund","1. FC Köln","-","Borussia Dortmund",0,":",4,null,0," : ",3,null,-4,null,4,null,0,0,0,0,30404,-400,0,0,0,0,0,0,0,0,0,0,0,0,null,0,0,0,0,3,0,0,0,0,0,0,0,0,0,0,0,0,0,null,0,0,0,0,4,-4,0,0,0,0,0,0,0,0,0,0,0,0,null,0,0,0,0,4,0,0,0,0,0,0,0,0,0,0,0,0,0,null,0,0,0,0,2,1,0,0,0,0,0,0,0,0,0,0,0,0,29,25,40,"134:162","1 : 2"]
[null,"VfL Bochum 1848VfB Stuttgart","VfL Bochum 1848","-","VfB Stuttgart",1,":",0,null,3," : ",0,null,1,null,-1,null,0,0,-100,30101,0,0,0,0,0,0,0,0,0,0,0,0,0,0,null,0,0,0,3,0,0,0,0,0,0,0,0,0,0,0,0,0,0,null,0,0,-1,1,0,0,0,0,0,0,0,0,0,0,0,0,0,0,null,0,0,0,1,0,0,0,0,0,0,0,0,0,0,0,0,0,0,null,0,0,2,1,0,0,0,0,0,0,0,0,0,0,0,0,0,0,15,20,37,"87:126","1 : 2"]
[null,"Sport-Club FreiburgTSG Hoffenheim","Sport-Club Freiburg","-","TSG Hoffenheim",3,":",2,null,3," : ",0,null,1,null,-1,null,0,0,0,0,0,0,0,0,0,0,0,0,0,0,0,0,-98,30103,null,0,0,0,0,0,0,0,0,0,0,0,0,0,0,0,0,0,3,null,0,0,0,0,0,0,0,0,0,0,0,0,0,0,0,0,-1,1,null,0,0,0,0,0,0,0,0,0,0,0,0,0,0,0,0,2,3,null,0,0,0,0,0,0,0,0,0,0,0,0,0,0,0,0,2,1,10,11,7,"47:43","2 : 2"]
[null,"1. FSV Mainz 051. FC Union Berlin","1. FSV Mainz 05","-","1. FC Union Berlin",1,":",1,null,1," : ",1,null,0,null,0,null,0,0,0,0,0,0,0,0,0,0,0,0,10001,10001,0,0,0,0,null,0,0,0,0,0,0,0,0,0,0,0,0,1,1,0,0,0,0,null,0,0,0,0,0,0,0,0,0,0,0,0,0,0,0,0,0,0,null,0,0,0,0,0,0,0,0,0,0,0,0,1,1,0,0,0,0,null,0,0,0,0,0,0,0,0,0,0,0,0,2,1,0,0,0,0,5,3,6,"15:20","1 : 1"]
[null,"SV Darmstadt 98Eintracht Frankfurt","SV Darmstadt 98","-","Eintracht Frankfurt",2,":",2,null,1," : ",1,null,0,null,0,null,0,0,0,0,0,0,10002,10002,0,0,0,0,0,0,0,0,0,0,null,0,0,0,0,0,0,1,1,0,0,0,0,0,0,0,0,0,0,null,0,0,0,0,0,0,0,0,0,0,0,0,0,0,0,0,0,0,null,0,0,0,0,0,0,2,2,0,0,0,0,0,0,0,0,0,0,null,0,0,0,0,0,0,2,1,0,0,0,0,0,0,0,0,0,0,3,0,5,"7:12","1 : 2"]
[null,"1. FC Heidenheim 1846VfL Wolfsburg","1. FC Heidenheim 1846","-","VfL Wolfsburg",1,":",1,null,1," : ",1,null,0,null,0,null,0,0,0,0,0,0,0,0,0,0,10001,10001,0,0,0,0,0,0,null,0,0,0,0,0,0,0,0,0,0,1,1,0,0,0,0,0,0,null,0,0,0,0,0,0,0,0,0,0,0,0,0,0,0,0,0,0,null,0,0,0,0,0,0,0,0,0,0,1,1,0,0,0,0,0,0,null,0,0,0,0,0,0,0,0,0,0,2,1,0,0,0,0,0,0,"-","-","-","-",""]
[null,"RB LeipzigBayer 04 Leverkusen","RB Leipzig","-","Bayer 04 Leverkusen",2,":",3,null,0," : ",3,null,-1,null,1,null,0,0,0,0,0,0,0,0,30103,-98,0,0,0,0,0,0,0,0,null,0,0,0,0,0,0,0,0,3,0,0,0,0,0,0,0,0,0,null,0,0,0,0,0,0,0,0,1,-1,0,0,0,0,0,0,0,0,null,0,0,0,0,0,0,0,0,3,2,0,0,0,0,0,0,0,0,null,0,0,0,0,0,0,0,0,2,1,0,0,0,0,0,0,0,0,7,4,3,"22:18","2 : 1"]
[null,null,null,null,null,null,null,null,null,null,null,null,null,null,null,null,null,{"$f":"SUM(R227:R235)+R223","v":199425},443753,341538,198620,331237,107811,280729,107622,483650,331940,209322,219327,148518,118515,209326,199735,239834,279624,null,{"$f":"SUM(AK227:AK235)+AK223","v":20},44,34,20,33,11,28,11,48,33,21,22,15,12,21,20,24,28,null,{"$f":"SUM(BD227:BD235)+BD223","v":-6},37,15,-14,12,-22,7,-24,36,19,-7,-7,-15,-15,-7,-3,-2,-4,null,{"$f":"SUM(BW227:BW235)+BW223","v":25},53,38,20,37,11,29,22,50,40,22,27,18,15,26,35,34,24,"x",{"$f":"IF(CP237<=$CO$3,SUMIF(CP227:CP235,1,$J227:$J235)+SUMIF(CP227:CP235,2,$L227:$L235),0)","v":0},0,0,0,0,0,0,0,0,0,0,0,0,0,0,0,0,0]
[null,null,null,null,null,null,null,null,null,null,null,null,null,null,null,null,null,{"$f":"RANK(R236,$R236:$AI236,0)","v":13},2,3,14,5,17,6,18,1,4,11,9,15,16,10,12,8,7,null,null,null,null,null,null,null,null,null,null,null,null,null,null,null,null,null,null,null,null,null,null,null,null,null,null,null,null,null,null,null,null,null,null,null,null,null,null,null,null,null,null,null,null,null,null,null,null,null,null,null,null,null,null,null,null,null,null,{"$f":"IF(SUM(CP227:CP235)>0,IF(CP250=0,1,CP250+1),IF(CP250<>0,CP250,0))","v":17},17,17,17,17,17,17,17,17,17,17,17,17,17,17,17,17,17]
[null,null,"19. Spieltag"]
[{"$f":"IF(SUM(J240:L248)>0,1,\"Z\")","v":1},null,"26.-28.01.2024"]
[null,{"$f":"C240&E240","v":"SV Werder BremenSport-Club Freiburg"},"SV Werder Bremen","-","Sport-Club Freiburg",3,null,1,null,{"$f":"IF(F240>H240,3,IF(F240<H240,0,IF(AND(H240<>\"\",F240=H240),1,0)))","v":3}," : ",{"$f":"IF(F240>H240,0,IF(F240<H240,3,IF(AND(H240<>\"\",F240=H240),1,0)))","v":0},null,{"$f":"F240-H240","v":2},null,{"$f":"H240-F240","v":-2},null,{"$f":"(AK240*10000+BD240*100+BW240)","v":30203},{"$f":"(AL240*10000+BE240*100+BX240)","v":0},{"$f":"(AM240*10000+BF240*100+BY240)","v":0},{"$f":"(AN240*10000+BG240*100+BZ240)","v":0},{"$f":"(AO240*10000+BH240*100+CA240)","v":0},{"$f":"(AP240*10000+BI240*100+CB240)","v":0},{"$f":"(AQ240*10000+BJ240*100+CC240)","v":0},{"$f":"(AR240*10000+BK240*100+CD240)","v":0},{"$f":"(AS240*10000+BL240*100+CE240)","v":0},{"$f":"(AT240*10000+BM240*100+CF240)","v":0},{"$f":"(AU240*10000+BN240*100+CG240)","v":0},{"$f":"(AV240*10000+BO240*100+CH240)","v":0},{"$f":"(AW240*10000+BP240*100+CI240)","v":0},{"$f":"(AX240*10000+BQ240*100+CJ240)","v":0},{"$f":"(AY240*10000+BR240*100+CK240)","v":0},{"$f":"(AZ240*10000+BS240*100+CL240)","v":0},{"$f":"(BA240*10000+BT240*100+CM240)","v":0},{"$f":"(BB240*10000+BU240*100+CN240)","v":-199},null,{"$f":"IF($C240=AK$1,$J240,IF($E240=AK$1,$L240,0))","v":3},0,0,0,0,0,0,0,0,0,{"$f":"IF($C240=AU$1,$J240,IF($E240=AU$1,$L240,0))","v":0},0,0,0,0,0,0,0,null,{"$f":"IF($C240=BD$1,$F240-$H240,IF($E240=BD$1,$H240-$F240,0))","v":2},0,0,0,0,0,0,0,0,0,{"$f":"IF($C240=BN$1,$F240-$H240,IF($E240=BN$1,$H240-$F240,0))","v":0},0,0,0,0,0,0,-2,null,{"$f":"IF($C240=BW$1,$F240,IF($E240=BW$1,$H240,0))","v":3},0,0,0,0,0,0,0,0,0,{"$f":"IF($C240=CG$1,$F240,IF($E240=CG$1,$H240,0))","v":0},0,0,0,0,0,0,1,null,{"$f":"IF($C240=CP$1,IF($F240<>\"\",1,0),IF($E240=CP$1,IF($H240<>\"\",2,0),0))","v":1},0,0,0,0,0,0,0,0,0,{"$f":"IF($C240=CZ$1,IF($F240<>\"\",1,0),IF($E240=CZ$1,IF($H240<>\"\",2,0),0))","v":0},0,0,0,0,0,0,2,23,10,11,"90:56",{"$f":"IFERROR(ROUND(MID(DK240,1,SEARCH(\":\",DK240,1)-1)/SUM(DH240:DJ240),$DL$2)&\" : \"&ROUND(MID(DK240,SEARCH(\":\",DK240,1)+1,99)/SUM(DH240:DJ240),$DL$2),\"\")","v":"2 : 1"}]
[null,"VfB StuttgartRB Leipzig","VfB Stuttgart","-","RB Leipzig",5,null,2,null,3," : ",0,null,{"$f":"F241-H241","v":3},null,{"$f":"H241-F241","v":-3},null,0,0,30305,0,0,0,0,0,0,-298,0,0,0,0,0,0,0,0,null,0,0,3,0,0,0,0,0,0,0,0,0,0,0,0,0,0,0,null,0,0,3,0,0,0,0,0,0,-3,0,0,0,0,0,0,0,0,null,0,0,5,0,0,0,0,0,0,2,0,0,0,0,0,0,0,0,null,0,0,1,0,0,0,0,0,0,2,0,0,0,0,0,0,0,0,0,2,8,"3:18","0 : 2"]
[null,"Borussia DortmundVfL Bochum 1848","Borussia Dortmund","-","VfL Bochum 1848",3,null,1,null,3," : ",0,null,2,null,-2,null,0,0,0,-199,30203,0,0,0,0,0,0,0,0,0,0,0,0,0,null,0,0,0,0,3,0,0,0,0,0,0,0,0,0,0,0,0,0,null,0,0,0,-2,2,0,0,0,0,0,0,0,0,0,0,0,0,0,null,0,0,0,1,3,0,0,0,0,0,0,0,0,0,0,0,0,0,null,0,0,0,2,1,0,0,0,0,0,0,0,0,0,0,0,0,0,25,22,17,"108:91","2 : 1"]
[null,"Eintracht Frankfurt1. FSV Mainz 05","Eintracht Frankfurt","-","1. FSV Mainz 05",1,null,0,null,3," : ",0,null,1,null,-1,null,0,0,0,0,0,0,30101,0,0,0,0,0,0,-100,0,0,0,0,null,0,0,0,0,0,0,3,0,0,0,0,0,0,0,0,0,0,0,null,0,0,0,0,0,0,1,0,0,0,0,0,0,-1,0,0,0,0,null,0,0,0,0,0,0,1,0,0,0,0,0,0,0,0,0,0,0,null,0,0,0,0,0,0,1,0,0,0,0,0,0,2,0,0,0,0,11,17,10,"51:48","1 : 1"]
[null,"Bayer 04 LeverkusenBorussia Mönchengladbach","Bayer 04 Leverkusen","-","Borussia Mönchengladbach",0,null,0,null,1," : ",1,null,0,null,0,null,0,0,0,0,0,0,0,0,10000,0,0,0,0,0,0,10000,0,0,null,0,0,0,0,0,0,0,0,1,0,0,0,0,0,0,1,0,0,null,0,0,0,0,0,0,0,0,0,0,0,0,0,0,0,0,0,0,null,0,0,0,0,0,0,0,0,0,0,0,0,0,0,0,0,0,0,null,0,0,0,0,0,0,0,0,1,0,0,0,0,0,0,2,0,0,33,27,22,"157:120","2 : 1"]
[null,"VfL Wolfsburg1. FC Köln","VfL Wolfsburg","-","1. FC Köln",1,null,1,null,1," : ",1,null,0,null,0,null,0,0,0,0,0,10001,0,0,0,0,10001,0,0,0,0,0,0,0,null,0,0,0,0,0,1,0,0,0,0,1,0,0,0,0,0,0,0,null,0,0,0,0,0,0,0,0,0,0,0,0,0,0,0,0,0,0,null,0,0,0,0,0,1,0,0,0,0,1,0,0,0,0,0,0,0,null,0,0,0,0,0,2,0,0,0,0,1,0,0,0,0,0,0,0,16,10,8,"65:42","2 : 1"]
[null,"1. FC Union BerlinSV Darmstadt 98","1. FC Union Berlin","-","SV Darmstadt 98",1,null,0,null,3," : ",0,null,1,null,-1,null,0,0,0,0,0,0,0,-100,0,0,0,0,30101,0,0,0,0,0,null,0,0,0,0,0,0,0,0,0,0,0,0,3,0,0,0,0,0,null,0,0,0,0,0,0,0,-1,0,0,0,0,1,0,0,0,0,0,null,0,0,0,0,0,0,0,0,0,0,0,0,1,0,0,0,0,0,null,0,0,0,0,0,0,0,2,0,0,0,0,1,0,0,0,0,0,1,2,3,"9:15","2 : 3"]
[null,"FC AugsburgFC Bayern München","FC Augsburg","-","FC Bayern München",2,null,3,null,0," : ",3,null,-1,null,1,null,0,30103,0,0,0,0,0,0,0,0,0,0,0,0,-98,0,0,0,null,0,3,0,0,0,0,0,0,0,0,0,0,0,0,0,0,0,0,null,0,1,0,0,0,0,0,0,0,0,0,0,0,0,-1,0,0,0,null,0,3,0,0,0,0,0,0,0,0,0,0,0,0,2,0,0,0,null,0,2,0,0,0,0,0,0,0,0,0,0,0,0,1,0,0,0,4,2,18,"21:58","1 : 2"]
[null,"TSG Hoffenheim1. FC Heidenheim 1846","TSG Hoffenheim","-","1. FC Heidenheim 1846",1,null,1,null,1," : ",1,null,0,null,0,null,0,0,0,0,0,0,0,0,0,0,0,10001,0,0,0,0,10001,0,null,0,0,0,0,0,0,0,0,0,0,0,1,0,0,0,0,1,0,null,0,0,0,0,0,0,0,0,0,0,0,0,0,0,0,0,0,0,null,0,0,0,0,0,0,0,0,0,0,0,1,0,0,0,0,1,0,null,0,0,0,0,0,0,0,0,0,0,0,2,0,0,0,0,1,0,"-","-","-","-",""]
[null,null,null,null,null,null,null,null,null,null,null,null,null,null,null,null,null,{"$f":"SUM(R240:R248)+R236","v":229628},473856,371843,198421,361440,117812,310830,107522,493650,331642,219323,229328,178619,118415,209228,209735,249835,279425,null,{"$f":"SUM(AK240:AK248)+AK236","v":23},47,37,20,36,12,31,11,49,33,22,23,18,12,21,21,25,28,null,{"$f":"SUM(BD240:BD248)+BD236","v":-4},38,18,-16,14,-22,8,-25,36,16,-7,-7,-14,-16,-8,-3,-2,-6,null,{"$f":"SUM(BW240:BW248)+BW236","v":28},56,43,21,40,12,30,22,50,42,23,28,19,15,28,35,35,25,"x",{"$f":"IF(CP250<=$CO$3,SUMIF(CP240:CP248,1,$J240:$J248)+SUMIF(CP240:CP248,2,$L240:$L248),0)","v":0},0,0,0,0,0,0,0,0,0,0,0,0,0,0,0,0,0]
[null,null,null,null,null,null,null,null,null,null,null,null,null,null,null,null,null,{"$f":"RANK(R249,$R249:$AI249,0)","v":9},2,3,14,4,17,6,18,1,5,11,10,15,16,13,12,8,7,null,null,null,null,null,null,null,null,null,null,null,null,null,null,null,null,null,null,null,null,null,null,null,null,null,null,null,null,null,null,null,null,null,null,null,null,null,null,null,null,null,null,null,null,null,null,null,null,null,null,null,null,null,null,null,null,null,null,{"$f":"IF(SUM(CP240:CP248)>0,IF(CP263=0,1,CP263+1),IF(CP263<>0,CP263,0))","v":16},16,16,16,16,16,16,16,16,16,16,16,16,16,16,16,16,16]
[null,null,"20. Spieltag"]
[{"$f":"IF(SUM(J253:L261)>0,1,\"Z\")","v":1},null,"02.-04.02.2024"]
[null,{"$f":"C253&E253","v":"FC Bayern MünchenBorussia Mönchengladbach"},"FC Bayern München","-","Borussia Mönchengladbach",3,":",1,null,{"$f":"IF(F253>H253,3,IF(F253<H253,0,IF(AND(H253<>\"\",F253=H253),1,0)))","v":3}," : ",{"$f":"IF(F253>H253,0,IF(F253<H253,3,IF(AND(H253<>\"\",F253=H253),1,0)))","v":0},null,{"$f":"F253-H253","v":2},null,{"$f":"H253-F253","v":-2},null,{"$f":"(AK253*10000+BD253*100+BW253)","v":0},{"$f":"(AL253*10000+BE253*100+BX253)","v":30203},{"$f":"(AM253*10000+BF253*100+BY253)","v":0},{"$f":"(AN253*10000+BG253*100+BZ253)","v":0},{"$f":"(AO253*10000+BH253*100+CA253)","v":0},{"$f":"(AP253*10000+BI253*100+CB253)","v":0},{"$f":"(AQ253*10000+BJ253*100+CC253)","v":0},{"$f":"(AR253*10000+BK253*100+CD253)","v":0},{"$f":"(AS253*10000+BL253*100+CE253)","v":0},{"$f":"(AT253*10000+BM253*100+CF253)","v":0},{"$f":"(AU253*10000+BN253*100+CG253)","v":0},{"$f":"(AV253*10000+BO253*100+CH253)","v":0},{"$f":"(AW253*10000+BP253*100+CI253)","v":0},{"$f":"(AX253*10000+BQ253*100+CJ253)","v":0},{"$f":"(AY253*10000+BR253*100+CK253)","v":0},{"$f":"(AZ253*10000+BS253*100+CL253)","v":-199},{"$f":"(BA253*10000+BT253*100+CM253)","v":0},{"$f":"(BB253*10000+BU253*100+CN253)","v":0},null,{"$f":"IF($C253=AK$1,$J253,IF($E253=AK$1,$L253,0))","v":0},3,0,0,0,0,0,0,0,0,{"$f":"IF($C253=AU$1,$J253,IF($E253=AU$1,$L253,0))","v":0},0,0,0,0,0,0,0,null,{"$f":"IF($C253=BD$1,$F253-$H253,IF($E253=BD$1,$H253-$F253,0))","v":0},2,0,0,0,0,0,0,0,0,{"$f":"IF($C253=BN$1,$F253-$H253,IF($E253=BN$1,$H253-$F253,0))","v":0},0,0,0,0,-2,0,0,null,{"$f":"IF($C253=BW$1,$F253,IF($E253=BW$1,$H253,0))","v":0},3,0,0,0,0,0,0,0,0,{"$f":"IF($C253=CG$1,$F253,IF($E253=CG$1,$H253,0))","v":0},0,0,0,0,1,0,0,null,{"$f":"IF($C253=CP$1,IF($F253<>\"\",1,0),IF($E253=CP$1,IF($H253<>\"\",2,0),0))","v":0},1,0,0,0,0,0,0,0,0,{"$f":"IF($C253=CZ$1,IF($F253<>\"\",1,0),IF($E253=CZ$1,IF($H253<>\"\",2,0),0))","v":0},0,0,0,0,2,0,0,51,31,28,"211:141",{"$f":"IFERROR(ROUND(MID(DK253,1,SEARCH(\":\",DK253,1)-1)/SUM(DH253:DJ253),$DL$2)&\" : \"&ROUND(MID(DK253,SEARCH(\":\",DK253,1)+1,99)/SUM(DH253:DJ253),$DL$2),\"\")","v":"2 : 1"}]
[null,"1. FC KölnEintracht Frankfurt","1. FC Köln","-","Eintracht Frankfurt",2,":",0,null,3," : ",0,null,{"$f":"F254-H254","v":2},null,{"$f":"H254-F254","v":-2},null,0,0,0,0,0,30202,-200,0,0,0,0,0,0,0,0,0,0,0,null,0,0,0,0,0,3,0,0,0,0,0,0,0,0,0,0,0,0,null,0,0,0,0,0,2,-2,0,0,0,0,0,0,0,0,0,0,0,null,0,0,0,0,0,2,0,0,0,0,0,0,0,0,0,0,0,0,null,0,0,0,0,0,1,2,0,0,0,0,0,0,0,0,0,0,0,36,30,32,"161:145","2 : 1"]
[null,"VfL Bochum 1848FC Augsburg","VfL Bochum 1848","-","FC Augsburg",1,":",1,null,1," : ",1,null,0,null,0,null,0,0,0,10001,0,0,0,0,0,0,0,0,0,0,10001,0,0,0,null,0,0,0,1,0,0,0,0,0,0,0,0,0,0,1,0,0,0,null,0,0,0,0,0,0,0,0,0,0,0,0,0,0,0,0,0,0,null,0,0,0,1,0,0,0,0,0,0,0,0,0,0,1,0,0,0,null,0,0,0,1,0,0,0,0,0,0,0,0,0,0,2,0,0,0,4,0,2,"8:8","1 : 1"]
[null,"Sport-Club FreiburgVfB Stuttgart","Sport-Club Freiburg","-","VfB Stuttgart",1,":",3,null,0," : ",3,null,-2,null,2,null,0,0,30203,0,0,0,0,0,0,0,0,0,0,0,0,0,0,-199,null,0,0,3,0,0,0,0,0,0,0,0,0,0,0,0,0,0,0,null,0,0,2,0,0,0,0,0,0,0,0,0,0,0,0,0,0,-2,null,0,0,3,0,0,0,0,0,0,0,0,0,0,0,0,0,0,1,null,0,0,2,0,0,0,0,0,0,0,0,0,0,0,0,0,0,1,16,5,21,"58:69","1 : 2"]
[null,"VfL WolfsburgTSG Hoffenheim","VfL Wolfsburg","-","TSG Hoffenheim",2,":",2,null,1," : ",1,null,0,null,0,null,0,0,0,0,0,0,0,0,0,0,10002,0,0,0,0,0,10002,0,null,0,0,0,0,0,0,0,0,0,0,1,0,0,0,0,0,1,0,null,0,0,0,0,0,0,0,0,0,0,0,0,0,0,0,0,0,0,null,0,0,0,0,0,0,0,0,0,0,2,0,0,0,0,0,2,0,null,0,0,0,0,0,0,0,0,0,0,1,0,0,0,0,0,2,0,14,7,9,"58:47","2 : 2"]
[null,"1. FSV Mainz 05SV Werder Bremen","1. FSV Mainz 05","-","SV Werder Bremen",0,":",1,null,0," : ",3,null,-1,null,1,null,30101,0,0,0,0,0,0,0,0,0,0,0,0,-100,0,0,0,0,null,3,0,0,0,0,0,0,0,0,0,0,0,0,0,0,0,0,0,null,1,0,0,0,0,0,0,0,0,0,0,0,0,-1,0,0,0,0,null,1,0,0,0,0,0,0,0,0,0,0,0,0,0,0,0,0,0,null,2,0,0,0,0,0,0,0,0,0,0,0,0,1,0,0,0,0,11,7,14,"45:50","1 : 2"]
[null,"SV Darmstadt 98Bayer 04 Leverkusen","SV Darmstadt 98","-","Bayer 04 Leverkusen",0,":",2,null,0," : ",3,null,-2,null,2,null,0,0,0,0,0,0,0,-200,30202,0,0,0,0,0,0,0,0,0,null,0,0,0,0,0,0,0,0,3,0,0,0,0,0,0,0,0,0,null,0,0,0,0,0,0,0,-2,2,0,0,0,0,0,0,0,0,0,null,0,0,0,0,0,0,0,0,2,0,0,0,0,0,0,0,0,0,null,0,0,0,0,0,0,0,1,2,0,0,0,0,0,0,0,0,0,1,0,5,"7:13","1 : 2"]
[null,"1. FC Heidenheim 1846Borussia Dortmund","1. FC Heidenheim 1846","-","Borussia Dortmund",0,":",0,null,1," : ",1,null,0,null,0,null,0,0,0,0,10000,0,0,0,0,0,0,10000,0,0,0,0,0,0,null,0,0,0,0,1,0,0,0,0,0,0,1,0,0,0,0,0,0,null,0,0,0,0,0,0,0,0,0,0,0,0,0,0,0,0,0,0,null,0,0,0,0,0,0,0,0,0,0,0,0,0,0,0,0,0,0,null,0,0,0,0,2,0,0,0,0,0,0,1,0,0,0,0,0,0,"-","-","-","-",""]
[null,"RB Leipzig1. FC Union Berlin","RB Leipzig","-","1. FC Union Berlin",2,":",0,null,3," : ",0,null,2,null,-2,null,0,0,0,0,0,0,0,0,0,30202,0,0,-200,0,0,0,0,0,null,0,0,0,0,0,0,0,0,0,3,0,0,0,0,0,0,0,0,null,0,0,0,0,0,0,0,0,0,2,0,0,-2,0,0,0,0,0,null,0,0,0,0,0,0,0,0,0,2,0,0,0,0,0,0,0,0,null,0,0,0,0,0,0,0,0,0,1,0,0,2,0,0,0,0,0,5,1,6,"21:16","2 : 1"]
[null,null,null,null,null,null,null,null,null,null,null,null,null,null,null,null,null,{"$f":"SUM(R253:R261)+R249","v":259729},504059,402046,208422,371440,148014,310630,107322,523852,361844,229325,239328,178419,118315,219229,209536,259837,279226,null,{"$f":"SUM(AK253:AK261)+AK249","v":26},50,40,21,37,15,31,11,52,36,23,24,18,12,22,21,26,28,null,{"$f":"SUM(BD253:BD261)+BD249","v":-3},40,20,-16,14,-20,6,-27,38,18,-7,-7,-16,-17,-8,-5,-2,-8,null,{"$f":"SUM(BW253:BW261)+BW249","v":29},59,46,22,40,14,30,22,52,44,25,28,19,15,29,36,37,26,"x",{"$f":"IF(CP263<=$CO$3,SUMIF(CP253:CP261,1,$J253:$J261)+SUMIF(CP253:CP261,2,$L253:$L261),0)","v":0},0,0,0,0,0,0,0,0,0,0,0,0,0,0,0,0,0]
[null,null,null,null,null,null,null,null,null,null,null,null,null,null,null,null,null,{"$f":"RANK(R262,$R262:$AI262,0)","v":9},2,3,14,4,16,6,18,1,5,11,10,15,17,12,13,8,7,null,null,null,null,null,null,null,null,null,null,null,null,null,null,null,null,null,null,null,null,null,null,null,null,null,null,null,null,null,null,null,null,null,null,null,null,null,null,null,null,null,null,null,null,null,null,null,null,null,null,null,null,null,null,null,null,null,null,{"$f":"IF(SUM(CP253:CP261)>0,IF(CP276=0,1,CP276+1),IF(CP276<>0,CP276,0))","v":15},15,15,15,15,15,15,15,15,15,15,15,15,15,15,15,15,15]
[null,null,"21. Spieltag"]
[{"$f":"IF(SUM(J266:L274)>0,1,\"Z\")","v":1},null,"09.-11.02.2024"]
[null,{"$f":"C266&E266","v":"SV Werder Bremen1. FC Heidenheim 1846"},"SV Werder Bremen","-","1. FC Heidenheim 1846",1,":",2,null,{"$f":"IF(F266>H266,3,IF(F266<H266,0,IF(AND(H266<>\"\",F266=H266),1,0)))","v":0}," : ",{"$f":"IF(F266>H266,0,IF(F266<H266,3,IF(AND(H266<>\"\",F266=H266),1,0)))","v":3},null,{"$f":"F266-H266","v":-1},null,{"$f":"H266-F266","v":1},null,{"$f":"(AK266*10000+BD266*100+BW266)","v":-99},{"$f":"(AL266*10000+BE266*100+BX266)","v":0},{"$f":"(AM266*10000+BF266*100+BY266)","v":0},{"$f":"(AN266*10000+BG266*100+BZ266)","v":0},{"$f":"(AO266*10000+BH266*100+CA266)","v":0},{"$f":"(AP266*10000+BI266*100+CB266)","v":0},{"$f":"(AQ266*10000+BJ266*100+CC266)","v":0},{"$f":"(AR266*10000+BK266*100+CD266)","v":0},{"$f":"(AS266*10000+BL266*100+CE266)","v":0},{"$f":"(AT266*10000+BM266*100+CF266)","v":0},{"$f":"(AU266*10000+BN266*100+CG266)","v":0},{"$f":"(AV266*10000+BO266*100+CH266)","v":30102},{"$f":"(AW266*10000+BP266*100+CI266)","v":0},{"$f":"(AX266*10000+BQ266*100+CJ266)","v":0},{"$f":"(AY266*10000+BR266*100+CK266)","v":0},{"$f":"(AZ266*10000+BS266*100+CL266)","v":0},{"$f":"(BA266*10000+BT266*100+CM266)","v":0},{"$f":"(BB266*10000+BU266*100+CN266)","v":0},null,{"$f":"IF($C266=AK$1,$J266,IF($E266=AK$1,$L266,0))","v":0},0,0,0,0,0,0,0,0,0,{"$f":"IF($C266=AU$1,$J266,IF($E266=AU$1,$L266,0))","v":0},3,0,0,0,0,0,0,null,{"$f":"IF($C266=BD$1,$F266-$H266,IF($E266=BD$1,$H266-$F266,0))","v":-1},0,0,0,0,0,0,0,0,0,{"$f":"IF($C266=BN$1,$F266-$H266,IF($E266=BN$1,$H266-$F266,0))","v":0},1,0,0,0,0,0,0,null,{"$f":"IF($C266=BW$1,$F266,IF($E266=BW$1,$H266,0))","v":1},0,0,0,0,0,0,0,0,0,{"$f":"IF($C266=CG$1,$F266,IF($E266=CG$1,$H266,0))","v":0},2,0,0,0,0,0,0,null,{"$f":"IF($C266=CP$1,IF($F266<>\"\",1,0),IF($E266=CP$1,IF($H266<>\"\",2,0),0))","v":1},0,0,0,0,0,0,0,0,0,{"$f":"IF($C266=CZ$1,IF($F266<>\"\",1,0),IF($E266=CZ$1,IF($H266<>\"\",2,0),0))","v":0},2,0,0,0,0,0,0,1,0,1,"4:2",{"$f":"IFERROR(ROUND(MID(DK266,1,SEARCH(\":\",DK266,1)-1)/SUM(DH266:DJ266),$DL$2)&\" : \"&ROUND(MID(DK266,SEARCH(\":\",DK266,1)+1,99)/SUM(DH266:DJ266),$DL$2),\"\")","v":"2 : 1"}]
[null,"VfB Stuttgart1. FSV Mainz 05","VfB Stuttgart","-","1. FSV Mainz 05",3,":",1,null,3," : ",0,null,{"$f":"F267-H267","v":2},null,{"$f":"H267-F267","v":-2},null,0,0,30203,0,0,0,0,0,0,0,0,0,0,-199,0,0,0,0,null,0,0,3,0,0,0,0,0,0,0,0,0,0,0,0,0,0,0,null,0,0,2,0,0,0,0,0,0,0,0,0,0,-2,0,0,0,0,null,0,0,3,0,0,0,0,0,0,0,0,0,0,1,0,0,0,0,null,0,0,1,0,0,0,0,0,0,0,0,0,0,2,0,0,0,0,13,8,11,"52:46","2 : 1"]
[null,"Borussia MönchengladbachSV Darmstadt 98","Borussia Mönchengladbach","-","SV Darmstadt 98",0,":",0,null,1," : ",1,null,0,null,0,null,0,0,0,0,0,0,0,10000,0,0,0,0,0,0,0,10000,0,0,null,0,0,0,0,0,0,0,1,0,0,0,0,0,0,0,1,0,0,null,0,0,0,0,0,0,0,0,0,0,0,0,0,0,0,0,0,0,null,0,0,0,0,0,0,0,0,0,0,0,0,0,0,0,0,0,0,null,0,0,0,0,0,0,0,2,0,0,0,0,0,0,0,1,0,0,4,3,1,"17:9","2 : 1"]
[null,"Borussia DortmundSport-Club Freiburg","Borussia Dortmund","-","Sport-Club Freiburg",3,":",0,null,3," : ",0,null,3,null,-3,null,0,0,0,0,30303,0,0,0,0,0,0,0,0,0,0,0,0,-300,null,0,0,0,0,3,0,0,0,0,0,0,0,0,0,0,0,0,0,null,0,0,0,0,3,0,0,0,0,0,0,0,0,0,0,0,0,-3,null,0,0,0,0,3,0,0,0,0,0,0,0,0,0,0,0,0,0,null,0,0,0,0,1,0,0,0,0,0,0,0,0,0,0,0,0,2,30,11,5,"106:45","2 : 1"]
[null,"Eintracht FrankfurtVfL Bochum 1848","Eintracht Frankfurt","-","VfL Bochum 1848",1,":",1,null,1," : ",1,null,0,null,0,null,0,0,0,10001,0,0,10001,0,0,0,0,0,0,0,0,0,0,0,null,0,0,0,1,0,0,1,0,0,0,0,0,0,0,0,0,0,0,null,0,0,0,0,0,0,0,0,0,0,0,0,0,0,0,0,0,0,null,0,0,0,1,0,0,1,0,0,0,0,0,0,0,0,0,0,0,null,0,0,0,2,0,0,1,0,0,0,0,0,0,0,0,0,0,0,26,16,26,"101:92","1 : 1"]
[null,"Bayer 04 LeverkusenFC Bayern München","Bayer 04 Leverkusen","-","FC Bayern München",3,":",0,null,3," : ",0,null,3,null,-3,null,0,-300,0,0,0,0,0,0,30303,0,0,0,0,0,0,0,0,0,null,0,0,0,0,0,0,0,0,3,0,0,0,0,0,0,0,0,0,null,0,-3,0,0,0,0,0,0,3,0,0,0,0,0,0,0,0,0,null,0,0,0,0,0,0,0,0,3,0,0,0,0,0,0,0,0,0,null,0,2,0,0,0,0,0,0,1,0,0,0,0,0,0,0,0,0,19,17,52,"103:171","1 : 2"]
[null,"1. FC Union BerlinVfL Wolfsburg","1. FC Union Berlin","-","VfL Wolfsburg",1,":",0,null,3," : ",0,null,1,null,-1,null,0,0,0,0,0,0,0,0,0,0,-100,0,30101,0,0,0,0,0,null,0,0,0,0,0,0,0,0,0,0,0,0,3,0,0,0,0,0,null,0,0,0,0,0,0,0,0,0,0,-1,0,1,0,0,0,0,0,null,0,0,0,0,0,0,0,0,0,0,0,0,1,0,0,0,0,0,null,0,0,0,0,0,0,0,0,0,0,2,0,1,0,0,0,0,0,2,3,3,"9:10","1 : 1"]
[null,"FC AugsburgRB Leipzig","FC Augsburg","-","RB Leipzig",2,":",2,null,1," : ",1,null,0,null,0,null,0,0,0,0,0,0,0,0,0,10002,0,0,0,0,10002,0,0,0,null,0,0,0,0,0,0,0,0,0,1,0,0,0,0,1,0,0,0,null,0,0,0,0,0,0,0,0,0,0,0,0,0,0,0,0,0,0,null,0,0,0,0,0,0,0,0,0,2,0,0,0,0,2,0,0,0,null,0,0,0,0,0,0,0,0,0,2,0,0,0,0,1,0,0,0,1,5,8,"13:26","1 : 2"]
[null,"TSG Hoffenheim1. FC Köln","TSG Hoffenheim","-","1. FC Köln",1,":",1,null,1," : ",1,null,0,null,0,null,0,0,0,0,0,10001,0,0,0,0,0,0,0,0,0,0,10001,0,null,0,0,0,0,0,1,0,0,0,0,0,0,0,0,0,0,1,0,null,0,0,0,0,0,0,0,0,0,0,0,0,0,0,0,0,0,0,null,0,0,0,0,0,1,0,0,0,0,0,0,0,0,0,0,1,0,null,0,0,0,0,0,2,0,0,0,0,0,0,0,0,0,0,1,0,12,7,7,"52:30","2 : 1"]
[null,null,null,null,null,null,null,null,null,null,null,null,null,null,null,null,null,{"$f":"SUM(R266:R274)+R262","v":259630},503759,432249,218423,401743,158015,320631,117322,554155,371846,229225,269430,208520,118116,229231,219536,269838,278926,null,{"$f":"SUM(AK266:AK274)+AK262","v":26},50,43,22,40,16,32,12,55,37,23,27,21,12,23,22,27,28,null,{"$f":"SUM(BD266:BD274)+BD262","v":-4},37,22,-16,17,-20,6,-27,41,18,-8,-6,-15,-19,-8,-5,-2,-11,null,{"$f":"SUM(BW266:BW274)+BW262","v":30},59,49,23,43,15,31,22,55,46,25,30,20,16,31,36,38,26,"x",{"$f":"IF(CP276<=$CO$3,SUMIF(CP266:CP274,1,$J266:$J274)+SUMIF(CP266:CP274,2,$L266:$L274),0)","v":0},0,0,0,0,0,0,0,0,0,0,0,0,0,0,0,0,0]
[null,null,null,null,null,null,null,null,null,null,null,null,null,null,null,null,null,{"$f":"RANK(R275,$R275:$AI275,0)","v":10},2,3,14,4,16,6,18,1,5,12,9,15,17,11,13,8,7,null,null,null,null,null,null,null,null,null,null,null,null,null,null,null,null,null,null,null,null,null,null,null,null,null,null,null,null,null,null,null,null,null,null,null,null,null,null,null,null,null,null,null,null,null,null,null,null,null,null,null,null,null,null,null,null,null,null,{"$f":"IF(SUM(CP266:CP274)>0,IF(CP289=0,1,CP289+1),IF(CP289<>0,CP289,0))","v":14},14,14,14,14,14,14,14,14,14,14,14,14,14,14,14,14,14]
[null,null,"22. Spieltag"]
[{"$f":"IF(SUM(J279:L287)>0,1,\"Z\")","v":1},null,"16.-18.02.2024"]
[null,{"$f":"C279&E279","v":"1. FC KölnSV Werder Bremen"},"1. FC Köln","-","SV Werder Bremen",0,":",1,null,{"$f":"IF(F279>H279,3,IF(F279<H279,0,IF(AND(H279<>\"\",F279=H279),1,0)))","v":0}," : ",{"$f":"IF(F279>H279,0,IF(F279<H279,3,IF(AND(H279<>\"\",F279=H279),1,0)))","v":3},null,{"$f":"F279-H279","v":-1},null,{"$f":"H279-F279","v":1},null,{"$f":"(AK279*10000+BD279*100+BW279)","v":30101},{"$f":"(AL279*10000+BE279*100+BX279)","v":0},{"$f":"(AM279*10000+BF279*100+BY279)","v":0},{"$f":"(AN279*10000+BG279*100+BZ279)","v":0},{"$f":"(AO279*10000+BH279*100+CA279)","v":0},{"$f":"(AP279*10000+BI279*100+CB279)","v":-100},{"$f":"(AQ279*10000+BJ279*100+CC279)","v":0},{"$f":"(AR279*10000+BK279*100+CD279)","v":0},{"$f":"(AS279*10000+BL279*100+CE279)","v":0},{"$f":"(AT279*10000+BM279*100+CF279)","v":0},{"$f":"(AU279*10000+BN279*100+CG279)","v":0},{"$f":"(AV279*10000+BO279*100+CH279)","v":0},{"$f":"(AW279*10000+BP279*100+CI279)","v":0},{"$f":"(AX279*10000+BQ279*100+CJ279)","v":0},{"$f":"(AY279*10000+BR279*100+CK279)","v":0},{"$f":"(AZ279*10000+BS279*100+CL279)","v":0},{"$f":"(BA279*10000+BT279*100+CM279)","v":0},{"$f":"(BB279*10000+BU279*100+CN279)","v":0},null,{"$f":"IF($C279=AK$1,$J279,IF($E279=AK$1,$L279,0))","v":3},0,0,0,0,0,0,0,0,0,{"$f":"IF($C279=AU$1,$J279,IF($E279=AU$1,$L279,0))","v":0},0,0,0,0,0,0,0,null,{"$f":"IF($C279=BD$1,$F279-$H279,IF($E279=BD$1,$H279-$F279,0))","v":1},0,0,0,0,-1,0,0,0,0,{"$f":"IF($C279=BN$1,$F279-$H279,IF($E279=BN$1,$H279-$F279,0))","v":0},0,0,0,0,0,0,0,null,{"$f":"IF($C279=BW$1,$F279,IF($E279=BW$1,$H279,0))","v":1},0,0,0,0,0,0,0,0,0,{"$f":"IF($C279=CG$1,$F279,IF($E279=CG$1,$H279,0))","v":0},0,0,0,0,0,0,0,null,{"$f":"IF($C279=CP$1,IF($F279<>\"\",1,0),IF($E279=CP$1,IF($H279<>\"\",2,0),0))","v":2},0,0,0,0,1,0,0,0,0,{"$f":"IF($C279=CZ$1,IF($F279<>\"\",1,0),IF($E279=CZ$1,IF($H279<>\"\",2,0),0))","v":0},0,0,0,0,0,0,0,36,27,35,"167:158",{"$f":"IFERROR(ROUND(MID(DK279,1,SEARCH(\":\",DK279,1)-1)/SUM(DH279:DJ279),$DL$2)&\" : \"&ROUND(MID(DK279,SEARCH(\":\",DK279,1)+1,99)/SUM(DH279:DJ279),$DL$2),\"\")","v":"2 : 2"}]
[null,"VfL Bochum 1848FC Bayern München","VfL Bochum 1848","-","FC Bayern München",3,":",2,null,3," : ",0,null,{"$f":"F280-H280","v":1},null,{"$f":"H280-F280","v":-1},null,0,-98,0,30103,0,0,0,0,0,0,0,0,0,0,0,0,0,0,null,0,0,0,3,0,0,0,0,0,0,0,0,0,0,0,0,0,0,null,0,-1,0,1,0,0,0,0,0,0,0,0,0,0,0,0,0,0,null,0,2,0,3,0,0,0,0,0,0,0,0,0,0,0,0,0,0,null,0,2,0,1,0,0,0,0,0,0,0,0,0,0,0,0,0,0,9,15,48,"76:182","1 : 3"]
[null,"Sport-Club FreiburgEintracht Frankfurt","Sport-Club Freiburg","-","Eintracht Frankfurt",3,":",3,null,1," : ",1,null,0,null,0,null,0,0,0,0,0,0,10003,0,0,0,0,0,0,0,0,0,0,10003,null,0,0,0,0,0,0,1,0,0,0,0,0,0,0,0,0,0,1,null,0,0,0,0,0,0,0,0,0,0,0,0,0,0,0,0,0,0,null,0,0,0,0,0,0,3,0,0,0,0,0,0,0,0,0,0,3,null,0,0,0,0,0,0,2,0,0,0,0,0,0,0,0,0,0,1,14,10,18,"48:59","1 : 1"]
[null,"VfL WolfsburgBorussia Dortmund","VfL Wolfsburg","-","Borussia Dortmund",1,":",1,null,1," : ",1,null,0,null,0,null,0,0,0,0,10001,0,0,0,0,0,10001,0,0,0,0,0,0,0,null,0,0,0,0,1,0,0,0,0,0,1,0,0,0,0,0,0,0,null,0,0,0,0,0,0,0,0,0,0,0,0,0,0,0,0,0,0,null,0,0,0,0,1,0,0,0,0,0,1,0,0,0,0,0,0,0,null,0,0,0,0,2,0,0,0,0,0,1,0,0,0,0,0,0,0,10,12,32,"58:116","1 : 2"]
[null,"1. FSV Mainz 05FC Augsburg","1. FSV Mainz 05","-","FC Augsburg",1,":",0,null,3," : ",0,null,1,null,-1,null,0,0,0,0,0,0,0,0,0,0,0,0,0,30101,-100,0,0,0,null,0,0,0,0,0,0,0,0,0,0,0,0,0,3,0,0,0,0,null,0,0,0,0,0,0,0,0,0,0,0,0,0,1,-1,0,0,0,null,0,0,0,0,0,0,0,0,0,0,0,0,0,1,0,0,0,0,null,0,0,0,0,0,0,0,0,0,0,0,0,0,1,2,0,0,0,13,6,13,"49:44","2 : 1"]
[null,"SV Darmstadt 98VfB Stuttgart","SV Darmstadt 98","-","VfB Stuttgart",1,":",2,null,0," : ",3,null,-1,null,1,null,0,0,30102,0,0,0,0,-99,0,0,0,0,0,0,0,0,0,0,null,0,0,3,0,0,0,0,0,0,0,0,0,0,0,0,0,0,0,null,0,0,1,0,0,0,0,-1,0,0,0,0,0,0,0,0,0,0,null,0,0,2,0,0,0,0,1,0,0,0,0,0,0,0,0,0,0,null,0,0,2,0,0,0,0,1,0,0,0,0,0,0,0,0,0,0,3,4,5,"18:27","2 : 2"]
[null,"TSG Hoffenheim1. FC Union Berlin","TSG Hoffenheim","-","1. FC Union Berlin",0,":",1,null,0," : ",3,null,-1,null,1,null,0,0,0,0,0,0,0,0,0,0,0,0,30101,0,0,0,-100,0,null,0,0,0,0,0,0,0,0,0,0,0,0,3,0,0,0,0,0,null,0,0,0,0,0,0,0,0,0,0,0,0,1,0,0,0,-1,0,null,0,0,0,0,0,0,0,0,0,0,0,0,1,0,0,0,0,0,null,0,0,0,0,0,0,0,0,0,0,0,0,2,0,0,0,1,0,3,2,3,"16:13","2 : 2"]
[null,"1. FC Heidenheim 1846Bayer 04 Leverkusen","1. FC Heidenheim 1846","-","Bayer 04 Leverkusen",1,":",2,null,0," : ",3,null,-1,null,1,null,0,0,0,0,0,0,0,0,30102,0,0,-99,0,0,0,0,0,0,null,0,0,0,0,0,0,0,0,3,0,0,0,0,0,0,0,0,0,null,0,0,0,0,0,0,0,0,1,0,0,-1,0,0,0,0,0,0,null,0,0,0,0,0,0,0,0,2,0,0,1,0,0,0,0,0,0,null,0,0,0,0,0,0,0,0,2,0,0,1,0,0,0,0,0,0,"-","-","-","-",""]
[null,"RB LeipzigBorussia Mönchengladbach","RB Leipzig","-","Borussia Mönchengladbach",2,":",0,null,3," : ",0,null,2,null,-2,null,0,0,0,0,0,0,0,0,0,30202,0,0,0,0,0,-200,0,0,null,0,0,0,0,0,0,0,0,0,3,0,0,0,0,0,0,0,0,null,0,0,0,0,0,0,0,0,0,2,0,0,0,0,0,-2,0,0,null,0,0,0,0,0,0,0,0,0,2,0,0,0,0,0,0,0,0,null,0,0,0,0,0,0,0,0,0,1,0,0,0,0,0,2,0,0,8,3,3,"26:18","2 : 1"]
[null,null,null,null,null,null,null,null,null,null,null,null,null,null,null,null,null,{"$f":"SUM(R279:R287)+R275","v":289731},503661,462351,248526,411744,157915,330634,117223,584257,402048,239226,269331,238621,148217,229131,219336,269738,288929,null,{"$f":"SUM(AK279:AK287)+AK275","v":29},50,46,25,41,16,33,12,58,40,24,27,24,15,23,22,27,29,null,{"$f":"SUM(BD279:BD287)+BD275","v":-3},36,23,-15,17,-21,6,-28,42,20,-8,-7,-14,-18,-9,-7,-3,-11,null,{"$f":"SUM(BW279:BW287)+BW275","v":31},61,51,26,44,15,34,23,57,48,26,31,21,17,31,36,38,29,"x",{"$f":"IF(CP289<=$CO$3,SUMIF(CP279:CP287,1,$J279:$J287)+SUMIF(CP279:CP287,2,$L279:$L287),0)","v":0},0,0,0,0,0,0,0,0,0,0,0,0,0,0,0,0,0]
[null,null,null,null,null,null,null,null,null,null,null,null,null,null,null,null,null,{"$f":"RANK(R288,$R288:$AI288,0)","v":7},2,3,11,4,16,6,18,1,5,12,10,13,17,14,15,9,8,null,null,null,null,null,null,null,null,null,null,null,null,null,null,null,null,null,null,null,null,null,null,null,null,null,null,null,null,null,null,null,null,null,null,null,null,null,null,null,null,null,null,null,null,null,null,null,null,null,null,null,null,null,null,null,null,null,null,{"$f":"IF(SUM(CP279:CP287)>0,IF(CP302=0,1,CP302+1),IF(CP302<>0,CP302,0))","v":13},13,13,13,13,13,13,13,13,13,13,13,13,13,13,13,13,13]
[null,null,"23. Spieltag"]
[{"$f":"IF(SUM(J292:L300)>0,1,\"Z\")","v":1},null,"23.-25.02.2024"]
[null,{"$f":"C292&E292","v":"SV Werder BremenSV Darmstadt 98"},"SV Werder Bremen","-","SV Darmstadt 98",1,":",1,null,{"$f":"IF(F292>H292,3,IF(F292<H292,0,IF(AND(H292<>\"\",F292=H292),1,0)))","v":1}," : ",{"$f":"IF(F292>H292,0,IF(F292<H292,3,IF(AND(H292<>\"\",F292=H292),1,0)))","v":1},null,{"$f":"F292-H292","v":0},null,{"$f":"H292-F292","v":0},null,{"$f":"(AK292*10000+BD292*100+BW292)","v":10001},{"$f":"(AL292*10000+BE292*100+BX292)","v":0},{"$f":"(AM292*10000+BF292*100+BY292)","v":0},{"$f":"(AN292*10000+BG292*100+BZ292)","v":0},{"$f":"(AO292*10000+BH292*100+CA292)","v":0},{"$f":"(AP292*10000+BI292*100+CB292)","v":0},{"$f":"(AQ292*10000+BJ292*100+CC292)","v":0},{"$f":"(AR292*10000+BK292*100+CD292)","v":10001},{"$f":"(AS292*10000+BL292*100+CE292)","v":0},{"$f":"(AT292*10000+BM292*100+CF292)","v":0},{"$f":"(AU292*10000+BN292*100+CG292)","v":0},{"$f":"(AV292*10000+BO292*100+CH292)","v":0},{"$f":"(AW292*10000+BP292*100+CI292)","v":0},{"$f":"(AX292*10000+BQ292*100+CJ292)","v":0},{"$f":"(AY292*10000+BR292*100+CK292)","v":0},{"$f":"(AZ292*10000+BS292*100+CL292)","v":0},{"$f":"(BA292*10000+BT292*100+CM292)","v":0},{"$f":"(BB292*10000+BU292*100+CN292)","v":0},null,{"$f":"IF($C292=AK$1,$J292,IF($E292=AK$1,$L292,0))","v":1},0,0,0,0,0,0,1,0,0,{"$f":"IF($C292=AU$1,$J292,IF($E292=AU$1,$L292,0))","v":0},0,0,0,0,0,0,0,null,{"$f":"IF($C292=BD$1,$F292-$H292,IF($E292=BD$1,$H292-$F292,0))","v":0},0,0,0,0,0,0,0,0,0,{"$f":"IF($C292=BN$1,$F292-$H292,IF($E292=BN$1,$H292-$F292,0))","v":0},0,0,0,0,0,0,0,null,{"$f":"IF($C292=BW$1,$F292,IF($E292=BW$1,$H292,0))","v":1},0,0,0,0,0,0,1,0,0,{"$f":"IF($C292=CG$1,$F292,IF($E292=CG$1,$H292,0))","v":0},0,0,0,0,0,0,0,null,{"$f":"IF($C292=CP$1,IF($F292<>\"\",1,0),IF($E292=CP$1,IF($H292<>\"\",2,0),0))","v":1},0,0,0,0,0,0,2,0,0,{"$f":"IF($C292=CZ$1,IF($F292<>\"\",1,0),IF($E292=CZ$1,IF($H292<>\"\",2,0),0))","v":0},0,0,0,0,0,0,0,3,4,3,"16:17",{"$f":"IFERROR(ROUND(MID(DK292,1,SEARCH(\":\",DK292,1)-1)/SUM(DH292:DJ292),$DL$2)&\" : \"&ROUND(MID(DK292,SEARCH(\":\",DK292,1)+1,99)/SUM(DH292:DJ292),$DL$2),\"\")","v":"2 : 2"}]
[null,"FC Bayern MünchenRB Leipzig","FC Bayern München","-","RB Leipzig",2,":",1,null,3," : ",0,null,1,null,-1,null,0,30102,0,0,0,0,0,0,0,-99,0,0,0,0,0,0,0,0,null,0,3,0,0,0,0,0,0,0,0,0,0,0,0,0,0,0,0,null,0,1,0,0,0,0,0,0,0,-1,0,0,0,0,0,0,0,0,null,0,2,0,0,0,0,0,0,0,1,0,0,0,0,0,0,0,0,null,0,1,0,0,0,0,0,0,0,2,0,0,0,0,0,0,0,0,7,5,2,"26:17","2 : 1"]
[null,"VfB Stuttgart1. FC Köln","VfB Stuttgart","-","1. FC Köln",1,":",1,null,1," : ",1,null,0,null,0,null,0,0,10001,0,0,10001,0,0,0,0,0,0,0,0,0,0,0,0,null,0,0,1,0,0,1,0,0,0,0,0,0,0,0,0,0,0,0,null,0,0,0,0,0,0,0,0,0,0,0,0,0,0,0,0,0,0,null,0,0,1,0,0,1,0,0,0,0,0,0,0,0,0,0,0,0,null,0,0,1,0,0,2,0,0,0,0,0,0,0,0,0,0,0,0,32,26,36,"154:147","2 : 2"]
[null,"Borussia MönchengladbachVfL Bochum 1848","Borussia Mönchengladbach","-","VfL Bochum 1848",5,":",2,null,3," : ",0,null,3,null,-3,null,0,0,0,-298,0,0,0,0,0,0,0,0,0,0,0,30305,0,0,null,0,0,0,0,0,0,0,0,0,0,0,0,0,0,0,3,0,0,null,0,0,0,-3,0,0,0,0,0,0,0,0,0,0,0,3,0,0,null,0,0,0,2,0,0,0,0,0,0,0,0,0,0,0,5,0,0,null,0,0,0,2,0,0,0,0,0,0,0,0,0,0,0,1,0,0,27,22,21,"119:93","2 : 1"]
[null,"Borussia DortmundTSG Hoffenheim","Borussia Dortmund","-","TSG Hoffenheim",2,":",3,null,0," : ",3,null,-1,null,1,null,0,0,0,0,-98,0,0,0,0,0,0,0,0,0,0,0,30103,0,null,0,0,0,0,0,0,0,0,0,0,0,0,0,0,0,0,3,0,null,0,0,0,0,-1,0,0,0,0,0,0,0,0,0,0,0,1,0,null,0,0,0,0,2,0,0,0,0,0,0,0,0,0,0,0,3,0,null,0,0,0,0,1,0,0,0,0,0,0,0,0,0,0,0,2,0,13,10,7,"46:43","2 : 1"]
[null,"Eintracht FrankfurtVfL Wolfsburg","Eintracht Frankfurt","-","VfL Wolfsburg",2,":",2,null,1," : ",1,null,0,null,0,null,0,0,0,0,0,0,10002,0,0,0,10002,0,0,0,0,0,0,0,null,0,0,0,0,0,0,1,0,0,0,1,0,0,0,0,0,0,0,null,0,0,0,0,0,0,0,0,0,0,0,0,0,0,0,0,0,0,null,0,0,0,0,0,0,2,0,0,0,2,0,0,0,0,0,0,0,null,0,0,0,0,0,0,1,0,0,0,2,0,0,0,0,0,0,0,8,14,22,"54:72","1 : 2"]
[null,"Bayer 04 Leverkusen1. FSV Mainz 05","Bayer 04 Leverkusen","-","1. FSV Mainz 05",2,":",1,null,3," : ",0,null,1,null,-1,null,0,0,0,0,0,0,0,0,30102,0,0,0,0,-99,0,0,0,0,null,0,0,0,0,0,0,0,0,3,0,0,0,0,0,0,0,0,0,null,0,0,0,0,0,0,0,0,1,0,0,0,0,-1,0,0,0,0,null,0,0,0,0,0,0,0,0,2,0,0,0,0,1,0,0,0,0,null,0,0,0,0,0,0,0,0,1,0,0,0,0,2,0,0,0,0,17,5,12,"54:44","2 : 1"]
[null,"1. FC Union Berlin1. FC Heidenheim 1846","1. FC Union Berlin","-","1. FC Heidenheim 1846",2,":",2,null,1," : ",1,null,0,null,0,null,0,0,0,0,0,0,0,0,0,0,0,10002,10002,0,0,0,0,0,null,0,0,0,0,0,0,0,0,0,0,0,1,1,0,0,0,0,0,null,0,0,0,0,0,0,0,0,0,0,0,0,0,0,0,0,0,0,null,0,0,0,0,0,0,0,0,0,0,0,2,2,0,0,0,0,0,null,0,0,0,0,0,0,0,0,0,0,0,2,1,0,0,0,0,0,3,2,5,"13:16","1 : 2"]
[null,"FC AugsburgSport-Club Freiburg","FC Augsburg","-","Sport-Club Freiburg",2,":",1,null,3," : ",0,null,1,null,-1,null,0,0,0,0,0,0,0,0,0,0,0,0,0,0,30102,0,0,-99,null,0,0,0,0,0,0,0,0,0,0,0,0,0,0,3,0,0,0,null,0,0,0,0,0,0,0,0,0,0,0,0,0,0,1,0,0,-1,null,0,0,0,0,0,0,0,0,0,0,0,0,0,0,2,0,0,1,null,0,0,0,0,0,0,0,0,0,0,0,0,0,0,1,0,0,2,5,10,19,"33:60","1 : 2"]
[null,null,null,null,null,null,null,null,null,null,null,null,null,null,null,null,null,{"$f":"SUM(R292:R300)+R288","v":299732},533763,472352,248228,411646,167916,340636,127224,614359,401949,249228,279333,248623,148118,259233,249641,299841,288830,null,{"$f":"SUM(AK292:AK300)+AK288","v":30},53,47,25,41,17,34,13,61,40,25,28,25,15,26,25,30,29,null,{"$f":"SUM(BD292:BD300)+BD288","v":-3},37,23,-18,16,-21,6,-28,43,19,-8,-7,-14,-19,-8,-4,-2,-12,null,{"$f":"SUM(BW292:BW300)+BW288","v":32},63,52,28,46,16,36,24,59,49,28,33,23,18,33,41,41,30,"x",{"$f":"IF(CP302<=$CO$3,SUMIF(CP292:CP300,1,$J292:$J300)+SUMIF(CP292:CP300,2,$L292:$L300),0)","v":0},0,0,0,0,0,0,0,0,0,0,0,0,0,0,0,0,0]
[null,null,null,null,null,null,null,null,null,null,null,null,null,null,null,null,null,{"$f":"RANK(R301,$R301:$AI301,0)","v":8},2,3,15,4,16,6,18,1,5,13,10,14,17,11,12,7,9,null,null,null,null,null,null,null,null,null,null,null,null,null,null,null,null,null,null,null,null,null,null,null,null,null,null,null,null,null,null,null,null,null,null,null,null,null,null,null,null,null,null,null,null,null,null,null,null,null,null,null,null,null,null,null,null,null,null,{"$f":"IF(SUM(CP292:CP300)>0,IF(CP315=0,1,CP315+1),IF(CP315<>0,CP315,0))","v":12},12,12,12,12,12,12,12,12,12,12,12,12,12,12,12,12,12]
[null,null,"24. Spieltag"]
[{"$f":"IF(SUM(J305:L313)>0,1,\"Z\")","v":1},null,"01.-03.03.2024"]
[null,{"$f":"C305&E305","v":"1. FC KölnBayer 04 Leverkusen"},"1. FC Köln","-","Bayer 04 Leverkusen",0,":",2,null,{"$f":"IF(F305>H305,3,IF(F305<H305,0,IF(AND(H305<>\"\",F305=H305),1,0)))","v":0}," : ",{"$f":"IF(F305>H305,0,IF(F305<H305,3,IF(AND(H305<>\"\",F305=H305),1,0)))","v":3},null,{"$f":"F305-H305","v":-2},null,{"$f":"H305-F305","v":2},null,{"$f":"(AK305*10000+BD305*100+BW305)","v":0},{"$f":"(AL305*10000+BE305*100+BX305)","v":0},{"$f":"(AM305*10000+BF305*100+BY305)","v":0},{"$f":"(AN305*10000+BG305*100+BZ305)","v":0},{"$f":"(AO305*10000+BH305*100+CA305)","v":0},{"$f":"(AP305*10000+BI305*100+CB305)","v":-200},{"$f":"(AQ305*10000+BJ305*100+CC305)","v":0},{"$f":"(AR305*10000+BK305*100+CD305)","v":0},{"$f":"(AS305*10000+BL305*100+CE305)","v":30202},{"$f":"(AT305*10000+BM305*100+CF305)","v":0},{"$f":"(AU305*10000+BN305*100+CG305)","v":0},{"$f":"(AV305*10000+BO305*100+CH305)","v":0},{"$f":"(AW305*10000+BP305*100+CI305)","v":0},{"$f":"(AX305*10000+BQ305*100+CJ305)","v":0},{"$f":"(AY305*10000+BR305*100+CK305)","v":0},{"$f":"(AZ305*10000+BS305*100+CL305)","v":0},{"$f":"(BA305*10000+BT305*100+CM305)","v":0},{"$f":"(BB305*10000+BU305*100+CN305)","v":0},null,{"$f":"IF($C305=AK$1,$J305,IF($E305=AK$1,$L305,0))","v":0},0,0,0,0,0,0,0,3,0,{"$f":"IF($C305=AU$1,$J305,IF($E305=AU$1,$L305,0))","v":0},0,0,0,0,0,0,0,null,{"$f":"IF($C305=BD$1,$F305-$H305,IF($E305=BD$1,$H305-$F305,0))","v":0},0,0,0,0,-2,0,0,2,0,{"$f":"IF($C305=BN$1,$F305-$H305,IF($E305=BN$1,$H305-$F305,0))","v":0},0,0,0,0,0,0,0,null,{"$f":"IF($C305=BW$1,$F305,IF($E305=BW$1,$H305,0))","v":0},0,0,0,0,0,0,0,2,0,{"$f":"IF($C305=CG$1,$F305,IF($E305=CG$1,$H305,0))","v":0},0,0,0,0,0,0,0,null,{"$f":"IF($C305=CP$1,IF($F305<>\"\",1,0),IF($E305=CP$1,IF($H305<>\"\",2,0),0))","v":0},0,0,0,0,1,0,0,2,0,{"$f":"IF($C305=CZ$1,IF($F305<>\"\",1,0),IF($E305=CZ$1,IF($H305<>\"\",2,0),0))","v":0},0,0,0,0,0,0,0,18,25,27,"92:110",{"$f":"IFERROR(ROUND(MID(DK305,1,SEARCH(\":\",DK305,1)-1)/SUM(DH305:DJ305),$DL$2)&\" : \"&ROUND(MID(DK305,SEARCH(\":\",DK305,1)+1,99)/SUM(DH305:DJ305),$DL$2),\"\")","v":"1 : 2"}]
[null,"VfL Bochum 1848RB Leipzig","VfL Bochum 1848","-","RB Leipzig",1,":",4,null,0," : ",3,null,{"$f":"F306-H306","v":-3},null,{"$f":"H306-F306","v":3},null,0,0,0,-299,0,0,0,0,0,30304,0,0,0,0,0,0,0,0,null,0,0,0,0,0,0,0,0,0,3,0,0,0,0,0,0,0,0,null,0,0,0,-3,0,0,0,0,0,3,0,0,0,0,0,0,0,0,null,0,0,0,1,0,0,0,0,0,4,0,0,0,0,0,0,0,0,null,0,0,0,1,0,0,0,0,0,2,0,0,0,0,0,0,0,0,1,0,7,"3:16","0 : 2"]
[null,"Sport-Club FreiburgFC Bayern München","Sport-Club Freiburg","-","FC Bayern München",2,":",2,null,1," : ",1,null,0,null,0,null,0,10002,0,0,0,0,0,0,0,0,0,0,0,0,0,0,0,10002,null,0,1,0,0,0,0,0,0,0,0,0,0,0,0,0,0,0,1,null,0,0,0,0,0,0,0,0,0,0,0,0,0,0,0,0,0,0,null,0,2,0,0,0,0,0,0,0,0,0,0,0,0,0,0,0,2,null,0,2,0,0,0,0,0,0,0,0,0,0,0,0,0,0,0,1,4,9,33,"37:106","1 : 2"]
[null,"VfL WolfsburgVfB Stuttgart","VfL Wolfsburg","-","VfB Stuttgart",2,":",3,null,0," : ",3,null,-1,null,1,null,0,0,30103,0,0,0,0,0,0,0,-98,0,0,0,0,0,0,0,null,0,0,3,0,0,0,0,0,0,0,0,0,0,0,0,0,0,0,null,0,0,1,0,0,0,0,0,0,0,-1,0,0,0,0,0,0,0,null,0,0,3,0,0,0,0,0,0,0,2,0,0,0,0,0,0,0,null,0,0,2,0,0,0,0,0,0,0,1,0,0,0,0,0,0,0,22,7,19,"73:64","2 : 1"]
[null,"1. FSV Mainz 05Borussia Mönchengladbach","1. FSV Mainz 05","-","Borussia Mönchengladbach",1,":",1,null,1," : ",1,null,0,null,0,null,0,0,0,0,0,0,0,0,0,0,0,0,0,10001,0,10001,0,0,null,0,0,0,0,0,0,0,0,0,0,0,0,0,1,0,1,0,0,null,0,0,0,0,0,0,0,0,0,0,0,0,0,0,0,0,0,0,null,0,0,0,0,0,0,0,0,0,0,0,0,0,1,0,1,0,0,null,0,0,0,0,0,0,0,0,0,0,0,0,0,1,0,2,0,0,12,12,16,"45:55","1 : 1"]
[null,"SV Darmstadt 98FC Augsburg","SV Darmstadt 98","-","FC Augsburg",0,":",6,null,0," : ",3,null,-6,null,6,null,0,0,0,0,0,0,0,-600,0,0,0,0,0,0,30606,0,0,0,null,0,0,0,0,0,0,0,0,0,0,0,0,0,0,3,0,0,0,null,0,0,0,0,0,0,0,-6,0,0,0,0,0,0,6,0,0,0,null,0,0,0,0,0,0,0,0,0,0,0,0,0,0,6,0,0,0,null,0,0,0,0,0,0,0,1,0,0,0,0,0,0,2,0,0,0,8,3,5,"26:20","2 : 1"]
[null,"1. FC Union BerlinBorussia Dortmund","1. FC Union Berlin","-","Borussia Dortmund",0,":",2,null,0," : ",3,null,-2,null,2,null,0,0,0,0,30202,0,0,0,0,0,0,0,-200,0,0,0,0,0,null,0,0,0,0,3,0,0,0,0,0,0,0,0,0,0,0,0,0,null,0,0,0,0,2,0,0,0,0,0,0,0,-2,0,0,0,0,0,null,0,0,0,0,2,0,0,0,0,0,0,0,0,0,0,0,0,0,null,0,0,0,0,2,0,0,0,0,0,0,0,1,0,0,0,0,0,3,0,5,"10:18","1 : 2"]
[null,"TSG HoffenheimSV Werder Bremen","TSG Hoffenheim","-","SV Werder Bremen",2,":",1,null,3," : ",0,null,1,null,-1,null,-99,0,0,0,0,0,0,0,0,0,0,0,0,0,0,0,30102,0,null,0,0,0,0,0,0,0,0,0,0,0,0,0,0,0,0,3,0,null,-1,0,0,0,0,0,0,0,0,0,0,0,0,0,0,0,1,0,null,1,0,0,0,0,0,0,0,0,0,0,0,0,0,0,0,2,0,null,2,0,0,0,0,0,0,0,0,0,0,0,0,0,0,0,1,0,7,10,11,"46:47","2 : 2"]
[null,"1. FC Heidenheim 1846Eintracht Frankfurt","1. FC Heidenheim 1846","-","Eintracht Frankfurt",1,":",2,null,0," : ",3,null,-1,null,1,null,0,0,0,0,0,0,30102,0,0,0,0,-99,0,0,0,0,0,0,null,0,0,0,0,0,0,3,0,0,0,0,0,0,0,0,0,0,0,null,0,0,0,0,0,0,1,0,0,0,0,-1,0,0,0,0,0,0,null,0,0,0,0,0,0,2,0,0,0,0,1,0,0,0,0,0,0,null,0,0,0,0,0,0,2,0,0,0,0,1,0,0,0,0,0,0,"-","-","-","-",""]
[null,null,null,null,null,null,null,null,null,null,null,null,null,null,null,null,null,{"$f":"SUM(R305:R313)+R301","v":299633},543765,502455,247929,441848,167716,370738,126624,644561,432253,249130,279234,248423,158119,289839,259642,329943,298832,null,{"$f":"SUM(AK305:AK313)+AK301","v":30},54,50,25,44,17,37,13,64,43,25,28,25,16,29,26,33,30,null,{"$f":"SUM(BD305:BD313)+BD301","v":-4},37,24,-21,18,-23,7,-34,45,22,-9,-8,-16,-19,-2,-4,-1,-12,null,{"$f":"SUM(BW305:BW313)+BW301","v":33},65,55,29,48,16,38,24,61,53,30,34,23,19,39,42,43,32,"x",{"$f":"IF(CP315<=$CO$3,SUMIF(CP305:CP313,1,$J305:$J313)+SUMIF(CP305:CP313,2,$L305:$L313),0)","v":0},0,0,0,0,0,0,0,0,0,0,0,0,0,0,0,0,0]
[null,null,null,null,null,null,null,null,null,null,null,null,null,null,null,null,null,{"$f":"RANK(R314,$R314:$AI314,0)","v":8},2,3,15,4,16,6,18,1,5,13,11,14,17,10,12,7,9,null,null,null,null,null,null,null,null,null,null,null,null,null,null,null,null,null,null,null,null,null,null,null,null,null,null,null,null,null,null,null,null,null,null,null,null,null,null,null,null,null,null,null,null,null,null,null,null,null,null,null,null,null,null,null,null,null,null,{"$f":"IF(SUM(CP305:CP313)>0,IF(CP328=0,1,CP328+1),IF(CP328<>0,CP328,0))","v":11},11,11,11,11,11,11,11,11,11,11,11,11,11,11,11,11,11]
[null,null,"25. Spieltag"]
[{"$f":"IF(SUM(J318:L326)>0,1,\"Z\")","v":1},null,"08.-10.03.2024"]
[null,{"$f":"C318&E318","v":"SV Werder BremenBorussia Dortmund"},"SV Werder Bremen","-","Borussia Dortmund",1,":",2,null,{"$f":"IF(F318>H318,3,IF(F318<H318,0,IF(AND(H318<>\"\",F318=H318),1,0)))","v":0}," : ",{"$f":"IF(F318>H318,0,IF(F318<H318,3,IF(AND(H318<>\"\",F318=H318),1,0)))","v":3},null,{"$f":"F318-H318","v":-1},null,{"$f":"H318-F318","v":1},null,{"$f":"(AK318*10000+BD318*100+BW318)","v":-99},{"$f":"(AL318*10000+BE318*100+BX318)","v":0},{"$f":"(AM318*10000+BF318*100+BY318)","v":0},{"$f":"(AN318*10000+BG318*100+BZ318)","v":0},{"$f":"(AO318*10000+BH318*100+CA318)","v":30102},{"$f":"(AP318*10000+BI318*100+CB318)","v":0},{"$f":"(AQ318*10000+BJ318*100+CC318)","v":0},{"$f":"(AR318*10000+BK318*100+CD318)","v":0},{"$f":"(AS318*10000+BL318*100+CE318)","v":0},{"$f":"(AT318*10000+BM318*100+CF318)","v":0},{"$f":"(AU318*10000+BN318*100+CG318)","v":0},{"$f":"(AV318*10000+BO318*100+CH318)","v":0},{"$f":"(AW318*10000+BP318*100+CI318)","v":0},{"$f":"(AX318*10000+BQ318*100+CJ318)","v":0},{"$f":"(AY318*10000+BR318*100+CK318)","v":0},{"$f":"(AZ318*10000+BS318*100+CL318)","v":0},{"$f":"(BA318*10000+BT318*100+CM318)","v":0},{"$f":"(BB318*10000+BU318*100+CN318)","v":0},null,{"$f":"IF($C318=AK$1,$J318,IF($E318=AK$1,$L318,0))","v":0},0,0,0,3,0,0,0,0,0,{"$f":"IF($C318=AU$1,$J318,IF($E318=AU$1,$L318,0))","v":0},0,0,0,0,0,0,0,null,{"$f":"IF($C318=BD$1,$F318-$H318,IF($E318=BD$1,$H318-$F318,0))","v":-1},0,0,0,1,0,0,0,0,0,{"$f":"IF($C318=BN$1,$F318-$H318,IF($E318=BN$1,$H318-$F318,0))","v":0},0,0,0,0,0,0,0,null,{"$f":"IF($C318=BW$1,$F318,IF($E318=BW$1,$H318,0))","v":1},0,0,0,2,0,0,0,0,0,{"$f":"IF($C318=CG$1,$F318,IF($E318=CG$1,$H318,0))","v":0},0,0,0,0,0,0,0,null,{"$f":"IF($C318=CP$1,IF($F318<>\"\",1,0),IF($E318=CP$1,IF($H318<>\"\",2,0),0))","v":1},0,0,0,2,0,0,0,0,0,{"$f":"IF($C318=CZ$1,IF($F318<>\"\",1,0),IF($E318=CZ$1,IF($H318<>\"\",2,0),0))","v":0},0,0,0,0,0,0,0,42,19,47,"175:177",{"$f":"IFERROR(ROUND(MID(DK318,1,SEARCH(\":\",DK318,1)-1)/SUM(DH318:DJ318),$DL$2)&\" : \"&ROUND(MID(DK318,SEARCH(\":\",DK318,1)+1,99)/SUM(DH318:DJ318),$DL$2),\"\")","v":"2 : 2"}]
[null,"FC Bayern München1. FSV Mainz 05","FC Bayern München","-","1. FSV Mainz 05",8,":",1,null,3," : ",0,null,{"$f":"F319-H319","v":7},null,{"$f":"H319-F319","v":-7},null,0,30708,0,0,0,0,0,0,0,0,0,0,0,-699,0,0,0,0,null,0,3,0,0,0,0,0,0,0,0,0,0,0,0,0,0,0,0,null,0,7,0,0,0,0,0,0,0,0,0,0,0,-7,0,0,0,0,null,0,8,0,0,0,0,0,0,0,0,0,0,0,1,0,0,0,0,null,0,1,0,0,0,0,0,0,0,0,0,0,0,2,0,0,0,0,24,3,7,"95:41","3 : 1"]
[null,"VfB Stuttgart1. FC Union Berlin","VfB Stuttgart","-","1. FC Union Berlin",2,":",0,null,3," : ",0,null,2,null,-2,null,0,0,30202,0,0,0,0,0,0,0,0,0,-200,0,0,0,0,0,null,0,0,3,0,0,0,0,0,0,0,0,0,0,0,0,0,0,0,null,0,0,2,0,0,0,0,0,0,0,0,0,-2,0,0,0,0,0,null,0,0,2,0,0,0,0,0,0,0,0,0,0,0,0,0,0,0,null,0,0,1,0,0,0,0,0,0,0,0,0,2,0,0,0,0,0,1,4,3,"9:12","1 : 2"]
[null,"Borussia Mönchengladbach1. FC Köln","Borussia Mönchengladbach","-","1. FC Köln",3,":",3,null,1," : ",1,null,0,null,0,null,0,0,0,0,0,10003,0,0,0,0,0,0,0,0,0,10003,0,0,null,0,0,0,0,0,1,0,0,0,0,0,0,0,0,0,1,0,0,null,0,0,0,0,0,0,0,0,0,0,0,0,0,0,0,0,0,0,null,0,0,0,0,0,3,0,0,0,0,0,0,0,0,0,3,0,0,null,0,0,0,0,0,2,0,0,0,0,0,0,0,0,0,1,0,0,53,20,27,"195:133","2 : 1"]
[null,"Eintracht FrankfurtTSG Hoffenheim","Eintracht Frankfurt","-","TSG Hoffenheim",3,":",1,null,3," : ",0,null,2,null,-2,null,0,0,0,0,0,0,30203,0,0,0,0,0,0,0,0,0,-199,0,null,0,0,0,0,0,0,3,0,0,0,0,0,0,0,0,0,0,0,null,0,0,0,0,0,0,2,0,0,0,0,0,0,0,0,0,-2,0,null,0,0,0,0,0,0,3,0,0,0,0,0,0,0,0,0,1,0,null,0,0,0,0,0,0,1,0,0,0,0,0,0,0,0,0,2,0,10,8,10,"40:39","1 : 1"]
[null,"VfL Bochum 1848Sport-Club Freiburg","VfL Bochum 1848","-","Sport-Club Freiburg",1,":",2,null,0," : ",3,null,-1,null,1,null,0,0,0,-99,0,0,0,0,0,0,0,0,0,0,0,0,0,30102,null,0,0,0,0,0,0,0,0,0,0,0,0,0,0,0,0,0,3,null,0,0,0,-1,0,0,0,0,0,0,0,0,0,0,0,0,0,1,null,0,0,0,1,0,0,0,0,0,0,0,0,0,0,0,0,0,2,null,0,0,0,1,0,0,0,0,0,0,0,0,0,0,0,0,0,2,9,4,9,"32:34","1 : 2"]
[null,"Bayer 04 LeverkusenVfL Wolfsburg","Bayer 04 Leverkusen","-","VfL Wolfsburg",2,":",0,null,3," : ",0,null,2,null,-2,null,0,0,0,0,0,0,0,0,30202,0,-200,0,0,0,0,0,0,0,null,0,0,0,0,0,0,0,0,3,0,0,0,0,0,0,0,0,0,null,0,0,0,0,0,0,0,0,2,0,-2,0,0,0,0,0,0,0,null,0,0,0,0,0,0,0,0,2,0,0,0,0,0,0,0,0,0,null,0,0,0,0,0,0,0,0,1,0,2,0,0,0,0,0,0,0,24,10,20,"93:81","2 : 2"]
[null,"FC Augsburg1. FC Heidenheim 1846","FC Augsburg","-","1. FC Heidenheim 1846",1,":",0,null,3," : ",0,null,1,null,-1,null,0,0,0,0,0,0,0,0,0,0,0,-100,0,0,30101,0,0,0,null,0,0,0,0,0,0,0,0,0,0,0,0,0,0,3,0,0,0,null,0,0,0,0,0,0,0,0,0,0,0,-1,0,0,1,0,0,0,null,0,0,0,0,0,0,0,0,0,0,0,0,0,0,1,0,0,0,null,0,0,0,0,0,0,0,0,0,0,0,2,0,0,1,0,0,0,"-","-","-","-",""]
[null,"RB LeipzigSV Darmstadt 98","RB Leipzig","-","SV Darmstadt 98",2,":",0,null,3," : ",0,null,2,null,-2,null,0,0,0,0,0,0,0,-200,0,30202,0,0,0,0,0,0,0,0,null,0,0,0,0,0,0,0,0,0,3,0,0,0,0,0,0,0,0,null,0,0,0,0,0,0,0,-2,0,2,0,0,0,0,0,0,0,0,null,0,0,0,0,0,0,0,0,0,2,0,0,0,0,0,0,0,0,null,0,0,0,0,0,0,0,2,0,1,0,0,0,0,0,0,0,0,3,0,1,"8:2","2 : 1"]
[null,null,null,null,null,null,null,null,null,null,null,null,null,null,null,null,null,{"$f":"SUM(R318:R326)+R314","v":299534},574473,532657,247830,471950,177719,400941,126424,674763,462455,248930,279134,248223,157420,319940,269645,329744,328934,null,{"$f":"SUM(AK318:AK326)+AK314","v":30},57,53,25,47,18,40,13,67,46,25,28,25,16,32,27,33,33,null,{"$f":"SUM(BD318:BD326)+BD314","v":-5},44,26,-22,19,-23,9,-36,47,24,-11,-9,-18,-26,-1,-4,-3,-11,null,{"$f":"SUM(BW318:BW326)+BW314","v":34},73,57,30,50,19,41,24,63,55,30,34,23,20,40,45,44,34,"x",{"$f":"IF(CP328<=$CO$3,SUMIF(CP318:CP326,1,$J318:$J326)+SUMIF(CP318:CP326,2,$L318:$L326),0)","v":0},0,0,0,0,0,0,0,0,0,0,0,0,0,0,0,0,0]
[null,null,null,null,null,null,null,null,null,null,null,null,null,null,null,null,null,{"$f":"RANK(R327,$R327:$AI327,0)","v":10},2,3,15,4,16,6,18,1,5,13,11,14,17,9,12,7,8,null,null,null,null,null,null,null,null,null,null,null,null,null,null,null,null,null,null,null,null,null,null,null,null,null,null,null,null,null,null,null,null,null,null,null,null,null,null,null,null,null,null,null,null,null,null,null,null,null,null,null,null,null,null,null,null,null,null,{"$f":"IF(SUM(CP318:CP326)>0,IF(CP341=0,1,CP341+1),IF(CP341<>0,CP341,0))","v":10},10,10,10,10,10,10,10,10,10,10,10,10,10,10,10,10,10]
[null,null,"26. Spieltag"]
[{"$f":"IF(SUM(J331:L339)>0,1,\"Z\")","v":1},null,"15.-17.03.2024"]
[null,{"$f":"C331&E331","v":"1. FC KölnRB Leipzig"},"1. FC Köln","-","RB Leipzig",1,":",5,null,{"$f":"IF(F331>H331,3,IF(F331<H331,0,IF(AND(H331<>\"\",F331=H331),1,0)))","v":0}," : ",{"$f":"IF(F331>H331,0,IF(F331<H331,3,IF(AND(H331<>\"\",F331=H331),1,0)))","v":3},null,{"$f":"F331-H331","v":-4},null,{"$f":"H331-F331","v":4},null,{"$f":"(AK331*10000+BD331*100+BW331)","v":0},{"$f":"(AL331*10000+BE331*100+BX331)","v":0},{"$f":"(AM331*10000+BF331*100+BY331)","v":0},{"$f":"(AN331*10000+BG331*100+BZ331)","v":0},{"$f":"(AO331*10000+BH331*100+CA331)","v":0},{"$f":"(AP331*10000+BI331*100+CB331)","v":-399},{"$f":"(AQ331*10000+BJ331*100+CC331)","v":0},{"$f":"(AR331*10000+BK331*100+CD331)","v":0},{"$f":"(AS331*10000+BL331*100+CE331)","v":0},{"$f":"(AT331*10000+BM331*100+CF331)","v":30405},{"$f":"(AU331*10000+BN331*100+CG331)","v":0},{"$f":"(AV331*10000+BO331*100+CH331)","v":0},{"$f":"(AW331*10000+BP331*100+CI331)","v":0},{"$f":"(AX331*10000+BQ331*100+CJ331)","v":0},{"$f":"(AY331*10000+BR331*100+CK331)","v":0},{"$f":"(AZ331*10000+BS331*100+CL331)","v":0},{"$f":"(BA331*10000+BT331*100+CM331)","v":0},{"$f":"(BB331*10000+BU331*100+CN331)","v":0},null,{"$f":"IF($C331=AK$1,$J331,IF($E331=AK$1,$L331,0))","v":0},0,0,0,0,0,0,0,0,3,{"$f":"IF($C331=AU$1,$J331,IF($E331=AU$1,$L331,0))","v":0},0,0,0,0,0,0,0,null,{"$f":"IF($C331=BD$1,$F331-$H331,IF($E331=BD$1,$H331-$F331,0))","v":0},0,0,0,0,-4,0,0,0,4,{"$f":"IF($C331=BN$1,$F331-$H331,IF($E331=BN$1,$H331-$F331,0))","v":0},0,0,0,0,0,0,0,null,{"$f":"IF($C331=BW$1,$F331,IF($E331=BW$1,$H331,0))","v":0},0,0,0,0,1,0,0,0,5,{"$f":"IF($C331=CG$1,$F331,IF($E331=CG$1,$H331,0))","v":0},0,0,0,0,0,0,0,null,{"$f":"IF($C331=CP$1,IF($F331<>\"\",1,0),IF($E331=CP$1,IF($H331<>\"\",2,0),0))","v":0},0,0,0,0,1,0,0,0,2,{"$f":"IF($C331=CZ$1,IF($F331<>\"\",1,0),IF($E331=CZ$1,IF($H331<>\"\",2,0),0))","v":0},0,0,0,0,0,0,0,2,5,5,"14:22",{"$f":"IFERROR(ROUND(MID(DK331,1,SEARCH(\":\",DK331,1)-1)/SUM(DH331:DJ331),$DL$2)&\" : \"&ROUND(MID(DK331,SEARCH(\":\",DK331,1)+1,99)/SUM(DH331:DJ331),$DL$2),\"\")","v":"1 : 2"}]
[null,"Borussia DortmundEintracht Frankfurt","Borussia Dortmund","-","Eintracht Frankfurt",3,":",1,null,3," : ",0,null,{"$f":"F332-H332","v":2},null,{"$f":"H332-F332","v":-2},null,0,0,0,0,30203,0,-199,0,0,0,0,0,0,0,0,0,0,0,null,0,0,0,0,3,0,0,0,0,0,0,0,0,0,0,0,0,0,null,0,0,0,0,2,0,-2,0,0,0,0,0,0,0,0,0,0,0,null,0,0,0,0,3,0,1,0,0,0,0,0,0,0,0,0,0,0,null,0,0,0,0,1,0,2,0,0,0,0,0,0,0,0,0,0,0,49,20,31,"194:133","2 : 1"]
[null,"Sport-Club FreiburgBayer 04 Leverkusen","Sport-Club Freiburg","-","Bayer 04 Leverkusen",2,":",3,null,0," : ",3,null,-1,null,1,null,0,0,0,0,0,0,0,0,30103,0,0,0,0,0,0,0,0,-98,null,0,0,0,0,0,0,0,0,3,0,0,0,0,0,0,0,0,0,null,0,0,0,0,0,0,0,0,1,0,0,0,0,0,0,0,0,-1,null,0,0,0,0,0,0,0,0,3,0,0,0,0,0,0,0,0,2,null,0,0,0,0,0,0,0,0,2,0,0,0,0,0,0,0,0,1,12,14,20,"51:76","1 : 2"]
[null,"VfL WolfsburgFC Augsburg","VfL Wolfsburg","-","FC Augsburg",1,":",3,null,0," : ",3,null,-2,null,2,null,0,0,0,0,0,0,0,0,0,0,-199,0,0,0,30203,0,0,0,null,0,0,0,0,0,0,0,0,0,0,0,0,0,0,3,0,0,0,null,0,0,0,0,0,0,0,0,0,0,-2,0,0,0,2,0,0,0,null,0,0,0,0,0,0,0,0,0,0,1,0,0,0,3,0,0,0,null,0,0,0,0,0,0,0,0,0,0,1,0,0,0,2,0,0,0,8,9,7,"29:24","1 : 1"]
[null,"1. FSV Mainz 05VfL Bochum 1848","1. FSV Mainz 05","-","VfL Bochum 1848",2,":",0,null,3," : ",0,null,2,null,-2,null,0,0,0,-200,0,0,0,0,0,0,0,0,0,30202,0,0,0,0,null,0,0,0,0,0,0,0,0,0,0,0,0,0,3,0,0,0,0,null,0,0,0,-2,0,0,0,0,0,0,0,0,0,2,0,0,0,0,null,0,0,0,0,0,0,0,0,0,0,0,0,0,2,0,0,0,0,null,0,0,0,2,0,0,0,0,0,0,0,0,0,1,0,0,0,0,11,2,5,"28:21","2 : 1"]
[null,"SV Darmstadt 98FC Bayern München","SV Darmstadt 98","-","FC Bayern München",2,":",5,null,0," : ",3,null,-3,null,3,null,0,30305,0,0,0,0,0,-298,0,0,0,0,0,0,0,0,0,0,null,0,3,0,0,0,0,0,0,0,0,0,0,0,0,0,0,0,0,null,0,3,0,0,0,0,0,-3,0,0,0,0,0,0,0,0,0,0,null,0,5,0,0,0,0,0,2,0,0,0,0,0,0,0,0,0,0,null,0,2,0,0,0,0,0,1,0,0,0,0,0,0,0,0,0,0,0,1,7,"5:18","1 : 2"]
[null,"1. FC Union BerlinSV Werder Bremen","1. FC Union Berlin","-","SV Werder Bremen",2,":",1,null,3," : ",0,null,1,null,-1,null,-99,0,0,0,0,0,0,0,0,0,0,0,30102,0,0,0,0,0,null,0,0,0,0,0,0,0,0,0,0,0,0,3,0,0,0,0,0,null,-1,0,0,0,0,0,0,0,0,0,0,0,1,0,0,0,0,0,null,1,0,0,0,0,0,0,0,0,0,0,0,2,0,0,0,0,0,null,2,0,0,0,0,0,0,0,0,0,0,0,1,0,0,0,0,0,5,0,1,"11:4","2 : 1"]
[null,"TSG HoffenheimVfB Stuttgart","TSG Hoffenheim","-","VfB Stuttgart",0,":",3,null,0," : ",3,null,-3,null,3,null,0,0,30303,0,0,0,0,0,0,0,0,0,0,0,0,0,-300,0,null,0,0,3,0,0,0,0,0,0,0,0,0,0,0,0,0,0,0,null,0,0,3,0,0,0,0,0,0,0,0,0,0,0,0,0,-3,0,null,0,0,3,0,0,0,0,0,0,0,0,0,0,0,0,0,0,0,null,0,0,2,0,0,0,0,0,0,0,0,0,0,0,0,0,1,0,7,9,10,"39:45","2 : 2"]
[null,"1. FC Heidenheim 1846Borussia Mönchengladbach","1. FC Heidenheim 1846","-","Borussia Mönchengladbach",1,":",1,null,1," : ",1,null,0,null,0,null,0,0,0,0,0,0,0,0,0,0,0,10001,0,0,0,10001,0,0,null,0,0,0,0,0,0,0,0,0,0,0,1,0,0,0,1,0,0,null,0,0,0,0,0,0,0,0,0,0,0,0,0,0,0,0,0,0,null,0,0,0,0,0,0,0,0,0,0,0,1,0,0,0,1,0,0,null,0,0,0,0,0,0,0,0,0,0,0,1,0,0,0,2,0,0,"-","-","-","-",""]
[null,null,null,null,null,null,null,null,null,null,null,null,null,null,null,null,null,{"$f":"SUM(R331:R339)+R327","v":299435},604778,562960,247630,502153,177320,400742,126126,704866,492860,248731,289135,278325,187622,350143,279646,329444,328836,null,{"$f":"SUM(AK331:AK339)+AK327","v":30},60,56,25,50,18,40,13,70,49,25,29,28,19,35,28,33,33,null,{"$f":"SUM(BD331:BD339)+BD327","v":-6},47,29,-24,21,-27,7,-39,48,28,-13,-9,-17,-24,1,-4,-6,-12,null,{"$f":"SUM(BW331:BW339)+BW327","v":35},78,60,30,53,20,42,26,66,60,31,35,25,22,43,46,44,36,"x",{"$f":"IF(CP341<=$CO$3,SUMIF(CP331:CP339,1,$J331:$J339)+SUMIF(CP331:CP339,2,$L331:$L339),0)","v":0},0,0,0,0,0,0,0,0,0,0,0,0,0,0,0,0,0]
[null,null,null,null,null,null,null,null,null,null,null,null,null,null,null,null,null,{"$f":"RANK(R340,$R340:$AI340,0)","v":10},2,3,15,4,17,6,18,1,5,14,11,13,16,7,12,8,9,null,null,null,null,null,null,null,null,null,null,null,null,null,null,null,null,null,null,null,null,null,null,null,null,null,null,null,null,null,null,null,null,null,null,null,null,null,null,null,null,null,null,null,null,null,null,null,null,null,null,null,null,null,null,null,null,null,null,{"$f":"IF(SUM(CP331:CP339)>0,IF(CP354=0,1,CP354+1),IF(CP354<>0,CP354,0))","v":9},9,9,9,9,9,9,9,9,9,9,9,9,9,9,9,9,9]
[null,null,"27. Spieltag"]
[{"$f":"IF(SUM(J344:L352)>0,1,\"Z\")","v":1},null,"30./31.03.2024"]
[null,{"$f":"C344&E344","v":"SV Werder BremenVfL Wolfsburg"},"SV Werder Bremen","-","VfL Wolfsburg",0,":",2,null,{"$f":"IF(F344>H344,3,IF(F344<H344,0,IF(AND(H344<>\"\",F344=H344),1,0)))","v":0}," : ",{"$f":"IF(F344>H344,0,IF(F344<H344,3,IF(AND(H344<>\"\",F344=H344),1,0)))","v":3},null,{"$f":"F344-H344","v":-2},null,{"$f":"H344-F344","v":2},null,{"$f":"(AK344*10000+BD344*100+BW344)","v":-200},{"$f":"(AL344*10000+BE344*100+BX344)","v":0},{"$f":"(AM344*10000+BF344*100+BY344)","v":0},{"$f":"(AN344*10000+BG344*100+BZ344)","v":0},{"$f":"(AO344*10000+BH344*100+CA344)","v":0},{"$f":"(AP344*10000+BI344*100+CB344)","v":0},{"$f":"(AQ344*10000+BJ344*100+CC344)","v":0},{"$f":"(AR344*10000+BK344*100+CD344)","v":0},{"$f":"(AS344*10000+BL344*100+CE344)","v":0},{"$f":"(AT344*10000+BM344*100+CF344)","v":0},{"$f":"(AU344*10000+BN344*100+CG344)","v":30202},{"$f":"(AV344*10000+BO344*100+CH344)","v":0},{"$f":"(AW344*10000+BP344*100+CI344)","v":0},{"$f":"(AX344*10000+BQ344*100+CJ344)","v":0},{"$f":"(AY344*10000+BR344*100+CK344)","v":0},{"$f":"(AZ344*10000+BS344*100+CL344)","v":0},{"$f":"(BA344*10000+BT344*100+CM344)","v":0},{"$f":"(BB344*10000+BU344*100+CN344)","v":0},null,{"$f":"IF($C344=AK$1,$J344,IF($E344=AK$1,$L344,0))","v":0},0,0,0,0,0,0,0,0,0,{"$f":"IF($C344=AU$1,$J344,IF($E344=AU$1,$L344,0))","v":3},0,0,0,0,0,0,0,null,{"$f":"IF($C344=BD$1,$F344-$H344,IF($E344=BD$1,$H344-$F344,0))","v":-2},0,0,0,0,0,0,0,0,0,{"$f":"IF($C344=BN$1,$F344-$H344,IF($E344=BN$1,$H344-$F344,0))","v":2},0,0,0,0,0,0,0,null,{"$f":"IF($C344=BW$1,$F344,IF($E344=BW$1,$H344,0))","v":0},0,0,0,0,0,0,0,0,0,{"$f":"IF($C344=CG$1,$F344,IF($E344=CG$1,$H344,0))","v":2},0,0,0,0,0,0,0,null,{"$f":"IF($C344=CP$1,IF($F344<>\"\",1,0),IF($E344=CP$1,IF($H344<>\"\",2,0),0))","v":1},0,0,0,0,0,0,0,0,0,{"$f":"IF($C344=CZ$1,IF($F344<>\"\",1,0),IF($E344=CZ$1,IF($H344<>\"\",2,0),0))","v":2},0,0,0,0,0,0,0,20,10,20,"89:89",{"$f":"IFERROR(ROUND(MID(DK344,1,SEARCH(\":\",DK344,1)-1)/SUM(DH344:DJ344),$DL$2)&\" : \"&ROUND(MID(DK344,SEARCH(\":\",DK344,1)+1,99)/SUM(DH344:DJ344),$DL$2),\"\")","v":"2 : 2"}]
[null,"FC Bayern MünchenBorussia Dortmund","FC Bayern München","-","Borussia Dortmund",0,":",2,null,0," : ",3,null,{"$f":"F345-H345","v":-2},null,{"$f":"H345-F345","v":2},null,0,-200,0,0,30202,0,0,0,0,0,0,0,0,0,0,0,0,0,null,0,0,0,0,3,0,0,0,0,0,0,0,0,0,0,0,0,0,null,0,-2,0,0,2,0,0,0,0,0,0,0,0,0,0,0,0,0,null,0,0,0,0,2,0,0,0,0,0,0,0,0,0,0,0,0,0,null,0,1,0,0,2,0,0,0,0,0,0,0,0,0,0,0,0,0,53,30,25,"219:133","2 : 1"]
[null,"VfB Stuttgart1. FC Heidenheim 1846","VfB Stuttgart","-","1. FC Heidenheim 1846",3,":",3,null,1," : ",1,null,0,null,0,null,0,0,10003,0,0,0,0,0,0,0,0,10003,0,0,0,0,0,0,null,0,0,1,0,0,0,0,0,0,0,0,1,0,0,0,0,0,0,null,0,0,0,0,0,0,0,0,0,0,0,0,0,0,0,0,0,0,null,0,0,3,0,0,0,0,0,0,0,0,3,0,0,0,0,0,0,null,0,0,1,0,0,0,0,0,0,0,0,2,0,0,0,0,0,0,2,1,1,"8:5","2 : 1"]
[null,"Borussia MönchengladbachSport-Club Freiburg","Borussia Mönchengladbach","-","Sport-Club Freiburg",0,":",3,null,0," : ",3,null,-3,null,3,null,0,0,0,0,0,0,0,0,0,0,0,0,0,0,0,-300,0,30303,null,0,0,0,0,0,0,0,0,0,0,0,0,0,0,0,0,0,3,null,0,0,0,0,0,0,0,0,0,0,0,0,0,0,0,-3,0,3,null,0,0,0,0,0,0,0,0,0,0,0,0,0,0,0,0,0,3,null,0,0,0,0,0,0,0,0,0,0,0,0,0,0,0,1,0,2,13,16,15,"58:68","1 : 2"]
[null,"Eintracht Frankfurt1. FC Union Berlin","Eintracht Frankfurt","-","1. FC Union Berlin",0,":",0,null,1," : ",1,null,0,null,0,null,0,0,0,0,0,0,10000,0,0,0,0,0,10000,0,0,0,0,0,null,0,0,0,0,0,0,1,0,0,0,0,0,1,0,0,0,0,0,null,0,0,0,0,0,0,0,0,0,0,0,0,0,0,0,0,0,0,null,0,0,0,0,0,0,0,0,0,0,0,0,0,0,0,0,0,0,null,0,0,0,0,0,0,1,0,0,0,0,0,2,0,0,0,0,0,7,4,3,"29:17","2 : 1"]
[null,"VfL Bochum 1848SV Darmstadt 98","VfL Bochum 1848","-","SV Darmstadt 98",2,":",2,null,1," : ",1,null,0,null,0,null,0,0,0,10002,0,0,0,10002,0,0,0,0,0,0,0,0,0,0,null,0,0,0,1,0,0,0,1,0,0,0,0,0,0,0,0,0,0,null,0,0,0,0,0,0,0,0,0,0,0,0,0,0,0,0,0,0,null,0,0,0,2,0,0,0,2,0,0,0,0,0,0,0,0,0,0,null,0,0,0,1,0,0,0,2,0,0,0,0,0,0,0,0,0,0,5,4,5,"14:18","1 : 1"]
[null,"Bayer 04 LeverkusenTSG Hoffenheim","Bayer 04 Leverkusen","-","TSG Hoffenheim",2,":",1,null,3," : ",0,null,1,null,-1,null,0,0,0,0,0,0,0,0,30102,0,0,0,0,0,0,0,-99,0,null,0,0,0,0,0,0,0,0,3,0,0,0,0,0,0,0,0,0,null,0,0,0,0,0,0,0,0,1,0,0,0,0,0,0,0,-1,0,null,0,0,0,0,0,0,0,0,2,0,0,0,0,0,0,0,1,0,null,0,0,0,0,0,0,0,0,1,0,0,0,0,0,0,0,2,0,17,6,7,"59:39","2 : 1"]
[null,"FC Augsburg1. FC Köln","FC Augsburg","-","1. FC Köln",1,":",1,null,1," : ",1,null,0,null,0,null,0,0,0,0,0,10001,0,0,0,0,0,0,0,0,10001,0,0,0,null,0,0,0,0,0,1,0,0,0,0,0,0,0,0,1,0,0,0,null,0,0,0,0,0,0,0,0,0,0,0,0,0,0,0,0,0,0,null,0,0,0,0,0,1,0,0,0,0,0,0,0,0,1,0,0,0,null,0,0,0,0,0,2,0,0,0,0,0,0,0,0,1,0,0,0,7,7,8,"24:31","1 : 1"]
[null,"RB Leipzig1. FSV Mainz 05","RB Leipzig","-","1. FSV Mainz 05",0,":",0,null,1," : ",1,null,0,null,0,null,0,0,0,0,0,0,0,0,0,10000,0,0,0,10000,0,0,0,0,null,0,0,0,0,0,0,0,0,0,1,0,0,0,1,0,0,0,0,null,0,0,0,0,0,0,0,0,0,0,0,0,0,0,0,0,0,0,null,0,0,0,0,0,0,0,0,0,0,0,0,0,0,0,0,0,0,null,0,0,0,0,0,0,0,0,0,1,0,0,0,2,0,0,0,0,7,3,4,"38:22","3 : 2"]
[null,null,null,null,null,null,null,null,null,null,null,null,null,null,null,null,null,{"$f":"SUM(R344:R352)+R340","v":299235},604578,572963,257632,532355,187321,410742,136128,734968,502860,278933,299138,288325,197622,360144,279346,329345,359139,null,{"$f":"SUM(AK344:AK352)+AK340","v":30},60,57,26,53,19,41,14,73,50,28,30,29,20,36,28,33,36,null,{"$f":"SUM(BD344:BD352)+BD340","v":-8},45,29,-24,23,-27,7,-39,49,28,-11,-9,-17,-24,1,-7,-7,-9,null,{"$f":"SUM(BW344:BW352)+BW340","v":35},78,63,32,55,21,42,28,68,60,33,38,25,22,44,46,45,39,"x",{"$f":"IF(CP354<=$CO$3,SUMIF(CP344:CP352,1,$J344:$J352)+SUMIF(CP344:CP352,2,$L344:$L352),0)","v":0},0,0,0,0,0,0,0,0,0,0,0,0,0,0,0,0,0]
[null,null,null,null,null,null,null,null,null,null,null,null,null,null,null,null,null,{"$f":"RANK(R353,$R353:$AI353,0)","v":10},2,3,15,4,17,6,18,1,5,14,11,12,16,7,13,9,8,null,null,null,null,null,null,null,null,null,null,null,null,null,null,null,null,null,null,null,null,null,null,null,null,null,null,null,null,null,null,null,null,null,null,null,null,null,null,null,null,null,null,null,null,null,null,null,null,null,null,null,null,null,null,null,null,null,null,{"$f":"IF(SUM(CP344:CP352)>0,IF(CP367=0,1,CP367+1),IF(CP367<>0,CP367,0))","v":8},8,8,8,8,8,8,8,8,8,8,8,8,8,8,8,8,8]
[null,null,"28. Spieltag"]
[{"$f":"IF(SUM(J357:L365)>0,1,\"Z\")","v":1},null,"05.-07.04.2024"]
[null,{"$f":"C357&E357","v":"1. FC KölnVfL Bochum 1848"},"1. FC Köln","-","VfL Bochum 1848",2,":",1,null,{"$f":"IF(F357>H357,3,IF(F357<H357,0,IF(AND(H357<>\"\",F357=H357),1,0)))","v":3}," : ",{"$f":"IF(F357>H357,0,IF(F357<H357,3,IF(AND(H357<>\"\",F357=H357),1,0)))","v":0},null,{"$f":"F357-H357","v":1},null,{"$f":"H357-F357","v":-1},null,{"$f":"(AK357*10000+BD357*100+BW357)","v":0},{"$f":"(AL357*10000+BE357*100+BX357)","v":0},{"$f":"(AM357*10000+BF357*100+BY357)","v":0},{"$f":"(AN357*10000+BG357*100+BZ357)","v":-99},{"$f":"(AO357*10000+BH357*100+CA357)","v":0},{"$f":"(AP357*10000+BI357*100+CB357)","v":30102},{"$f":"(AQ357*10000+BJ357*100+CC357)","v":0},{"$f":"(AR357*10000+BK357*100+CD357)","v":0},{"$f":"(AS357*10000+BL357*100+CE357)","v":0},{"$f":"(AT357*10000+BM357*100+CF357)","v":0},{"$f":"(AU357*10000+BN357*100+CG357)","v":0},{"$f":"(AV357*10000+BO357*100+CH357)","v":0},{"$f":"(AW357*10000+BP357*100+CI357)","v":0},{"$f":"(AX357*10000+BQ357*100+CJ357)","v":0},{"$f":"(AY357*10000+BR357*100+CK357)","v":0},{"$f":"(AZ357*10000+BS357*100+CL357)","v":0},{"$f":"(BA357*10000+BT357*100+CM357)","v":0},{"$f":"(BB357*10000+BU357*100+CN357)","v":0},null,{"$f":"IF($C357=AK$1,$J357,IF($E357=AK$1,$L357,0))","v":0},0,0,0,0,3,0,0,0,0,{"$f":"IF($C357=AU$1,$J357,IF($E357=AU$1,$L357,0))","v":0},0,0,0,0,0,0,0,null,{"$f":"IF($C357=BD$1,$F357-$H357,IF($E357=BD$1,$H357-$F357,0))","v":0},0,0,-1,0,1,0,0,0,0,{"$f":"IF($C357=BN$1,$F357-$H357,IF($E357=BN$1,$H357-$F357,0))","v":0},0,0,0,0,0,0,0,null,{"$f":"IF($C357=BW$1,$F357,IF($E357=BW$1,$H357,0))","v":0},0,0,1,0,2,0,0,0,0,{"$f":"IF($C357=CG$1,$F357,IF($E357=CG$1,$H357,0))","v":0},0,0,0,0,0,0,0,null,{"$f":"IF($C357=CP$1,IF($F357<>\"\",1,0),IF($E357=CP$1,IF($H357<>\"\",2,0),0))","v":0},0,0,2,0,1,0,0,0,0,{"$f":"IF($C357=CZ$1,IF($F357<>\"\",1,0),IF($E357=CZ$1,IF($H357<>\"\",2,0),0))","v":0},0,0,0,0,0,0,0,38,17,15,"121:76",{"$f":"IFERROR(ROUND(MID(DK357,1,SEARCH(\":\",DK357,1)-1)/SUM(DH357:DJ357),$DL$2)&\" : \"&ROUND(MID(DK357,SEARCH(\":\",DK357,1)+1,99)/SUM(DH357:DJ357),$DL$2),\"\")","v":"2 : 1"}]
[null,"Borussia DortmundVfB Stuttgart","Borussia Dortmund","-","VfB Stuttgart",0,":",1,null,0," : ",3,null,{"$f":"F358-H358","v":-1},null,{"$f":"H358-F358","v":1},null,0,0,30101,0,-100,0,0,0,0,0,0,0,0,0,0,0,0,0,null,0,0,3,0,0,0,0,0,0,0,0,0,0,0,0,0,0,0,null,0,0,1,0,-1,0,0,0,0,0,0,0,0,0,0,0,0,0,null,0,0,1,0,0,0,0,0,0,0,0,0,0,0,0,0,0,0,null,0,0,2,0,1,0,0,0,0,0,0,0,0,0,0,0,0,0,41,25,40,"185:175","2 : 2"]
[null,"Eintracht FrankfurtSV Werder Bremen","Eintracht Frankfurt","-","SV Werder Bremen",1,":",1,null,1," : ",1,null,0,null,0,null,10001,0,0,0,0,0,10001,0,0,0,0,0,0,0,0,0,0,0,null,1,0,0,0,0,0,1,0,0,0,0,0,0,0,0,0,0,0,null,0,0,0,0,0,0,0,0,0,0,0,0,0,0,0,0,0,0,null,1,0,0,0,0,0,1,0,0,0,0,0,0,0,0,0,0,0,null,2,0,0,0,0,0,1,0,0,0,0,0,0,0,0,0,0,0,38,23,43,"156:163","2 : 2"]
[null,"Sport-Club FreiburgRB Leipzig","Sport-Club Freiburg","-","RB Leipzig",1,":",4,null,0," : ",3,null,-3,null,3,null,0,0,0,0,0,0,0,0,0,30304,0,0,0,0,0,0,0,-299,null,0,0,0,0,0,0,0,0,0,3,0,0,0,0,0,0,0,0,null,0,0,0,0,0,0,0,0,0,3,0,0,0,0,0,0,0,-3,null,0,0,0,0,0,0,0,0,0,4,0,0,0,0,0,0,0,1,null,0,0,0,0,0,0,0,0,0,2,0,0,0,0,0,0,0,1,4,4,8,"17:31","1 : 2"]
[null,"VfL WolfsburgBorussia Mönchengladbach","VfL Wolfsburg","-","Borussia Mönchengladbach",1,":",3,null,0," : ",3,null,-2,null,2,null,0,0,0,0,0,0,0,0,0,0,-199,0,0,0,0,30203,0,0,null,0,0,0,0,0,0,0,0,0,0,0,0,0,0,0,3,0,0,null,0,0,0,0,0,0,0,0,0,0,-2,0,0,0,0,2,0,0,null,0,0,0,0,0,0,0,0,0,0,1,0,0,0,0,3,0,0,null,0,0,0,0,0,0,0,0,0,0,1,0,0,0,0,2,0,0,22,10,14,"72:59","2 : 1"]
[null,"1. FSV Mainz 05SV Darmstadt 98","1. FSV Mainz 05","-","SV Darmstadt 98",4,":",0,null,3," : ",0,null,4,null,-4,null,0,0,0,0,0,0,0,-400,0,0,0,0,0,30404,0,0,0,0,null,0,0,0,0,0,0,0,0,0,0,0,0,0,3,0,0,0,0,null,0,0,0,0,0,0,0,-4,0,0,0,0,0,4,0,0,0,0,null,0,0,0,0,0,0,0,0,0,0,0,0,0,4,0,0,0,0,null,0,0,0,0,0,0,0,2,0,0,0,0,0,1,0,0,0,0,10,2,6,"29:28","2 : 2"]
[null,"1. FC Union BerlinBayer 04 Leverkusen","1. FC Union Berlin","-","Bayer 04 Leverkusen",0,":",1,null,0," : ",3,null,-1,null,1,null,0,0,0,0,0,0,0,0,30101,0,0,0,-100,0,0,0,0,0,null,0,0,0,0,0,0,0,0,3,0,0,0,0,0,0,0,0,0,null,0,0,0,0,0,0,0,0,1,0,0,0,-1,0,0,0,0,0,null,0,0,0,0,0,0,0,0,1,0,0,0,0,0,0,0,0,0,null,0,0,0,0,0,0,0,0,2,0,0,0,1,0,0,0,0,0,1,4,3,"7:14","1 : 2"]
[null,"TSG HoffenheimFC Augsburg","TSG Hoffenheim","-","FC Augsburg",3,":",1,null,3," : ",0,null,2,null,-2,null,0,0,0,0,0,0,0,0,0,0,0,0,0,0,-199,0,30203,0,null,0,0,0,0,0,0,0,0,0,0,0,0,0,0,0,0,3,0,null,0,0,0,0,0,0,0,0,0,0,0,0,0,0,-2,0,2,0,null,0,0,0,0,0,0,0,0,0,0,0,0,0,0,1,0,3,0,null,0,0,0,0,0,0,0,0,0,0,0,0,0,0,2,0,1,0,15,5,6,"48:26","2 : 1"]
[null,"1. FC Heidenheim 1846FC Bayern München","1. FC Heidenheim 1846","-","FC Bayern München",3,":",2,null,3," : ",0,null,1,null,-1,null,0,-98,0,0,0,0,0,0,0,0,0,30103,0,0,0,0,0,0,null,0,0,0,0,0,0,0,0,0,0,0,3,0,0,0,0,0,0,null,0,-1,0,0,0,0,0,0,0,0,0,1,0,0,0,0,0,0,null,0,2,0,0,0,0,0,0,0,0,0,3,0,0,0,0,0,0,null,0,2,0,0,0,0,0,0,0,0,0,1,0,0,0,0,0,0,"-","-","-","-",""]
[null,null,null,null,null,null,null,null,null,null,null,null,null,null,null,null,null,{"$f":"SUM(R357:R365)+R353","v":309236},604480,603064,257533,532255,217423,420743,135728,765069,533164,278734,329241,288225,228026,359945,309549,359548,358840,null,{"$f":"SUM(AK357:AK365)+AK353","v":31},60,60,26,53,22,42,14,76,53,28,33,29,23,36,31,36,36,null,{"$f":"SUM(BD357:BD365)+BD353","v":-8},44,30,-25,22,-26,7,-43,50,31,-13,-8,-18,-20,-1,-5,-5,-12,null,{"$f":"SUM(BW357:BW365)+BW353","v":36},80,64,33,55,23,43,28,69,64,34,41,25,26,45,49,48,40,"x",{"$f":"IF(CP367<=$CO$3,SUMIF(CP357:CP365,1,$J357:$J365)+SUMIF(CP357:CP365,2,$L357:$L365),0)","v":0},0,0,0,0,0,0,0,0,0,0,0,0,0,0,0,0,0]
[null,null,null,null,null,null,null,null,null,null,null,null,null,null,null,null,null,{"$f":"RANK(R366,$R366:$AI366,0)","v":12},2,3,15,5,17,6,18,1,4,14,10,13,16,7,11,8,9,null,null,null,null,null,null,null,null,null,null,null,null,null,null,null,null,null,null,null,null,null,null,null,null,null,null,null,null,null,null,null,null,null,null,null,null,null,null,null,null,null,null,null,null,null,null,null,null,null,null,null,null,null,null,null,null,null,null,{"$f":"IF(SUM(CP357:CP365)>0,IF(CP380=0,1,CP380+1),IF(CP380<>0,CP380,0))","v":7},7,7,7,7,7,7,7,7,7,7,7,7,7,7,7,7,7]
[null,null,"29. Spieltag"]
[{"$f":"IF(SUM(J370:L378)>0,1,\"Z\")","v":1},null,"12.-14.04.2024"]
[null,{"$f":"C370&E370","v":"FC Bayern München1. FC Köln"},"FC Bayern München","-","1. FC Köln",2,":",0,null,{"$f":"IF(F370>H370,3,IF(F370<H370,0,IF(AND(H370<>\"\",F370=H370),1,0)))","v":3}," : ",{"$f":"IF(F370>H370,0,IF(F370<H370,3,IF(AND(H370<>\"\",F370=H370),1,0)))","v":0},null,{"$f":"F370-H370","v":2},null,{"$f":"H370-F370","v":-2},null,{"$f":"(AK370*10000+BD370*100+BW370)","v":0},{"$f":"(AL370*10000+BE370*100+BX370)","v":30202},{"$f":"(AM370*10000+BF370*100+BY370)","v":0},{"$f":"(AN370*10000+BG370*100+BZ370)","v":0},{"$f":"(AO370*10000+BH370*100+CA370)","v":0},{"$f":"(AP370*10000+BI370*100+CB370)","v":-200},{"$f":"(AQ370*10000+BJ370*100+CC370)","v":0},{"$f":"(AR370*10000+BK370*100+CD370)","v":0},{"$f":"(AS370*10000+BL370*100+CE370)","v":0},{"$f":"(AT370*10000+BM370*100+CF370)","v":0},{"$f":"(AU370*10000+BN370*100+CG370)","v":0},{"$f":"(AV370*10000+BO370*100+CH370)","v":0},{"$f":"(AW370*10000+BP370*100+CI370)","v":0},{"$f":"(AX370*10000+BQ370*100+CJ370)","v":0},{"$f":"(AY370*10000+BR370*100+CK370)","v":0},{"$f":"(AZ370*10000+BS370*100+CL370)","v":0},{"$f":"(BA370*10000+BT370*100+CM370)","v":0},{"$f":"(BB370*10000+BU370*100+CN370)","v":0},null,{"$f":"IF($C370=AK$1,$J370,IF($E370=AK$1,$L370,0))","v":0},3,0,0,0,0,0,0,0,0,{"$f":"IF($C370=AU$1,$J370,IF($E370=AU$1,$L370,0))","v":0},0,0,0,0,0,0,0,null,{"$f":"IF($C370=BD$1,$F370-$H370,IF($E370=BD$1,$H370-$F370,0))","v":0},2,0,0,0,-2,0,0,0,0,{"$f":"IF($C370=BN$1,$F370-$H370,IF($E370=BN$1,$H370-$F370,0))","v":0},0,0,0,0,0,0,0,null,{"$f":"IF($C370=BW$1,$F370,IF($E370=BW$1,$H370,0))","v":0},2,0,0,0,0,0,0,0,0,{"$f":"IF($C370=CG$1,$F370,IF($E370=CG$1,$H370,0))","v":0},0,0,0,0,0,0,0,null,{"$f":"IF($C370=CP$1,IF($F370<>\"\",1,0),IF($E370=CP$1,IF($H370<>\"\",2,0),0))","v":0},1,0,0,0,2,0,0,0,0,{"$f":"IF($C370=CZ$1,IF($F370<>\"\",1,0),IF($E370=CZ$1,IF($H370<>\"\",2,0),0))","v":0},0,0,0,0,0,0,0,51,24,23,"201:124",{"$f":"IFERROR(ROUND(MID(DK370,1,SEARCH(\":\",DK370,1)-1)/SUM(DH370:DJ370),$DL$2)&\" : \"&ROUND(MID(DK370,SEARCH(\":\",DK370,1)+1,99)/SUM(DH370:DJ370),$DL$2),\"\")","v":"2 : 1"}]
[null,"VfB StuttgartEintracht Frankfurt","VfB Stuttgart","-","Eintracht Frankfurt",3,":",0,null,3," : ",0,null,{"$f":"F371-H371","v":3},null,{"$f":"H371-F371","v":-3},null,0,0,30303,0,0,0,-300,0,0,0,0,0,0,0,0,0,0,0,null,0,0,3,0,0,0,0,0,0,0,0,0,0,0,0,0,0,0,null,0,0,3,0,0,0,-3,0,0,0,0,0,0,0,0,0,0,0,null,0,0,3,0,0,0,0,0,0,0,0,0,0,0,0,0,0,0,null,0,0,1,0,0,0,2,0,0,0,0,0,0,0,0,0,0,0,42,23,35,"181:171","2 : 2"]
[null,"Borussia MönchengladbachBorussia Dortmund","Borussia Mönchengladbach","-","Borussia Dortmund",1,":",2,null,0," : ",3,null,-1,null,1,null,0,0,0,0,30102,0,0,0,0,0,0,0,0,0,0,-99,0,0,null,0,0,0,0,3,0,0,0,0,0,0,0,0,0,0,0,0,0,null,0,0,0,0,1,0,0,0,0,0,0,0,0,0,0,-1,0,0,null,0,0,0,0,2,0,0,0,0,0,0,0,0,0,0,1,0,0,null,0,0,0,0,2,0,0,0,0,0,0,0,0,0,0,1,0,0,32,28,42,"162:185","2 : 2"]
[null,"VfL Bochum 18481. FC Heidenheim 1846","VfL Bochum 1848","-","1. FC Heidenheim 1846",1,":",1,null,1," : ",1,null,0,null,0,null,0,0,0,10001,0,0,0,0,0,0,0,10001,0,0,0,0,0,0,null,0,0,0,1,0,0,0,0,0,0,0,1,0,0,0,0,0,0,null,0,0,0,0,0,0,0,0,0,0,0,0,0,0,0,0,0,0,null,0,0,0,1,0,0,0,0,0,0,0,1,0,0,0,0,0,0,null,0,0,0,1,0,0,0,0,0,0,0,2,0,0,0,0,0,0,8,2,4,"26:18","2 : 1"]
[null,"Bayer 04 LeverkusenSV Werder Bremen","Bayer 04 Leverkusen","-","SV Werder Bremen",5,":",0,null,3," : ",0,null,5,null,-5,null,-500,0,0,0,0,0,0,0,30505,0,0,0,0,0,0,0,0,0,null,0,0,0,0,0,0,0,0,3,0,0,0,0,0,0,0,0,0,null,-5,0,0,0,0,0,0,0,5,0,0,0,0,0,0,0,0,0,null,0,0,0,0,0,0,0,0,5,0,0,0,0,0,0,0,0,0,null,2,0,0,0,0,0,0,0,1,0,0,0,0,0,0,0,0,0,23,34,27,"134:127","2 : 2"]
[null,"1. FSV Mainz 05TSG Hoffenheim","1. FSV Mainz 05","-","TSG Hoffenheim",4,":",1,null,3," : ",0,null,3,null,-3,null,0,0,0,0,0,0,0,0,0,0,0,0,0,30304,0,0,-299,0,null,0,0,0,0,0,0,0,0,0,0,0,0,0,3,0,0,0,0,null,0,0,0,0,0,0,0,0,0,0,0,0,0,3,0,0,-3,0,null,0,0,0,0,0,0,0,0,0,0,0,0,0,4,0,0,1,0,null,0,0,0,0,0,0,0,0,0,0,0,0,0,1,0,0,2,0,13,8,9,"52:47","2 : 2"]
[null,"SV Darmstadt 98Sport-Club Freiburg","SV Darmstadt 98","-","Sport-Club Freiburg",0,":",1,null,0," : ",3,null,-1,null,1,null,0,0,0,0,0,0,0,-100,0,0,0,0,0,0,0,0,0,30101,null,0,0,0,0,0,0,0,0,0,0,0,0,0,0,0,0,0,3,null,0,0,0,0,0,0,0,-1,0,0,0,0,0,0,0,0,0,1,null,0,0,0,0,0,0,0,0,0,0,0,0,0,0,0,0,0,1,null,0,0,0,0,0,0,0,1,0,0,0,0,0,0,0,0,0,2,9,8,11,"34:38","1 : 1"]
[null,"FC Augsburg1. FC Union Berlin","FC Augsburg","-","1. FC Union Berlin",2,":",0,null,3," : ",0,null,2,null,-2,null,0,0,0,0,0,0,0,0,0,0,0,0,-200,0,30202,0,0,0,null,0,0,0,0,0,0,0,0,0,0,0,0,0,0,3,0,0,0,null,0,0,0,0,0,0,0,0,0,0,0,0,-2,0,2,0,0,0,null,0,0,0,0,0,0,0,0,0,0,0,0,0,0,2,0,0,0,null,0,0,0,0,0,0,0,0,0,0,0,0,2,0,1,0,0,0,5,6,1,"14:9","1 : 1"]
[null,"RB LeipzigVfL Wolfsburg","RB Leipzig","-","VfL Wolfsburg",3,":",0,null,3," : ",0,null,3,null,-3,null,0,0,0,0,0,0,0,0,0,30303,-300,0,0,0,0,0,0,0,null,0,0,0,0,0,0,0,0,0,3,0,0,0,0,0,0,0,0,null,0,0,0,0,0,0,0,0,0,3,-3,0,0,0,0,0,0,0,null,0,0,0,0,0,0,0,0,0,3,0,0,0,0,0,0,0,0,null,0,0,0,0,0,0,0,0,0,1,2,0,0,0,0,0,0,0,6,5,3,"20:10","1 : 1"]
[null,null,null,null,null,null,null,null,null,null,null,null,null,null,null,null,null,{"$f":"SUM(R370:R378)+R366","v":308736},634682,633367,267534,562357,217223,420443,135628,795574,563467,278434,339242,288025,258330,390147,309450,359249,388941,null,{"$f":"SUM(AK370:AK378)+AK366","v":31},63,63,27,56,22,42,14,79,56,28,34,29,26,39,31,36,39,null,{"$f":"SUM(BD370:BD378)+BD366","v":-13},46,33,-25,23,-28,4,-44,55,34,-16,-8,-20,-17,1,-6,-8,-11,null,{"$f":"SUM(BW370:BW378)+BW366","v":36},82,67,34,57,23,43,28,74,67,34,42,25,30,47,50,49,41,"x",{"$f":"IF(CP380<=$CO$3,SUMIF(CP370:CP378,1,$J370:$J378)+SUMIF(CP370:CP378,2,$L370:$L378),0)","v":0},3,3,1,3,0,0,0,3,3,0,1,0,3,3,0,0,3]
[null,null,null,null,null,null,null,null,null,null,null,null,null,null,null,null,null,{"$f":"RANK(R379,$R379:$AI379,0)","v":12},2,3,15,5,17,6,18,1,4,14,10,13,16,7,11,9,8,null,null,null,null,null,null,null,null,null,null,null,null,null,null,null,null,null,null,null,null,null,null,null,null,null,null,null,null,null,null,null,null,null,null,null,null,null,null,null,null,null,null,null,null,null,null,null,null,null,null,null,null,null,null,null,null,null,null,{"$f":"IF(SUM(CP370:CP378)>0,IF(CP393=0,1,CP393+1),IF(CP393<>0,CP393,0))","v":6},6,6,6,6,6,6,6,6,6,6,6,6,6,6,6,6,6]
[null,null,"30. Spieltag"]
[{"$f":"IF(SUM(J383:L391)>0,1,\"Z\")","v":1},null,"19.-21.04.2024"]
[null,{"$f":"C383&E383","v":"SV Werder BremenVfB Stuttgart"},"SV Werder Bremen","-","VfB Stuttgart",2,":",1,null,{"$f":"IF(F383>H383,3,IF(F383<H383,0,IF(AND(H383<>\"\",F383=H383),1,0)))","v":3}," : ",{"$f":"IF(F383>H383,0,IF(F383<H383,3,IF(AND(H383<>\"\",F383=H383),1,0)))","v":0},null,{"$f":"F383-H383","v":1},null,{"$f":"H383-F383","v":-1},null,{"$f":"(AK383*10000+BD383*100+BW383)","v":30102},{"$f":"(AL383*10000+BE383*100+BX383)","v":0},{"$f":"(AM383*10000+BF383*100+BY383)","v":-99},{"$f":"(AN383*10000+BG383*100+BZ383)","v":0},{"$f":"(AO383*10000+BH383*100+CA383)","v":0},{"$f":"(AP383*10000+BI383*100+CB383)","v":0},{"$f":"(AQ383*10000+BJ383*100+CC383)","v":0},{"$f":"(AR383*10000+BK383*100+CD383)","v":0},{"$f":"(AS383*10000+BL383*100+CE383)","v":0},{"$f":"(AT383*10000+BM383*100+CF383)","v":0},{"$f":"(AU383*10000+BN383*100+CG383)","v":0},{"$f":"(AV383*10000+BO383*100+CH383)","v":0},{"$f":"(AW383*10000+BP383*100+CI383)","v":0},{"$f":"(AX383*10000+BQ383*100+CJ383)","v":0},{"$f":"(AY383*10000+BR383*100+CK383)","v":0},{"$f":"(AZ383*10000+BS383*100+CL383)","v":0},{"$f":"(BA383*10000+BT383*100+CM383)","v":0},{"$f":"(BB383*10000+BU383*100+CN383)","v":0},null,{"$f":"IF($C383=AK$1,$J383,IF($E383=AK$1,$L383,0))","v":3},0,0,0,0,0,0,0,0,0,{"$f":"IF($C383=AU$1,$J383,IF($E383=AU$1,$L383,0))","v":0},0,0,0,0,0,0,0,null,{"$f":"IF($C383=BD$1,$F383-$H383,IF($E383=BD$1,$H383-$F383,0))","v":1},0,-1,0,0,0,0,0,0,0,{"$f":"IF($C383=BN$1,$F383-$H383,IF($E383=BN$1,$H383-$F383,0))","v":0},0,0,0,0,0,0,0,null,{"$f":"IF($C383=BW$1,$F383,IF($E383=BW$1,$H383,0))","v":2},0,1,0,0,0,0,0,0,0,{"$f":"IF($C383=CG$1,$F383,IF($E383=CG$1,$H383,0))","v":0},0,0,0,0,0,0,0,null,{"$f":"IF($C383=CP$1,IF($F383<>\"\",1,0),IF($E383=CP$1,IF($H383<>\"\",2,0),0))","v":1},0,2,0,0,0,0,0,0,0,{"$f":"IF($C383=CZ$1,IF($F383<>\"\",1,0),IF($E383=CZ$1,IF($H383<>\"\",2,0),0))","v":0},0,0,0,0,0,0,0,36,34,38,"183:167",{"$f":"IFERROR(ROUND(MID(DK383,1,SEARCH(\":\",DK383,1)-1)/SUM(DH383:DJ383),$DL$2)&\" : \"&ROUND(MID(DK383,SEARCH(\":\",DK383,1)+1,99)/SUM(DH383:DJ383),$DL$2),\"\")","v":"2 : 2"}]
[null,"1. FC KölnSV Darmstadt 98","1. FC Köln","-","SV Darmstadt 98",0,":",2,null,0," : ",3,null,{"$f":"F384-H384","v":-2},null,{"$f":"H384-F384","v":2},null,0,0,0,0,0,-200,0,30202,0,0,0,0,0,0,0,0,0,0,null,0,0,0,0,0,0,0,3,0,0,0,0,0,0,0,0,0,0,null,0,0,0,0,0,-2,0,2,0,0,0,0,0,0,0,0,0,0,null,0,0,0,0,0,0,0,2,0,0,0,0,0,0,0,0,0,0,null,0,0,0,0,0,1,0,2,0,0,0,0,0,0,0,0,0,0,7,2,1,"24:8","2 : 1"]
[null,"Borussia DortmundBayer 04 Leverkusen","Borussia Dortmund","-","Bayer 04 Leverkusen",1,":",1,null,1," : ",1,null,0,null,0,null,0,0,0,0,10001,0,0,0,10001,0,0,0,0,0,0,0,0,0,null,0,0,0,0,1,0,0,0,1,0,0,0,0,0,0,0,0,0,null,0,0,0,0,0,0,0,0,0,0,0,0,0,0,0,0,0,0,null,0,0,0,0,1,0,0,0,1,0,0,0,0,0,0,0,0,0,null,0,0,0,0,1,0,0,0,2,0,0,0,0,0,0,0,0,0,38,22,30,"154:132","2 : 1"]
[null,"Eintracht FrankfurtFC Augsburg","Eintracht Frankfurt","-","FC Augsburg",3,":",1,null,3," : ",0,null,2,null,-2,null,0,0,0,0,0,0,30203,0,0,0,0,0,0,0,-199,0,0,0,null,0,0,0,0,0,0,3,0,0,0,0,0,0,0,0,0,0,0,null,0,0,0,0,0,0,2,0,0,0,0,0,0,0,-2,0,0,0,null,0,0,0,0,0,0,3,0,0,0,0,0,0,0,1,0,0,0,null,0,0,0,0,0,0,1,0,0,0,0,0,0,0,2,0,0,0,7,8,7,"32:27","1 : 1"]
[null,"Sport-Club Freiburg1. FSV Mainz 05","Sport-Club Freiburg","-","1. FSV Mainz 05",1,":",1,null,1," : ",1,null,0,null,0,null,0,0,0,0,0,0,0,0,0,0,0,0,0,10001,0,0,0,10001,null,0,0,0,0,0,0,0,0,0,0,0,0,0,1,0,0,0,1,null,0,0,0,0,0,0,0,0,0,0,0,0,0,0,0,0,0,0,null,0,0,0,0,0,0,0,0,0,0,0,0,0,1,0,0,0,1,null,0,0,0,0,0,0,0,0,0,0,0,0,0,2,0,0,0,1,14,14,16,"44:58","1 : 1"]
[null,"VfL WolfsburgVfL Bochum 1848","VfL Wolfsburg","-","VfL Bochum 1848",1,":",0,null,3," : ",0,null,1,null,-1,null,0,0,0,-100,0,0,0,0,0,0,30101,0,0,0,0,0,0,0,null,0,0,0,0,0,0,0,0,0,0,3,0,0,0,0,0,0,0,null,0,0,0,-1,0,0,0,0,0,0,1,0,0,0,0,0,0,0,null,0,0,0,0,0,0,0,0,0,0,1,0,0,0,0,0,0,0,null,0,0,0,2,0,0,0,0,0,0,1,0,0,0,0,0,0,0,12,4,12,"45:40","2 : 1"]
[null,"1. FC Union BerlinFC Bayern München","1. FC Union Berlin","-","FC Bayern München",1,":",5,null,0," : ",3,null,-4,null,4,null,0,30405,0,0,0,0,0,0,0,0,0,0,-399,0,0,0,0,0,null,0,3,0,0,0,0,0,0,0,0,0,0,0,0,0,0,0,0,null,0,4,0,0,0,0,0,0,0,0,0,0,-4,0,0,0,0,0,null,0,5,0,0,0,0,0,0,0,0,0,0,1,0,0,0,0,0,null,0,2,0,0,0,0,0,0,0,0,0,0,1,0,0,0,0,0,0,3,5,"6:19","1 : 2"]
[null,"TSG HoffenheimBorussia Mönchengladbach","TSG Hoffenheim","-","Borussia Mönchengladbach",4,":",3,null,3," : ",0,null,1,null,-1,null,0,0,0,0,0,0,0,0,0,0,0,0,0,0,0,-97,30104,0,null,0,0,0,0,0,0,0,0,0,0,0,0,0,0,0,0,3,0,null,0,0,0,0,0,0,0,0,0,0,0,0,0,0,0,-1,1,0,null,0,0,0,0,0,0,0,0,0,0,0,0,0,0,0,3,4,0,null,0,0,0,0,0,0,0,0,0,0,0,0,0,0,0,2,1,0,10,12,10,"51:62","2 : 2"]
[null,"1. FC Heidenheim 1846RB Leipzig","1. FC Heidenheim 1846","-","RB Leipzig",1,":",2,null,0," : ",3,null,-1,null,1,null,0,0,0,0,0,0,0,0,0,30102,0,-99,0,0,0,0,0,0,null,0,0,0,0,0,0,0,0,0,3,0,0,0,0,0,0,0,0,null,0,0,0,0,0,0,0,0,0,1,0,-1,0,0,0,0,0,0,null,0,0,0,0,0,0,0,0,0,2,0,1,0,0,0,0,0,0,null,0,0,0,0,0,0,0,0,0,2,0,1,0,0,0,0,0,0,1,2,1,"4:5","1 : 1"]
[null,null,null,null,null,null,null,null,null,null,null,null,null,null,null,null,null,{"$f":"SUM(R383:R391)+R379","v":338838},665087,633268,267434,572358,217023,450646,165830,805575,593569,308535,339143,287626,268331,389948,309353,389353,398942,null,{"$f":"SUM(AK383:AK391)+AK379","v":34},66,63,27,57,22,45,17,80,59,31,34,29,27,39,31,39,40,null,{"$f":"SUM(BD383:BD391)+BD379","v":-12},50,32,-26,23,-30,6,-42,55,35,-15,-9,-24,-17,-1,-7,-7,-11,null,{"$f":"SUM(BW383:BW391)+BW379","v":38},87,68,34,58,23,46,30,75,69,35,43,26,31,48,53,53,42,"x",{"$f":"IF(CP393<=$CO$3,SUMIF(CP383:CP391,1,$J383:$J391)+SUMIF(CP383:CP391,2,$L383:$L391),0)","v":3},3,0,0,1,0,3,3,1,3,3,0,0,1,0,0,3,1]
[null,null,null,null,null,null,null,null,null,null,null,null,null,null,null,null,null,{"$f":"RANK(R392,$R392:$AI392,0)","v":11},2,3,16,5,17,6,18,1,4,13,10,14,15,8,12,9,7,null,null,null,null,null,null,null,null,null,null,null,null,null,null,null,null,null,null,null,null,null,null,null,null,null,null,null,null,null,null,null,null,null,null,null,null,null,null,null,null,null,null,null,null,null,null,null,null,null,null,null,null,null,null,null,null,null,null,{"$f":"IF(SUM(CP383:CP391)>0,IF(CP406=0,1,CP406+1),IF(CP406<>0,CP406,0))","v":5},5,5,5,5,5,5,5,5,5,5,5,5,5,5,5,5,5]
[null,null,"31. Spieltag"]
[{"$f":"IF(SUM(J396:L404)>0,1,\"Z\")","v":1},null,"26.-28.04.2024"]
[null,{"$f":"C396&E396","v":"FC Bayern MünchenEintracht Frankfurt"},"FC Bayern München","-","Eintracht Frankfurt",2,":",1,null,{"$f":"IF(F396>H396,3,IF(F396<H396,0,IF(AND(H396<>\"\",F396=H396),1,0)))","v":3}," : ",{"$f":"IF(F396>H396,0,IF(F396<H396,3,IF(AND(H396<>\"\",F396=H396),1,0)))","v":0},null,{"$f":"F396-H396","v":1},null,{"$f":"H396-F396","v":-1},null,{"$f":"(AK396*10000+BD396*100+BW396)","v":0},{"$f":"(AL396*10000+BE396*100+BX396)","v":30102},{"$f":"(AM396*10000+BF396*100+BY396)","v":0},{"$f":"(AN396*10000+BG396*100+BZ396)","v":0},{"$f":"(AO396*10000+BH396*100+CA396)","v":0},{"$f":"(AP396*10000+BI396*100+CB396)","v":0},{"$f":"(AQ396*10000+BJ396*100+CC396)","v":-99},{"$f":"(AR396*10000+BK396*100+CD396)","v":0},{"$f":"(AS396*10000+BL396*100+CE396)","v":0},{"$f":"(AT396*10000+BM396*100+CF396)","v":0},{"$f":"(AU396*10000+BN396*100+CG396)","v":0},{"$f":"(AV396*10000+BO396*100+CH396)","v":0},{"$f":"(AW396*10000+BP396*100+CI396)","v":0},{"$f":"(AX396*10000+BQ396*100+CJ396)","v":0},{"$f":"(AY396*10000+BR396*100+CK396)","v":0},{"$f":"(AZ396*10000+BS396*100+CL396)","v":0},{"$f":"(BA396*10000+BT396*100+CM396)","v":0},{"$f":"(BB396*10000+BU396*100+CN396)","v":0},null,{"$f":"IF($C396=AK$1,$J396,IF($E396=AK$1,$L396,0))","v":0},3,0,0,0,0,0,0,0,0,{"$f":"IF($C396=AU$1,$J396,IF($E396=AU$1,$L396,0))","v":0},0,0,0,0,0,0,0,null,{"$f":"IF($C396=BD$1,$F396-$H396,IF($E396=BD$1,$H396-$F396,0))","v":0},1,0,0,0,0,-1,0,0,0,{"$f":"IF($C396=BN$1,$F396-$H396,IF($E396=BN$1,$H396-$F396,0))","v":0},0,0,0,0,0,0,0,null,{"$f":"IF($C396=BW$1,$F396,IF($E396=BW$1,$H396,0))","v":0},2,0,0,0,0,1,0,0,0,{"$f":"IF($C396=CG$1,$F396,IF($E396=CG$1,$H396,0))","v":0},0,0,0,0,0,0,0,null,{"$f":"IF($C396=CP$1,IF($F396<>\"\",1,0),IF($E396=CP$1,IF($H396<>\"\",2,0),0))","v":0},1,0,0,0,0,2,0,0,0,{"$f":"IF($C396=CZ$1,IF($F396<>\"\",1,0),IF($E396=CZ$1,IF($H396<>\"\",2,0),0))","v":0},0,0,0,0,0,0,0,57,23,24,"212:127",{"$f":"IFERROR(ROUND(MID(DK396,1,SEARCH(\":\",DK396,1)-1)/SUM(DH396:DJ396),$DL$2)&\" : \"&ROUND(MID(DK396,SEARCH(\":\",DK396,1)+1,99)/SUM(DH396:DJ396),$DL$2),\"\")","v":"2 : 1"}]
[null,"Borussia Mönchengladbach1. FC Union Berlin","Borussia Mönchengladbach","-","1. FC Union Berlin",0,":",0,null,1," : ",1,null,{"$f":"F397-H397","v":0},null,{"$f":"H397-F397","v":0},null,0,0,0,0,0,0,0,0,0,0,0,0,10000,0,0,10000,0,0,null,0,0,0,0,0,0,0,0,0,0,0,0,1,0,0,1,0,0,null,0,0,0,0,0,0,0,0,0,0,0,0,0,0,0,0,0,0,null,0,0,0,0,0,0,0,0,0,0,0,0,0,0,0,0,0,0,null,0,0,0,0,0,0,0,0,0,0,0,0,2,0,0,1,0,0,1,2,5,"9:12","1 : 2"]
[null,"VfL Bochum 1848TSG Hoffenheim","VfL Bochum 1848","-","TSG Hoffenheim",3,":",2,null,3," : ",0,null,1,null,-1,null,0,0,0,30103,0,0,0,0,0,0,0,0,0,0,0,0,-98,0,null,0,0,0,3,0,0,0,0,0,0,0,0,0,0,0,0,0,0,null,0,0,0,1,0,0,0,0,0,0,0,0,0,0,0,0,-1,0,null,0,0,0,3,0,0,0,0,0,0,0,0,0,0,0,0,2,0,null,0,0,0,1,0,0,0,0,0,0,0,0,0,0,0,0,2,0,5,0,3,"17:13","2 : 2"]
[null,"Bayer 04 LeverkusenVfB Stuttgart","Bayer 04 Leverkusen","-","VfB Stuttgart",2,":",2,null,1," : ",1,null,0,null,0,null,0,0,10002,0,0,0,0,0,10002,0,0,0,0,0,0,0,0,0,null,0,0,1,0,0,0,0,0,1,0,0,0,0,0,0,0,0,0,null,0,0,0,0,0,0,0,0,0,0,0,0,0,0,0,0,0,0,null,0,0,2,0,0,0,0,0,2,0,0,0,0,0,0,0,0,0,null,0,0,2,0,0,0,0,0,1,0,0,0,0,0,0,0,0,0,40,21,23,"149:107","2 : 1"]
[null,"Sport-Club FreiburgVfL Wolfsburg","Sport-Club Freiburg","-","VfL Wolfsburg",1,":",2,null,0," : ",3,null,-1,null,1,null,0,0,0,0,0,0,0,0,0,0,30102,0,0,0,0,0,0,-99,null,0,0,0,0,0,0,0,0,0,0,3,0,0,0,0,0,0,0,null,0,0,0,0,0,0,0,0,0,0,1,0,0,0,0,0,0,-1,null,0,0,0,0,0,0,0,0,0,0,2,0,0,0,0,0,0,1,null,0,0,0,0,0,0,0,0,0,0,2,0,0,0,0,0,0,1,15,11,14,"56:68","1 : 2"]
[null,"1. FSV Mainz 051. FC Köln","1. FSV Mainz 05","-","1. FC Köln",1,":",1,null,1," : ",1,null,0,null,0,null,0,0,0,0,0,10001,0,0,0,0,0,0,0,10001,0,0,0,0,null,0,0,0,0,0,1,0,0,0,0,0,0,0,1,0,0,0,0,null,0,0,0,0,0,0,0,0,0,0,0,0,0,0,0,0,0,0,null,0,0,0,0,0,1,0,0,0,0,0,0,0,1,0,0,0,0,null,0,0,0,0,0,2,0,0,0,0,0,0,0,1,0,0,0,0,12,10,10,"47:35","1 : 1"]
[null,"SV Darmstadt 981. FC Heidenheim 1846","SV Darmstadt 98","-","1. FC Heidenheim 1846",0,":",1,null,0," : ",3,null,-1,null,1,null,0,0,0,0,0,0,0,-100,0,0,0,30101,0,0,0,0,0,0,null,0,0,0,0,0,0,0,0,0,0,0,3,0,0,0,0,0,0,null,0,0,0,0,0,0,0,-1,0,0,0,1,0,0,0,0,0,0,null,0,0,0,0,0,0,0,0,0,0,0,1,0,0,0,0,0,0,null,0,0,0,0,0,0,0,1,0,0,0,2,0,0,0,0,0,0,4,5,5,"20:19","1 : 1"]
[null,"FC AugsburgSV Werder Bremen","FC Augsburg","-","SV Werder Bremen",0,":",3,null,0," : ",3,null,-3,null,3,null,30303,0,0,0,0,0,0,0,0,0,0,0,0,0,-300,0,0,0,null,3,0,0,0,0,0,0,0,0,0,0,0,0,0,0,0,0,0,null,3,0,0,0,0,0,0,0,0,0,0,0,0,0,-3,0,0,0,null,3,0,0,0,0,0,0,0,0,0,0,0,0,0,0,0,0,0,null,2,0,0,0,0,0,0,0,0,0,0,0,0,0,1,0,0,0,12,2,8,"38:33","2 : 2"]
[null,"RB LeipzigBorussia Dortmund","RB Leipzig","-","Borussia Dortmund",4,":",1,null,3," : ",0,null,3,null,-3,null,0,0,0,0,-299,0,0,0,0,30304,0,0,0,0,0,0,0,0,null,0,0,0,0,0,0,0,0,0,3,0,0,0,0,0,0,0,0,null,0,0,0,0,-3,0,0,0,0,3,0,0,0,0,0,0,0,0,null,0,0,0,0,1,0,0,0,0,4,0,0,0,0,0,0,0,0,null,0,0,0,0,2,0,0,0,0,1,0,0,0,0,0,0,0,0,5,2,7,"22:24","2 : 2"]
[null,null,null,null,null,null,null,null,null,null,null,null,null,null,null,null,null,{"$f":"SUM(R396:R404)+R392","v":369141},695189,643270,297537,572059,227024,450547,165730,815577,623873,338637,369244,297626,278332,389648,319353,389255,398843,null,{"$f":"SUM(AK396:AK404)+AK392","v":37},69,64,30,57,23,45,17,81,62,34,37,30,28,39,32,39,40,null,{"$f":"SUM(BD396:BD404)+BD392","v":-9},51,32,-25,20,-30,5,-43,55,38,-14,-8,-24,-17,-4,-7,-8,-12,null,{"$f":"SUM(BW396:BW404)+BW392","v":41},89,70,37,59,24,47,30,77,73,37,44,26,32,48,53,55,43,"x",{"$f":"IF(CP406<=$CO$3,SUMIF(CP396:CP404,1,$J396:$J404)+SUMIF(CP396:CP404,2,$L396:$L404),0)","v":3},3,1,3,0,1,0,0,1,3,3,3,1,1,0,1,0,0]
[null,null,null,null,null,null,null,null,null,null,null,null,null,null,null,null,null,{"$f":"RANK(R405,$R405:$AI405,0)","v":11},2,3,15,5,17,6,18,1,4,12,10,14,16,8,13,9,7,null,null,null,null,null,null,null,null,null,null,null,null,null,null,null,null,null,null,null,null,null,null,null,null,null,null,null,null,null,null,null,null,null,null,null,null,null,null,null,null,null,null,null,null,null,null,null,null,null,null,null,null,null,null,null,null,null,null,{"$f":"IF(SUM(CP396:CP404)>0,IF(CP419=0,1,CP419+1),IF(CP419<>0,CP419,0))","v":4},4,4,4,4,4,4,4,4,4,4,4,4,4,4,4,4,4]
[null,null,"32. Spieltag"]
[{"$f":"IF(SUM(J409:L417)>0,1,\"Z\")","v":1},null,"03.-05.05.2024"]
[null,{"$f":"C409&E409","v":"SV Werder BremenBorussia Mönchengladbach"},"SV Werder Bremen","-","Borussia Mönchengladbach",2,":",2,null,{"$f":"IF(F409>H409,3,IF(F409<H409,0,IF(AND(H409<>\"\",F409=H409),1,0)))","v":1}," : ",{"$f":"IF(F409>H409,0,IF(F409<H409,3,IF(AND(H409<>\"\",F409=H409),1,0)))","v":1},null,{"$f":"F409-H409","v":0},null,{"$f":"H409-F409","v":0},null,{"$f":"(AK409*10000+BD409*100+BW409)","v":10002},{"$f":"(AL409*10000+BE409*100+BX409)","v":0},{"$f":"(AM409*10000+BF409*100+BY409)","v":0},{"$f":"(AN409*10000+BG409*100+BZ409)","v":0},{"$f":"(AO409*10000+BH409*100+CA409)","v":0},{"$f":"(AP409*10000+BI409*100+CB409)","v":0},{"$f":"(AQ409*10000+BJ409*100+CC409)","v":0},{"$f":"(AR409*10000+BK409*100+CD409)","v":0},{"$f":"(AS409*10000+BL409*100+CE409)","v":0},{"$f":"(AT409*10000+BM409*100+CF409)","v":0},{"$f":"(AU409*10000+BN409*100+CG409)","v":0},{"$f":"(AV409*10000+BO409*100+CH409)","v":0},{"$f":"(AW409*10000+BP409*100+CI409)","v":0},{"$f":"(AX409*10000+BQ409*100+CJ409)","v":0},{"$f":"(AY409*10000+BR409*100+CK409)","v":0},{"$f":"(AZ409*10000+BS409*100+CL409)","v":10002},{"$f":"(BA409*10000+BT409*100+CM409)","v":0},{"$f":"(BB409*10000+BU409*100+CN409)","v":0},null,{"$f":"IF($C409=AK$1,$J409,IF($E409=AK$1,$L409,0))","v":1},0,0,0,0,0,0,0,0,0,{"$f":"IF($C409=AU$1,$J409,IF($E409=AU$1,$L409,0))","v":0},0,0,0,0,1,0,0,null,{"$f":"IF($C409=BD$1,$F409-$H409,IF($E409=BD$1,$H409-$F409,0))","v":0},0,0,0,0,0,0,0,0,0,{"$f":"IF($C409=BN$1,$F409-$H409,IF($E409=BN$1,$H409-$F409,0))","v":0},0,0,0,0,0,0,0,null,{"$f":"IF($C409=BW$1,$F409,IF($E409=BW$1,$H409,0))","v":2},0,0,0,0,0,0,0,0,0,{"$f":"IF($C409=CG$1,$F409,IF($E409=CG$1,$H409,0))","v":0},0,0,0,0,2,0,0,null,{"$f":"IF($C409=CP$1,IF($F409<>\"\",1,0),IF($E409=CP$1,IF($H409<>\"\",2,0),0))","v":1},0,0,0,0,0,0,0,0,0,{"$f":"IF($C409=CZ$1,IF($F409<>\"\",1,0),IF($E409=CZ$1,IF($H409<>\"\",2,0),0))","v":0},0,0,0,0,2,0,0,39,26,41,"163:180",{"$f":"IFERROR(ROUND(MID(DK409,1,SEARCH(\":\",DK409,1)-1)/SUM(DH409:DJ409),$DL$2)&\" : \"&ROUND(MID(DK409,SEARCH(\":\",DK409,1)+1,99)/SUM(DH409:DJ409),$DL$2),\"\")","v":"2 : 2"}]
[null,"VfB StuttgartFC Bayern München","VfB Stuttgart","-","FC Bayern München",3,":",1,null,3," : ",0,null,{"$f":"F410-H410","v":2},null,{"$f":"H410-F410","v":-2},null,0,-199,30203,0,0,0,0,0,0,0,0,0,0,0,0,0,0,0,null,0,0,3,0,0,0,0,0,0,0,0,0,0,0,0,0,0,0,null,0,-2,2,0,0,0,0,0,0,0,0,0,0,0,0,0,0,0,null,0,1,3,0,0,0,0,0,0,0,0,0,0,0,0,0,0,0,null,0,2,1,0,0,0,0,0,0,0,0,0,0,0,0,0,0,0,18,22,68,"121:227","1 : 2"]
[null,"1. FC KölnSport-Club Freiburg","1. FC Köln","-","Sport-Club Freiburg",0,":",0,null,1," : ",1,null,0,null,0,null,0,0,0,0,0,10000,0,0,0,0,0,0,0,0,0,0,0,10000,null,0,0,0,0,0,1,0,0,0,0,0,0,0,0,0,0,0,1,null,0,0,0,0,0,0,0,0,0,0,0,0,0,0,0,0,0,0,null,0,0,0,0,0,0,0,0,0,0,0,0,0,0,0,0,0,0,null,0,0,0,0,0,1,0,0,0,0,0,0,0,0,0,0,0,2,14,7,19,"48:58","1 : 1"]
[null,"Borussia DortmundFC Augsburg","Borussia Dortmund","-","FC Augsburg",5,":",1,null,3," : ",0,null,4,null,-4,null,0,0,0,0,30405,0,0,0,0,0,0,0,0,0,-399,0,0,0,null,0,0,0,0,3,0,0,0,0,0,0,0,0,0,0,0,0,0,null,0,0,0,0,4,0,0,0,0,0,0,0,0,0,-4,0,0,0,null,0,0,0,0,5,0,0,0,0,0,0,0,0,0,1,0,0,0,null,0,0,0,0,1,0,0,0,0,0,0,0,0,0,2,0,0,0,15,6,3,"61:31","3 : 1"]
[null,"Eintracht FrankfurtBayer 04 Leverkusen","Eintracht Frankfurt","-","Bayer 04 Leverkusen",1,":",5,null,0," : ",3,null,-4,null,4,null,0,0,0,0,0,0,-399,0,30405,0,0,0,0,0,0,0,0,0,null,0,0,0,0,0,0,0,0,3,0,0,0,0,0,0,0,0,0,null,0,0,0,0,0,0,-4,0,4,0,0,0,0,0,0,0,0,0,null,0,0,0,0,0,0,1,0,5,0,0,0,0,0,0,0,0,0,null,0,0,0,0,0,0,1,0,2,0,0,0,0,0,0,0,0,0,28,13,35,"111:136","1 : 2"]
[null,"VfL WolfsburgSV Darmstadt 98","VfL Wolfsburg","-","SV Darmstadt 98",3,":",0,null,3," : ",0,null,3,null,-3,null,0,0,0,0,0,0,0,-300,0,0,30303,0,0,0,0,0,0,0,null,0,0,0,0,0,0,0,0,0,0,3,0,0,0,0,0,0,0,null,0,0,0,0,0,0,0,-3,0,0,3,0,0,0,0,0,0,0,null,0,0,0,0,0,0,0,0,0,0,3,0,0,0,0,0,0,0,null,0,0,0,0,0,0,0,2,0,0,1,0,0,0,0,0,0,0,3,1,2,"7:8","1 : 1"]
[null,"1. FC Union BerlinVfL Bochum 1848","1. FC Union Berlin","-","VfL Bochum 1848",3,":",4,null,0," : ",3,null,-1,null,1,null,0,0,0,30104,0,0,0,0,0,0,0,0,-97,0,0,0,0,0,null,0,0,0,3,0,0,0,0,0,0,0,0,0,0,0,0,0,0,null,0,0,0,1,0,0,0,0,0,0,0,0,-1,0,0,0,0,0,null,0,0,0,4,0,0,0,0,0,0,0,0,3,0,0,0,0,0,null,0,0,0,2,0,0,0,0,0,0,0,0,1,0,0,0,0,0,12,4,8,"37:31","2 : 1"]
[null,"TSG HoffenheimRB Leipzig","TSG Hoffenheim","-","RB Leipzig",1,":",1,null,1," : ",1,null,0,null,0,null,0,0,0,0,0,0,0,0,0,10001,0,0,0,0,0,0,10001,0,null,0,0,0,0,0,0,0,0,0,1,0,0,0,0,0,0,1,0,null,0,0,0,0,0,0,0,0,0,0,0,0,0,0,0,0,0,0,null,0,0,0,0,0,0,0,0,0,1,0,0,0,0,0,0,1,0,null,0,0,0,0,0,0,0,0,0,2,0,0,0,0,0,0,1,0,3,3,8,"18:22","1 : 2"]
[null,"1. FC Heidenheim 18461. FSV Mainz 05","1. FC Heidenheim 1846","-","1. FSV Mainz 05",1,":",1,null,1," : ",1,null,0,null,0,null,0,0,0,0,0,0,0,0,0,0,0,10001,0,10001,0,0,0,0,null,0,0,0,0,0,0,0,0,0,0,0,1,0,1,0,0,0,0,null,0,0,0,0,0,0,0,0,0,0,0,0,0,0,0,0,0,0,null,0,0,0,0,0,0,0,0,0,0,0,1,0,1,0,0,0,0,null,0,0,0,0,0,0,0,0,0,0,0,1,0,2,0,0,0,0,"-","-","-","-",""]
[null,null,null,null,null,null,null,null,null,null,null,null,null,null,null,null,null,{"$f":"SUM(R409:R417)+R405","v":379143},694990,673473,327641,602464,237024,450148,165430,845982,633874,368940,379245,297529,288333,389249,329355,399256,408843,null,{"$f":"SUM(AK409:AK417)+AK405","v":38},69,67,33,60,24,45,17,84,63,37,38,30,29,39,33,40,41,null,{"$f":"SUM(BD409:BD417)+BD405","v":-9},49,34,-24,24,-30,1,-46,59,38,-11,-8,-25,-17,-8,-7,-8,-12,null,{"$f":"SUM(BW409:BW417)+BW405","v":43},90,73,41,64,24,48,30,82,74,40,45,29,33,49,55,56,43,"x",{"$f":"IF(CP419<=$CO$3,SUMIF(CP409:CP417,1,$J409:$J417)+SUMIF(CP409:CP417,2,$L409:$L417),0)","v":1},0,3,3,3,1,0,0,3,1,3,1,0,1,0,1,1,1]
[null,null,null,null,null,null,null,null,null,null,null,null,null,null,null,null,null,{"$f":"RANK(R418,$R418:$AI418,0)","v":11},2,3,14,5,17,6,18,1,4,12,10,15,16,9,13,8,7,null,null,null,null,null,null,null,null,null,null,null,null,null,null,null,null,null,null,null,null,null,null,null,null,null,null,null,null,null,null,null,null,null,null,null,null,null,null,null,null,null,null,null,null,null,null,null,null,null,null,null,null,null,null,null,null,null,null,{"$f":"IF(SUM(CP409:CP417)>0,IF(CP432=0,1,CP432+1),IF(CP432<>0,CP432,0))","v":3},3,3,3,3,3,3,3,3,3,3,3,3,3,3,3,3,3]
[null,null,"33. Spieltag"]
[{"$f":"IF(SUM(J422:L430)>0,1,\"Z\")","v":1},null,"10.-12.05.2024"]
[null,{"$f":"C422&E422","v":"FC Bayern MünchenVfL Wolfsburg"},"FC Bayern München","-","VfL Wolfsburg",2,":",0,null,{"$f":"IF(F422>H422,3,IF(F422<H422,0,IF(AND(H422<>\"\",F422=H422),1,0)))","v":3}," : ",{"$f":"IF(F422>H422,0,IF(F422<H422,3,IF(AND(H422<>\"\",F422=H422),1,0)))","v":0},null,{"$f":"F422-H422","v":2},null,{"$f":"H422-F422","v":-2},null,{"$f":"(AK422*10000+BD422*100+BW422)","v":0},{"$f":"(AL422*10000+BE422*100+BX422)","v":30202},{"$f":"(AM422*10000+BF422*100+BY422)","v":0},{"$f":"(AN422*10000+BG422*100+BZ422)","v":0},{"$f":"(AO422*10000+BH422*100+CA422)","v":0},{"$f":"(AP422*10000+BI422*100+CB422)","v":0},{"$f":"(AQ422*10000+BJ422*100+CC422)","v":0},{"$f":"(AR422*10000+BK422*100+CD422)","v":0},{"$f":"(AS422*10000+BL422*100+CE422)","v":0},{"$f":"(AT422*10000+BM422*100+CF422)","v":0},{"$f":"(AU422*10000+BN422*100+CG422)","v":-200},{"$f":"(AV422*10000+BO422*100+CH422)","v":0},{"$f":"(AW422*10000+BP422*100+CI422)","v":0},{"$f":"(AX422*10000+BQ422*100+CJ422)","v":0},{"$f":"(AY422*10000+BR422*100+CK422)","v":0},{"$f":"(AZ422*10000+BS422*100+CL422)","v":0},{"$f":"(BA422*10000+BT422*100+CM422)","v":0},{"$f":"(BB422*10000+BU422*100+CN422)","v":0},null,{"$f":"IF($C422=AK$1,$J422,IF($E422=AK$1,$L422,0))","v":0},3,0,0,0,0,0,0,0,0,{"$f":"IF($C422=AU$1,$J422,IF($E422=AU$1,$L422,0))","v":0},0,0,0,0,0,0,0,null,{"$f":"IF($C422=BD$1,$F422-$H422,IF($E422=BD$1,$H422-$F422,0))","v":0},2,0,0,0,0,0,0,0,0,{"$f":"IF($C422=BN$1,$F422-$H422,IF($E422=BN$1,$H422-$F422,0))","v":-2},0,0,0,0,0,0,0,null,{"$f":"IF($C422=BW$1,$F422,IF($E422=BW$1,$H422,0))","v":0},2,0,0,0,0,0,0,0,0,{"$f":"IF($C422=CG$1,$F422,IF($E422=CG$1,$H422,0))","v":0},0,0,0,0,0,0,0,null,{"$f":"IF($C422=CP$1,IF($F422<>\"\",1,0),IF($E422=CP$1,IF($H422<>\"\",2,0),0))","v":0},1,0,0,0,0,0,0,0,0,{"$f":"IF($C422=CZ$1,IF($F422<>\"\",1,0),IF($E422=CZ$1,IF($H422<>\"\",2,0),0))","v":2},0,0,0,0,0,0,0,41,7,4,"132:44",{"$f":"IFERROR(ROUND(MID(DK422,1,SEARCH(\":\",DK422,1)-1)/SUM(DH422:DJ422),$DL$2)&\" : \"&ROUND(MID(DK422,SEARCH(\":\",DK422,1)+1,99)/SUM(DH422:DJ422),$DL$2),\"\")","v":"3 : 1"}]
[null,"Borussia MönchengladbachEintracht Frankfurt","Borussia Mönchengladbach","-","Eintracht Frankfurt",1,":",1,null,1," : ",1,null,{"$f":"F423-H423","v":0},null,{"$f":"H423-F423","v":0},null,0,0,0,0,0,0,10001,0,0,0,0,0,0,0,0,10001,0,0,null,0,0,0,0,0,0,1,0,0,0,0,0,0,0,0,1,0,0,null,0,0,0,0,0,0,0,0,0,0,0,0,0,0,0,0,0,0,null,0,0,0,0,0,0,1,0,0,0,0,0,0,0,0,1,0,0,null,0,0,0,0,0,0,2,0,0,0,0,0,0,0,0,1,0,0,33,29,36,"149:150","2 : 2"]
[null,"1. FC Köln1. FC Union Berlin","1. FC Köln","-","1. FC Union Berlin",3,":",2,null,3," : ",0,null,1,null,-1,null,0,0,0,0,0,30103,0,0,0,0,0,0,-98,0,0,0,0,0,null,0,0,0,0,0,3,0,0,0,0,0,0,0,0,0,0,0,0,null,0,0,0,0,0,1,0,0,0,0,0,0,-1,0,0,0,0,0,null,0,0,0,0,0,3,0,0,0,0,0,0,2,0,0,0,0,0,null,0,0,0,0,0,1,0,0,0,0,0,0,2,0,0,0,0,0,5,3,8,"25:18","2 : 1"]
[null,"VfL Bochum 1848Bayer 04 Leverkusen","VfL Bochum 1848","-","Bayer 04 Leverkusen",0,":",5,null,0," : ",3,null,-5,null,5,null,0,0,0,-500,0,0,0,0,30505,0,0,0,0,0,0,0,0,0,null,0,0,0,0,0,0,0,0,3,0,0,0,0,0,0,0,0,0,null,0,0,0,-5,0,0,0,0,5,0,0,0,0,0,0,0,0,0,null,0,0,0,0,0,0,0,0,5,0,0,0,0,0,0,0,0,0,null,0,0,0,1,0,0,0,0,2,0,0,0,0,0,0,0,0,0,17,13,26,"78:96","1 : 2"]
[null,"Sport-Club Freiburg1. FC Heidenheim 1846","Sport-Club Freiburg","-","1. FC Heidenheim 1846",1,":",1,null,1," : ",1,null,0,null,0,null,0,0,0,0,0,0,0,0,0,0,0,10001,0,0,0,0,0,10001,null,0,0,0,0,0,0,0,0,0,0,0,1,0,0,0,0,0,1,null,0,0,0,0,0,0,0,0,0,0,0,0,0,0,0,0,0,0,null,0,0,0,0,0,0,0,0,0,0,0,1,0,0,0,0,0,1,null,0,0,0,0,0,0,0,0,0,0,0,2,0,0,0,0,0,1,2,0,0,"4:1","2 : 1"]
[null,"1. FSV Mainz 05Borussia Dortmund","1. FSV Mainz 05","-","Borussia Dortmund",3,":",0,null,3," : ",0,null,3,null,-3,null,0,0,0,0,-300,0,0,0,0,0,0,0,0,30303,0,0,0,0,null,0,0,0,0,0,0,0,0,0,0,0,0,0,3,0,0,0,0,null,0,0,0,0,-3,0,0,0,0,0,0,0,0,3,0,0,0,0,null,0,0,0,0,0,0,0,0,0,0,0,0,0,3,0,0,0,0,null,0,0,0,0,2,0,0,0,0,0,0,0,0,1,0,0,0,0,5,9,20,"31:59","1 : 2"]
[null,"SV Darmstadt 98TSG Hoffenheim","SV Darmstadt 98","-","TSG Hoffenheim",0,":",6,null,0," : ",3,null,-6,null,6,null,0,0,0,0,0,0,0,-600,0,0,0,0,0,0,0,0,30606,0,null,0,0,0,0,0,0,0,0,0,0,0,0,0,0,0,0,3,0,null,0,0,0,0,0,0,0,-6,0,0,0,0,0,0,0,0,6,0,null,0,0,0,0,0,0,0,0,0,0,0,0,0,0,0,0,6,0,null,0,0,0,0,0,0,0,1,0,0,0,0,0,0,0,0,2,0,1,2,1,"3:3","1 : 1"]
[null,"FC AugsburgVfB Stuttgart","FC Augsburg","-","VfB Stuttgart",0,":",1,null,0," : ",3,null,-1,null,1,null,0,0,30101,0,0,0,0,0,0,0,0,0,0,0,-100,0,0,0,null,0,0,3,0,0,0,0,0,0,0,0,0,0,0,0,0,0,0,null,0,0,1,0,0,0,0,0,0,0,0,0,0,0,-1,0,0,0,null,0,0,1,0,0,0,0,0,0,0,0,0,0,0,0,0,0,0,null,0,0,2,0,0,0,0,0,0,0,0,0,0,0,1,0,0,0,11,2,11,"42:34","2 : 1"]
[null,"RB LeipzigSV Werder Bremen","RB Leipzig","-","SV Werder Bremen",1,":",1,null,1," : ",1,null,0,null,0,null,10001,0,0,0,0,0,0,0,0,10001,0,0,0,0,0,0,0,0,null,1,0,0,0,0,0,0,0,0,1,0,0,0,0,0,0,0,0,null,0,0,0,0,0,0,0,0,0,0,0,0,0,0,0,0,0,0,null,1,0,0,0,0,0,0,0,0,1,0,0,0,0,0,0,0,0,null,2,0,0,0,0,0,0,0,0,1,0,0,0,0,0,0,0,0,9,1,2,"26:12","2 : 1"]
[null,null,null,null,null,null,null,null,null,null,null,null,null,null,null,null,null,{"$f":"SUM(R422:R430)+R418","v":389144},725192,703574,327141,602164,267127,460149,164830,876487,643875,368740,389246,297431,318636,389149,339356,429862,418844,null,{"$f":"SUM(AK422:AK430)+AK418","v":39},72,70,33,60,27,46,17,87,64,37,39,30,32,39,34,43,42,null,{"$f":"SUM(BD422:BD430)+BD418","v":-9},51,35,-29,21,-29,1,-52,64,38,-13,-8,-26,-14,-9,-7,-2,-12,null,{"$f":"SUM(BW422:BW430)+BW418","v":44},92,74,41,64,27,49,30,87,75,40,46,31,36,49,56,62,44,"x",{"$f":"IF(CP432<=$CO$3,SUMIF(CP422:CP430,1,$J422:$J430)+SUMIF(CP422:CP430,2,$L422:$L430),0)","v":1},3,3,0,0,3,1,0,3,1,0,1,0,3,0,1,3,1]
[null,null,null,null,null,null,null,null,null,null,null,null,null,null,null,null,null,{"$f":"RANK(R431,$R431:$AI431,0)","v":11},2,3,14,5,17,6,18,1,4,12,9,16,15,10,13,7,8,null,null,null,null,null,null,null,null,null,null,null,null,null,null,null,null,null,null,null,null,null,null,null,null,null,null,null,null,null,null,null,null,null,null,null,null,null,null,null,null,null,null,null,null,null,null,null,null,null,null,null,null,null,null,null,null,null,null,{"$f":"IF(SUM(CP422:CP430)>0,IF(CP445=0,1,CP445+1),IF(CP445<>0,CP445,0))","v":2},2,2,2,2,2,2,2,2,2,2,2,2,2,2,2,2,2]
[null,null,"34. Spieltag"]
[{"$f":"IF(SUM(J435:L443)>0,1,\"Z\")","v":1},null,"2024-05-18T15:30:00"]
[null,{"$f":"C435&E435","v":"SV Werder BremenVfL Bochum 1848"},"SV Werder Bremen","-","VfL Bochum 1848",4,":",1,null,{"$f":"IF(F435>H435,3,IF(F435<H435,0,IF(AND(H435<>\"\",F435=H435),1,0)))","v":3}," : ",{"$f":"IF(F435>H435,0,IF(F435<H435,3,IF(AND(H435<>\"\",F435=H435),1,0)))","v":0},null,{"$f":"F435-H435","v":3},null,{"$f":"H435-F435","v":-3},null,{"$f":"(AK435*10000+BD435*100+BW435)","v":30304},{"$f":"(AL435*10000+BE435*100+BX435)","v":0},{"$f":"(AM435*10000+BF435*100+BY435)","v":0},{"$f":"(AN435*10000+BG435*100+BZ435)","v":-299},{"$f":"(AO435*10000+BH435*100+CA435)","v":0},{"$f":"(AP435*10000+BI435*100+CB435)","v":0},{"$f":"(AQ435*10000+BJ435*100+CC435)","v":0},{"$f":"(AR435*10000+BK435*100+CD435)","v":0},{"$f":"(AS435*10000+BL435*100+CE435)","v":0},{"$f":"(AT435*10000+BM435*100+CF435)","v":0},{"$f":"(AU435*10000+BN435*100+CG435)","v":0},{"$f":"(AV435*10000+BO435*100+CH435)","v":0},{"$f":"(AW435*10000+BP435*100+CI435)","v":0},{"$f":"(AX435*10000+BQ435*100+CJ435)","v":0},{"$f":"(AY435*10000+BR435*100+CK435)","v":0},{"$f":"(AZ435*10000+BS435*100+CL435)","v":0},{"$f":"(BA435*10000+BT435*100+CM435)","v":0},{"$f":"(BB435*10000+BU435*100+CN435)","v":0},null,{"$f":"IF($C435=AK$1,$J435,IF($E435=AK$1,$L435,0))","v":3},0,0,0,0,0,0,0,0,0,{"$f":"IF($C435=AU$1,$J435,IF($E435=AU$1,$L435,0))","v":0},0,0,0,0,0,0,0,null,{"$f":"IF($C435=BD$1,$F435-$H435,IF($E435=BD$1,$H435-$F435,0))","v":3},0,0,-3,0,0,0,0,0,0,{"$f":"IF($C435=BN$1,$F435-$H435,IF($E435=BN$1,$H435-$F435,0))","v":0},0,0,0,0,0,0,0,null,{"$f":"IF($C435=BW$1,$F435,IF($E435=BW$1,$H435,0))","v":4},0,0,1,0,0,0,0,0,0,{"$f":"IF($C435=CG$1,$F435,IF($E435=CG$1,$H435,0))","v":0},0,0,0,0,0,0,0,null,{"$f":"IF($C435=CP$1,IF($F435<>\"\",1,0),IF($E435=CP$1,IF($H435<>\"\",2,0),0))","v":1},0,0,2,0,0,0,0,0,0,{"$f":"IF($C435=CZ$1,IF($F435<>\"\",1,0),IF($E435=CZ$1,IF($H435<>\"\",2,0),0))","v":0},0,0,0,0,0,0,0,43,15,10,"141:69",{"$f":"IFERROR(ROUND(MID(DK435,1,SEARCH(\":\",DK435,1)-1)/SUM(DH435:DJ435),$DL$2)&\" : \"&ROUND(MID(DK435,SEARCH(\":\",DK435,1)+1,99)/SUM(DH435:DJ435),$DL$2),\"\")","v":"2 : 1"}]
[null,"VfB StuttgartBorussia Mönchengladbach","VfB Stuttgart","-","Borussia Mönchengladbach",4,":",0,null,{"$f":"IF(F436>H436,3,IF(F436<H436,0,IF(AND(H436<>\"\",F436=H436),1,0)))","v":3}," : ",0,null,{"$f":"F436-H436","v":4},null,{"$f":"H436-F436","v":-4},null,0,0,30404,0,0,0,0,0,0,0,0,0,0,0,0,-400,0,0,null,0,0,3,0,0,0,0,0,0,0,0,0,0,0,0,0,0,0,null,0,0,4,0,0,0,0,0,0,0,0,0,0,0,0,-4,0,0,null,0,0,4,0,0,0,0,0,0,0,0,0,0,0,0,0,0,0,null,0,0,1,0,0,0,0,0,0,0,0,0,0,0,0,2,0,0,42,30,30,"166:136","2 : 1"]
[null,"Borussia DortmundSV Darmstadt 98","Borussia Dortmund","-","SV Darmstadt 98",4,":",0,null,3," : ",0,null,4,null,-4,null,0,0,0,0,30404,0,0,-400,0,0,0,0,0,0,0,0,0,0,null,0,0,0,0,3,0,0,0,0,0,0,0,0,0,0,0,0,0,null,0,0,0,0,4,0,0,-4,0,0,0,0,0,0,0,0,0,0,null,0,0,0,0,4,0,0,0,0,0,0,0,0,0,0,0,0,0,null,0,0,0,0,1,0,0,2,0,0,0,0,0,0,0,0,0,0,4,2,2,"20:8","3 : 1"]
[null,"Eintracht FrankfurtRB Leipzig","Eintracht Frankfurt","-","RB Leipzig",2,":",2,null,1," : ",1,null,0,null,0,null,0,0,0,0,0,0,10002,0,0,10002,0,0,0,0,0,0,0,0,null,0,0,0,0,0,0,1,0,0,1,0,0,0,0,0,0,0,0,null,0,0,0,0,0,0,0,0,0,0,0,0,0,0,0,0,0,0,null,0,0,0,0,0,0,2,0,0,2,0,0,0,0,0,0,0,0,null,0,0,0,0,0,0,1,0,0,2,0,0,0,0,0,0,0,0,3,7,4,"17:16","1 : 1"]
[null,"Bayer 04 LeverkusenFC Augsburg","Bayer 04 Leverkusen","-","FC Augsburg",2,":",1,null,3," : ",0,null,1,null,-1,null,0,0,0,0,0,0,0,0,30102,0,0,0,0,0,-99,0,0,0,null,0,0,0,0,0,0,0,0,3,0,0,0,0,0,0,0,0,0,null,0,0,0,0,0,0,0,0,1,0,0,0,0,0,-1,0,0,0,null,0,0,0,0,0,0,0,0,2,0,0,0,0,0,1,0,0,0,null,0,0,0,0,0,0,0,0,1,0,0,0,0,0,2,0,0,0,15,7,2,"53:22","2 : 1"]
[null,"VfL Wolfsburg1. FSV Mainz 05","VfL Wolfsburg","-","1. FSV Mainz 05",1,":",3,null,0," : ",3,null,-2,null,2,null,0,0,0,0,0,0,0,0,0,0,-199,0,0,30203,0,0,0,0,null,0,0,0,0,0,0,0,0,0,0,0,0,0,3,0,0,0,0,null,0,0,0,0,0,0,0,0,0,0,-2,0,0,2,0,0,0,0,null,0,0,0,0,0,0,0,0,0,0,1,0,0,3,0,0,0,0,null,0,0,0,0,0,0,0,0,0,0,1,0,0,2,0,0,0,0,19,15,10,"75:55","2 : 1"]
[null,"1. FC Union BerlinSport-Club Freiburg","1. FC Union Berlin","-","Sport-Club Freiburg",2,":",1,null,3," : ",0,null,1,null,-1,null,0,0,0,0,0,0,0,0,0,0,0,0,30102,0,0,0,0,-99,null,0,0,0,0,0,0,0,0,0,0,0,0,3,0,0,0,0,0,null,0,0,0,0,0,0,0,0,0,0,0,0,1,0,0,0,0,-1,null,0,0,0,0,0,0,0,0,0,0,0,0,2,0,0,0,0,1,null,0,0,0,0,0,0,0,0,0,0,0,0,1,0,0,0,0,2,5,3,4,"17:20","1 : 2"]
[null,"TSG HoffenheimFC Bayern München","TSG Hoffenheim","-","FC Bayern München",4,":",2,null,3," : ",0,null,2,null,-2,null,0,-198,0,0,0,0,0,0,0,0,0,0,0,0,0,0,30204,0,null,0,0,0,0,0,0,0,0,0,0,0,0,0,0,0,0,3,0,null,0,-2,0,0,0,0,0,0,0,0,0,0,0,0,0,0,2,0,null,0,2,0,0,0,0,0,0,0,0,0,0,0,0,0,0,4,0,null,0,2,0,0,0,0,0,0,0,0,0,0,0,0,0,0,1,0,4,7,19,"28:70","1 : 2"]
[null,"1. FC Heidenheim 18461. FC Köln","1. FC Heidenheim 1846","-","1. FC Köln",4,":",1,null,3," : ",0,null,3,null,-3,null,0,0,0,0,0,-299,0,0,0,0,0,30304,0,0,0,0,0,0,null,0,0,0,0,0,0,0,0,0,0,0,3,0,0,0,0,0,0,null,0,0,0,0,0,-3,0,0,0,0,0,3,0,0,0,0,0,0,null,0,0,0,0,0,1,0,0,0,0,0,4,0,0,0,0,0,0,null,0,0,0,0,0,2,0,0,0,0,0,1,0,0,0,0,0,0,0,1,1,"1:3","1 : 2"]
[null,null,null,null,null,null,null,null,null,null,null,null,null,null,null,null,null,{"$f":"SUM(R435:R443)+R431","v":419448},724994,733978,326842,632568,266828,470151,164430,906589,653877,368541,419550,327533,348839,389050,338956,460066,418745,null,{"$f":"SUM(AK435:AK443)+AK431","v":42},72,73,33,63,27,47,17,90,65,37,42,33,35,39,34,46,42,null,{"$f":"SUM(BD435:BD443)+BD431","v":-6},49,39,-32,25,-32,1,-56,65,38,-15,-5,-25,-12,-10,-11,0,-13,null,{"$f":"SUM(BW435:BW443)+BW431","v":48},94,78,42,68,28,51,30,89,77,41,50,33,39,50,56,66,45,"x",{"$f":"IF(CP445<=$CO$3,SUMIF(CP435:CP443,1,$J435:$J443)+SUMIF(CP435:CP443,2,$L435:$L443),0)","v":3},0,3,0,3,0,1,0,3,1,0,3,3,3,0,0,3,0]
[null,null,null,null,null,null,null,null,null,null,null,null,null,null,null,null,null,{"$f":"RANK(R444,$R444:$AI444,0)","v":9},3,2,16,5,17,6,18,1,4,12,8,15,13,11,14,7,10,null,null,null,null,null,null,null,null,null,null,null,null,null,null,null,null,null,null,null,null,null,null,null,null,null,null,null,null,null,null,null,null,null,null,null,null,null,null,null,null,null,null,null,null,null,null,null,null,null,null,null,null,null,null,null,null,null,null,{"$f":"IF(SUM(CP435:CP443)>0,IF(CP458=0,1,CP458+1),IF(CP458<>0,CP458,0))","v":1},1,1,1,1,1,1,1,1,1,1,1,1,1,1,1,1,1]
[null,null,"Punkt- und Tor-Korrekturen",null,null,null,null,null,null,null,null,null,null,null,null,null,null,{"$f":"(AK446*10000+BD446*100+BW446)","v":0},0,0,0,0,0,0,0,0,0,0,0,0,0,0,0,0,0,null,0,0,0,0,0,0,0,0,0,0,0,0,0,0,0,0,0,0,null,0,0,0,0,0,0,0,0,0,0,0,0,0,0,0,0,0,0,null,0,0,0,0,0,0,0,0,0,0,0,0,0,0,0,0,0,0]
[]
[null,null,null,null,null,null,null,null,null,null,null,null,null,null,null,null,null,{"$f":"SUM(R446:R447)+R444","v":419448},724994,733978,326842,632568,266828,470151,164430,906589,653877,368541,419550,327533,348839,389050,338956,460066,418745,null,{"$f":"AK446+AK444","v":42},72,73,33,63,27,47,17,90,65,37,42,33,35,39,34,46,42,null,{"$f":"BD446+BD444","v":-6},49,39,-32,25,-32,1,-56,65,38,-15,-5,-25,-12,-10,-11,0,-13,null,{"$f":"BW446+BW444","v":48},94,78,42,68,28,51,30,89,77,41,50,33,39,50,56,66,45]
[null,null,null,null,null,null,null,null,null,null,null,null,null,null,null,null,null,{"$f":"RANK(R448,$R448:$AI448,0)","v":9},3,2,16,5,17,6,18,1,4,12,8,15,13,11,14,7,10]
[null,null,"Divisionsindex",2]

{"sheet":"Spiele","index":1,"n_rows":29,"n_cols":20,"rows_kept":29,"cut":false,"hidden":false,"merged":[]}
[null,"Deutsche Bundesliga",null,null,null,null,null,null,null,null,"2023 / 2024"]
[null,null,{"$f":"'1. Liga'!$Z$1","v":"Bayer 04 Leverkusen"},{"$f":"'1. Liga'!$T$1","v":"VfB Stuttgart"},{"$f":"'1. Liga'!$S$1","v":"FC Bayern München"},{"$f":"'1. Liga'!$AA$1","v":"RB Leipzig"},{"$f":"'1. Liga'!$V$1","v":"Borussia Dortmund"},{"$f":"'1. Liga'!$X$1","v":"Eintracht Frankfurt"},{"$f":"'1. Liga'!$AH$1","v":"TSG Hoffenheim"},{"$f":"'1. Liga'!$AC$1","v":"1. FC Heidenheim 1846"},{"$f":"'1. Liga'!$R$1","v":"SV Werder Bremen"},{"$f":"'1. Liga'!$AI$1","v":"Sport-Club Freiburg"},{"$f":"'1. Liga'!$AF$1","v":"FC Augsburg"},{"$f":"'1. Liga'!$AB$1","v":"VfL Wolfsburg"},{"$f":"'1. Liga'!$AE$1","v":"1. FSV Mainz 05"},{"$f":"'1. Liga'!$AG$1","v":"Borussia Mönchengladbach"},{"$f":"'1. Liga'!$AD$1","v":"1. FC Union Berlin"},{"$f":"'1. Liga'!$U$1","v":"VfL Bochum 1848"},{"$f":"'1. Liga'!$W$1","v":"1. FC Köln"},{"$f":"'1. Liga'!$Y$1","v":"SV Darmstadt 98"}]
[null,{"$f":"Tabelle!A1","v":34},{"$f":"'1. Liga'!$Z$3","v":1},{"$f":"'1. Liga'!$T$3","v":2},{"$f":"'1. Liga'!$S$3","v":3},{"$f":"'1. Liga'!$AA$3","v":4},{"$f":"'1. Liga'!$V$3","v":5},{"$f":"'1. Liga'!$X$3","v":6},{"$f":"'1. Liga'!$AH$3","v":7},{"$f":"'1. Liga'!$AC$3","v":8},{"$f":"'1. Liga'!$R$3","v":9},{"$f":"'1. Liga'!$AI$3","v":10},{"$f":"'1. Liga'!$AF$3","v":11},{"$f":"'1. Liga'!$AB$3","v":12},{"$f":"'1. Liga'!$AE$3","v":13},{"$f":"'1. Liga'!$AG$3","v":14},{"$f":"'1. Liga'!$AD$3","v":15},{"$f":"'1. Liga'!$U$3","v":16},{"$f":"'1. Liga'!$W$3","v":17},{"$f":"'1. Liga'!$Y$3","v":18}]
[{"$f":"'1. Liga'!$Z$3","v":1},{"$f":"'1. Liga'!$Z$1","v":"Bayer 04 Leverkusen"},"B",{"$f":"VLOOKUP($B4&D$2,'1. Liga'!$B$6:$H$443,5,FALSE)&\":\"&VLOOKUP($B4&D$2,'1. Liga'!$B$6:$H$443,7,FALSE)","v":"2:2"},{"$f":"VLOOKUP($B4&E$2,'1. Liga'!$B$6:$H$443,5,FALSE)&\":\"&VLOOKUP($B4&E$2,'1. Liga'!$B$6:$H$443,7,FALSE)","v":"3:0"},{"$f":"VLOOKUP($B4&F$2,'1. Liga'!$B$6:$H$443,5,FALSE)&\":\"&VLOOKUP($B4&F$2,'1. Liga'!$B$6:$H$443,7,FALSE)","v":"3:2"},{"$f":"VLOOKUP($B4&G$2,'1. Liga'!$B$6:$H$443,5,FALSE)&\":\"&VLOOKUP($B4&G$2,'1. Liga'!$B$6:$H$443,7,FALSE)","v":"1:1"},{"$f":"VLOOKUP($B4&H$2,'1. Liga'!$B$6:$H$443,5,FALSE)&\":\"&VLOOKUP($B4&H$2,'1. Liga'!$B$6:$H$443,7,FALSE)","v":"3:0"},{"$f":"VLOOKUP($B4&I$2,'1. Liga'!$B$6:$H$443,5,FALSE)&\":\"&VLOOKUP($B4&I$2,'1. Liga'!$B$6:$H$443,7,FALSE)","v":"2:1"},{"$f":"VLOOKUP($B4&J$2,'1. Liga'!$B$6:$H$443,5,FALSE)&\":\"&VLOOKUP($B4&J$2,'1. Liga'!$B$6:$H$443,7,FALSE)","v":"4:1"},{"$f":"VLOOKUP($B4&K$2,'1. Liga'!$B$6:$H$443,5,FALSE)&\":\"&VLOOKUP($B4&K$2,'1. Liga'!$B$6:$H$443,7,FALSE)","v":"5:0"},{"$f":"VLOOKUP($B4&L$2,'1. Liga'!$B$6:$H$443,5,FALSE)&\":\"&VLOOKUP($B4&L$2,'1. Liga'!$B$6:$H$443,7,FALSE)","v":"2:1"},{"$f":"VLOOKUP($B4&M$2,'1. Liga'!$B$6:$H$443,5,FALSE)&\":\"&VLOOKUP($B4&M$2,'1. Liga'!$B$6:$H$443,7,FALSE)","v":"2:1"},{"$f":"VLOOKUP($B4&N$2,'1. Liga'!$B$6:$H$443,5,FALSE)&\":\"&VLOOKUP($B4&N$2,'1. Liga'!$B$6:$H$443,7,FALSE)","v":"2:0"},{"$f":"VLOOKUP($B4&O$2,'1. Liga'!$B$6:$H$443,5,FALSE)&\":\"&VLOOKUP($B4&O$2,'1. Liga'!$B$6:$H$443,7,FALSE)","v":"2:1"},{"$f":"VLOOKUP($B4&P$2,'1. Liga'!$B$6:$H$443,5,FALSE)&\":\"&VLOOKUP($B4&P$2,'1. Liga'!$B$6:$H$443,7,FALSE)","v":"0:0"},{"$f":"VLOOKUP($B4&Q$2,'1. Liga'!$B$6:$H$443,5,FALSE)&\":\"&VLOOKUP($B4&Q$2,'1. Liga'!$B$6:$H$443,7,FALSE)","v":"4:0"},{"$f":"VLOOKUP($B4&R$2,'1. Liga'!$B$6:$H$443,5,FALSE)&\":\"&VLOOKUP($B4&R$2,'1. Liga'!$B$6:$H$443,7,FALSE)","v":"4:0"},{"$f":"VLOOKUP($B4&S$2,'1. Liga'!$B$6:$H$443,5,FALSE)&\":\"&VLOOKUP($B4&S$2,'1. Liga'!$B$6:$H$443,7,FALSE)","v":"3:0"},{"$f":"VLOOKUP($B4&T$2,'1. Liga'!$B$6:$H$443,5,FALSE)&\":\"&VLOOKUP($B4&T$2,'1. Liga'!$B$6:$H$443,7,FALSE)","v":"5:1"}]
[{"$f":"'1. Liga'!$T$3","v":2},{"$f":"'1. Liga'!$T$1","v":"VfB Stuttgart"},{"$f":"VLOOKUP($B5&C$2,'1. Liga'!$B$6:$H$443,5,FALSE)&\":\"&VLOOKUP($B5&C$2,'1. Liga'!$B$6:$H$443,7,FALSE)","v":"1:1"},"U",{"$f":"VLOOKUP($B5&E$2,'1. Liga'!$B$6:$H$443,5,FALSE)&\":\"&VLOOKUP($B5&E$2,'1. Liga'!$B$6:$H$443,7,FALSE)","v":"3:1"},{"$f":"VLOOKUP($B5&F$2,'1. Liga'!$B$6:$H$443,5,FALSE)&\":\"&VLOOKUP($B5&F$2,'1. Liga'!$B$6:$H$443,7,FALSE)","v":"5:2"},{"$f":"VLOOKUP($B5&G$2,'1. Liga'!$B$6:$H$443,5,FALSE)&\":\"&VLOOKUP($B5&G$2,'1. Liga'!$B$6:$H$443,7,FALSE)","v":"2:1"},{"$f":"VLOOKUP($B5&H$2,'1. Liga'!$B$6:$H$443,5,FALSE)&\":\"&VLOOKUP($B5&H$2,'1. Liga'!$B$6:$H$443,7,FALSE)","v":"3:0"},{"$f":"VLOOKUP($B5&I$2,'1. Liga'!$B$6:$H$443,5,FALSE)&\":\"&VLOOKUP($B5&I$2,'1. Liga'!$B$6:$H$443,7,FALSE)","v":"2:3"},{"$f":"VLOOKUP($B5&J$2,'1. Liga'!$B$6:$H$443,5,FALSE)&\":\"&VLOOKUP($B5&J$2,'1. Liga'!$B$6:$H$443,7,FALSE)","v":"3:3"},{"$f":"VLOOKUP($B5&K$2,'1. Liga'!$B$6:$H$443,5,FALSE)&\":\"&VLOOKUP($B5&K$2,'1. Liga'!$B$6:$H$443,7,FALSE)","v":"2:0"},{"$f":"VLOOKUP($B5&L$2,'1. Liga'!$B$6:$H$443,5,FALSE)&\":\"&VLOOKUP($B5&L$2,'1. Liga'!$B$6:$H$443,7,FALSE)","v":"5:0"},{"$f":"VLOOKUP($B5&M$2,'1. Liga'!$B$6:$H$443,5,FALSE)&\":\"&VLOOKUP($B5&M$2,'1. Liga'!$B$6:$H$443,7,FALSE)","v":"3:0"},{"$f":"VLOOKUP($B5&N$2,'1. Liga'!$B$6:$H$443,5,FALSE)&\":\"&VLOOKUP($B5&N$2,'1. Liga'!$B$6:$H$443,7,FALSE)","v":"3:1"},{"$f":"VLOOKUP($B5&O$2,'1. Liga'!$B$6:$H$443,5,FALSE)&\":\"&VLOOKUP($B5&O$2,'1. Liga'!$B$6:$H$443,7,FALSE)","v":"3:1"},{"$f":"VLOOKUP($B5&P$2,'1. Liga'!$B$6:$H$443,5,FALSE)&\":\"&VLOOKUP($B5&P$2,'1. Liga'!$B$6:$H$443,7,FALSE)","v":"4:0"},{"$f":"VLOOKUP($B5&Q$2,'1. Liga'!$B$6:$H$443,5,FALSE)&\":\"&VLOOKUP($B5&Q$2,'1. Liga'!$B$6:$H$443,7,FALSE)","v":"2:0"},{"$f":"VLOOKUP($B5&R$2,'1. Liga'!$B$6:$H$443,5,FALSE)&\":\"&VLOOKUP($B5&R$2,'1. Liga'!$B$6:$H$443,7,FALSE)","v":"5:0"},{"$f":"VLOOKUP($B5&S$2,'1. Liga'!$B$6:$H$443,5,FALSE)&\":\"&VLOOKUP($B5&S$2,'1. Liga'!$B$6:$H$443,7,FALSE)","v":"1:1"},{"$f":"VLOOKUP($B5&T$2,'1. Liga'!$B$6:$H$443,5,FALSE)&\":\"&VLOOKUP($B5&T$2,'1. Liga'!$B$6:$H$443,7,FALSE)","v":"3:1"}]
[{"$f":"'1. Liga'!$S$3","v":3},{"$f":"'1. Liga'!$S$1","v":"FC Bayern München"},{"$f":"VLOOKUP($B6&C$2,'1. Liga'!$B$6:$H$443,5,FALSE)&\":\"&VLOOKUP($B6&C$2,'1. Liga'!$B$6:$H$443,7,FALSE)","v":"2:2"},{"$f":"VLOOKUP($B6&D$2,'1. Liga'!$B$6:$H$443,5,FALSE)&\":\"&VLOOKUP($B6&D$2,'1. Liga'!$B$6:$H$443,7,FALSE)","v":"3:0"},"N",{"$f":"VLOOKUP($B6&F$2,'1. Liga'!$B$6:$H$443,5,FALSE)&\":\"&VLOOKUP($B6&F$2,'1. Liga'!$B$6:$H$443,7,FALSE)","v":"2:1"},{"$f":"VLOOKUP($B6&G$2,'1. Liga'!$B$6:$H$443,5,FALSE)&\":\"&VLOOKUP($B6&G$2,'1. Liga'!$B$6:$H$443,7,FALSE)","v":"0:2"},{"$f":"VLOOKUP($B6&H$2,'1. Liga'!$B$6:$H$443,5,FALSE)&\":\"&VLOOKUP($B6&H$2,'1. Liga'!$B$6:$H$443,7,FALSE)","v":"2:1"},{"$f":"VLOOKUP($B6&I$2,'1. Liga'!$B$6:$H$443,5,FALSE)&\":\"&VLOOKUP($B6&I$2,'1. Liga'!$B$6:$H$443,7,FALSE)","v":"3:0"},{"$f":"VLOOKUP($B6&J$2,'1. Liga'!$B$6:$H$443,5,FALSE)&\":\"&VLOOKUP($B6&J$2,'1. Liga'!$B$6:$H$443,7,FALSE)","v":"4:2"},{"$f":"VLOOKUP($B6&K$2,'1. Liga'!$B$6:$H$443,5,FALSE)&\":\"&VLOOKUP($B6&K$2,'1. Liga'!$B$6:$H$443,7,FALSE)","v":"0:1"},{"$f":"VLOOKUP($B6&L$2,'1. Liga'!$B$6:$H$443,5,FALSE)&\":\"&VLOOKUP($B6&L$2,'1. Liga'!$B$6:$H$443,7,FALSE)","v":"3:0"},{"$f":"VLOOKUP($B6&M$2,'1. Liga'!$B$6:$H$443,5,FALSE)&\":\"&VLOOKUP($B6&M$2,'1. Liga'!$B$6:$H$443,7,FALSE)","v":"3:1"},{"$f":"VLOOKUP($B6&N$2,'1. Liga'!$B$6:$H$443,5,FALSE)&\":\"&VLOOKUP($B6&N$2,'1. Liga'!$B$6:$H$443,7,FALSE)","v":"2:0"},{"$f":"VLOOKUP($B6&O$2,'1. Liga'!$B$6:$H$443,5,FALSE)&\":\"&VLOOKUP($B6&O$2,'1. Liga'!$B$6:$H$443,7,FALSE)","v":"8:1"},{"$f":"VLOOKUP($B6&P$2,'1. Liga'!$B$6:$H$443,5,FALSE)&\":\"&VLOOKUP($B6&P$2,'1. Liga'!$B$6:$H$443,7,FALSE)","v":"3:1"},{"$f":"VLOOKUP($B6&Q$2,'1. Liga'!$B$6:$H$443,5,FALSE)&\":\"&VLOOKUP($B6&Q$2,'1. Liga'!$B$6:$H$443,7,FALSE)","v":"1:0"},{"$f":"VLOOKUP($B6&R$2,'1. Liga'!$B$6:$H$443,5,FALSE)&\":\"&VLOOKUP($B6&R$2,'1. Liga'!$B$6:$H$443,7,FALSE)","v":"7:0"},{"$f":"VLOOKUP($B6&S$2,'1. Liga'!$B$6:$H$443,5,FALSE)&\":\"&VLOOKUP($B6&S$2,'1. Liga'!$B$6:$H$443,7,FALSE)","v":"2:0"},{"$f":"VLOOKUP($B6&T$2,'1. Liga'!$B$6:$H$443,5,FALSE)&\":\"&VLOOKUP($B6&T$2,'1. Liga'!$B$6:$H$443,7,FALSE)","v":"8:0"}]
[{"$f":"'1. Liga'!$AA$3","v":4},{"$f":"'1. Liga'!$AA$1","v":"RB Leipzig"},{"$f":"VLOOKUP($B7&C$2,'1. Liga'!$B$6:$H$443,5,FALSE)&\":\"&VLOOKUP($B7&C$2,'1. Liga'!$B$6:$H$443,7,FALSE)","v":"2:3"},{"$f":"VLOOKUP($B7&D$2,'1. Liga'!$B$6:$H$443,5,FALSE)&\":\"&VLOOKUP($B7&D$2,'1. Liga'!$B$6:$H$443,7,FALSE)","v":"5:1"},{"$f":"VLOOKUP($B7&E$2,'1. Liga'!$B$6:$H$443,5,FALSE)&\":\"&VLOOKUP($B7&E$2,'1. Liga'!$B$6:$H$443,7,FALSE)","v":"2:2"},"D",{"$f":"VLOOKUP($B7&G$2,'1. Liga'!$B$6:$H$443,5,FALSE)&\":\"&VLOOKUP($B7&G$2,'1. Liga'!$B$6:$H$443,7,FALSE)","v":"4:1"},{"$f":"VLOOKUP($B7&H$2,'1. Liga'!$B$6:$H$443,5,FALSE)&\":\"&VLOOKUP($B7&H$2,'1. Liga'!$B$6:$H$443,7,FALSE)","v":"0:1"},{"$f":"VLOOKUP($B7&I$2,'1. Liga'!$B$6:$H$443,5,FALSE)&\":\"&VLOOKUP($B7&I$2,'1. Liga'!$B$6:$H$443,7,FALSE)","v":"3:1"},{"$f":"VLOOKUP($B7&J$2,'1. Liga'!$B$6:$H$443,5,FALSE)&\":\"&VLOOKUP($B7&J$2,'1. Liga'!$B$6:$H$443,7,FALSE)","v":"2:1"},{"$f":"VLOOKUP($B7&K$2,'1. Liga'!$B$6:$H$443,5,FALSE)&\":\"&VLOOKUP($B7&K$2,'1. Liga'!$B$6:$H$443,7,FALSE)","v":"1:1"},{"$f":"VLOOKUP($B7&L$2,'1. Liga'!$B$6:$H$443,5,FALSE)&\":\"&VLOOKUP($B7&L$2,'1. Liga'!$B$6:$H$443,7,FALSE)","v":"3:1"},{"$f":"VLOOKUP($B7&M$2,'1. Liga'!$B$6:$H$443,5,FALSE)&\":\"&VLOOKUP($B7&M$2,'1. Liga'!$B$6:$H$443,7,FALSE)","v":"3:0"},{"$f":"VLOOKUP($B7&N$2,'1. Liga'!$B$6:$H$443,5,FALSE)&\":\"&VLOOKUP($B7&N$2,'1. Liga'!$B$6:$H$443,7,FALSE)","v":"3:0"},{"$f":"VLOOKUP($B7&O$2,'1. Liga'!$B$6:$H$443,5,FALSE)&\":\"&VLOOKUP($B7&O$2,'1. Liga'!$B$6:$H$443,7,FALSE)","v":"0:0"},{"$f":"VLOOKUP($B7&P$2,'1. Liga'!$B$6:$H$443,5,FALSE)&\":\"&VLOOKUP($B7&P$2,'1. Liga'!$B$6:$H$443,7,FALSE)","v":"2:0"},{"$f":"VLOOKUP($B7&Q$2,'1. Liga'!$B$6:$H$443,5,FALSE)&\":\"&VLOOKUP($B7&Q$2,'1. Liga'!$B$6:$H$443,7,FALSE)","v":"2:0"},{"$f":"VLOOKUP($B7&R$2,'1. Liga'!$B$6:$H$443,5,FALSE)&\":\"&VLOOKUP($B7&R$2,'1. Liga'!$B$6:$H$443,7,FALSE)","v":"0:0"},{"$f":"VLOOKUP($B7&S$2,'1. Liga'!$B$6:$H$443,5,FALSE)&\":\"&VLOOKUP($B7&S$2,'1. Liga'!$B$6:$H$443,7,FALSE)","v":"6:0"},{"$f":"VLOOKUP($B7&T$2,'1. Liga'!$B$6:$H$443,5,FALSE)&\":\"&VLOOKUP($B7&T$2,'1. Liga'!$B$6:$H$443,7,FALSE)","v":"2:0"}]
[{"$f":"'1. Liga'!$V$3","v":5},{"$f":"'1. Liga'!$V$1","v":"Borussia Dortmund"},{"$f":"VLOOKUP($B8&C$2,'1. Liga'!$B$6:$H$443,5,FALSE)&\":\"&VLOOKUP($B8&C$2,'1. Liga'!$B$6:$H$443,7,FALSE)","v":"1:1"},{"$f":"VLOOKUP($B8&D$2,'1. Liga'!$B$6:$H$443,5,FALSE)&\":\"&VLOOKUP($B8&D$2,'1. Liga'!$B$6:$H$443,7,FALSE)","v":"0:1"},{"$f":"VLOOKUP($B8&E$2,'1. Liga'!$B$6:$H$443,5,FALSE)&\":\"&VLOOKUP($B8&E$2,'1. Liga'!$B$6:$H$443,7,FALSE)","v":"0:4"},{"$f":"VLOOKUP($B8&F$2,'1. Liga'!$B$6:$H$443,5,FALSE)&\":\"&VLOOKUP($B8&F$2,'1. Liga'!$B$6:$H$443,7,FALSE)","v":"2:3"},"E",{"$f":"VLOOKUP($B8&H$2,'1. Liga'!$B$6:$H$443,5,FALSE)&\":\"&VLOOKUP($B8&H$2,'1. Liga'!$B$6:$H$443,7,FALSE)","v":"3:1"},{"$f":"VLOOKUP($B8&I$2,'1. Liga'!$B$6:$H$443,5,FALSE)&\":\"&VLOOKUP($B8&I$2,'1. Liga'!$B$6:$H$443,7,FALSE)","v":"2:3"},{"$f":"VLOOKUP($B8&J$2,'1. Liga'!$B$6:$H$443,5,FALSE)&\":\"&VLOOKUP($B8&J$2,'1. Liga'!$B$6:$H$443,7,FALSE)","v":"2:2"},{"$f":"VLOOKUP($B8&K$2,'1. Liga'!$B$6:$H$443,5,FALSE)&\":\"&VLOOKUP($B8&K$2,'1. Liga'!$B$6:$H$443,7,FALSE)","v":"1:0"},{"$f":"VLOOKUP($B8&L$2,'1. Liga'!$B$6:$H$443,5,FALSE)&\":\"&VLOOKUP($B8&L$2,'1. Liga'!$B$6:$H$443,7,FALSE)","v":"3:0"},{"$f":"VLOOKUP($B8&M$2,'1. Liga'!$B$6:$H$443,5,FALSE)&\":\"&VLOOKUP($B8&M$2,'1. Liga'!$B$6:$H$443,7,FALSE)","v":"5:1"},{"$f":"VLOOKUP($B8&N$2,'1. Liga'!$B$6:$H$443,5,FALSE)&\":\"&VLOOKUP($B8&N$2,'1. Liga'!$B$6:$H$443,7,FALSE)","v":"1:0"},{"$f":"VLOOKUP($B8&O$2,'1. Liga'!$B$6:$H$443,5,FALSE)&\":\"&VLOOKUP($B8&O$2,'1. Liga'!$B$6:$H$443,7,FALSE)","v":"1:1"},{"$f":"VLOOKUP($B8&P$2,'1. Liga'!$B$6:$H$443,5,FALSE)&\":\"&VLOOKUP($B8&P$2,'1. Liga'!$B$6:$H$443,7,FALSE)","v":"4:2"},{"$f":"VLOOKUP($B8&Q$2,'1. Liga'!$B$6:$H$443,5,FALSE)&\":\"&VLOOKUP($B8&Q$2,'1. Liga'!$B$6:$H$443,7,FALSE)","v":"4:2"},{"$f":"VLOOKUP($B8&R$2,'1. Liga'!$B$6:$H$443,5,FALSE)&\":\"&VLOOKUP($B8&R$2,'1. Liga'!$B$6:$H$443,7,FALSE)","v":"3:1"},{"$f":"VLOOKUP($B8&S$2,'1. Liga'!$B$6:$H$443,5,FALSE)&\":\"&VLOOKUP($B8&S$2,'1. Liga'!$B$6:$H$443,7,FALSE)","v":"1:0"},{"$f":"VLOOKUP($B8&T$2,'1. Liga'!$B$6:$H$443,5,FALSE)&\":\"&VLOOKUP($B8&T$2,'1. Liga'!$B$6:$H$443,7,FALSE)","v":"4:0"}]
[{"$f":"'1. Liga'!$X$3","v":6},{"$f":"'1. Liga'!$X$1","v":"Eintracht Frankfurt"},{"$f":"VLOOKUP($B9&C$2,'1. Liga'!$B$6:$H$443,5,FALSE)&\":\"&VLOOKUP($B9&C$2,'1. Liga'!$B$6:$H$443,7,FALSE)","v":"1:5"},{"$f":"VLOOKUP($B9&D$2,'1. Liga'!$B$6:$H$443,5,FALSE)&\":\"&VLOOKUP($B9&D$2,'1. Liga'!$B$6:$H$443,7,FALSE)","v":"1:2"},{"$f":"VLOOKUP($B9&E$2,'1. Liga'!$B$6:$H$443,5,FALSE)&\":\"&VLOOKUP($B9&E$2,'1. Liga'!$B$6:$H$443,7,FALSE)","v":"5:1"},{"$f":"VLOOKUP($B9&F$2,'1. Liga'!$B$6:$H$443,5,FALSE)&\":\"&VLOOKUP($B9&F$2,'1. Liga'!$B$6:$H$443,7,FALSE)","v":"2:2"},{"$f":"VLOOKUP($B9&G$2,'1. Liga'!$B$6:$H$443,5,FALSE)&\":\"&VLOOKUP($B9&G$2,'1. Liga'!$B$6:$H$443,7,FALSE)","v":"3:3"},"S",{"$f":"VLOOKUP($B9&I$2,'1. Liga'!$B$6:$H$443,5,FALSE)&\":\"&VLOOKUP($B9&I$2,'1. Liga'!$B$6:$H$443,7,FALSE)","v":"3:1"},{"$f":"VLOOKUP($B9&J$2,'1. Liga'!$B$6:$H$443,5,FALSE)&\":\"&VLOOKUP($B9&J$2,'1. Liga'!$B$6:$H$443,7,FALSE)","v":"2:0"},{"$f":"VLOOKUP($B9&K$2,'1. Liga'!$B$6:$H$443,5,FALSE)&\":\"&VLOOKUP($B9&K$2,'1. Liga'!$B$6:$H$443,7,FALSE)","v":"1:1"},{"$f":"VLOOKUP($B9&L$2,'1. Liga'!$B$6:$H$443,5,FALSE)&\":\"&VLOOKUP($B9&L$2,'1. Liga'!$B$6:$H$443,7,FALSE)","v":"0:0"},{"$f":"VLOOKUP($B9&M$2,'1. Liga'!$B$6:$H$443,5,FALSE)&\":\"&VLOOKUP($B9&M$2,'1. Liga'!$B$6:$H$443,7,FALSE)","v":"3:1"},{"$f":"VLOOKUP($B9&N$2,'1. Liga'!$B$6:$H$443,5,FALSE)&\":\"&VLOOKUP($B9&N$2,'1. Liga'!$B$6:$H$443,7,FALSE)","v":"2:2"},{"$f":"VLOOKUP($B9&O$2,'1. Liga'!$B$6:$H$443,5,FALSE)&\":\"&VLOOKUP($B9&O$2,'1. Liga'!$B$6:$H$443,7,FALSE)","v":"1:0"},{"$f":"VLOOKUP($B9&P$2,'1. Liga'!$B$6:$H$443,5,FALSE)&\":\"&VLOOKUP($B9&P$2,'1. Liga'!$B$6:$H$443,7,FALSE)","v":"2:1"},{"$f":"VLOOKUP($B9&Q$2,'1. Liga'!$B$6:$H$443,5,FALSE)&\":\"&VLOOKUP($B9&Q$2,'1. Liga'!$B$6:$H$443,7,FALSE)","v":"0:0"},{"$f":"VLOOKUP($B9&R$2,'1. Liga'!$B$6:$H$443,5,FALSE)&\":\"&VLOOKUP($B9&R$2,'1. Liga'!$B$6:$H$443,7,FALSE)","v":"1:1"},{"$f":"VLOOKUP($B9&S$2,'1. Liga'!$B$6:$H$443,5,FALSE)&\":\"&VLOOKUP($B9&S$2,'1. Liga'!$B$6:$H$443,7,FALSE)","v":"1:1"},{"$f":"VLOOKUP($B9&T$2,'1. Liga'!$B$6:$H$443,5,FALSE)&\":\"&VLOOKUP($B9&T$2,'1. Liga'!$B$6:$H$443,7,FALSE)","v":"1:0"}]
[{"$f":"'1. Liga'!$AH$3","v":7},{"$f":"'1. Liga'!$AH$1","v":"TSG Hoffenheim"},{"$f":"VLOOKUP($B10&C$2,'1. Liga'!$B$6:$H$443,5,FALSE)&\":\"&VLOOKUP($B10&C$2,'1. Liga'!$B$6:$H$443,7,FALSE)","v":"2:3"},{"$f":"VLOOKUP($B10&D$2,'1. Liga'!$B$6:$H$443,5,FALSE)&\":\"&VLOOKUP($B10&D$2,'1. Liga'!$B$6:$H$443,7,FALSE)","v":"0:3"},{"$f":"VLOOKUP($B10&E$2,'1. Liga'!$B$6:$H$443,5,FALSE)&\":\"&VLOOKUP($B10&E$2,'1. Liga'!$B$6:$H$443,7,FALSE)","v":"4:2"},{"$f":"VLOOKUP($B10&F$2,'1. Liga'!$B$6:$H$443,5,FALSE)&\":\"&VLOOKUP($B10&F$2,'1. Liga'!$B$6:$H$443,7,FALSE)","v":"1:1"},{"$f":"VLOOKUP($B10&G$2,'1. Liga'!$B$6:$H$443,5,FALSE)&\":\"&VLOOKUP($B10&G$2,'1. Liga'!$B$6:$H$443,7,FALSE)","v":"1:3"},{"$f":"VLOOKUP($B10&H$2,'1. Liga'!$B$6:$H$443,5,FALSE)&\":\"&VLOOKUP($B10&H$2,'1. Liga'!$B$6:$H$443,7,FALSE)","v":"1:3"},"L",{"$f":"VLOOKUP($B10&J$2,'1. Liga'!$B$6:$H$443,5,FALSE)&\":\"&VLOOKUP($B10&J$2,'1. Liga'!$B$6:$H$443,7,FALSE)","v":"1:1"},{"$f":"VLOOKUP($B10&K$2,'1. Liga'!$B$6:$H$443,5,FALSE)&\":\"&VLOOKUP($B10&K$2,'1. Liga'!$B$6:$H$443,7,FALSE)","v":"2:1"},{"$f":"VLOOKUP($B10&L$2,'1. Liga'!$B$6:$H$443,5,FALSE)&\":\"&VLOOKUP($B10&L$2,'1. Liga'!$B$6:$H$443,7,FALSE)","v":"1:2"},{"$f":"VLOOKUP($B10&M$2,'1. Liga'!$B$6:$H$443,5,FALSE)&\":\"&VLOOKUP($B10&M$2,'1. Liga'!$B$6:$H$443,7,FALSE)","v":"3:1"},{"$f":"VLOOKUP($B10&N$2,'1. Liga'!$B$6:$H$443,5,FALSE)&\":\"&VLOOKUP($B10&N$2,'1. Liga'!$B$6:$H$443,7,FALSE)","v":"3:1"},{"$f":"VLOOKUP($B10&O$2,'1. Liga'!$B$6:$H$443,5,FALSE)&\":\"&VLOOKUP($B10&O$2,'1. Liga'!$B$6:$H$443,7,FALSE)","v":"1:1"},{"$f":"VLOOKUP($B10&P$2,'1. Liga'!$B$6:$H$443,5,FALSE)&\":\"&VLOOKUP($B10&P$2,'1. Liga'!$B$6:$H$443,7,FALSE)","v":"4:3"},{"$f":"VLOOKUP($B10&Q$2,'1. Liga'!$B$6:$H$443,5,FALSE)&\":\"&VLOOKUP($B10&Q$2,'1. Liga'!$B$6:$H$443,7,FALSE)","v":"0:1"},{"$f":"VLOOKUP($B10&R$2,'1. Liga'!$B$6:$H$443,5,FALSE)&\":\"&VLOOKUP($B10&R$2,'1. Liga'!$B$6:$H$443,7,FALSE)","v":"3:1"},{"$f":"VLOOKUP($B10&S$2,'1. Liga'!$B$6:$H$443,5,FALSE)&\":\"&VLOOKUP($B10&S$2,'1. Liga'!$B$6:$H$443,7,FALSE)","v":"1:1"},{"$f":"VLOOKUP($B10&T$2,'1. Liga'!$B$6:$H$443,5,FALSE)&\":\"&VLOOKUP($B10&T$2,'1. Liga'!$B$6:$H$443,7,FALSE)","v":"3:3"}]
[{"$f":"'1. Liga'!$AC$3","v":8},{"$f":"'1. Liga'!$AC$1","v":"1. FC Heidenheim 1846"},{"$f":"VLOOKUP($B11&C$2,'1. Liga'!$B$6:$H$443,5,FALSE)&\":\"&VLOOKUP($B11&C$2,'1. Liga'!$B$6:$H$443,7,FALSE)","v":"1:2"},{"$f":"VLOOKUP($B11&D$2,'1. Liga'!$B$6:$H$443,5,FALSE)&\":\"&VLOOKUP($B11&D$2,'1. Liga'!$B$6:$H$443,7,FALSE)","v":"2:0"},{"$f":"VLOOKUP($B11&E$2,'1. Liga'!$B$6:$H$443,5,FALSE)&\":\"&VLOOKUP($B11&E$2,'1. Liga'!$B$6:$H$443,7,FALSE)","v":"3:2"},{"$f":"VLOOKUP($B11&F$2,'1. Liga'!$B$6:$H$443,5,FALSE)&\":\"&VLOOKUP($B11&F$2,'1. Liga'!$B$6:$H$443,7,FALSE)","v":"1:2"},{"$f":"VLOOKUP($B11&G$2,'1. Liga'!$B$6:$H$443,5,FALSE)&\":\"&VLOOKUP($B11&G$2,'1. Liga'!$B$6:$H$443,7,FALSE)","v":"0:0"},{"$f":"VLOOKUP($B11&H$2,'1. Liga'!$B$6:$H$443,5,FALSE)&\":\"&VLOOKUP($B11&H$2,'1. Liga'!$B$6:$H$443,7,FALSE)","v":"1:2"},{"$f":"VLOOKUP($B11&I$2,'1. Liga'!$B$6:$H$443,5,FALSE)&\":\"&VLOOKUP($B11&I$2,'1. Liga'!$B$6:$H$443,7,FALSE)","v":"2:3"},"I",{"$f":"VLOOKUP($B11&K$2,'1. Liga'!$B$6:$H$443,5,FALSE)&\":\"&VLOOKUP($B11&K$2,'1. Liga'!$B$6:$H$443,7,FALSE)","v":"4:2"},{"$f":"VLOOKUP($B11&L$2,'1. Liga'!$B$6:$H$443,5,FALSE)&\":\"&VLOOKUP($B11&L$2,'1. Liga'!$B$6:$H$443,7,FALSE)","v":"3:2"},{"$f":"VLOOKUP($B11&M$2,'1. Liga'!$B$6:$H$443,5,FALSE)&\":\"&VLOOKUP($B11&M$2,'1. Liga'!$B$6:$H$443,7,FALSE)","v":"2:5"},{"$f":"VLOOKUP($B11&N$2,'1. Liga'!$B$6:$H$443,5,FALSE)&\":\"&VLOOKUP($B11&N$2,'1. Liga'!$B$6:$H$443,7,FALSE)","v":"1:1"},{"$f":"VLOOKUP($B11&O$2,'1. Liga'!$B$6:$H$443,5,FALSE)&\":\"&VLOOKUP($B11&O$2,'1. Liga'!$B$6:$H$443,7,FALSE)","v":"1:1"},{"$f":"VLOOKUP($B11&P$2,'1. Liga'!$B$6:$H$443,5,FALSE)&\":\"&VLOOKUP($B11&P$2,'1. Liga'!$B$6:$H$443,7,FALSE)","v":"1:1"},{"$f":"VLOOKUP($B11&Q$2,'1. Liga'!$B$6:$H$443,5,FALSE)&\":\"&VLOOKUP($B11&Q$2,'1. Liga'!$B$6:$H$443,7,FALSE)","v":"1:0"},{"$f":"VLOOKUP($B11&R$2,'1. Liga'!$B$6:$H$443,5,FALSE)&\":\"&VLOOKUP($B11&R$2,'1. Liga'!$B$6:$H$443,7,FALSE)","v":"0:0"},{"$f":"VLOOKUP($B11&S$2,'1. Liga'!$B$6:$H$443,5,FALSE)&\":\"&VLOOKUP($B11&S$2,'1. Liga'!$B$6:$H$443,7,FALSE)","v":"4:1"},{"$f":"VLOOKUP($B11&T$2,'1. Liga'!$B$6:$H$443,5,FALSE)&\":\"&VLOOKUP($B11&T$2,'1. Liga'!$B$6:$H$443,7,FALSE)","v":"3:2"}]
[{"$f":"'1. Liga'!$R$3","v":9},{"$f":"'1. Liga'!$R$1","v":"SV Werder Bremen"},{"$f":"VLOOKUP($B12&C$2,'1. Liga'!$B$6:$H$443,5,FALSE)&\":\"&VLOOKUP($B12&C$2,'1. Liga'!$B$6:$H$443,7,FALSE)","v":"0:3"},{"$f":"VLOOKUP($B12&D$2,'1. Liga'!$B$6:$H$443,5,FALSE)&\":\"&VLOOKUP($B12&D$2,'1. Liga'!$B$6:$H$443,7,FALSE)","v":"2:1"},{"$f":"VLOOKUP($B12&E$2,'1. Liga'!$B$6:$H$443,5,FALSE)&\":\"&VLOOKUP($B12&E$2,'1. Liga'!$B$6:$H$443,7,FALSE)","v":"0:4"},{"$f":"VLOOKUP($B12&F$2,'1. Liga'!$B$6:$H$443,5,FALSE)&\":\"&VLOOKUP($B12&F$2,'1. Liga'!$B$6:$H$443,7,FALSE)","v":"1:1"},{"$f":"VLOOKUP($B12&G$2,'1. Liga'!$B$6:$H$443,5,FALSE)&\":\"&VLOOKUP($B12&G$2,'1. Liga'!$B$6:$H$443,7,FALSE)","v":"1:2"},{"$f":"VLOOKUP($B12&H$2,'1. Liga'!$B$6:$H$443,5,FALSE)&\":\"&VLOOKUP($B12&H$2,'1. Liga'!$B$6:$H$443,7,FALSE)","v":"2:2"},{"$f":"VLOOKUP($B12&I$2,'1. Liga'!$B$6:$H$443,5,FALSE)&\":\"&VLOOKUP($B12&I$2,'1. Liga'!$B$6:$H$443,7,FALSE)","v":"2:3"},{"$f":"VLOOKUP($B12&J$2,'1. Liga'!$B$6:$H$443,5,FALSE)&\":\"&VLOOKUP($B12&J$2,'1. Liga'!$B$6:$H$443,7,FALSE)","v":"1:2"},"G",{"$f":"VLOOKUP($B12&L$2,'1. Liga'!$B$6:$H$443,5,FALSE)&\":\"&VLOOKUP($B12&L$2,'1. Liga'!$B$6:$H$443,7,FALSE)","v":"3:1"},{"$f":"VLOOKUP($B12&M$2,'1. Liga'!$B$6:$H$443,5,FALSE)&\":\"&VLOOKUP($B12&M$2,'1. Liga'!$B$6:$H$443,7,FALSE)","v":"2:0"},{"$f":"VLOOKUP($B12&N$2,'1. Liga'!$B$6:$H$443,5,FALSE)&\":\"&VLOOKUP($B12&N$2,'1. Liga'!$B$6:$H$443,7,FALSE)","v":"0:2"},{"$f":"VLOOKUP($B12&O$2,'1. Liga'!$B$6:$H$443,5,FALSE)&\":\"&VLOOKUP($B12&O$2,'1. Liga'!$B$6:$H$443,7,FALSE)","v":"4:0"},{"$f":"VLOOKUP($B12&P$2,'1. Liga'!$B$6:$H$443,5,FALSE)&\":\"&VLOOKUP($B12&P$2,'1. Liga'!$B$6:$H$443,7,FALSE)","v":"2:2"},{"$f":"VLOOKUP($B12&Q$2,'1. Liga'!$B$6:$H$443,5,FALSE)&\":\"&VLOOKUP($B12&Q$2,'1. Liga'!$B$6:$H$443,7,FALSE)","v":"2:0"},{"$f":"VLOOKUP($B12&R$2,'1. Liga'!$B$6:$H$443,5,FALSE)&\":\"&VLOOKUP($B12&R$2,'1. Liga'!$B$6:$H$443,7,FALSE)","v":"4:1"},{"$f":"VLOOKUP($B12&S$2,'1. Liga'!$B$6:$H$443,5,FALSE)&\":\"&VLOOKUP($B12&S$2,'1. Liga'!$B$6:$H$443,7,FALSE)","v":"2:1"},{"$f":"VLOOKUP($B12&T$2,'1. Liga'!$B$6:$H$443,5,FALSE)&\":\"&VLOOKUP($B12&T$2,'1. Liga'!$B$6:$H$443,7,FALSE)","v":"1:1"}]
[{"$f":"'1. Liga'!$AI$3","v":10},{"$f":"'1. Liga'!$AI$1","v":"Sport-Club Freiburg"},{"$f":"VLOOKUP($B13&C$2,'1. Liga'!$B$6:$H$443,5,FALSE)&\":\"&VLOOKUP($B13&C$2,'1. Liga'!$B$6:$H$443,7,FALSE)","v":"2:3"},{"$f":"VLOOKUP($B13&D$2,'1. Liga'!$B$6:$H$443,5,FALSE)&\":\"&VLOOKUP($B13&D$2,'1. Liga'!$B$6:$H$443,7,FALSE)","v":"1:3"},{"$f":"VLOOKUP($B13&E$2,'1. Liga'!$B$6:$H$443,5,FALSE)&\":\"&VLOOKUP($B13&E$2,'1. Liga'!$B$6:$H$443,7,FALSE)","v":"2:2"},{"$f":"VLOOKUP($B13&F$2,'1. Liga'!$B$6:$H$443,5,FALSE)&\":\"&VLOOKUP($B13&F$2,'1. Liga'!$B$6:$H$443,7,FALSE)","v":"1:4"},{"$f":"VLOOKUP($B13&G$2,'1. Liga'!$B$6:$H$443,5,FALSE)&\":\"&VLOOKUP($B13&G$2,'1. Liga'!$B$6:$H$443,7,FALSE)","v":"2:4"},{"$f":"VLOOKUP($B13&H$2,'1. Liga'!$B$6:$H$443,5,FALSE)&\":\"&VLOOKUP($B13&H$2,'1. Liga'!$B$6:$H$443,7,FALSE)","v":"3:3"},{"$f":"VLOOKUP($B13&I$2,'1. Liga'!$B$6:$H$443,5,FALSE)&\":\"&VLOOKUP($B13&I$2,'1. Liga'!$B$6:$H$443,7,FALSE)","v":"3:2"},{"$f":"VLOOKUP($B13&J$2,'1. Liga'!$B$6:$H$443,5,FALSE)&\":\"&VLOOKUP($B13&J$2,'1. Liga'!$B$6:$H$443,7,FALSE)","v":"1:1"},{"$f":"VLOOKUP($B13&K$2,'1. Liga'!$B$6:$H$443,5,FALSE)&\":\"&VLOOKUP($B13&K$2,'1. Liga'!$B$6:$H$443,7,FALSE)","v":"1:0"},"A",{"$f":"VLOOKUP($B13&M$2,'1. Liga'!$B$6:$H$443,5,FALSE)&\":\"&VLOOKUP($B13&M$2,'1. Liga'!$B$6:$H$443,7,FALSE)","v":"2:0"},{"$f":"VLOOKUP($B13&N$2,'1. Liga'!$B$6:$H$443,5,FALSE)&\":\"&VLOOKUP($B13&N$2,'1. Liga'!$B$6:$H$443,7,FALSE)","v":"1:2"},{"$f":"VLOOKUP($B13&O$2,'1. Liga'!$B$6:$H$443,5,FALSE)&\":\"&VLOOKUP($B13&O$2,'1. Liga'!$B$6:$H$443,7,FALSE)","v":"1:1"},{"$f":"VLOOKUP($B13&P$2,'1. Liga'!$B$6:$H$443,5,FALSE)&\":\"&VLOOKUP($B13&P$2,'1. Liga'!$B$6:$H$443,7,FALSE)","v":"3:3"},{"$f":"VLOOKUP($B13&Q$2,'1. Liga'!$B$6:$H$443,5,FALSE)&\":\"&VLOOKUP($B13&Q$2,'1. Liga'!$B$6:$H$443,7,FALSE)","v":"0:0"},{"$f":"VLOOKUP($B13&R$2,'1. Liga'!$B$6:$H$443,5,FALSE)&\":\"&VLOOKUP($B13&R$2,'1. Liga'!$B$6:$H$443,7,FALSE)","v":"2:1"},{"$f":"VLOOKUP($B13&S$2,'1. Liga'!$B$6:$H$443,5,FALSE)&\":\"&VLOOKUP($B13&S$2,'1. Liga'!$B$6:$H$443,7,FALSE)","v":"2:0"},{"$f":"VLOOKUP($B13&T$2,'1. Liga'!$B$6:$H$443,5,FALSE)&\":\"&VLOOKUP($B13&T$2,'1. Liga'!$B$6:$H$443,7,FALSE)","v":"1:1"}]
[{"$f":"'1. Liga'!$AF$3","v":11},{"$f":"'1. Liga'!$AF$1","v":"FC Augsburg"},{"$f":"VLOOKUP($B14&C$2,'1. Liga'!$B$6:$H$443,5,FALSE)&\":\"&VLOOKUP($B14&C$2,'1. Liga'!$B$6:$H$443,7,FALSE)","v":"0:1"},{"$f":"VLOOKUP($B14&D$2,'1. Liga'!$B$6:$H$443,5,FALSE)&\":\"&VLOOKUP($B14&D$2,'1. Liga'!$B$6:$H$443,7,FALSE)","v":"0:1"},{"$f":"VLOOKUP($B14&E$2,'1. Liga'!$B$6:$H$443,5,FALSE)&\":\"&VLOOKUP($B14&E$2,'1. Liga'!$B$6:$H$443,7,FALSE)","v":"2:3"},{"$f":"VLOOKUP($B14&F$2,'1. Liga'!$B$6:$H$443,5,FALSE)&\":\"&VLOOKUP($B14&F$2,'1. Liga'!$B$6:$H$443,7,FALSE)","v":"2:2"},{"$f":"VLOOKUP($B14&G$2,'1. Liga'!$B$6:$H$443,5,FALSE)&\":\"&VLOOKUP($B14&G$2,'1. Liga'!$B$6:$H$443,7,FALSE)","v":"1:1"},{"$f":"VLOOKUP($B14&H$2,'1. Liga'!$B$6:$H$443,5,FALSE)&\":\"&VLOOKUP($B14&H$2,'1. Liga'!$B$6:$H$443,7,FALSE)","v":"2:1"},{"$f":"VLOOKUP($B14&I$2,'1. Liga'!$B$6:$H$443,5,FALSE)&\":\"&VLOOKUP($B14&I$2,'1. Liga'!$B$6:$H$443,7,FALSE)","v":"1:1"},{"$f":"VLOOKUP($B14&J$2,'1. Liga'!$B$6:$H$443,5,FALSE)&\":\"&VLOOKUP($B14&J$2,'1. Liga'!$B$6:$H$443,7,FALSE)","v":"1:0"},{"$f":"VLOOKUP($B14&K$2,'1. Liga'!$B$6:$H$443,5,FALSE)&\":\"&VLOOKUP($B14&K$2,'1. Liga'!$B$6:$H$443,7,FALSE)","v":"0:3"},{"$f":"VLOOKUP($B14&L$2,'1. Liga'!$B$6:$H$443,5,FALSE)&\":\"&VLOOKUP($B14&L$2,'1. Liga'!$B$6:$H$443,7,FALSE)","v":"2:1"},2,{"$f":"VLOOKUP($B14&N$2,'1. Liga'!$B$6:$H$443,5,FALSE)&\":\"&VLOOKUP($B14&N$2,'1. Liga'!$B$6:$H$443,7,FALSE)","v":"3:2"},{"$f":"VLOOKUP($B14&O$2,'1. Liga'!$B$6:$H$443,5,FALSE)&\":\"&VLOOKUP($B14&O$2,'1. Liga'!$B$6:$H$443,7,FALSE)","v":"2:1"},{"$f":"VLOOKUP($B14&P$2,'1. Liga'!$B$6:$H$443,5,FALSE)&\":\"&VLOOKUP($B14&P$2,'1. Liga'!$B$6:$H$443,7,FALSE)","v":"4:4"},{"$f":"VLOOKUP($B14&Q$2,'1. Liga'!$B$6:$H$443,5,FALSE)&\":\"&VLOOKUP($B14&Q$2,'1. Liga'!$B$6:$H$443,7,FALSE)","v":"2:0"},{"$f":"VLOOKUP($B14&R$2,'1. Liga'!$B$6:$H$443,5,FALSE)&\":\"&VLOOKUP($B14&R$2,'1. Liga'!$B$6:$H$443,7,FALSE)","v":"2:2"},{"$f":"VLOOKUP($B14&S$2,'1. Liga'!$B$6:$H$443,5,FALSE)&\":\"&VLOOKUP($B14&S$2,'1. Liga'!$B$6:$H$443,7,FALSE)","v":"1:1"},{"$f":"VLOOKUP($B14&T$2,'1. Liga'!$B$6:$H$443,5,FALSE)&\":\"&VLOOKUP($B14&T$2,'1. Liga'!$B$6:$H$443,7,FALSE)","v":"1:2"}]
[{"$f":"'1. Liga'!$AB$3","v":12},{"$f":"'1. Liga'!$AB$1","v":"VfL Wolfsburg"},{"$f":"VLOOKUP($B15&C$2,'1. Liga'!$B$6:$H$443,5,FALSE)&\":\"&VLOOKUP($B15&C$2,'1. Liga'!$B$6:$H$443,7,FALSE)","v":"1:2"},{"$f":"VLOOKUP($B15&D$2,'1. Liga'!$B$6:$H$443,5,FALSE)&\":\"&VLOOKUP($B15&D$2,'1. Liga'!$B$6:$H$443,7,FALSE)","v":"2:3"},{"$f":"VLOOKUP($B15&E$2,'1. Liga'!$B$6:$H$443,5,FALSE)&\":\"&VLOOKUP($B15&E$2,'1. Liga'!$B$6:$H$443,7,FALSE)","v":"1:2"},{"$f":"VLOOKUP($B15&F$2,'1. Liga'!$B$6:$H$443,5,FALSE)&\":\"&VLOOKUP($B15&F$2,'1. Liga'!$B$6:$H$443,7,FALSE)","v":"2:1"},{"$f":"VLOOKUP($B15&G$2,'1. Liga'!$B$6:$H$443,5,FALSE)&\":\"&VLOOKUP($B15&G$2,'1. Liga'!$B$6:$H$443,7,FALSE)","v":"1:1"},{"$f":"VLOOKUP($B15&H$2,'1. Liga'!$B$6:$H$443,5,FALSE)&\":\"&VLOOKUP($B15&H$2,'1. Liga'!$B$6:$H$443,7,FALSE)","v":"2:0"},{"$f":"VLOOKUP($B15&I$2,'1. Liga'!$B$6:$H$443,5,FALSE)&\":\"&VLOOKUP($B15&I$2,'1. Liga'!$B$6:$H$443,7,FALSE)","v":"2:2"},{"$f":"VLOOKUP($B15&J$2,'1. Liga'!$B$6:$H$443,5,FALSE)&\":\"&VLOOKUP($B15&J$2,'1. Liga'!$B$6:$H$443,7,FALSE)","v":"2:0"},{"$f":"VLOOKUP($B15&K$2,'1. Liga'!$B$6:$H$443,5,FALSE)&\":\"&VLOOKUP($B15&K$2,'1. Liga'!$B$6:$H$443,7,FALSE)","v":"2:2"},{"$f":"VLOOKUP($B15&L$2,'1. Liga'!$B$6:$H$443,5,FALSE)&\":\"&VLOOKUP($B15&L$2,'1. Liga'!$B$6:$H$443,7,FALSE)","v":"0:1"},{"$f":"VLOOKUP($B15&M$2,'1. Liga'!$B$6:$H$443,5,FALSE)&\":\"&VLOOKUP($B15&M$2,'1. Liga'!$B$6:$H$443,7,FALSE)","v":"1:3"},0,{"$f":"VLOOKUP($B15&O$2,'1. Liga'!$B$6:$H$443,5,FALSE)&\":\"&VLOOKUP($B15&O$2,'1. Liga'!$B$6:$H$443,7,FALSE)","v":"1:3"},{"$f":"VLOOKUP($B15&P$2,'1. Liga'!$B$6:$H$443,5,FALSE)&\":\"&VLOOKUP($B15&P$2,'1. Liga'!$B$6:$H$443,7,FALSE)","v":"1:3"},{"$f":"VLOOKUP($B15&Q$2,'1. Liga'!$B$6:$H$443,5,FALSE)&\":\"&VLOOKUP($B15&Q$2,'1. Liga'!$B$6:$H$443,7,FALSE)","v":"2:1"},{"$f":"VLOOKUP($B15&R$2,'1. Liga'!$B$6:$H$443,5,FALSE)&\":\"&VLOOKUP($B15&R$2,'1. Liga'!$B$6:$H$443,7,FALSE)","v":"1:0"},{"$f":"VLOOKUP($B15&S$2,'1. Liga'!$B$6:$H$443,5,FALSE)&\":\"&VLOOKUP($B15&S$2,'1. Liga'!$B$6:$H$443,7,FALSE)","v":"1:1"},{"$f":"VLOOKUP($B15&T$2,'1. Liga'!$B$6:$H$443,5,FALSE)&\":\"&VLOOKUP($B15&T$2,'1. Liga'!$B$6:$H$443,7,FALSE)","v":"3:0"}]
[{"$f":"'1. Liga'!$AE$3","v":13},{"$f":"'1. Liga'!$AE$1","v":"1. FSV Mainz 05"},{"$f":"VLOOKUP($B16&C$2,'1. Liga'!$B$6:$H$443,5,FALSE)&\":\"&VLOOKUP($B16&C$2,'1. Liga'!$B$6:$H$443,7,FALSE)","v":"0:3"},{"$f":"VLOOKUP($B16&D$2,'1. Liga'!$B$6:$H$443,5,FALSE)&\":\"&VLOOKUP($B16&D$2,'1. Liga'!$B$6:$H$443,7,FALSE)","v":"1:3"},{"$f":"VLOOKUP($B16&E$2,'1. Liga'!$B$6:$H$443,5,FALSE)&\":\"&VLOOKUP($B16&E$2,'1. Liga'!$B$6:$H$443,7,FALSE)","v":"1:3"},{"$f":"VLOOKUP($B16&F$2,'1. Liga'!$B$6:$H$443,5,FALSE)&\":\"&VLOOKUP($B16&F$2,'1. Liga'!$B$6:$H$443,7,FALSE)","v":"2:0"},{"$f":"VLOOKUP($B16&G$2,'1. Liga'!$B$6:$H$443,5,FALSE)&\":\"&VLOOKUP($B16&G$2,'1. Liga'!$B$6:$H$443,7,FALSE)","v":"3:0"},{"$f":"VLOOKUP($B16&H$2,'1. Liga'!$B$6:$H$443,5,FALSE)&\":\"&VLOOKUP($B16&H$2,'1. Liga'!$B$6:$H$443,7,FALSE)","v":"1:1"},{"$f":"VLOOKUP($B16&I$2,'1. Liga'!$B$6:$H$443,5,FALSE)&\":\"&VLOOKUP($B16&I$2,'1. Liga'!$B$6:$H$443,7,FALSE)","v":"4:1"},{"$f":"VLOOKUP($B16&J$2,'1. Liga'!$B$6:$H$443,5,FALSE)&\":\"&VLOOKUP($B16&J$2,'1. Liga'!$B$6:$H$443,7,FALSE)","v":"0:1"},{"$f":"VLOOKUP($B16&K$2,'1. Liga'!$B$6:$H$443,5,FALSE)&\":\"&VLOOKUP($B16&K$2,'1. Liga'!$B$6:$H$443,7,FALSE)","v":"0:1"},{"$f":"VLOOKUP($B16&L$2,'1. Liga'!$B$6:$H$443,5,FALSE)&\":\"&VLOOKUP($B16&L$2,'1. Liga'!$B$6:$H$443,7,FALSE)","v":"0:1"},{"$f":"VLOOKUP($B16&M$2,'1. Liga'!$B$6:$H$443,5,FALSE)&\":\"&VLOOKUP($B16&M$2,'1. Liga'!$B$6:$H$443,7,FALSE)","v":"1:0"},{"$f":"VLOOKUP($B16&N$2,'1. Liga'!$B$6:$H$443,5,FALSE)&\":\"&VLOOKUP($B16&N$2,'1. Liga'!$B$6:$H$443,7,FALSE)","v":"1:1"},2,{"$f":"VLOOKUP($B16&P$2,'1. Liga'!$B$6:$H$443,5,FALSE)&\":\"&VLOOKUP($B16&P$2,'1. Liga'!$B$6:$H$443,7,FALSE)","v":"1:1"},{"$f":"VLOOKUP($B16&Q$2,'1. Liga'!$B$6:$H$443,5,FALSE)&\":\"&VLOOKUP($B16&Q$2,'1. Liga'!$B$6:$H$443,7,FALSE)","v":"1:1"},{"$f":"VLOOKUP($B16&R$2,'1. Liga'!$B$6:$H$443,5,FALSE)&\":\"&VLOOKUP($B16&R$2,'1. Liga'!$B$6:$H$443,7,FALSE)","v":"2:0"},{"$f":"VLOOKUP($B16&S$2,'1. Liga'!$B$6:$H$443,5,FALSE)&\":\"&VLOOKUP($B16&S$2,'1. Liga'!$B$6:$H$443,7,FALSE)","v":"1:1"},{"$f":"VLOOKUP($B16&T$2,'1. Liga'!$B$6:$H$443,5,FALSE)&\":\"&VLOOKUP($B16&T$2,'1. Liga'!$B$6:$H$443,7,FALSE)","v":"4:0"}]
[{"$f":"'1. Liga'!$AG$3","v":14},{"$f":"'1. Liga'!$AG$1","v":"Borussia Mönchengladbach"},{"$f":"VLOOKUP($B17&C$2,'1. Liga'!$B$6:$H$443,5,FALSE)&\":\"&VLOOKUP($B17&C$2,'1. Liga'!$B$6:$H$443,7,FALSE)","v":"0:3"},{"$f":"VLOOKUP($B17&D$2,'1. Liga'!$B$6:$H$443,5,FALSE)&\":\"&VLOOKUP($B17&D$2,'1. Liga'!$B$6:$H$443,7,FALSE)","v":"3:1"},{"$f":"VLOOKUP($B17&E$2,'1. Liga'!$B$6:$H$443,5,FALSE)&\":\"&VLOOKUP($B17&E$2,'1. Liga'!$B$6:$H$443,7,FALSE)","v":"1:2"},{"$f":"VLOOKUP($B17&F$2,'1. Liga'!$B$6:$H$443,5,FALSE)&\":\"&VLOOKUP($B17&F$2,'1. Liga'!$B$6:$H$443,7,FALSE)","v":"0:1"},{"$f":"VLOOKUP($B17&G$2,'1. Liga'!$B$6:$H$443,5,FALSE)&\":\"&VLOOKUP($B17&G$2,'1. Liga'!$B$6:$H$443,7,FALSE)","v":"1:2"},{"$f":"VLOOKUP($B17&H$2,'1. Liga'!$B$6:$H$443,5,FALSE)&\":\"&VLOOKUP($B17&H$2,'1. Liga'!$B$6:$H$443,7,FALSE)","v":"1:1"},{"$f":"VLOOKUP($B17&I$2,'1. Liga'!$B$6:$H$443,5,FALSE)&\":\"&VLOOKUP($B17&I$2,'1. Liga'!$B$6:$H$443,7,FALSE)","v":"2:1"},{"$f":"VLOOKUP($B17&J$2,'1. Liga'!$B$6:$H$443,5,FALSE)&\":\"&VLOOKUP($B17&J$2,'1. Liga'!$B$6:$H$443,7,FALSE)","v":"2:1"},{"$f":"VLOOKUP($B17&K$2,'1. Liga'!$B$6:$H$443,5,FALSE)&\":\"&VLOOKUP($B17&K$2,'1. Liga'!$B$6:$H$443,7,FALSE)","v":"2:2"},{"$f":"VLOOKUP($B17&L$2,'1. Liga'!$B$6:$H$443,5,FALSE)&\":\"&VLOOKUP($B17&L$2,'1. Liga'!$B$6:$H$443,7,FALSE)","v":"0:3"},{"$f":"VLOOKUP($B17&M$2,'1. Liga'!$B$6:$H$443,5,FALSE)&\":\"&VLOOKUP($B17&M$2,'1. Liga'!$B$6:$H$443,7,FALSE)","v":"1:2"},{"$f":"VLOOKUP($B17&N$2,'1. Liga'!$B$6:$H$443,5,FALSE)&\":\"&VLOOKUP($B17&N$2,'1. Liga'!$B$6:$H$443,7,FALSE)","v":"4:0"},{"$f":"VLOOKUP($B17&O$2,'1. Liga'!$B$6:$H$443,5,FALSE)&\":\"&VLOOKUP($B17&O$2,'1. Liga'!$B$6:$H$443,7,FALSE)","v":"2:2"},3,{"$f":"VLOOKUP($B17&Q$2,'1. Liga'!$B$6:$H$443,5,FALSE)&\":\"&VLOOKUP($B17&Q$2,'1. Liga'!$B$6:$H$443,7,FALSE)","v":"0:0"},{"$f":"VLOOKUP($B17&R$2,'1. Liga'!$B$6:$H$443,5,FALSE)&\":\"&VLOOKUP($B17&R$2,'1. Liga'!$B$6:$H$443,7,FALSE)","v":"5:2"},{"$f":"VLOOKUP($B17&S$2,'1. Liga'!$B$6:$H$443,5,FALSE)&\":\"&VLOOKUP($B17&S$2,'1. Liga'!$B$6:$H$443,7,FALSE)","v":"3:3"},{"$f":"VLOOKUP($B17&T$2,'1. Liga'!$B$6:$H$443,5,FALSE)&\":\"&VLOOKUP($B17&T$2,'1. Liga'!$B$6:$H$443,7,FALSE)","v":"0:0"}]
[{"$f":"'1. Liga'!$AD$3","v":15},{"$f":"'1. Liga'!$AD$1","v":"1. FC Union Berlin"},{"$f":"VLOOKUP($B18&C$2,'1. Liga'!$B$6:$H$443,5,FALSE)&\":\"&VLOOKUP($B18&C$2,'1. Liga'!$B$6:$H$443,7,FALSE)","v":"0:1"},{"$f":"VLOOKUP($B18&D$2,'1. Liga'!$B$6:$H$443,5,FALSE)&\":\"&VLOOKUP($B18&D$2,'1. Liga'!$B$6:$H$443,7,FALSE)","v":"0:3"},{"$f":"VLOOKUP($B18&E$2,'1. Liga'!$B$6:$H$443,5,FALSE)&\":\"&VLOOKUP($B18&E$2,'1. Liga'!$B$6:$H$443,7,FALSE)","v":"1:5"},{"$f":"VLOOKUP($B18&F$2,'1. Liga'!$B$6:$H$443,5,FALSE)&\":\"&VLOOKUP($B18&F$2,'1. Liga'!$B$6:$H$443,7,FALSE)","v":"0:3"},{"$f":"VLOOKUP($B18&G$2,'1. Liga'!$B$6:$H$443,5,FALSE)&\":\"&VLOOKUP($B18&G$2,'1. Liga'!$B$6:$H$443,7,FALSE)","v":"0:2"},{"$f":"VLOOKUP($B18&H$2,'1. Liga'!$B$6:$H$443,5,FALSE)&\":\"&VLOOKUP($B18&H$2,'1. Liga'!$B$6:$H$443,7,FALSE)","v":"0:3"},{"$f":"VLOOKUP($B18&I$2,'1. Liga'!$B$6:$H$443,5,FALSE)&\":\"&VLOOKUP($B18&I$2,'1. Liga'!$B$6:$H$443,7,FALSE)","v":"0:2"},{"$f":"VLOOKUP($B18&J$2,'1. Liga'!$B$6:$H$443,5,FALSE)&\":\"&VLOOKUP($B18&J$2,'1. Liga'!$B$6:$H$443,7,FALSE)","v":"2:2"},{"$f":"VLOOKUP($B18&K$2,'1. Liga'!$B$6:$H$443,5,FALSE)&\":\"&VLOOKUP($B18&K$2,'1. Liga'!$B$6:$H$443,7,FALSE)","v":"2:1"},{"$f":"VLOOKUP($B18&L$2,'1. Liga'!$B$6:$H$443,5,FALSE)&\":\"&VLOOKUP($B18&L$2,'1. Liga'!$B$6:$H$443,7,FALSE)","v":"2:1"},{"$f":"VLOOKUP($B18&M$2,'1. Liga'!$B$6:$H$443,5,FALSE)&\":\"&VLOOKUP($B18&M$2,'1. Liga'!$B$6:$H$443,7,FALSE)","v":"1:1"},{"$f":"VLOOKUP($B18&N$2,'1. Liga'!$B$6:$H$443,5,FALSE)&\":\"&VLOOKUP($B18&N$2,'1. Liga'!$B$6:$H$443,7,FALSE)","v":"1:0"},{"$f":"VLOOKUP($B18&O$2,'1. Liga'!$B$6:$H$443,5,FALSE)&\":\"&VLOOKUP($B18&O$2,'1. Liga'!$B$6:$H$443,7,FALSE)","v":"4:1"},{"$f":"VLOOKUP($B18&P$2,'1. Liga'!$B$6:$H$443,5,FALSE)&\":\"&VLOOKUP($B18&P$2,'1. Liga'!$B$6:$H$443,7,FALSE)","v":"3:1"},2,{"$f":"VLOOKUP($B18&R$2,'1. Liga'!$B$6:$H$443,5,FALSE)&\":\"&VLOOKUP($B18&R$2,'1. Liga'!$B$6:$H$443,7,FALSE)","v":"3:4"},{"$f":"VLOOKUP($B18&S$2,'1. Liga'!$B$6:$H$443,5,FALSE)&\":\"&VLOOKUP($B18&S$2,'1. Liga'!$B$6:$H$443,7,FALSE)","v":"2:0"},{"$f":"VLOOKUP($B18&T$2,'1. Liga'!$B$6:$H$443,5,FALSE)&\":\"&VLOOKUP($B18&T$2,'1. Liga'!$B$6:$H$443,7,FALSE)","v":"1:0"}]
[{"$f":"'1. Liga'!$U$3","v":16},{"$f":"'1. Liga'!$U$1","v":"VfL Bochum 1848"},{"$f":"VLOOKUP($B19&C$2,'1. Liga'!$B$6:$H$443,5,FALSE)&\":\"&VLOOKUP($B19&C$2,'1. Liga'!$B$6:$H$443,7,FALSE)","v":"0:5"},{"$f":"VLOOKUP($B19&D$2,'1. Liga'!$B$6:$H$443,5,FALSE)&\":\"&VLOOKUP($B19&D$2,'1. Liga'!$B$6:$H$443,7,FALSE)","v":"1:0"},{"$f":"VLOOKUP($B19&E$2,'1. Liga'!$B$6:$H$443,5,FALSE)&\":\"&VLOOKUP($B19&E$2,'1. Liga'!$B$6:$H$443,7,FALSE)","v":"3:2"},{"$f":"VLOOKUP($B19&F$2,'1. Liga'!$B$6:$H$443,5,FALSE)&\":\"&VLOOKUP($B19&F$2,'1. Liga'!$B$6:$H$443,7,FALSE)","v":"1:4"},{"$f":"VLOOKUP($B19&G$2,'1. Liga'!$B$6:$H$443,5,FALSE)&\":\"&VLOOKUP($B19&G$2,'1. Liga'!$B$6:$H$443,7,FALSE)","v":"1:1"},{"$f":"VLOOKUP($B19&H$2,'1. Liga'!$B$6:$H$443,5,FALSE)&\":\"&VLOOKUP($B19&H$2,'1. Liga'!$B$6:$H$443,7,FALSE)","v":"1:1"},{"$f":"VLOOKUP($B19&I$2,'1. Liga'!$B$6:$H$443,5,FALSE)&\":\"&VLOOKUP($B19&I$2,'1. Liga'!$B$6:$H$443,7,FALSE)","v":"3:2"},{"$f":"VLOOKUP($B19&J$2,'1. Liga'!$B$6:$H$443,5,FALSE)&\":\"&VLOOKUP($B19&J$2,'1. Liga'!$B$6:$H$443,7,FALSE)","v":"1:1"},{"$f":"VLOOKUP($B19&K$2,'1. Liga'!$B$6:$H$443,5,FALSE)&\":\"&VLOOKUP($B19&K$2,'1. Liga'!$B$6:$H$443,7,FALSE)","v":"1:1"},{"$f":"VLOOKUP($B19&L$2,'1. Liga'!$B$6:$H$443,5,FALSE)&\":\"&VLOOKUP($B19&L$2,'1. Liga'!$B$6:$H$443,7,FALSE)","v":"1:2"},{"$f":"VLOOKUP($B19&M$2,'1. Liga'!$B$6:$H$443,5,FALSE)&\":\"&VLOOKUP($B19&M$2,'1. Liga'!$B$6:$H$443,7,FALSE)","v":"1:1"},{"$f":"VLOOKUP($B19&N$2,'1. Liga'!$B$6:$H$443,5,FALSE)&\":\"&VLOOKUP($B19&N$2,'1. Liga'!$B$6:$H$443,7,FALSE)","v":"3:1"},{"$f":"VLOOKUP($B19&O$2,'1. Liga'!$B$6:$H$443,5,FALSE)&\":\"&VLOOKUP($B19&O$2,'1. Liga'!$B$6:$H$443,7,FALSE)","v":"2:2"},{"$f":"VLOOKUP($B19&P$2,'1. Liga'!$B$6:$H$443,5,FALSE)&\":\"&VLOOKUP($B19&P$2,'1. Liga'!$B$6:$H$443,7,FALSE)","v":"1:3"},{"$f":"VLOOKUP($B19&Q$2,'1. Liga'!$B$6:$H$443,5,FALSE)&\":\"&VLOOKUP($B19&Q$2,'1. Liga'!$B$6:$H$443,7,FALSE)","v":"3:0"},0,{"$f":"VLOOKUP($B19&S$2,'1. Liga'!$B$6:$H$443,5,FALSE)&\":\"&VLOOKUP($B19&S$2,'1. Liga'!$B$6:$H$443,7,FALSE)","v":"1:1"},{"$f":"VLOOKUP($B19&T$2,'1. Liga'!$B$6:$H$443,5,FALSE)&\":\"&VLOOKUP($B19&T$2,'1. Liga'!$B$6:$H$443,7,FALSE)","v":"2:2"}]
[{"$f":"'1. Liga'!$W$3","v":17},{"$f":"'1. Liga'!$W$1","v":"1. FC Köln"},{"$f":"VLOOKUP($B20&C$2,'1. Liga'!$B$6:$H$443,5,FALSE)&\":\"&VLOOKUP($B20&C$2,'1. Liga'!$B$6:$H$443,7,FALSE)","v":"0:2"},{"$f":"VLOOKUP($B20&D$2,'1. Liga'!$B$6:$H$443,5,FALSE)&\":\"&VLOOKUP($B20&D$2,'1. Liga'!$B$6:$H$443,7,FALSE)","v":"0:2"},{"$f":"VLOOKUP($B20&E$2,'1. Liga'!$B$6:$H$443,5,FALSE)&\":\"&VLOOKUP($B20&E$2,'1. Liga'!$B$6:$H$443,7,FALSE)","v":"0:1"},{"$f":"VLOOKUP($B20&F$2,'1. Liga'!$B$6:$H$443,5,FALSE)&\":\"&VLOOKUP($B20&F$2,'1. Liga'!$B$6:$H$443,7,FALSE)","v":"1:5"},{"$f":"VLOOKUP($B20&G$2,'1. Liga'!$B$6:$H$443,5,FALSE)&\":\"&VLOOKUP($B20&G$2,'1. Liga'!$B$6:$H$443,7,FALSE)","v":"0:4"},{"$f":"VLOOKUP($B20&H$2,'1. Liga'!$B$6:$H$443,5,FALSE)&\":\"&VLOOKUP($B20&H$2,'1. Liga'!$B$6:$H$443,7,FALSE)","v":"2:0"},{"$f":"VLOOKUP($B20&I$2,'1. Liga'!$B$6:$H$443,5,FALSE)&\":\"&VLOOKUP($B20&I$2,'1. Liga'!$B$6:$H$443,7,FALSE)","v":"1:3"},{"$f":"VLOOKUP($B20&J$2,'1. Liga'!$B$6:$H$443,5,FALSE)&\":\"&VLOOKUP($B20&J$2,'1. Liga'!$B$6:$H$443,7,FALSE)","v":"1:1"},{"$f":"VLOOKUP($B20&K$2,'1. Liga'!$B$6:$H$443,5,FALSE)&\":\"&VLOOKUP($B20&K$2,'1. Liga'!$B$6:$H$443,7,FALSE)","v":"0:1"},{"$f":"VLOOKUP($B20&L$2,'1. Liga'!$B$6:$H$443,5,FALSE)&\":\"&VLOOKUP($B20&L$2,'1. Liga'!$B$6:$H$443,7,FALSE)","v":"0:0"},{"$f":"VLOOKUP($B20&M$2,'1. Liga'!$B$6:$H$443,5,FALSE)&\":\"&VLOOKUP($B20&M$2,'1. Liga'!$B$6:$H$443,7,FALSE)","v":"1:1"},{"$f":"VLOOKUP($B20&N$2,'1. Liga'!$B$6:$H$443,5,FALSE)&\":\"&VLOOKUP($B20&N$2,'1. Liga'!$B$6:$H$443,7,FALSE)","v":"1:2"},{"$f":"VLOOKUP($B20&O$2,'1. Liga'!$B$6:$H$443,5,FALSE)&\":\"&VLOOKUP($B20&O$2,'1. Liga'!$B$6:$H$443,7,FALSE)","v":"0:0"},{"$f":"VLOOKUP($B20&P$2,'1. Liga'!$B$6:$H$443,5,FALSE)&\":\"&VLOOKUP($B20&P$2,'1. Liga'!$B$6:$H$443,7,FALSE)","v":"3:1"},{"$f":"VLOOKUP($B20&Q$2,'1. Liga'!$B$6:$H$443,5,FALSE)&\":\"&VLOOKUP($B20&Q$2,'1. Liga'!$B$6:$H$443,7,FALSE)","v":"3:2"},{"$f":"VLOOKUP($B20&R$2,'1. Liga'!$B$6:$H$443,5,FALSE)&\":\"&VLOOKUP($B20&R$2,'1. Liga'!$B$6:$H$443,7,FALSE)","v":"2:1"},2,{"$f":"VLOOKUP($B20&T$2,'1. Liga'!$B$6:$H$443,5,FALSE)&\":\"&VLOOKUP($B20&T$2,'1. Liga'!$B$6:$H$443,7,FALSE)","v":"0:2"}]
[{"$f":"'1. Liga'!$Y$3","v":18},{"$f":"'1. Liga'!$Y$1","v":"SV Darmstadt 98"},{"$f":"VLOOKUP($B21&C$2,'1. Liga'!$B$6:$H$443,5,FALSE)&\":\"&VLOOKUP($B21&C$2,'1. Liga'!$B$6:$H$443,7,FALSE)","v":"0:2"},{"$f":"VLOOKUP($B21&D$2,'1. Liga'!$B$6:$H$443,5,FALSE)&\":\"&VLOOKUP($B21&D$2,'1. Liga'!$B$6:$H$443,7,FALSE)","v":"1:2"},{"$f":"VLOOKUP($B21&E$2,'1. Liga'!$B$6:$H$443,5,FALSE)&\":\"&VLOOKUP($B21&E$2,'1. Liga'!$B$6:$H$443,7,FALSE)","v":"2:5"},{"$f":"VLOOKUP($B21&F$2,'1. Liga'!$B$6:$H$443,5,FALSE)&\":\"&VLOOKUP($B21&F$2,'1. Liga'!$B$6:$H$443,7,FALSE)","v":"1:3"},{"$f":"VLOOKUP($B21&G$2,'1. Liga'!$B$6:$H$443,5,FALSE)&\":\"&VLOOKUP($B21&G$2,'1. Liga'!$B$6:$H$443,7,FALSE)","v":"0:3"},{"$f":"VLOOKUP($B21&H$2,'1. Liga'!$B$6:$H$443,5,FALSE)&\":\"&VLOOKUP($B21&H$2,'1. Liga'!$B$6:$H$443,7,FALSE)","v":"2:2"},{"$f":"VLOOKUP($B21&I$2,'1. Liga'!$B$6:$H$443,5,FALSE)&\":\"&VLOOKUP($B21&I$2,'1. Liga'!$B$6:$H$443,7,FALSE)","v":"0:6"},{"$f":"VLOOKUP($B21&J$2,'1. Liga'!$B$6:$H$443,5,FALSE)&\":\"&VLOOKUP($B21&J$2,'1. Liga'!$B$6:$H$443,7,FALSE)","v":"0:1"},{"$f":"VLOOKUP($B21&K$2,'1. Liga'!$B$6:$H$443,5,FALSE)&\":\"&VLOOKUP($B21&K$2,'1. Liga'!$B$6:$H$443,7,FALSE)","v":"4:2"},{"$f":"VLOOKUP($B21&L$2,'1. Liga'!$B$6:$H$443,5,FALSE)&\":\"&VLOOKUP($B21&L$2,'1. Liga'!$B$6:$H$443,7,FALSE)","v":"0:1"},{"$f":"VLOOKUP($B21&M$2,'1. Liga'!$B$6:$H$443,5,FALSE)&\":\"&VLOOKUP($B21&M$2,'1. Liga'!$B$6:$H$443,7,FALSE)","v":"0:6"},{"$f":"VLOOKUP($B21&N$2,'1. Liga'!$B$6:$H$443,5,FALSE)&\":\"&VLOOKUP($B21&N$2,'1. Liga'!$B$6:$H$443,7,FALSE)","v":"0:1"},{"$f":"VLOOKUP($B21&O$2,'1. Liga'!$B$6:$H$443,5,FALSE)&\":\"&VLOOKUP($B21&O$2,'1. Liga'!$B$6:$H$443,7,FALSE)","v":"0:0"},{"$f":"VLOOKUP($B21&P$2,'1. Liga'!$B$6:$H$443,5,FALSE)&\":\"&VLOOKUP($B21&P$2,'1. Liga'!$B$6:$H$443,7,FALSE)","v":"3:3"},{"$f":"VLOOKUP($B21&Q$2,'1. Liga'!$B$6:$H$443,5,FALSE)&\":\"&VLOOKUP($B21&Q$2,'1. Liga'!$B$6:$H$443,7,FALSE)","v":"1:4"},{"$f":"VLOOKUP($B21&R$2,'1. Liga'!$B$6:$H$443,5,FALSE)&\":\"&VLOOKUP($B21&R$2,'1. Liga'!$B$6:$H$443,7,FALSE)","v":"1:2"},{"$f":"VLOOKUP($B21&S$2,'1. Liga'!$B$6:$H$443,5,FALSE)&\":\"&VLOOKUP($B21&S$2,'1. Liga'!$B$6:$H$443,7,FALSE)","v":"0:1"},4]
[null,null,null,null,null,null,null,null,null,null,"Senkrecht: Auswärtsresultate",null,null,null,null,"Waagrecht: Heimresultate"]
[]
[]
[]
[]
[]
[]
["Bundesliga-Tipp 2023/2024"]

{"sheet":"Tabelle","index":2,"n_rows":54,"n_cols":111,"rows_kept":54,"cut":false,"hidden":false,"merged":[[0,42,0,43],[28,82,28,83],[0,78,0,79],[0,82,0,83],[0,74,0,75],[0,70,0,71],[28,74,28,75],[28,78,28,79],[0,66,0,67],[28,58,28,59],[28,62,28,63],[28,66,28,67],[28,70,28,71],[0,0,0,5],[28,0,28,5],[0,7,0,8],[28,7,28,8],[28,26,28,27],[0,30,0,31],[0,26,0,27],[0,62,0,63],[0,58,0,59],[28,54,28,55],[28,30,28,31],[28,34,28,35],[28,38,28,39],[28,42,28,43],[28,46,28,47],[28,50,28,51],[0,38,0,39],[0,34,0,35],[0,54,0,55],[0,50,0,51],[0,46,0,47]]}
[{"$f":"'1. Liga'!Q1:Q3","v":34},null,null,null,null,null,null,{"$f":"\"Stand letzte \"&'1. Liga'!$CO$3&\" Spiele\"","v":"Stand letzte 6 Spiele"},null,null,"Mittelwert"," ",null,null,"Vorjahr"," ",null,null,"Quoten- Dummy",null,null,null,"Kicker Experten",null,null,null,"Hedwig Berning (19-5-24-10-21-12-8-15-24-12-33)",null,null,null,"Egon Lümkemann (15-7-11-16-8-16-2-23-2-12-17)",null,null,null,"Wilfried Franke (22-20-5-15-19-7-9-11-11-5-31)",null,null,null,"Ellen Flöttmann (10-2-6-9-5-19-7-19-23-10-7)",null,null,null,"Dietmar Gallach (25-10-21-17-6-27-9-11-6-15-4)",null,null,null,"Sabine Gallach (4-14-17-14-10-23-12-17-19-31-13)",null,null,null,"Siegbert Ruwwe (20-23-22-24-22-21-14-23-13-34-X)",null,null,null,"Anita Meesker (3-19-2-23-9-14-X-X-X-X-X)",null,null,null,"Heinrich Gralla (12-4-9-3-2-25-4-10-12-2-19)",null,null,null,"Marcus Tischel (17-3-16-4-3-28-24-13-21-14-26)",null,null,null,"Gregor Tischel (6-18-12-7-1-1-13-5-14-17-19)",null,null,null,"Neo Steinfurth (8-X-X-X-X-X-X-X-X-X-X)",null,null,null,"Dejn Dakovic (X-X-8-X-27-18-28-X-26-26-19)",null,null,null,null,null,null,null,null,null,null,null,null,null,null,null,null,null,null,null,null,null,null,null,null,null,"Form-Rechner","Spieltag von:","Spieltag bis:",{"$f":"VLOOKUP(CX2,Index!$B$3:$D$36,2,FALSE)","v":227},{"$f":"VLOOKUP(CY2,Index!$B$3:$D$36,3,FALSE)","v":274},null,"Ludwig Spengler (30-8-10-27-X-X-X-X-21-X-X-X-X-X-X-X-X-X-X)","Mering",null,"Marc Beenen (25-X-31-X-X-29-1-6-X-X-X-10-30-36-X-X-X-X-X)","München"]
[null,"Platz","Punkte","Tordiff.",null,null,"Trend","Platz","Punkte",null,"Platz","Punkte","Absteiger-Punkte","EURO- Punkte","Platz","Punkte","Absteiger-Punkte","EURO- Punkte","Platz","Punkte","Absteiger-Punkte","EURO- Punkte","Platz","Punkte","Absteiger-Punkte","EURO- Punkte","Platz","Punkte","Absteiger-Punkte","EURO- Punkte","Platz","Punkte","Absteiger-Punkte","EURO- Punkte","Platz","Punkte","Absteiger-Punkte","EURO- Punkte","Platz","Punkte","Absteiger-Punkte","EURO- Punkte","Platz","Punkte","Absteiger-Punkte","EURO- Punkte","Platz","Punkte","Absteiger-Punkte","EURO- Punkte","Platz","Punkte","Absteiger-Punkte","EURO- Punkte","Platz","Punkte","Absteiger-Punkte","EURO- Punkte","Platz","Punkte","Absteiger-Punkte","EURO- Punkte","Platz","Punkte","Absteiger-Punkte","EURO- Punkte","Platz","Punkte","Absteiger-Punkte","EURO- Punkte","Platz","Punkte","Absteiger-Punkte","EURO- Punkte","Platz","Punkte","Absteiger-Punkte","EURO- Punkte","Platz","Punkte","Absteiger-Punkte","EURO- Punkte","Platz","Punkte","Absteiger-Punkte","EURO- Punkte","Platz","Punkte","Absteiger-Punkte","EURO- Punkte","Platz","Punkte","Absteiger-Punkte","EURO- Punkte","Platz","Punkte","Absteiger-Punkte","EURO- Punkte",null,null,null,18,21]
[{"$f":"'1. Liga'!$AS$1","v":"Bayer 04 Leverkusen"},{"$f":"'1. Liga'!$Z$3","v":1},{"$f":"'1. Liga'!$AS$3","v":90},{"$f":"'1. Liga'!$BL$3","v":65},{"$f":"'1. Liga'!$CE$3","v":89},{"$f":"E3-D3","v":24},{"$f":"IF(B3-H3>2,\"ññ\",IF(B3-H3<-2,\"òò\",IF(B3-H3>0,\"ñ\",IF(B3-H3<0,\"ò\",\"ó\"))))","v":"ó"},{"$f":"'1. Liga'!$CX$2","v":1},{"$f":"'1. Liga'!$CX$3","v":14},{"$f":"(W3+AA3+AE3+AI3+AM3+AQ3+AU3+AY3+BC3+BG3+BK3+BO3+BS3+BW3+CA3+CE3+CI3+W31+AA31+AE31+AI31+AM31+AQ31+AU31+AY31+BC31+BG31+BK31+BO31+BS31+BW31+CA31+CE31+CI31)/32","v":3.25},{"$f":"RANK(J3,J$3:J$20,1)","v":4},{"$f":"IF(K3>0,(ABS(K3-$B3)*(ABS(K3-$B3)+1))/'1. Liga'!$D$450,0)","v":6},{"$f":"IF(AND(OR($B3=16,$B3=17,$B3=18),OR(K3=16,K3=17,K3=18)),10,0)","v":0},{"$f":"IF(AND(OR(K3=1,K3=2,K3=3,K3=4,K3=5,K3=5,K3=6,K3=7),OR($B3=1,$B3=2,$B3=3,$B3=4,$B3=5,$B3=5,$B3=6,$B3=7)),10,0)","v":10},6,{"$f":"IF(O3>0,(ABS(O3-$B3)*(ABS(O3-$B3)+1))/'1. Liga'!$D$450,0)","v":15},{"$f":"IF(AND(OR($B3=16,$B3=17,$B3=18),OR(O3=16,O3=17,O3=18)),10,0)","v":0},{"$f":"IF(AND(OR(O3=1,O3=2,O3=3,O3=4,O3=5,O3=5,O3=6,O3=7),OR($B3=1,$B3=2,$B3=3,$B3=4,$B3=5,$B3=5,$B3=6,$B3=7)),10,0)","v":10},null,{"$f":"IF(S3>0,(ABS(S3-$B3)*(ABS(S3-$B3)+1))/'1. Liga'!$D$450,0)","v":0},{"$f":"IF(AND(OR($B3=16,$B3=17,$B3=18),OR(S3=16,S3=17,S3=18)),10,0)","v":0},{"$f":"IF(AND(OR(S3=1,S3=2,S3=3,S3=4,S3=5,S3=5,S3=6,S3=7),OR($B3=1,$B3=2,$B3=3,$B3=4,$B3=5,$B3=5,$B3=6,$B3=7)),10,0)","v":0},null,{"$f":"IF(W3>0,(ABS(W3-$B3)*(ABS(W3-$B3)+1))/'1. Liga'!$D$450,0)","v":0},{"$f":"IF(AND(OR($B3=16,$B3=17,$B3=18),OR(W3=16,W3=17,W3=18)),10,0)","v":0},{"$f":"IF(AND(OR(W3=1,W3=2,W3=3,W3=4,W3=5,W3=5,W3=6,W3=7),OR($B3=1,$B3=2,$B3=3,$B3=4,$B3=5,$B3=5,$B3=6,$B3=7)),10,0)","v":0},4,{"$f":"IF(AA3>0,(ABS(AA3-$B3)*(ABS(AA3-$B3)+1))/'1. Liga'!$D$450,0)","v":6},{"$f":"IF(AND(OR($B3=16,$B3=17,$B3=18),OR(AA3=16,AA3=17,AA3=18)),10,0)","v":0},{"$f":"IF(AND(OR(AA3=1,AA3=2,AA3=3,AA3=4,AA3=5,AA3=5,AA3=6,AA3=7),OR($B3=1,$B3=2,$B3=3,$B3=4,$B3=5,$B3=5,$B3=6,$B3=7)),10,0)","v":10},4,{"$f":"IF(AE3>0,(ABS(AE3-$B3)*(ABS(AE3-$B3)+1))/'1. Liga'!$D$450,0)","v":6},{"$f":"IF(AND(OR($B3=16,$B3=17,$B3=18),OR(AE3=16,AE3=17,AE3=18)),10,0)","v":0},{"$f":"IF(AND(OR(AE3=1,AE3=2,AE3=3,AE3=4,AE3=5,AE3=5,AE3=6,AE3=7),OR($B3=1,$B3=2,$B3=3,$B3=4,$B3=5,$B3=5,$B3=6,$B3=7)),10,0)","v":10},4,{"$f":"IF(AI3>0,(ABS(AI3-$B3)*(ABS(AI3-$B3)+1))/'1. Liga'!$D$450,0)","v":6},{"$f":"IF(AND(OR($B3=16,$B3=17,$B3=18),OR(AI3=16,AI3=17,AI3=18)),10,0)","v":0},{"$f":"IF(AND(OR(AI3=1,AI3=2,AI3=3,AI3=4,AI3=5,AI3=5,AI3=6,AI3=7),OR($B3=1,$B3=2,$B3=3,$B3=4,$B3=5,$B3=5,$B3=6,$B3=7)),10,0)","v":10},4,{"$f":"IF(AM3>0,(ABS(AM3-$B3)*(ABS(AM3-$B3)+1))/'1. Liga'!$D$450,0)","v":6},{"$f":"IF(AND(OR($B3=16,$B3=17,$B3=18),OR(AM3=16,AM3=17,AM3=18)),10,0)","v":0},{"$f":"IF(AND(OR(AM3=1,AM3=2,AM3=3,AM3=4,AM3=5,AM3=5,AM3=6,AM3=7),OR($B3=1,$B3=2,$B3=3,$B3=4,$B3=5,$B3=5,$B3=6,$B3=7)),10,0)","v":10},4,{"$f":"IF(AQ3>0,(ABS(AQ3-$B3)*(ABS(AQ3-$B3)+1))/'1. Liga'!$D$450,0)","v":6},{"$f":"IF(AND(OR($B3=16,$B3=17,$B3=18),OR(AQ3=16,AQ3=17,AQ3=18)),10,0)","v":0},{"$f":"IF(AND(OR(AQ3=1,AQ3=2,AQ3=3,AQ3=4,AQ3=5,AQ3=5,AQ3=6,AQ3=7),OR($B3=1,$B3=2,$B3=3,$B3=4,$B3=5,$B3=5,$B3=6,$B3=7)),10,0)","v":10},7,{"$f":"IF(AU3>0,(ABS(AU3-$B3)*(ABS(AU3-$B3)+1))/'1. Liga'!$D$450,0)","v":21},{"$f":"IF(AND(OR($B3=16,$B3=17,$B3=18),OR(AU3=16,AU3=17,AU3=18)),10,0)","v":0},{"$f":"IF(AND(OR(AU3=1,AU3=2,AU3=3,AU3=4,AU3=5,AU3=5,AU3=6,AU3=7),OR($B3=1,$B3=2,$B3=3,$B3=4,$B3=5,$B3=5,$B3=6,$B3=7)),10,0)","v":10},3,{"$f":"IF(AY3>0,(ABS(AY3-$B3)*(ABS(AY3-$B3)+1))/'1. Liga'!$D$450,0)","v":3},{"$f":"IF(AND(OR($B3=16,$B3=17,$B3=18),OR(AY3=16,AY3=17,AY3=18)),10,0)","v":0},{"$f":"IF(AND(OR(AY3=1,AY3=2,AY3=3,AY3=4,AY3=5,AY3=5,AY3=6,AY3=7),OR($B3=1,$B3=2,$B3=3,$B3=4,$B3=5,$B3=5,$B3=6,$B3=7)),10,0)","v":10},4,{"$f":"IF(BC3>0,(ABS(BC3-$B3)*(ABS(BC3-$B3)+1))/'1. Liga'!$D$450,0)","v":6},{"$f":"IF(AND(OR($B3=16,$B3=17,$B3=18),OR(BC3=16,BC3=17,BC3=18)),10,0)","v":0},{"$f":"IF(AND(OR(BC3=1,BC3=2,BC3=3,BC3=4,BC3=5,BC3=5,BC3=6,BC3=7),OR($B3=1,$B3=2,$B3=3,$B3=4,$B3=5,$B3=5,$B3=6,$B3=7)),10,0)","v":10},4,{"$f":"IF(BG3>0,(ABS(BG3-$B3)*(ABS(BG3-$B3)+1))/'1. Liga'!$D$450,0)","v":6},{"$f":"IF(AND(OR($B3=16,$B3=17,$B3=18),OR(BG3=16,BG3=17,BG3=18)),10,0)","v":0},{"$f":"IF(AND(OR(BG3=1,BG3=2,BG3=3,BG3=4,BG3=5,BG3=5,BG3=6,BG3=7),OR($B3=1,$B3=2,$B3=3,$B3=4,$B3=5,$B3=5,$B3=6,$B3=7)),10,0)","v":10},4,{"$f":"IF(BK3>0,(ABS(BK3-$B3)*(ABS(BK3-$B3)+1))/'1. Liga'!$D$450,0)","v":6},{"$f":"IF(AND(OR($B3=16,$B3=17,$B3=18),OR(BK3=16,BK3=17,BK3=18)),10,0)","v":0},{"$f":"IF(AND(OR(BK3=1,BK3=2,BK3=3,BK3=4,BK3=5,BK3=5,BK3=6,BK3=7),OR($B3=1,$B3=2,$B3=3,$B3=4,$B3=5,$B3=5,$B3=6,$B3=7)),10,0)","v":10},4,{"$f":"IF(BO3>0,(ABS(BO3-$B3)*(ABS(BO3-$B3)+1))/'1. Liga'!$D$450,0)","v":6},{"$f":"IF(AND(OR($B3=16,$B3=17,$B3=18),OR(BO3=16,BO3=17,BO3=18)),10,0)","v":0},{"$f":"IF(AND(OR(BO3=1,BO3=2,BO3=3,BO3=4,BO3=5,BO3=5,BO3=6,BO3=7),OR($B3=1,$B3=2,$B3=3,$B3=4,$B3=5,$B3=5,$B3=6,$B3=7)),10,0)","v":10},6,{"$f":"IF(BS3>0,(ABS(BS3-$B3)*(ABS(BS3-$B3)+1))/'1. Liga'!$D$450,0)","v":15},{"$f":"IF(AND(OR($B3=16,$B3=17,$B3=18),OR(BS3=16,BS3=17,BS3=18)),10,0)","v":0},{"$f":"IF(AND(OR(BS3=1,BS3=2,BS3=3,BS3=4,BS3=5,BS3=5,BS3=6,BS3=7),OR($B3=1,$B3=2,$B3=3,$B3=4,$B3=5,$B3=5,$B3=6,$B3=7)),10,0)","v":10},3,{"$f":"IF(BW3>0,(ABS(BW3-$B3)*(ABS(BW3-$B3)+1))/'1. Liga'!$D$450,0)","v":3},{"$f":"IF(AND(OR($B3=16,$B3=17,$B3=18),OR(BW3=16,BW3=17,BW3=18)),10,0)","v":0},{"$f":"IF(AND(OR(BW3=1,BW3=2,BW3=3,BW3=4,BW3=5,BW3=5,BW3=6,BW3=7),OR($B3=1,$B3=2,$B3=3,$B3=4,$B3=5,$B3=5,$B3=6,$B3=7)),10,0)","v":10},null,{"$f":"IF(CA3>0,(ABS(CA3-$B3)*(ABS(CA3-$B3)+1))/'1. Liga'!$D$450,0)","v":0},{"$f":"IF(AND(OR($B3=16,$B3=17,$B3=18),OR(CA3=16,CA3=17,CA3=18)),10,0)","v":0},{"$f":"IF(AND(OR(CA3=1,CA3=2,CA3=3,CA3=4,CA3=5,CA3=5,CA3=6,CA3=7),OR($B3=1,$B3=2,$B3=3,$B3=4,$B3=5,$B3=5,$B3=6,$B3=7)),10,0)","v":0},null,{"$f":"IF(CE3>0,(ABS(CE3-$B3)*(ABS(CE3-$B3)+1))/'1. Liga'!$D$450,0)","v":0},{"$f":"IF(AND(OR($B3=16,$B3=17,$B3=18),OR(CE3=16,CE3=17,CE3=18)),10,0)","v":0},{"$f":"IF(AND(OR(CE3=1,CE3=2,CE3=3,CE3=4,CE3=5,CE3=5,CE3=6,CE3=7),OR($B3=1,$B3=2,$B3=3,$B3=4,$B3=5,$B3=5,$B3=6,$B3=7)),10,0)","v":0},null,{"$f":"IF(CI3>0,(ABS(CI3-$B3)*(ABS(CI3-$B3)+1))/'1. Liga'!$D$450,0)","v":0},{"$f":"IF(AND(OR($B3=16,$B3=17,$B3=18),OR(CI3=16,CI3=17,CI3=18)),10,0)","v":0},{"$f":"IF(AND(OR(CI3=1,CI3=2,CI3=3,CI3=4,CI3=5,CI3=5,CI3=6,CI3=7),OR($B3=1,$B3=2,$B3=3,$B3=4,$B3=5,$B3=5,$B3=6,$B3=7)),10,0)","v":0},null,{"$f":"IF(CM3>0,(ABS(CM3-$B3)*(ABS(CM3-$B3)+1))/'1. Liga'!$D$450,0)","v":0},{"$f":"IF(AND(OR($B3=16,$B3=17,$B3=18),OR(CM3=16,CM3=17,CM3=18)),10,0)","v":0},{"$f":"IF(AND(OR(CM3=1,CM3=2,CM3=3,CM3=4,CM3=5,CM3=5,CM3=6,CM3=7),OR($B3=1,$B3=2,$B3=3,$B3=4,$B3=5,$B3=5,$B3=6,$B3=7)),10,0)","v":0},null,{"$f":"IF(CQ3>0,(ABS(CQ3-$B3)*(ABS(CQ3-$B3)+1))/'1. Liga'!$D$450,0)","v":0},{"$f":"IF(AND(OR($B3=16,$B3=17,$B3=18),OR(CQ3=16,CQ3=17,CQ3=18)),10,0)","v":0},{"$f":"IF(AND(OR(CQ3=1,CQ3=2,CQ3=3,CQ3=4,CQ3=5,CQ3=5,CQ3=6,CQ3=7),OR($B3=1,$B3=2,$B3=3,$B3=4,$B3=5,$B3=5,$B3=6,$B3=7)),10,0)","v":0},null,null,{"$f":"RANK(CZ3,CZ$3:CZ$20)","v":1},{"$f":"SUMPRODUCT((INDIRECT(\"'1. Liga'!$G\"&CZ$1):INDIRECT(\"'1. Liga'!$G\"&DA$1)=$A3)*(INDIRECT(\"'1. Liga'!$N\"&CZ$1):INDIRECT(\"'1. Liga'!$N\"&DA$1)))+SUMPRODUCT((INDIRECT(\"'1. Liga'!$I\"&CZ$1):INDIRECT(\"'1. Liga'!$I\"&DA$1)=$A3)*(INDIRECT(\"'1. Liga'!$P\"&CZ$1):INDIRECT(\"'1. Liga'!$P\"&DA$1)))","v":0},{"$f":"SUMPRODUCT((INDIRECT(\"'1. Liga'!$g\"&CZ$1):INDIRECT(\"'1. Liga'!$g\"&DA$1)=$A3)*(INDIRECT(\"'1. Liga'!$r\"&CZ$1):INDIRECT(\"'1. Liga'!$r\"&DA$1)))+SUMPRODUCT((INDIRECT(\"'1. Liga'!$i\"&CZ$1):INDIRECT(\"'1. Liga'!$i\"&DA$1)=$A3)*(INDIRECT(\"'1. Liga'!$t\"&CZ$1):INDIRECT(\"'1. Liga'!$t\"&DA$1)))","v":0},{"$f":"CX3+CY3*0.001","v":0}]
[{"$f":"'1. Liga'!$AM$1","v":"VfB Stuttgart"},{"$f":"'1. Liga'!$T$3","v":2},{"$f":"'1. Liga'!$AM$3","v":73},{"$f":"'1. Liga'!$BF$3","v":39},{"$f":"'1. Liga'!$BY$3","v":78},39,"ó",{"$f":"'1. Liga'!$CR$2","v":2},{"$f":"'1. Liga'!$CR$3","v":13},10.21875,14,{"$f":"IF(K4>0,(ABS(K4-$B4)*(ABS(K4-$B4)+1))/'1. Liga'!$D$450,0)","v":78},0,0,16,{"$f":"IF(O4>0,(ABS(O4-$B4)*(ABS(O4-$B4)+1))/'1. Liga'!$D$450,0)","v":105},0,0,null,{"$f":"IF(S4>0,(ABS(S4-$B4)*(ABS(S4-$B4)+1))/'1. Liga'!$D$450,0)","v":0},0,0,null,{"$f":"IF(W4>0,(ABS(W4-$B4)*(ABS(W4-$B4)+1))/'1. Liga'!$D$450,0)","v":0},0,0,14,{"$f":"IF(AA4>0,(ABS(AA4-$B4)*(ABS(AA4-$B4)+1))/'1. Liga'!$D$450,0)","v":78},0,0,14,{"$f":"IF(AE4>0,(ABS(AE4-$B4)*(ABS(AE4-$B4)+1))/'1. Liga'!$D$450,0)","v":78},0,0,14,{"$f":"IF(AI4>0,(ABS(AI4-$B4)*(ABS(AI4-$B4)+1))/'1. Liga'!$D$450,0)","v":78},0,0,9,{"$f":"IF(AM4>0,(ABS(AM4-$B4)*(ABS(AM4-$B4)+1))/'1. Liga'!$D$450,0)","v":28},0,0,13,{"$f":"IF(AQ4>0,(ABS(AQ4-$B4)*(ABS(AQ4-$B4)+1))/'1. Liga'!$D$450,0)","v":66},0,0,14,{"$f":"IF(AU4>0,(ABS(AU4-$B4)*(ABS(AU4-$B4)+1))/'1. Liga'!$D$450,0)","v":78},0,0,13,{"$f":"IF(AY4>0,(ABS(AY4-$B4)*(ABS(AY4-$B4)+1))/'1. Liga'!$D$450,0)","v":66},0,0,11,{"$f":"IF(BC4>0,(ABS(BC4-$B4)*(ABS(BC4-$B4)+1))/'1. Liga'!$D$450,0)","v":45},0,0,9,{"$f":"IF(BG4>0,(ABS(BG4-$B4)*(ABS(BG4-$B4)+1))/'1. Liga'!$D$450,0)","v":28},0,0,15,{"$f":"IF(BK4>0,(ABS(BK4-$B4)*(ABS(BK4-$B4)+1))/'1. Liga'!$D$450,0)","v":91},0,0,14,{"$f":"IF(BO4>0,(ABS(BO4-$B4)*(ABS(BO4-$B4)+1))/'1. Liga'!$D$450,0)","v":78},0,0,16,{"$f":"IF(BS4>0,(ABS(BS4-$B4)*(ABS(BS4-$B4)+1))/'1. Liga'!$D$450,0)","v":105},0,0,8,{"$f":"IF(BW4>0,(ABS(BW4-$B4)*(ABS(BW4-$B4)+1))/'1. Liga'!$D$450,0)","v":21},0,0,null,{"$f":"IF(CA4>0,(ABS(CA4-$B4)*(ABS(CA4-$B4)+1))/'1. Liga'!$D$450,0)","v":0},0,0,null,{"$f":"IF(CE4>0,(ABS(CE4-$B4)*(ABS(CE4-$B4)+1))/'1. Liga'!$D$450,0)","v":0},0,0,null,{"$f":"IF(CI4>0,(ABS(CI4-$B4)*(ABS(CI4-$B4)+1))/'1. Liga'!$D$450,0)","v":0},0,0,null,{"$f":"IF(CM4>0,(ABS(CM4-$B4)*(ABS(CM4-$B4)+1))/'1. Liga'!$D$450,0)","v":0},0,0,null,{"$f":"IF(CQ4>0,(ABS(CQ4-$B4)*(ABS(CQ4-$B4)+1))/'1. Liga'!$D$450,0)","v":0},0,0,null,null,1,{"$f":"SUMPRODUCT((INDIRECT(\"'1. Liga'!$G\"&CZ$1):INDIRECT(\"'1. Liga'!$G\"&DA$1)=$A4)*(INDIRECT(\"'1. Liga'!$N\"&CZ$1):INDIRECT(\"'1. Liga'!$N\"&DA$1)))+SUMPRODUCT((INDIRECT(\"'1. Liga'!$I\"&CZ$1):INDIRECT(\"'1. Liga'!$I\"&DA$1)=$A4)*(INDIRECT(\"'1. Liga'!$P\"&CZ$1):INDIRECT(\"'1. Liga'!$P\"&DA$1)))","v":0},{"$f":"SUMPRODUCT((INDIRECT(\"'1. Liga'!$g\"&CZ$1):INDIRECT(\"'1. Liga'!$g\"&DA$1)=$A4)*(INDIRECT(\"'1. Liga'!$r\"&CZ$1):INDIRECT(\"'1. Liga'!$r\"&DA$1)))+SUMPRODUCT((INDIRECT(\"'1. Liga'!$i\"&CZ$1):INDIRECT(\"'1. Liga'!$i\"&DA$1)=$A4)*(INDIRECT(\"'1. Liga'!$t\"&CZ$1):INDIRECT(\"'1. Liga'!$t\"&DA$1)))","v":0},0]
[{"$f":"'1. Liga'!$AL$1","v":"FC Bayern München"},{"$f":"'1. Liga'!$S$3","v":3},{"$f":"'1. Liga'!$AL$3","v":72},{"$f":"'1. Liga'!$BE$3","v":49},{"$f":"'1. Liga'!$BX$3","v":94},45,"ó",{"$f":"'1. Liga'!$CQ$2","v":3},{"$f":"'1. Liga'!$CQ$3","v":12},1.1875,1,{"$f":"IF(K5>0,(ABS(K5-$B5)*(ABS(K5-$B5)+1))/'1. Liga'!$D$450,0)","v":3},0,10,1,{"$f":"IF(O5>0,(ABS(O5-$B5)*(ABS(O5-$B5)+1))/'1. Liga'!$D$450,0)","v":3},0,10,null,{"$f":"IF(S5>0,(ABS(S5-$B5)*(ABS(S5-$B5)+1))/'1. Liga'!$D$450,0)","v":0},0,0,null,{"$f":"IF(W5>0,(ABS(W5-$B5)*(ABS(W5-$B5)+1))/'1. Liga'!$D$450,0)","v":0},0,0,3,{"$f":"IF(AA5>0,(ABS(AA5-$B5)*(ABS(AA5-$B5)+1))/'1. Liga'!$D$450,0)","v":0},0,10,1,{"$f":"IF(AE5>0,(ABS(AE5-$B5)*(ABS(AE5-$B5)+1))/'1. Liga'!$D$450,0)","v":3},0,10,3,{"$f":"IF(AI5>0,(ABS(AI5-$B5)*(ABS(AI5-$B5)+1))/'1. Liga'!$D$450,0)","v":0},0,10,2,{"$f":"IF(AM5>0,(ABS(AM5-$B5)*(ABS(AM5-$B5)+1))/'1. Liga'!$D$450,0)","v":1},0,10,2,{"$f":"IF(AQ5>0,(ABS(AQ5-$B5)*(ABS(AQ5-$B5)+1))/'1. Liga'!$D$450,0)","v":1},0,10,3,{"$f":"IF(AU5>0,(ABS(AU5-$B5)*(ABS(AU5-$B5)+1))/'1. Liga'!$D$450,0)","v":0},0,10,2,{"$f":"IF(AY5>0,(ABS(AY5-$B5)*(ABS(AY5-$B5)+1))/'1. Liga'!$D$450,0)","v":1},0,10,1,{"$f":"IF(BC5>0,(ABS(BC5-$B5)*(ABS(BC5-$B5)+1))/'1. Liga'!$D$450,0)","v":3},0,10,1,{"$f":"IF(BG5>0,(ABS(BG5-$B5)*(ABS(BG5-$B5)+1))/'1. Liga'!$D$450,0)","v":3},0,10,2,{"$f":"IF(BK5>0,(ABS(BK5-$B5)*(ABS(BK5-$B5)+1))/'1. Liga'!$D$450,0)","v":1},0,10,1,{"$f":"IF(BO5>0,(ABS(BO5-$B5)*(ABS(BO5-$B5)+1))/'1. Liga'!$D$450,0)","v":3},0,10,1,{"$f":"IF(BS5>0,(ABS(BS5-$B5)*(ABS(BS5-$B5)+1))/'1. Liga'!$D$450,0)","v":3},0,10,2,{"$f":"IF(BW5>0,(ABS(BW5-$B5)*(ABS(BW5-$B5)+1))/'1. Liga'!$D$450,0)","v":1},0,10,null,{"$f":"IF(CA5>0,(ABS(CA5-$B5)*(ABS(CA5-$B5)+1))/'1. Liga'!$D$450,0)","v":0},0,0,null,{"$f":"IF(CE5>0,(ABS(CE5-$B5)*(ABS(CE5-$B5)+1))/'1. Liga'!$D$450,0)","v":0},0,0,null,{"$f":"IF(CI5>0,(ABS(CI5-$B5)*(ABS(CI5-$B5)+1))/'1. Liga'!$D$450,0)","v":0},0,0,null,{"$f":"IF(CM5>0,(ABS(CM5-$B5)*(ABS(CM5-$B5)+1))/'1. Liga'!$D$450,0)","v":0},0,0,null,{"$f":"IF(CQ5>0,(ABS(CQ5-$B5)*(ABS(CQ5-$B5)+1))/'1. Liga'!$D$450,0)","v":0},0,0,null,null,1,{"$f":"SUMPRODUCT((INDIRECT(\"'1. Liga'!$G\"&CZ$1):INDIRECT(\"'1. Liga'!$G\"&DA$1)=$A5)*(INDIRECT(\"'1. Liga'!$N\"&CZ$1):INDIRECT(\"'1. Liga'!$N\"&DA$1)))+SUMPRODUCT((INDIRECT(\"'1. Liga'!$I\"&CZ$1):INDIRECT(\"'1. Liga'!$I\"&DA$1)=$A5)*(INDIRECT(\"'1. Liga'!$P\"&CZ$1):INDIRECT(\"'1. Liga'!$P\"&DA$1)))","v":0},{"$f":"SUMPRODUCT((INDIRECT(\"'1. Liga'!$g\"&CZ$1):INDIRECT(\"'1. Liga'!$g\"&DA$1)=$A5)*(INDIRECT(\"'1. Liga'!$r\"&CZ$1):INDIRECT(\"'1. Liga'!$r\"&DA$1)))+SUMPRODUCT((INDIRECT(\"'1. Liga'!$i\"&CZ$1):INDIRECT(\"'1. Liga'!$i\"&DA$1)=$A5)*(INDIRECT(\"'1. Liga'!$t\"&CZ$1):INDIRECT(\"'1. Liga'!$t\"&DA$1)))","v":0},0]
[{"$f":"'1. Liga'!$AT$1","v":"RB Leipzig"},{"$f":"'1. Liga'!$AA$3","v":4},{"$f":"'1. Liga'!$AT$3","v":65},{"$f":"'1. Liga'!$BM$3","v":38},{"$f":"'1. Liga'!$CF$3","v":77},39,"ñ",{"$f":"'1. Liga'!$CY$2","v":3},{"$f":"'1. Liga'!$CY$3","v":12},2.28125,3,{"$f":"IF(K6>0,(ABS(K6-$B6)*(ABS(K6-$B6)+1))/'1. Liga'!$D$450,0)","v":1},0,10,3,{"$f":"IF(O6>0,(ABS(O6-$B6)*(ABS(O6-$B6)+1))/'1. Liga'!$D$450,0)","v":1},0,10,null,{"$f":"IF(S6>0,(ABS(S6-$B6)*(ABS(S6-$B6)+1))/'1. Liga'!$D$450,0)","v":0},0,0,null,{"$f":"IF(W6>0,(ABS(W6-$B6)*(ABS(W6-$B6)+1))/'1. Liga'!$D$450,0)","v":0},0,0,1,{"$f":"IF(AA6>0,(ABS(AA6-$B6)*(ABS(AA6-$B6)+1))/'1. Liga'!$D$450,0)","v":6},0,10,2,{"$f":"IF(AE6>0,(ABS(AE6-$B6)*(ABS(AE6-$B6)+1))/'1. Liga'!$D$450,0)","v":3},0,10,1,{"$f":"IF(AI6>0,(ABS(AI6-$B6)*(ABS(AI6-$B6)+1))/'1. Liga'!$D$450,0)","v":6},0,10,3,{"$f":"IF(AM6>0,(ABS(AM6-$B6)*(ABS(AM6-$B6)+1))/'1. Liga'!$D$450,0)","v":1},0,10,3,{"$f":"IF(AQ6>0,(ABS(AQ6-$B6)*(ABS(AQ6-$B6)+1))/'1. Liga'!$D$450,0)","v":1},0,10,2,{"$f":"IF(AU6>0,(ABS(AU6-$B6)*(ABS(AU6-$B6)+1))/'1. Liga'!$D$450,0)","v":3},0,10,5,{"$f":"IF(AY6>0,(ABS(AY6-$B6)*(ABS(AY6-$B6)+1))/'1. Liga'!$D$450,0)","v":1},0,10,5,{"$f":"IF(BC6>0,(ABS(BC6-$B6)*(ABS(BC6-$B6)+1))/'1. Liga'!$D$450,0)","v":1},0,10,2,{"$f":"IF(BG6>0,(ABS(BG6-$B6)*(ABS(BG6-$B6)+1))/'1. Liga'!$D$450,0)","v":3},0,10,3,{"$f":"IF(BK6>0,(ABS(BK6-$B6)*(ABS(BK6-$B6)+1))/'1. Liga'!$D$450,0)","v":1},0,10,2,{"$f":"IF(BO6>0,(ABS(BO6-$B6)*(ABS(BO6-$B6)+1))/'1. Liga'!$D$450,0)","v":3},0,10,3,{"$f":"IF(BS6>0,(ABS(BS6-$B6)*(ABS(BS6-$B6)+1))/'1. Liga'!$D$450,0)","v":1},0,10,5,{"$f":"IF(BW6>0,(ABS(BW6-$B6)*(ABS(BW6-$B6)+1))/'1. Liga'!$D$450,0)","v":1},0,10,null,{"$f":"IF(CA6>0,(ABS(CA6-$B6)*(ABS(CA6-$B6)+1))/'1. Liga'!$D$450,0)","v":0},0,0,null,{"$f":"IF(CE6>0,(ABS(CE6-$B6)*(ABS(CE6-$B6)+1))/'1. Liga'!$D$450,0)","v":0},0,0,null,{"$f":"IF(CI6>0,(ABS(CI6-$B6)*(ABS(CI6-$B6)+1))/'1. Liga'!$D$450,0)","v":0},0,0,null,{"$f":"IF(CM6>0,(ABS(CM6-$B6)*(ABS(CM6-$B6)+1))/'1. Liga'!$D$450,0)","v":0},0,0,null,{"$f":"IF(CQ6>0,(ABS(CQ6-$B6)*(ABS(CQ6-$B6)+1))/'1. Liga'!$D$450,0)","v":0},0,0,null,null,1,{"$f":"SUMPRODUCT((INDIRECT(\"'1. Liga'!$G\"&CZ$1):INDIRECT(\"'1. Liga'!$G\"&DA$1)=$A6)*(INDIRECT(\"'1. Liga'!$N\"&CZ$1):INDIRECT(\"'1. Liga'!$N\"&DA$1)))+SUMPRODUCT((INDIRECT(\"'1. Liga'!$I\"&CZ$1):INDIRECT(\"'1. Liga'!$I\"&DA$1)=$A6)*(INDIRECT(\"'1. Liga'!$P\"&CZ$1):INDIRECT(\"'1. Liga'!$P\"&DA$1)))","v":0},{"$f":"SUMPRODUCT((INDIRECT(\"'1. Liga'!$g\"&CZ$1):INDIRECT(\"'1. Liga'!$g\"&DA$1)=$A6)*(INDIRECT(\"'1. Liga'!$r\"&CZ$1):INDIRECT(\"'1. Liga'!$r\"&DA$1)))+SUMPRODUCT((INDIRECT(\"'1. Liga'!$i\"&CZ$1):INDIRECT(\"'1. Liga'!$i\"&DA$1)=$A6)*(INDIRECT(\"'1. Liga'!$t\"&CZ$1):INDIRECT(\"'1. Liga'!$t\"&DA$1)))","v":0},0]
[{"$f":"'1. Liga'!$AO$1","v":"Borussia Dortmund"},{"$f":"'1. Liga'!$V$3","v":5},{"$f":"'1. Liga'!$AO$3","v":63},{"$f":"'1. Liga'!$BH$3","v":25},{"$f":"'1. Liga'!$CA$3","v":68},43,"ò",{"$f":"'1. Liga'!$CT$2","v":7},{"$f":"'1. Liga'!$CT$3","v":10},1.5625,2,{"$f":"IF(K7>0,(ABS(K7-$B7)*(ABS(K7-$B7)+1))/'1. Liga'!$D$450,0)","v":6},0,10,2,{"$f":"IF(O7>0,(ABS(O7-$B7)*(ABS(O7-$B7)+1))/'1. Liga'!$D$450,0)","v":6},0,10,null,{"$f":"IF(S7>0,(ABS(S7-$B7)*(ABS(S7-$B7)+1))/'1. Liga'!$D$450,0)","v":0},0,0,null,{"$f":"IF(W7>0,(ABS(W7-$B7)*(ABS(W7-$B7)+1))/'1. Liga'!$D$450,0)","v":0},0,0,2,{"$f":"IF(AA7>0,(ABS(AA7-$B7)*(ABS(AA7-$B7)+1))/'1. Liga'!$D$450,0)","v":6},0,10,3,{"$f":"IF(AE7>0,(ABS(AE7-$B7)*(ABS(AE7-$B7)+1))/'1. Liga'!$D$450,0)","v":3},0,10,2,{"$f":"IF(AI7>0,(ABS(AI7-$B7)*(ABS(AI7-$B7)+1))/'1. Liga'!$D$450,0)","v":6},0,10,1,{"$f":"IF(AM7>0,(ABS(AM7-$B7)*(ABS(AM7-$B7)+1))/'1. Liga'!$D$450,0)","v":10},0,10,1,{"$f":"IF(AQ7>0,(ABS(AQ7-$B7)*(ABS(AQ7-$B7)+1))/'1. Liga'!$D$450,0)","v":10},0,10,1,{"$f":"IF(AU7>0,(ABS(AU7-$B7)*(ABS(AU7-$B7)+1))/'1. Liga'!$D$450,0)","v":10},0,10,1,{"$f":"IF(AY7>0,(ABS(AY7-$B7)*(ABS(AY7-$B7)+1))/'1. Liga'!$D$450,0)","v":10},0,10,2,{"$f":"IF(BC7>0,(ABS(BC7-$B7)*(ABS(BC7-$B7)+1))/'1. Liga'!$D$450,0)","v":6},0,10,3,{"$f":"IF(BG7>0,(ABS(BG7-$B7)*(ABS(BG7-$B7)+1))/'1. Liga'!$D$450,0)","v":3},0,10,1,{"$f":"IF(BK7>0,(ABS(BK7-$B7)*(ABS(BK7-$B7)+1))/'1. Liga'!$D$450,0)","v":10},0,10,3,{"$f":"IF(BO7>0,(ABS(BO7-$B7)*(ABS(BO7-$B7)+1))/'1. Liga'!$D$450,0)","v":3},0,10,2,{"$f":"IF(BS7>0,(ABS(BS7-$B7)*(ABS(BS7-$B7)+1))/'1. Liga'!$D$450,0)","v":6},0,10,1,{"$f":"IF(BW7>0,(ABS(BW7-$B7)*(ABS(BW7-$B7)+1))/'1. Liga'!$D$450,0)","v":10},0,10,null,{"$f":"IF(CA7>0,(ABS(CA7-$B7)*(ABS(CA7-$B7)+1))/'1. Liga'!$D$450,0)","v":0},0,0,null,{"$f":"IF(CE7>0,(ABS(CE7-$B7)*(ABS(CE7-$B7)+1))/'1. Liga'!$D$450,0)","v":0},0,0,null,{"$f":"IF(CI7>0,(ABS(CI7-$B7)*(ABS(CI7-$B7)+1))/'1. Liga'!$D$450,0)","v":0},0,0,null,{"$f":"IF(CM7>0,(ABS(CM7-$B7)*(ABS(CM7-$B7)+1))/'1. Liga'!$D$450,0)","v":0},0,0,null,{"$f":"IF(CQ7>0,(ABS(CQ7-$B7)*(ABS(CQ7-$B7)+1))/'1. Liga'!$D$450,0)","v":0},0,0,null,null,1,{"$f":"SUMPRODUCT((INDIRECT(\"'1. Liga'!$G\"&CZ$1):INDIRECT(\"'1. Liga'!$G\"&DA$1)=$A7)*(INDIRECT(\"'1. Liga'!$N\"&CZ$1):INDIRECT(\"'1. Liga'!$N\"&DA$1)))+SUMPRODUCT((INDIRECT(\"'1. Liga'!$I\"&CZ$1):INDIRECT(\"'1. Liga'!$I\"&DA$1)=$A7)*(INDIRECT(\"'1. Liga'!$P\"&CZ$1):INDIRECT(\"'1. Liga'!$P\"&DA$1)))","v":0},{"$f":"SUMPRODUCT((INDIRECT(\"'1. Liga'!$g\"&CZ$1):INDIRECT(\"'1. Liga'!$g\"&DA$1)=$A7)*(INDIRECT(\"'1. Liga'!$r\"&CZ$1):INDIRECT(\"'1. Liga'!$r\"&DA$1)))+SUMPRODUCT((INDIRECT(\"'1. Liga'!$i\"&CZ$1):INDIRECT(\"'1. Liga'!$i\"&DA$1)=$A7)*(INDIRECT(\"'1. Liga'!$t\"&CZ$1):INDIRECT(\"'1. Liga'!$t\"&DA$1)))","v":0},0]
[{"$f":"'1. Liga'!$AQ$1","v":"Eintracht Frankfurt"},{"$f":"'1. Liga'!$X$3","v":6},{"$f":"'1. Liga'!$AQ$3","v":47},{"$f":"'1. Liga'!$BJ$3","v":1},{"$f":"'1. Liga'!$CC$3","v":51},50,"òò",{"$f":"'1. Liga'!$CV$2","v":13},{"$f":"'1. Liga'!$CV$3","v":5},5.375,6,{"$f":"IF(K8>0,(ABS(K8-$B8)*(ABS(K8-$B8)+1))/'1. Liga'!$D$450,0)","v":0},0,10,7,{"$f":"IF(O8>0,(ABS(O8-$B8)*(ABS(O8-$B8)+1))/'1. Liga'!$D$450,0)","v":1},0,10,null,{"$f":"IF(S8>0,(ABS(S8-$B8)*(ABS(S8-$B8)+1))/'1. Liga'!$D$450,0)","v":0},0,0,null,{"$f":"IF(W8>0,(ABS(W8-$B8)*(ABS(W8-$B8)+1))/'1. Liga'!$D$450,0)","v":0},0,0,5,{"$f":"IF(AA8>0,(ABS(AA8-$B8)*(ABS(AA8-$B8)+1))/'1. Liga'!$D$450,0)","v":1},0,10,7,{"$f":"IF(AE8>0,(ABS(AE8-$B8)*(ABS(AE8-$B8)+1))/'1. Liga'!$D$450,0)","v":1},0,10,11,{"$f":"IF(AI8>0,(ABS(AI8-$B8)*(ABS(AI8-$B8)+1))/'1. Liga'!$D$450,0)","v":15},0,0,5,{"$f":"IF(AM8>0,(ABS(AM8-$B8)*(ABS(AM8-$B8)+1))/'1. Liga'!$D$450,0)","v":1},0,10,6,{"$f":"IF(AQ8>0,(ABS(AQ8-$B8)*(ABS(AQ8-$B8)+1))/'1. Liga'!$D$450,0)","v":0},0,10,6,{"$f":"IF(AU8>0,(ABS(AU8-$B8)*(ABS(AU8-$B8)+1))/'1. Liga'!$D$450,0)","v":0},0,10,6,{"$f":"IF(AY8>0,(ABS(AY8-$B8)*(ABS(AY8-$B8)+1))/'1. Liga'!$D$450,0)","v":0},0,10,9,{"$f":"IF(BC8>0,(ABS(BC8-$B8)*(ABS(BC8-$B8)+1))/'1. Liga'!$D$450,0)","v":6},0,0,8,{"$f":"IF(BG8>0,(ABS(BG8-$B8)*(ABS(BG8-$B8)+1))/'1. Liga'!$D$450,0)","v":3},0,0,6,{"$f":"IF(BK8>0,(ABS(BK8-$B8)*(ABS(BK8-$B8)+1))/'1. Liga'!$D$450,0)","v":0},0,10,5,{"$f":"IF(BO8>0,(ABS(BO8-$B8)*(ABS(BO8-$B8)+1))/'1. Liga'!$D$450,0)","v":1},0,10,7,{"$f":"IF(BS8>0,(ABS(BS8-$B8)*(ABS(BS8-$B8)+1))/'1. Liga'!$D$450,0)","v":1},0,10,12,{"$f":"IF(BW8>0,(ABS(BW8-$B8)*(ABS(BW8-$B8)+1))/'1. Liga'!$D$450,0)","v":21},0,0,null,{"$f":"IF(CA8>0,(ABS(CA8-$B8)*(ABS(CA8-$B8)+1))/'1. Liga'!$D$450,0)","v":0},0,0,null,{"$f":"IF(CE8>0,(ABS(CE8-$B8)*(ABS(CE8-$B8)+1))/'1. Liga'!$D$450,0)","v":0},0,0,null,{"$f":"IF(CI8>0,(ABS(CI8-$B8)*(ABS(CI8-$B8)+1))/'1. Liga'!$D$450,0)","v":0},0,0,null,{"$f":"IF(CM8>0,(ABS(CM8-$B8)*(ABS(CM8-$B8)+1))/'1. Liga'!$D$450,0)","v":0},0,0,null,{"$f":"IF(CQ8>0,(ABS(CQ8-$B8)*(ABS(CQ8-$B8)+1))/'1. Liga'!$D$450,0)","v":0},0,0,null,null,1,{"$f":"SUMPRODUCT((INDIRECT(\"'1. Liga'!$G\"&CZ$1):INDIRECT(\"'1. Liga'!$G\"&DA$1)=$A8)*(INDIRECT(\"'1. Liga'!$N\"&CZ$1):INDIRECT(\"'1. Liga'!$N\"&DA$1)))+SUMPRODUCT((INDIRECT(\"'1. Liga'!$I\"&CZ$1):INDIRECT(\"'1. Liga'!$I\"&DA$1)=$A8)*(INDIRECT(\"'1. Liga'!$P\"&CZ$1):INDIRECT(\"'1. Liga'!$P\"&DA$1)))","v":0},{"$f":"SUMPRODUCT((INDIRECT(\"'1. Liga'!$g\"&CZ$1):INDIRECT(\"'1. Liga'!$g\"&DA$1)=$A8)*(INDIRECT(\"'1. Liga'!$r\"&CZ$1):INDIRECT(\"'1. Liga'!$r\"&DA$1)))+SUMPRODUCT((INDIRECT(\"'1. Liga'!$i\"&CZ$1):INDIRECT(\"'1. Liga'!$i\"&DA$1)=$A8)*(INDIRECT(\"'1. Liga'!$t\"&CZ$1):INDIRECT(\"'1. Liga'!$t\"&DA$1)))","v":0},0]
[{"$f":"'1. Liga'!$BA$1","v":"TSG Hoffenheim"},{"$f":"'1. Liga'!$AH$3","v":7},{"$f":"'1. Liga'!$BA$3","v":46},{"$f":"'1. Liga'!$BT$3","v":0},{"$f":"'1. Liga'!$CM$3","v":66},66,"ó",{"$f":"'1. Liga'!$DF$2","v":7},{"$f":"'1. Liga'!$DF$3","v":10},9.15625,13,{"$f":"IF(K9>0,(ABS(K9-$B9)*(ABS(K9-$B9)+1))/'1. Liga'!$D$450,0)","v":21},0,0,12,{"$f":"IF(O9>0,(ABS(O9-$B9)*(ABS(O9-$B9)+1))/'1. Liga'!$D$450,0)","v":15},0,0,null,{"$f":"IF(S9>0,(ABS(S9-$B9)*(ABS(S9-$B9)+1))/'1. Liga'!$D$450,0)","v":0},0,0,null,{"$f":"IF(W9>0,(ABS(W9-$B9)*(ABS(W9-$B9)+1))/'1. Liga'!$D$450,0)","v":0},0,0,11,{"$f":"IF(AA9>0,(ABS(AA9-$B9)*(ABS(AA9-$B9)+1))/'1. Liga'!$D$450,0)","v":10},0,0,12,{"$f":"IF(AE9>0,(ABS(AE9-$B9)*(ABS(AE9-$B9)+1))/'1. Liga'!$D$450,0)","v":15},0,0,10,{"$f":"IF(AI9>0,(ABS(AI9-$B9)*(ABS(AI9-$B9)+1))/'1. Liga'!$D$450,0)","v":6},0,0,13,{"$f":"IF(AM9>0,(ABS(AM9-$B9)*(ABS(AM9-$B9)+1))/'1. Liga'!$D$450,0)","v":21},0,0,14,{"$f":"IF(AQ9>0,(ABS(AQ9-$B9)*(ABS(AQ9-$B9)+1))/'1. Liga'!$D$450,0)","v":28},0,0,12,{"$f":"IF(AU9>0,(ABS(AU9-$B9)*(ABS(AU9-$B9)+1))/'1. Liga'!$D$450,0)","v":15},0,0,9,{"$f":"IF(AY9>0,(ABS(AY9-$B9)*(ABS(AY9-$B9)+1))/'1. Liga'!$D$450,0)","v":3},0,0,16,{"$f":"IF(BC9>0,(ABS(BC9-$B9)*(ABS(BC9-$B9)+1))/'1. Liga'!$D$450,0)","v":45},0,0,10,{"$f":"IF(BG9>0,(ABS(BG9-$B9)*(ABS(BG9-$B9)+1))/'1. Liga'!$D$450,0)","v":6},0,0,12,{"$f":"IF(BK9>0,(ABS(BK9-$B9)*(ABS(BK9-$B9)+1))/'1. Liga'!$D$450,0)","v":15},0,0,13,{"$f":"IF(BO9>0,(ABS(BO9-$B9)*(ABS(BO9-$B9)+1))/'1. Liga'!$D$450,0)","v":21},0,0,13,{"$f":"IF(BS9>0,(ABS(BS9-$B9)*(ABS(BS9-$B9)+1))/'1. Liga'!$D$450,0)","v":21},0,0,11,{"$f":"IF(BW9>0,(ABS(BW9-$B9)*(ABS(BW9-$B9)+1))/'1. Liga'!$D$450,0)","v":10},0,0,null,{"$f":"IF(CA9>0,(ABS(CA9-$B9)*(ABS(CA9-$B9)+1))/'1. Liga'!$D$450,0)","v":0},0,0,null,{"$f":"IF(CE9>0,(ABS(CE9-$B9)*(ABS(CE9-$B9)+1))/'1. Liga'!$D$450,0)","v":0},0,0,null,{"$f":"IF(CI9>0,(ABS(CI9-$B9)*(ABS(CI9-$B9)+1))/'1. Liga'!$D$450,0)","v":0},0,0,null,{"$f":"IF(CM9>0,(ABS(CM9-$B9)*(ABS(CM9-$B9)+1))/'1. Liga'!$D$450,0)","v":0},0,0,null,{"$f":"IF(CQ9>0,(ABS(CQ9-$B9)*(ABS(CQ9-$B9)+1))/'1. Liga'!$D$450,0)","v":0},0,0,null,null,1,{"$f":"SUMPRODUCT((INDIRECT(\"'1. Liga'!$G\"&CZ$1):INDIRECT(\"'1. Liga'!$G\"&DA$1)=$A9)*(INDIRECT(\"'1. Liga'!$N\"&CZ$1):INDIRECT(\"'1. Liga'!$N\"&DA$1)))+SUMPRODUCT((INDIRECT(\"'1. Liga'!$I\"&CZ$1):INDIRECT(\"'1. Liga'!$I\"&DA$1)=$A9)*(INDIRECT(\"'1. Liga'!$P\"&CZ$1):INDIRECT(\"'1. Liga'!$P\"&DA$1)))","v":0},{"$f":"SUMPRODUCT((INDIRECT(\"'1. Liga'!$g\"&CZ$1):INDIRECT(\"'1. Liga'!$g\"&DA$1)=$A9)*(INDIRECT(\"'1. Liga'!$r\"&CZ$1):INDIRECT(\"'1. Liga'!$r\"&DA$1)))+SUMPRODUCT((INDIRECT(\"'1. Liga'!$i\"&CZ$1):INDIRECT(\"'1. Liga'!$i\"&DA$1)=$A9)*(INDIRECT(\"'1. Liga'!$t\"&CZ$1):INDIRECT(\"'1. Liga'!$t\"&DA$1)))","v":0},0]
[{"$f":"'1. Liga'!$AV$1","v":"1. FC Heidenheim 1846"},{"$f":"'1. Liga'!$AC$3","v":8},{"$f":"'1. Liga'!$AV$3","v":42},{"$f":"'1. Liga'!$BO$3","v":-5},{"$f":"'1. Liga'!$CH$3","v":50},55,"ò",{"$f":"'1. Liga'!$DA$2","v":9},{"$f":"'1. Liga'!$DA$3","v":9},13.0625,17,{"$f":"IF(K10>0,(ABS(K10-$B10)*(ABS(K10-$B10)+1))/'1. Liga'!$D$450,0)","v":45},0,0,17,{"$f":"IF(O10>0,(ABS(O10-$B10)*(ABS(O10-$B10)+1))/'1. Liga'!$D$450,0)","v":45},0,0,null,{"$f":"IF(S10>0,(ABS(S10-$B10)*(ABS(S10-$B10)+1))/'1. Liga'!$D$450,0)","v":0},0,0,null,{"$f":"IF(W10>0,(ABS(W10-$B10)*(ABS(W10-$B10)+1))/'1. Liga'!$D$450,0)","v":0},0,0,15,{"$f":"IF(AA10>0,(ABS(AA10-$B10)*(ABS(AA10-$B10)+1))/'1. Liga'!$D$450,0)","v":28},0,0,16,{"$f":"IF(AE10>0,(ABS(AE10-$B10)*(ABS(AE10-$B10)+1))/'1. Liga'!$D$450,0)","v":36},0,0,16,{"$f":"IF(AI10>0,(ABS(AI10-$B10)*(ABS(AI10-$B10)+1))/'1. Liga'!$D$450,0)","v":36},0,0,18,{"$f":"IF(AM10>0,(ABS(AM10-$B10)*(ABS(AM10-$B10)+1))/'1. Liga'!$D$450,0)","v":55},0,0,18,{"$f":"IF(AQ10>0,(ABS(AQ10-$B10)*(ABS(AQ10-$B10)+1))/'1. Liga'!$D$450,0)","v":55},0,0,18,{"$f":"IF(AU10>0,(ABS(AU10-$B10)*(ABS(AU10-$B10)+1))/'1. Liga'!$D$450,0)","v":55},0,0,18,{"$f":"IF(AY10>0,(ABS(AY10-$B10)*(ABS(AY10-$B10)+1))/'1. Liga'!$D$450,0)","v":55},0,0,15,{"$f":"IF(BC10>0,(ABS(BC10-$B10)*(ABS(BC10-$B10)+1))/'1. Liga'!$D$450,0)","v":28},0,0,16,{"$f":"IF(BG10>0,(ABS(BG10-$B10)*(ABS(BG10-$B10)+1))/'1. Liga'!$D$450,0)","v":36},0,0,13,{"$f":"IF(BK10>0,(ABS(BK10-$B10)*(ABS(BK10-$B10)+1))/'1. Liga'!$D$450,0)","v":15},0,0,15,{"$f":"IF(BO10>0,(ABS(BO10-$B10)*(ABS(BO10-$B10)+1))/'1. Liga'!$D$450,0)","v":28},0,0,17,{"$f":"IF(BS10>0,(ABS(BS10-$B10)*(ABS(BS10-$B10)+1))/'1. Liga'!$D$450,0)","v":45},0,0,16,{"$f":"IF(BW10>0,(ABS(BW10-$B10)*(ABS(BW10-$B10)+1))/'1. Liga'!$D$450,0)","v":36},0,0,null,{"$f":"IF(CA10>0,(ABS(CA10-$B10)*(ABS(CA10-$B10)+1))/'1. Liga'!$D$450,0)","v":0},0,0,null,{"$f":"IF(CE10>0,(ABS(CE10-$B10)*(ABS(CE10-$B10)+1))/'1. Liga'!$D$450,0)","v":0},0,0,null,{"$f":"IF(CI10>0,(ABS(CI10-$B10)*(ABS(CI10-$B10)+1))/'1. Liga'!$D$450,0)","v":0},0,0,null,{"$f":"IF(CM10>0,(ABS(CM10-$B10)*(ABS(CM10-$B10)+1))/'1. Liga'!$D$450,0)","v":0},0,0,null,{"$f":"IF(CQ10>0,(ABS(CQ10-$B10)*(ABS(CQ10-$B10)+1))/'1. Liga'!$D$450,0)","v":0},0,0,null,null,1,{"$f":"SUMPRODUCT((INDIRECT(\"'1. Liga'!$G\"&CZ$1):INDIRECT(\"'1. Liga'!$G\"&DA$1)=$A10)*(INDIRECT(\"'1. Liga'!$N\"&CZ$1):INDIRECT(\"'1. Liga'!$N\"&DA$1)))+SUMPRODUCT((INDIRECT(\"'1. Liga'!$I\"&CZ$1):INDIRECT(\"'1. Liga'!$I\"&DA$1)=$A10)*(INDIRECT(\"'1. Liga'!$P\"&CZ$1):INDIRECT(\"'1. Liga'!$P\"&DA$1)))","v":0},{"$f":"SUMPRODUCT((INDIRECT(\"'1. Liga'!$g\"&CZ$1):INDIRECT(\"'1. Liga'!$g\"&DA$1)=$A10)*(INDIRECT(\"'1. Liga'!$r\"&CZ$1):INDIRECT(\"'1. Liga'!$r\"&DA$1)))+SUMPRODUCT((INDIRECT(\"'1. Liga'!$i\"&CZ$1):INDIRECT(\"'1. Liga'!$i\"&DA$1)=$A10)*(INDIRECT(\"'1. Liga'!$t\"&CZ$1):INDIRECT(\"'1. Liga'!$t\"&DA$1)))","v":0},0]
[{"$f":"'1. Liga'!$AK$1","v":"SV Werder Bremen"},{"$f":"'1. Liga'!$R$3","v":9},{"$f":"'1. Liga'!$AK$3","v":42},{"$f":"'1. Liga'!$BD$3","v":-6},{"$f":"'1. Liga'!$BW$3","v":48},54,"ññ",{"$f":"'1. Liga'!$CP$2","v":6},{"$f":"'1. Liga'!$CP$3","v":11},9.09375,12,{"$f":"IF(K11>0,(ABS(K11-$B11)*(ABS(K11-$B11)+1))/'1. Liga'!$D$450,0)","v":6},0,0,13,{"$f":"IF(O11>0,(ABS(O11-$B11)*(ABS(O11-$B11)+1))/'1. Liga'!$D$450,0)","v":10},0,0,null,{"$f":"IF(S11>0,(ABS(S11-$B11)*(ABS(S11-$B11)+1))/'1. Liga'!$D$450,0)","v":0},0,0,null,{"$f":"IF(W11>0,(ABS(W11-$B11)*(ABS(W11-$B11)+1))/'1. Liga'!$D$450,0)","v":0},0,0,9,{"$f":"IF(AA11>0,(ABS(AA11-$B11)*(ABS(AA11-$B11)+1))/'1. Liga'!$D$450,0)","v":0},0,0,13,{"$f":"IF(AE11>0,(ABS(AE11-$B11)*(ABS(AE11-$B11)+1))/'1. Liga'!$D$450,0)","v":10},0,0,8,{"$f":"IF(AI11>0,(ABS(AI11-$B11)*(ABS(AI11-$B11)+1))/'1. Liga'!$D$450,0)","v":1},0,0,10,{"$f":"IF(AM11>0,(ABS(AM11-$B11)*(ABS(AM11-$B11)+1))/'1. Liga'!$D$450,0)","v":1},0,0,11,{"$f":"IF(AQ11>0,(ABS(AQ11-$B11)*(ABS(AQ11-$B11)+1))/'1. Liga'!$D$450,0)","v":3},0,0,10,{"$f":"IF(AU11>0,(ABS(AU11-$B11)*(ABS(AU11-$B11)+1))/'1. Liga'!$D$450,0)","v":1},0,0,14,{"$f":"IF(AY11>0,(ABS(AY11-$B11)*(ABS(AY11-$B11)+1))/'1. Liga'!$D$450,0)","v":15},0,0,13,{"$f":"IF(BC11>0,(ABS(BC11-$B11)*(ABS(BC11-$B11)+1))/'1. Liga'!$D$450,0)","v":10},0,0,12,{"$f":"IF(BG11>0,(ABS(BG11-$B11)*(ABS(BG11-$B11)+1))/'1. Liga'!$D$450,0)","v":6},0,0,14,{"$f":"IF(BK11>0,(ABS(BK11-$B11)*(ABS(BK11-$B11)+1))/'1. Liga'!$D$450,0)","v":15},0,0,10,{"$f":"IF(BO11>0,(ABS(BO11-$B11)*(ABS(BO11-$B11)+1))/'1. Liga'!$D$450,0)","v":1},0,0,12,{"$f":"IF(BS11>0,(ABS(BS11-$B11)*(ABS(BS11-$B11)+1))/'1. Liga'!$D$450,0)","v":6},0,0,13,{"$f":"IF(BW11>0,(ABS(BW11-$B11)*(ABS(BW11-$B11)+1))/'1. Liga'!$D$450,0)","v":10},0,0,null,{"$f":"IF(CA11>0,(ABS(CA11-$B11)*(ABS(CA11-$B11)+1))/'1. Liga'!$D$450,0)","v":0},0,0,null,{"$f":"IF(CE11>0,(ABS(CE11-$B11)*(ABS(CE11-$B11)+1))/'1. Liga'!$D$450,0)","v":0},0,0,null,{"$f":"IF(CI11>0,(ABS(CI11-$B11)*(ABS(CI11-$B11)+1))/'1. Liga'!$D$450,0)","v":0},0,0,null,{"$f":"IF(CM11>0,(ABS(CM11-$B11)*(ABS(CM11-$B11)+1))/'1. Liga'!$D$450,0)","v":0},0,0,null,{"$f":"IF(CQ11>0,(ABS(CQ11-$B11)*(ABS(CQ11-$B11)+1))/'1. Liga'!$D$450,0)","v":0},0,0,null,null,1,{"$f":"SUMPRODUCT((INDIRECT(\"'1. Liga'!$G\"&CZ$1):INDIRECT(\"'1. Liga'!$G\"&DA$1)=$A11)*(INDIRECT(\"'1. Liga'!$N\"&CZ$1):INDIRECT(\"'1. Liga'!$N\"&DA$1)))+SUMPRODUCT((INDIRECT(\"'1. Liga'!$I\"&CZ$1):INDIRECT(\"'1. Liga'!$I\"&DA$1)=$A11)*(INDIRECT(\"'1. Liga'!$P\"&CZ$1):INDIRECT(\"'1. Liga'!$P\"&DA$1)))","v":0},{"$f":"SUMPRODUCT((INDIRECT(\"'1. Liga'!$g\"&CZ$1):INDIRECT(\"'1. Liga'!$g\"&DA$1)=$A11)*(INDIRECT(\"'1. Liga'!$r\"&CZ$1):INDIRECT(\"'1. Liga'!$r\"&DA$1)))+SUMPRODUCT((INDIRECT(\"'1. Liga'!$i\"&CZ$1):INDIRECT(\"'1. Liga'!$i\"&DA$1)=$A11)*(INDIRECT(\"'1. Liga'!$t\"&CZ$1):INDIRECT(\"'1. Liga'!$t\"&DA$1)))","v":0},0]
[{"$f":"'1. Liga'!$BB$1","v":"Sport-Club Freiburg"},{"$f":"'1. Liga'!$AI$3","v":10},{"$f":"'1. Liga'!$BB$3","v":42},{"$f":"'1. Liga'!$BU$3","v":-13},{"$f":"'1. Liga'!$CN$3","v":45},58,"ò",{"$f":"'1. Liga'!$DG$2","v":12},{"$f":"'1. Liga'!$DG$3","v":6},5.75,8,{"$f":"IF(K12>0,(ABS(K12-$B12)*(ABS(K12-$B12)+1))/'1. Liga'!$D$450,0)","v":3},0,0,5,{"$f":"IF(O12>0,(ABS(O12-$B12)*(ABS(O12-$B12)+1))/'1. Liga'!$D$450,0)","v":15},0,0,null,{"$f":"IF(S12>0,(ABS(S12-$B12)*(ABS(S12-$B12)+1))/'1. Liga'!$D$450,0)","v":0},0,0,null,{"$f":"IF(W12>0,(ABS(W12-$B12)*(ABS(W12-$B12)+1))/'1. Liga'!$D$450,0)","v":0},0,0,7,{"$f":"IF(AA12>0,(ABS(AA12-$B12)*(ABS(AA12-$B12)+1))/'1. Liga'!$D$450,0)","v":6},0,0,8,{"$f":"IF(AE12>0,(ABS(AE12-$B12)*(ABS(AE12-$B12)+1))/'1. Liga'!$D$450,0)","v":3},0,0,7,{"$f":"IF(AI12>0,(ABS(AI12-$B12)*(ABS(AI12-$B12)+1))/'1. Liga'!$D$450,0)","v":6},0,0,6,{"$f":"IF(AM12>0,(ABS(AM12-$B12)*(ABS(AM12-$B12)+1))/'1. Liga'!$D$450,0)","v":10},0,0,7,{"$f":"IF(AQ12>0,(ABS(AQ12-$B12)*(ABS(AQ12-$B12)+1))/'1. Liga'!$D$450,0)","v":6},0,0,5,{"$f":"IF(AU12>0,(ABS(AU12-$B12)*(ABS(AU12-$B12)+1))/'1. Liga'!$D$450,0)","v":15},0,0,11,{"$f":"IF(AY12>0,(ABS(AY12-$B12)*(ABS(AY12-$B12)+1))/'1. Liga'!$D$450,0)","v":1},0,0,10,{"$f":"IF(BC12>0,(ABS(BC12-$B12)*(ABS(BC12-$B12)+1))/'1. Liga'!$D$450,0)","v":0},0,0,7,{"$f":"IF(BG12>0,(ABS(BG12-$B12)*(ABS(BG12-$B12)+1))/'1. Liga'!$D$450,0)","v":6},0,0,8,{"$f":"IF(BK12>0,(ABS(BK12-$B12)*(ABS(BK12-$B12)+1))/'1. Liga'!$D$450,0)","v":3},0,0,8,{"$f":"IF(BO12>0,(ABS(BO12-$B12)*(ABS(BO12-$B12)+1))/'1. Liga'!$D$450,0)","v":3},0,0,4,{"$f":"IF(BS12>0,(ABS(BS12-$B12)*(ABS(BS12-$B12)+1))/'1. Liga'!$D$450,0)","v":21},0,0,4,{"$f":"IF(BW12>0,(ABS(BW12-$B12)*(ABS(BW12-$B12)+1))/'1. Liga'!$D$450,0)","v":21},0,0,null,{"$f":"IF(CA12>0,(ABS(CA12-$B12)*(ABS(CA12-$B12)+1))/'1. Liga'!$D$450,0)","v":0},0,0,null,{"$f":"IF(CE12>0,(ABS(CE12-$B12)*(ABS(CE12-$B12)+1))/'1. Liga'!$D$450,0)","v":0},0,0,null,{"$f":"IF(CI12>0,(ABS(CI12-$B12)*(ABS(CI12-$B12)+1))/'1. Liga'!$D$450,0)","v":0},0,0,null,{"$f":"IF(CM12>0,(ABS(CM12-$B12)*(ABS(CM12-$B12)+1))/'1. Liga'!$D$450,0)","v":0},0,0,null,{"$f":"IF(CQ12>0,(ABS(CQ12-$B12)*(ABS(CQ12-$B12)+1))/'1. Liga'!$D$450,0)","v":0},0,0,null,null,1,{"$f":"SUMPRODUCT((INDIRECT(\"'1. Liga'!$G\"&CZ$1):INDIRECT(\"'1. Liga'!$G\"&DA$1)=$A12)*(INDIRECT(\"'1. Liga'!$N\"&CZ$1):INDIRECT(\"'1. Liga'!$N\"&DA$1)))+SUMPRODUCT((INDIRECT(\"'1. Liga'!$I\"&CZ$1):INDIRECT(\"'1. Liga'!$I\"&DA$1)=$A12)*(INDIRECT(\"'1. Liga'!$P\"&CZ$1):INDIRECT(\"'1. Liga'!$P\"&DA$1)))","v":0},{"$f":"SUMPRODUCT((INDIRECT(\"'1. Liga'!$g\"&CZ$1):INDIRECT(\"'1. Liga'!$g\"&DA$1)=$A12)*(INDIRECT(\"'1. Liga'!$r\"&CZ$1):INDIRECT(\"'1. Liga'!$r\"&DA$1)))+SUMPRODUCT((INDIRECT(\"'1. Liga'!$i\"&CZ$1):INDIRECT(\"'1. Liga'!$i\"&DA$1)=$A12)*(INDIRECT(\"'1. Liga'!$t\"&CZ$1):INDIRECT(\"'1. Liga'!$t\"&DA$1)))","v":0},0]
[{"$f":"'1. Liga'!$AY$1","v":"FC Augsburg"},{"$f":"'1. Liga'!$AF$3","v":11},{"$f":"'1. Liga'!$AY$3","v":39},{"$f":"'1. Liga'!$BR$3","v":-10},{"$f":"'1. Liga'!$CK$3","v":50},60,"òò",{"$f":"'1. Liga'!$DD$2","v":16},{"$f":"'1. Liga'!$DD$3","v":3},11.96875,15,{"$f":"IF(K13>0,(ABS(K13-$B13)*(ABS(K13-$B13)+1))/'1. Liga'!$D$450,0)","v":10},0,0,15,{"$f":"IF(O13>0,(ABS(O13-$B13)*(ABS(O13-$B13)+1))/'1. Liga'!$D$450,0)","v":10},0,0,null,{"$f":"IF(S13>0,(ABS(S13-$B13)*(ABS(S13-$B13)+1))/'1. Liga'!$D$450,0)","v":0},0,0,null,{"$f":"IF(W13>0,(ABS(W13-$B13)*(ABS(W13-$B13)+1))/'1. Liga'!$D$450,0)","v":0},0,0,18,{"$f":"IF(AA13>0,(ABS(AA13-$B13)*(ABS(AA13-$B13)+1))/'1. Liga'!$D$450,0)","v":28},0,0,17,{"$f":"IF(AE13>0,(ABS(AE13-$B13)*(ABS(AE13-$B13)+1))/'1. Liga'!$D$450,0)","v":21},0,0,17,{"$f":"IF(AI13>0,(ABS(AI13-$B13)*(ABS(AI13-$B13)+1))/'1. Liga'!$D$450,0)","v":21},0,0,15,{"$f":"IF(AM13>0,(ABS(AM13-$B13)*(ABS(AM13-$B13)+1))/'1. Liga'!$D$450,0)","v":10},0,0,15,{"$f":"IF(AQ13>0,(ABS(AQ13-$B13)*(ABS(AQ13-$B13)+1))/'1. Liga'!$D$450,0)","v":10},0,0,16,{"$f":"IF(AU13>0,(ABS(AU13-$B13)*(ABS(AU13-$B13)+1))/'1. Liga'!$D$450,0)","v":15},0,0,16,{"$f":"IF(AY13>0,(ABS(AY13-$B13)*(ABS(AY13-$B13)+1))/'1. Liga'!$D$450,0)","v":15},0,0,17,{"$f":"IF(BC13>0,(ABS(BC13-$B13)*(ABS(BC13-$B13)+1))/'1. Liga'!$D$450,0)","v":21},0,0,17,{"$f":"IF(BG13>0,(ABS(BG13-$B13)*(ABS(BG13-$B13)+1))/'1. Liga'!$D$450,0)","v":21},0,0,16,{"$f":"IF(BK13>0,(ABS(BK13-$B13)*(ABS(BK13-$B13)+1))/'1. Liga'!$D$450,0)","v":15},0,0,16,{"$f":"IF(BO13>0,(ABS(BO13-$B13)*(ABS(BO13-$B13)+1))/'1. Liga'!$D$450,0)","v":15},0,0,14,{"$f":"IF(BS13>0,(ABS(BS13-$B13)*(ABS(BS13-$B13)+1))/'1. Liga'!$D$450,0)","v":6},0,0,15,{"$f":"IF(BW13>0,(ABS(BW13-$B13)*(ABS(BW13-$B13)+1))/'1. Liga'!$D$450,0)","v":10},0,0,null,{"$f":"IF(CA13>0,(ABS(CA13-$B13)*(ABS(CA13-$B13)+1))/'1. Liga'!$D$450,0)","v":0},0,0,null,{"$f":"IF(CE13>0,(ABS(CE13-$B13)*(ABS(CE13-$B13)+1))/'1. Liga'!$D$450,0)","v":0},0,0,null,{"$f":"IF(CI13>0,(ABS(CI13-$B13)*(ABS(CI13-$B13)+1))/'1. Liga'!$D$450,0)","v":0},0,0,null,{"$f":"IF(CM13>0,(ABS(CM13-$B13)*(ABS(CM13-$B13)+1))/'1. Liga'!$D$450,0)","v":0},0,0,null,{"$f":"IF(CQ13>0,(ABS(CQ13-$B13)*(ABS(CQ13-$B13)+1))/'1. Liga'!$D$450,0)","v":0},0,0,null,null,1,{"$f":"SUMPRODUCT((INDIRECT(\"'1. Liga'!$G\"&CZ$1):INDIRECT(\"'1. Liga'!$G\"&DA$1)=$A13)*(INDIRECT(\"'1. Liga'!$N\"&CZ$1):INDIRECT(\"'1. Liga'!$N\"&DA$1)))+SUMPRODUCT((INDIRECT(\"'1. Liga'!$I\"&CZ$1):INDIRECT(\"'1. Liga'!$I\"&DA$1)=$A13)*(INDIRECT(\"'1. Liga'!$P\"&CZ$1):INDIRECT(\"'1. Liga'!$P\"&DA$1)))","v":0},{"$f":"SUMPRODUCT((INDIRECT(\"'1. Liga'!$g\"&CZ$1):INDIRECT(\"'1. Liga'!$g\"&DA$1)=$A13)*(INDIRECT(\"'1. Liga'!$r\"&CZ$1):INDIRECT(\"'1. Liga'!$r\"&DA$1)))+SUMPRODUCT((INDIRECT(\"'1. Liga'!$i\"&CZ$1):INDIRECT(\"'1. Liga'!$i\"&DA$1)=$A13)*(INDIRECT(\"'1. Liga'!$t\"&CZ$1):INDIRECT(\"'1. Liga'!$t\"&DA$1)))","v":0},0]
[{"$f":"'1. Liga'!$AU$1","v":"VfL Wolfsburg"},{"$f":"'1. Liga'!$AB$3","v":12},{"$f":"'1. Liga'!$AU$3","v":37},{"$f":"'1. Liga'!$BN$3","v":-15},{"$f":"'1. Liga'!$CG$3","v":41},56,"ññ",{"$f":"'1. Liga'!$CZ$2","v":9},{"$f":"'1. Liga'!$CZ$3","v":9},5.625,7,{"$f":"IF(K14>0,(ABS(K14-$B14)*(ABS(K14-$B14)+1))/'1. Liga'!$D$450,0)","v":15},0,0,8,{"$f":"IF(O14>0,(ABS(O14-$B14)*(ABS(O14-$B14)+1))/'1. Liga'!$D$450,0)","v":10},0,0,null,{"$f":"IF(S14>0,(ABS(S14-$B14)*(ABS(S14-$B14)+1))/'1. Liga'!$D$450,0)","v":0},0,0,null,{"$f":"IF(W14>0,(ABS(W14-$B14)*(ABS(W14-$B14)+1))/'1. Liga'!$D$450,0)","v":0},0,0,10,{"$f":"IF(AA14>0,(ABS(AA14-$B14)*(ABS(AA14-$B14)+1))/'1. Liga'!$D$450,0)","v":3},0,0,5,{"$f":"IF(AE14>0,(ABS(AE14-$B14)*(ABS(AE14-$B14)+1))/'1. Liga'!$D$450,0)","v":28},0,0,5,{"$f":"IF(AI14>0,(ABS(AI14-$B14)*(ABS(AI14-$B14)+1))/'1. Liga'!$D$450,0)","v":28},0,0,8,{"$f":"IF(AM14>0,(ABS(AM14-$B14)*(ABS(AM14-$B14)+1))/'1. Liga'!$D$450,0)","v":10},0,0,9,{"$f":"IF(AQ14>0,(ABS(AQ14-$B14)*(ABS(AQ14-$B14)+1))/'1. Liga'!$D$450,0)","v":6},0,0,11,{"$f":"IF(AU14>0,(ABS(AU14-$B14)*(ABS(AU14-$B14)+1))/'1. Liga'!$D$450,0)","v":1},0,0,4,{"$f":"IF(AY14>0,(ABS(AY14-$B14)*(ABS(AY14-$B14)+1))/'1. Liga'!$D$450,0)","v":36},0,0,6,{"$f":"IF(BC14>0,(ABS(BC14-$B14)*(ABS(BC14-$B14)+1))/'1. Liga'!$D$450,0)","v":21},0,0,6,{"$f":"IF(BG14>0,(ABS(BG14-$B14)*(ABS(BG14-$B14)+1))/'1. Liga'!$D$450,0)","v":21},0,0,5,{"$f":"IF(BK14>0,(ABS(BK14-$B14)*(ABS(BK14-$B14)+1))/'1. Liga'!$D$450,0)","v":28},0,0,7,{"$f":"IF(BO14>0,(ABS(BO14-$B14)*(ABS(BO14-$B14)+1))/'1. Liga'!$D$450,0)","v":15},0,0,8,{"$f":"IF(BS14>0,(ABS(BS14-$B14)*(ABS(BS14-$B14)+1))/'1. Liga'!$D$450,0)","v":10},0,0,9,{"$f":"IF(BW14>0,(ABS(BW14-$B14)*(ABS(BW14-$B14)+1))/'1. Liga'!$D$450,0)","v":6},0,0,null,{"$f":"IF(CA14>0,(ABS(CA14-$B14)*(ABS(CA14-$B14)+1))/'1. Liga'!$D$450,0)","v":0},0,0,null,{"$f":"IF(CE14>0,(ABS(CE14-$B14)*(ABS(CE14-$B14)+1))/'1. Liga'!$D$450,0)","v":0},0,0,null,{"$f":"IF(CI14>0,(ABS(CI14-$B14)*(ABS(CI14-$B14)+1))/'1. Liga'!$D$450,0)","v":0},0,0,null,{"$f":"IF(CM14>0,(ABS(CM14-$B14)*(ABS(CM14-$B14)+1))/'1. Liga'!$D$450,0)","v":0},0,0,null,{"$f":"IF(CQ14>0,(ABS(CQ14-$B14)*(ABS(CQ14-$B14)+1))/'1. Liga'!$D$450,0)","v":0},0,0,null,null,1,{"$f":"SUMPRODUCT((INDIRECT(\"'1. Liga'!$G\"&CZ$1):INDIRECT(\"'1. Liga'!$G\"&DA$1)=$A14)*(INDIRECT(\"'1. Liga'!$N\"&CZ$1):INDIRECT(\"'1. Liga'!$N\"&DA$1)))+SUMPRODUCT((INDIRECT(\"'1. Liga'!$I\"&CZ$1):INDIRECT(\"'1. Liga'!$I\"&DA$1)=$A14)*(INDIRECT(\"'1. Liga'!$P\"&CZ$1):INDIRECT(\"'1. Liga'!$P\"&DA$1)))","v":0},{"$f":"SUMPRODUCT((INDIRECT(\"'1. Liga'!$g\"&CZ$1):INDIRECT(\"'1. Liga'!$g\"&DA$1)=$A14)*(INDIRECT(\"'1. Liga'!$r\"&CZ$1):INDIRECT(\"'1. Liga'!$r\"&DA$1)))+SUMPRODUCT((INDIRECT(\"'1. Liga'!$i\"&CZ$1):INDIRECT(\"'1. Liga'!$i\"&DA$1)=$A14)*(INDIRECT(\"'1. Liga'!$t\"&CZ$1):INDIRECT(\"'1. Liga'!$t\"&DA$1)))","v":0},0]
[{"$f":"'1. Liga'!$AX$1","v":"1. FSV Mainz 05"},{"$f":"'1. Liga'!$AE$3","v":13},{"$f":"'1. Liga'!$AX$3","v":35},{"$f":"'1. Liga'!$BQ$3","v":-12},{"$f":"'1. Liga'!$CJ$3","v":39},51,"ññ",{"$f":"'1. Liga'!$DC$2","v":3},{"$f":"'1. Liga'!$DC$3","v":12},8.40625,10,{"$f":"IF(K15>0,(ABS(K15-$B15)*(ABS(K15-$B15)+1))/'1. Liga'!$D$450,0)","v":6},0,0,9,{"$f":"IF(O15>0,(ABS(O15-$B15)*(ABS(O15-$B15)+1))/'1. Liga'!$D$450,0)","v":10},0,0,null,{"$f":"IF(S15>0,(ABS(S15-$B15)*(ABS(S15-$B15)+1))/'1. Liga'!$D$450,0)","v":0},0,0,null,{"$f":"IF(W15>0,(ABS(W15-$B15)*(ABS(W15-$B15)+1))/'1. Liga'!$D$450,0)","v":0},0,0,8,{"$f":"IF(AA15>0,(ABS(AA15-$B15)*(ABS(AA15-$B15)+1))/'1. Liga'!$D$450,0)","v":15},0,0,11,{"$f":"IF(AE15>0,(ABS(AE15-$B15)*(ABS(AE15-$B15)+1))/'1. Liga'!$D$450,0)","v":3},0,0,12,{"$f":"IF(AI15>0,(ABS(AI15-$B15)*(ABS(AI15-$B15)+1))/'1. Liga'!$D$450,0)","v":1},0,0,12,{"$f":"IF(AM15>0,(ABS(AM15-$B15)*(ABS(AM15-$B15)+1))/'1. Liga'!$D$450,0)","v":1},0,0,12,{"$f":"IF(AQ15>0,(ABS(AQ15-$B15)*(ABS(AQ15-$B15)+1))/'1. Liga'!$D$450,0)","v":1},0,0,13,{"$f":"IF(AU15>0,(ABS(AU15-$B15)*(ABS(AU15-$B15)+1))/'1. Liga'!$D$450,0)","v":0},0,0,10,{"$f":"IF(AY15>0,(ABS(AY15-$B15)*(ABS(AY15-$B15)+1))/'1. Liga'!$D$450,0)","v":6},0,0,7,{"$f":"IF(BC15>0,(ABS(BC15-$B15)*(ABS(BC15-$B15)+1))/'1. Liga'!$D$450,0)","v":21},0,0,14,{"$f":"IF(BG15>0,(ABS(BG15-$B15)*(ABS(BG15-$B15)+1))/'1. Liga'!$D$450,0)","v":1},0,0,11,{"$f":"IF(BK15>0,(ABS(BK15-$B15)*(ABS(BK15-$B15)+1))/'1. Liga'!$D$450,0)","v":3},0,0,11,{"$f":"IF(BO15>0,(ABS(BO15-$B15)*(ABS(BO15-$B15)+1))/'1. Liga'!$D$450,0)","v":3},0,0,10,{"$f":"IF(BS15>0,(ABS(BS15-$B15)*(ABS(BS15-$B15)+1))/'1. Liga'!$D$450,0)","v":6},0,0,7,{"$f":"IF(BW15>0,(ABS(BW15-$B15)*(ABS(BW15-$B15)+1))/'1. Liga'!$D$450,0)","v":21},0,0,null,{"$f":"IF(CA15>0,(ABS(CA15-$B15)*(ABS(CA15-$B15)+1))/'1. Liga'!$D$450,0)","v":0},0,0,null,{"$f":"IF(CE15>0,(ABS(CE15-$B15)*(ABS(CE15-$B15)+1))/'1. Liga'!$D$450,0)","v":0},0,0,null,{"$f":"IF(CI15>0,(ABS(CI15-$B15)*(ABS(CI15-$B15)+1))/'1. Liga'!$D$450,0)","v":0},0,0,null,{"$f":"IF(CM15>0,(ABS(CM15-$B15)*(ABS(CM15-$B15)+1))/'1. Liga'!$D$450,0)","v":0},0,0,null,{"$f":"IF(CQ15>0,(ABS(CQ15-$B15)*(ABS(CQ15-$B15)+1))/'1. Liga'!$D$450,0)","v":0},0,0,null,null,1,{"$f":"SUMPRODUCT((INDIRECT(\"'1. Liga'!$G\"&CZ$1):INDIRECT(\"'1. Liga'!$G\"&DA$1)=$A15)*(INDIRECT(\"'1. Liga'!$N\"&CZ$1):INDIRECT(\"'1. Liga'!$N\"&DA$1)))+SUMPRODUCT((INDIRECT(\"'1. Liga'!$I\"&CZ$1):INDIRECT(\"'1. Liga'!$I\"&DA$1)=$A15)*(INDIRECT(\"'1. Liga'!$P\"&CZ$1):INDIRECT(\"'1. Liga'!$P\"&DA$1)))","v":0},{"$f":"SUMPRODUCT((INDIRECT(\"'1. Liga'!$g\"&CZ$1):INDIRECT(\"'1. Liga'!$g\"&DA$1)=$A15)*(INDIRECT(\"'1. Liga'!$r\"&CZ$1):INDIRECT(\"'1. Liga'!$r\"&DA$1)))+SUMPRODUCT((INDIRECT(\"'1. Liga'!$i\"&CZ$1):INDIRECT(\"'1. Liga'!$i\"&DA$1)=$A15)*(INDIRECT(\"'1. Liga'!$t\"&CZ$1):INDIRECT(\"'1. Liga'!$t\"&DA$1)))","v":0},0]
[{"$f":"'1. Liga'!$AZ$1","v":"Borussia Mönchengladbach"},{"$f":"'1. Liga'!$AG$3","v":14},{"$f":"'1. Liga'!$AZ$3","v":34},{"$f":"'1. Liga'!$BS$3","v":-11},{"$f":"'1. Liga'!$CL$3","v":56},67,"ò",{"$f":"'1. Liga'!$DE$2","v":16},{"$f":"'1. Liga'!$DE$3","v":3},7.625,9,{"$f":"IF(K16>0,(ABS(K16-$B16)*(ABS(K16-$B16)+1))/'1. Liga'!$D$450,0)","v":15},0,0,10,{"$f":"IF(O16>0,(ABS(O16-$B16)*(ABS(O16-$B16)+1))/'1. Liga'!$D$450,0)","v":10},0,0,null,{"$f":"IF(S16>0,(ABS(S16-$B16)*(ABS(S16-$B16)+1))/'1. Liga'!$D$450,0)","v":0},0,0,null,{"$f":"IF(W16>0,(ABS(W16-$B16)*(ABS(W16-$B16)+1))/'1. Liga'!$D$450,0)","v":0},0,0,12,{"$f":"IF(AA16>0,(ABS(AA16-$B16)*(ABS(AA16-$B16)+1))/'1. Liga'!$D$450,0)","v":3},0,0,9,{"$f":"IF(AE16>0,(ABS(AE16-$B16)*(ABS(AE16-$B16)+1))/'1. Liga'!$D$450,0)","v":15},0,0,13,{"$f":"IF(AI16>0,(ABS(AI16-$B16)*(ABS(AI16-$B16)+1))/'1. Liga'!$D$450,0)","v":1},0,0,11,{"$f":"IF(AM16>0,(ABS(AM16-$B16)*(ABS(AM16-$B16)+1))/'1. Liga'!$D$450,0)","v":6},0,0,10,{"$f":"IF(AQ16>0,(ABS(AQ16-$B16)*(ABS(AQ16-$B16)+1))/'1. Liga'!$D$450,0)","v":10},0,0,9,{"$f":"IF(AU16>0,(ABS(AU16-$B16)*(ABS(AU16-$B16)+1))/'1. Liga'!$D$450,0)","v":15},0,0,8,{"$f":"IF(AY16>0,(ABS(AY16-$B16)*(ABS(AY16-$B16)+1))/'1. Liga'!$D$450,0)","v":21},0,0,8,{"$f":"IF(BC16>0,(ABS(BC16-$B16)*(ABS(BC16-$B16)+1))/'1. Liga'!$D$450,0)","v":21},0,0,15,{"$f":"IF(BG16>0,(ABS(BG16-$B16)*(ABS(BG16-$B16)+1))/'1. Liga'!$D$450,0)","v":1},0,0,7,{"$f":"IF(BK16>0,(ABS(BK16-$B16)*(ABS(BK16-$B16)+1))/'1. Liga'!$D$450,0)","v":28},0,0,9,{"$f":"IF(BO16>0,(ABS(BO16-$B16)*(ABS(BO16-$B16)+1))/'1. Liga'!$D$450,0)","v":15},0,0,11,{"$f":"IF(BS16>0,(ABS(BS16-$B16)*(ABS(BS16-$B16)+1))/'1. Liga'!$D$450,0)","v":6},0,0,10,{"$f":"IF(BW16>0,(ABS(BW16-$B16)*(ABS(BW16-$B16)+1))/'1. Liga'!$D$450,0)","v":10},0,0,null,{"$f":"IF(CA16>0,(ABS(CA16-$B16)*(ABS(CA16-$B16)+1))/'1. Liga'!$D$450,0)","v":0},0,0,null,{"$f":"IF(CE16>0,(ABS(CE16-$B16)*(ABS(CE16-$B16)+1))/'1. Liga'!$D$450,0)","v":0},0,0,null,{"$f":"IF(CI16>0,(ABS(CI16-$B16)*(ABS(CI16-$B16)+1))/'1. Liga'!$D$450,0)","v":0},0,0,null,{"$f":"IF(CM16>0,(ABS(CM16-$B16)*(ABS(CM16-$B16)+1))/'1. Liga'!$D$450,0)","v":0},0,0,null,{"$f":"IF(CQ16>0,(ABS(CQ16-$B16)*(ABS(CQ16-$B16)+1))/'1. Liga'!$D$450,0)","v":0},0,0,null,null,1,{"$f":"SUMPRODUCT((INDIRECT(\"'1. Liga'!$G\"&CZ$1):INDIRECT(\"'1. Liga'!$G\"&DA$1)=$A16)*(INDIRECT(\"'1. Liga'!$N\"&CZ$1):INDIRECT(\"'1. Liga'!$N\"&DA$1)))+SUMPRODUCT((INDIRECT(\"'1. Liga'!$I\"&CZ$1):INDIRECT(\"'1. Liga'!$I\"&DA$1)=$A16)*(INDIRECT(\"'1. Liga'!$P\"&CZ$1):INDIRECT(\"'1. Liga'!$P\"&DA$1)))","v":0},{"$f":"SUMPRODUCT((INDIRECT(\"'1. Liga'!$g\"&CZ$1):INDIRECT(\"'1. Liga'!$g\"&DA$1)=$A16)*(INDIRECT(\"'1. Liga'!$r\"&CZ$1):INDIRECT(\"'1. Liga'!$r\"&DA$1)))+SUMPRODUCT((INDIRECT(\"'1. Liga'!$i\"&CZ$1):INDIRECT(\"'1. Liga'!$i\"&DA$1)=$A16)*(INDIRECT(\"'1. Liga'!$t\"&CZ$1):INDIRECT(\"'1. Liga'!$t\"&DA$1)))","v":0},0]
[{"$f":"'1. Liga'!$AW$1","v":"1. FC Union Berlin"},{"$f":"'1. Liga'!$AD$3","v":15},{"$f":"'1. Liga'!$AW$3","v":33},{"$f":"'1. Liga'!$BP$3","v":-25},{"$f":"'1. Liga'!$CI$3","v":33},58,"ó",{"$f":"'1. Liga'!$DB$2","v":15},{"$f":"'1. Liga'!$DB$3","v":4},4.4375,5,{"$f":"IF(K17>0,(ABS(K17-$B17)*(ABS(K17-$B17)+1))/'1. Liga'!$D$450,0)","v":55},0,0,4,{"$f":"IF(O17>0,(ABS(O17-$B17)*(ABS(O17-$B17)+1))/'1. Liga'!$D$450,0)","v":66},0,0,null,{"$f":"IF(S17>0,(ABS(S17-$B17)*(ABS(S17-$B17)+1))/'1. Liga'!$D$450,0)","v":0},0,0,null,{"$f":"IF(W17>0,(ABS(W17-$B17)*(ABS(W17-$B17)+1))/'1. Liga'!$D$450,0)","v":0},0,0,6,{"$f":"IF(AA17>0,(ABS(AA17-$B17)*(ABS(AA17-$B17)+1))/'1. Liga'!$D$450,0)","v":45},0,0,6,{"$f":"IF(AE17>0,(ABS(AE17-$B17)*(ABS(AE17-$B17)+1))/'1. Liga'!$D$450,0)","v":45},0,0,6,{"$f":"IF(AI17>0,(ABS(AI17-$B17)*(ABS(AI17-$B17)+1))/'1. Liga'!$D$450,0)","v":45},0,0,7,{"$f":"IF(AM17>0,(ABS(AM17-$B17)*(ABS(AM17-$B17)+1))/'1. Liga'!$D$450,0)","v":36},0,0,5,{"$f":"IF(AQ17>0,(ABS(AQ17-$B17)*(ABS(AQ17-$B17)+1))/'1. Liga'!$D$450,0)","v":55},0,0,4,{"$f":"IF(AU17>0,(ABS(AU17-$B17)*(ABS(AU17-$B17)+1))/'1. Liga'!$D$450,0)","v":66},0,0,7,{"$f":"IF(AY17>0,(ABS(AY17-$B17)*(ABS(AY17-$B17)+1))/'1. Liga'!$D$450,0)","v":36},0,0,3,{"$f":"IF(BC17>0,(ABS(BC17-$B17)*(ABS(BC17-$B17)+1))/'1. Liga'!$D$450,0)","v":78},0,0,5,{"$f":"IF(BG17>0,(ABS(BG17-$B17)*(ABS(BG17-$B17)+1))/'1. Liga'!$D$450,0)","v":55},0,0,9,{"$f":"IF(BK17>0,(ABS(BK17-$B17)*(ABS(BK17-$B17)+1))/'1. Liga'!$D$450,0)","v":21},0,0,6,{"$f":"IF(BO17>0,(ABS(BO17-$B17)*(ABS(BO17-$B17)+1))/'1. Liga'!$D$450,0)","v":45},0,0,5,{"$f":"IF(BS17>0,(ABS(BS17-$B17)*(ABS(BS17-$B17)+1))/'1. Liga'!$D$450,0)","v":55},0,0,6,{"$f":"IF(BW17>0,(ABS(BW17-$B17)*(ABS(BW17-$B17)+1))/'1. Liga'!$D$450,0)","v":45},0,0,null,{"$f":"IF(CA17>0,(ABS(CA17-$B17)*(ABS(CA17-$B17)+1))/'1. Liga'!$D$450,0)","v":0},0,0,null,{"$f":"IF(CE17>0,(ABS(CE17-$B17)*(ABS(CE17-$B17)+1))/'1. Liga'!$D$450,0)","v":0},0,0,null,{"$f":"IF(CI17>0,(ABS(CI17-$B17)*(ABS(CI17-$B17)+1))/'1. Liga'!$D$450,0)","v":0},0,0,null,{"$f":"IF(CM17>0,(ABS(CM17-$B17)*(ABS(CM17-$B17)+1))/'1. Liga'!$D$450,0)","v":0},0,0,null,{"$f":"IF(CQ17>0,(ABS(CQ17-$B17)*(ABS(CQ17-$B17)+1))/'1. Liga'!$D$450,0)","v":0},0,0,null,null,1,{"$f":"SUMPRODUCT((INDIRECT(\"'1. Liga'!$G\"&CZ$1):INDIRECT(\"'1. Liga'!$G\"&DA$1)=$A17)*(INDIRECT(\"'1. Liga'!$N\"&CZ$1):INDIRECT(\"'1. Liga'!$N\"&DA$1)))+SUMPRODUCT((INDIRECT(\"'1. Liga'!$I\"&CZ$1):INDIRECT(\"'1. Liga'!$I\"&DA$1)=$A17)*(INDIRECT(\"'1. Liga'!$P\"&CZ$1):INDIRECT(\"'1. Liga'!$P\"&DA$1)))","v":0},{"$f":"SUMPRODUCT((INDIRECT(\"'1. Liga'!$g\"&CZ$1):INDIRECT(\"'1. Liga'!$g\"&DA$1)=$A17)*(INDIRECT(\"'1. Liga'!$r\"&CZ$1):INDIRECT(\"'1. Liga'!$r\"&DA$1)))+SUMPRODUCT((INDIRECT(\"'1. Liga'!$i\"&CZ$1):INDIRECT(\"'1. Liga'!$i\"&DA$1)=$A17)*(INDIRECT(\"'1. Liga'!$t\"&CZ$1):INDIRECT(\"'1. Liga'!$t\"&DA$1)))","v":0},0]
[{"$f":"'1. Liga'!$AN$1","v":"VfL Bochum 1848"},{"$f":"'1. Liga'!$U$3","v":16},{"$f":"'1. Liga'!$AN$3","v":33},{"$f":"'1. Liga'!$BG$3","v":-32},{"$f":"'1. Liga'!$BZ$3","v":42},74,"ññ",{"$f":"'1. Liga'!$CS$2","v":11},{"$f":"'1. Liga'!$CS$3","v":7},12.4375,16,{"$f":"IF(K18>0,(ABS(K18-$B18)*(ABS(K18-$B18)+1))/'1. Liga'!$D$450,0)","v":0},10,0,14,{"$f":"IF(O18>0,(ABS(O18-$B18)*(ABS(O18-$B18)+1))/'1. Liga'!$D$450,0)","v":3},0,0,null,{"$f":"IF(S18>0,(ABS(S18-$B18)*(ABS(S18-$B18)+1))/'1. Liga'!$D$450,0)","v":0},0,0,null,{"$f":"IF(W18>0,(ABS(W18-$B18)*(ABS(W18-$B18)+1))/'1. Liga'!$D$450,0)","v":0},0,0,17,{"$f":"IF(AA18>0,(ABS(AA18-$B18)*(ABS(AA18-$B18)+1))/'1. Liga'!$D$450,0)","v":1},10,0,15,{"$f":"IF(AE18>0,(ABS(AE18-$B18)*(ABS(AE18-$B18)+1))/'1. Liga'!$D$450,0)","v":1},0,0,15,{"$f":"IF(AI18>0,(ABS(AI18-$B18)*(ABS(AI18-$B18)+1))/'1. Liga'!$D$450,0)","v":1},0,0,17,{"$f":"IF(AM18>0,(ABS(AM18-$B18)*(ABS(AM18-$B18)+1))/'1. Liga'!$D$450,0)","v":1},10,0,16,{"$f":"IF(AQ18>0,(ABS(AQ18-$B18)*(ABS(AQ18-$B18)+1))/'1. Liga'!$D$450,0)","v":0},10,0,15,{"$f":"IF(AU18>0,(ABS(AU18-$B18)*(ABS(AU18-$B18)+1))/'1. Liga'!$D$450,0)","v":1},0,0,15,{"$f":"IF(AY18>0,(ABS(AY18-$B18)*(ABS(AY18-$B18)+1))/'1. Liga'!$D$450,0)","v":1},0,0,14,{"$f":"IF(BC18>0,(ABS(BC18-$B18)*(ABS(BC18-$B18)+1))/'1. Liga'!$D$450,0)","v":3},0,0,18,{"$f":"IF(BG18>0,(ABS(BG18-$B18)*(ABS(BG18-$B18)+1))/'1. Liga'!$D$450,0)","v":3},10,0,17,{"$f":"IF(BK18>0,(ABS(BK18-$B18)*(ABS(BK18-$B18)+1))/'1. Liga'!$D$450,0)","v":1},10,0,18,{"$f":"IF(BO18>0,(ABS(BO18-$B18)*(ABS(BO18-$B18)+1))/'1. Liga'!$D$450,0)","v":3},10,0,15,{"$f":"IF(BS18>0,(ABS(BS18-$B18)*(ABS(BS18-$B18)+1))/'1. Liga'!$D$450,0)","v":1},0,0,15,{"$f":"IF(BW18>0,(ABS(BW18-$B18)*(ABS(BW18-$B18)+1))/'1. Liga'!$D$450,0)","v":1},0,0,null,{"$f":"IF(CA18>0,(ABS(CA18-$B18)*(ABS(CA18-$B18)+1))/'1. Liga'!$D$450,0)","v":0},0,0,null,{"$f":"IF(CE18>0,(ABS(CE18-$B18)*(ABS(CE18-$B18)+1))/'1. Liga'!$D$450,0)","v":0},0,0,null,{"$f":"IF(CI18>0,(ABS(CI18-$B18)*(ABS(CI18-$B18)+1))/'1. Liga'!$D$450,0)","v":0},0,0,null,{"$f":"IF(CM18>0,(ABS(CM18-$B18)*(ABS(CM18-$B18)+1))/'1. Liga'!$D$450,0)","v":0},0,0,null,{"$f":"IF(CQ18>0,(ABS(CQ18-$B18)*(ABS(CQ18-$B18)+1))/'1. Liga'!$D$450,0)","v":0},0,0,null,null,1,{"$f":"SUMPRODUCT((INDIRECT(\"'1. Liga'!$G\"&CZ$1):INDIRECT(\"'1. Liga'!$G\"&DA$1)=$A18)*(INDIRECT(\"'1. Liga'!$N\"&CZ$1):INDIRECT(\"'1. Liga'!$N\"&DA$1)))+SUMPRODUCT((INDIRECT(\"'1. Liga'!$I\"&CZ$1):INDIRECT(\"'1. Liga'!$I\"&DA$1)=$A18)*(INDIRECT(\"'1. Liga'!$P\"&CZ$1):INDIRECT(\"'1. Liga'!$P\"&DA$1)))","v":0},{"$f":"SUMPRODUCT((INDIRECT(\"'1. Liga'!$g\"&CZ$1):INDIRECT(\"'1. Liga'!$g\"&DA$1)=$A18)*(INDIRECT(\"'1. Liga'!$r\"&CZ$1):INDIRECT(\"'1. Liga'!$r\"&DA$1)))+SUMPRODUCT((INDIRECT(\"'1. Liga'!$i\"&CZ$1):INDIRECT(\"'1. Liga'!$i\"&DA$1)=$A18)*(INDIRECT(\"'1. Liga'!$t\"&CZ$1):INDIRECT(\"'1. Liga'!$t\"&DA$1)))","v":0},0]
[{"$f":"'1. Liga'!$AP$1","v":"1. FC Köln"},{"$f":"'1. Liga'!$W$3","v":17},{"$f":"'1. Liga'!$AP$3","v":27},{"$f":"'1. Liga'!$BI$3","v":-32},{"$f":"'1. Liga'!$CB$3","v":28},60,"ññ",{"$f":"'1. Liga'!$CU$2","v":13},{"$f":"'1. Liga'!$CU$3","v":5},8.90625,11,{"$f":"IF(K19>0,(ABS(K19-$B19)*(ABS(K19-$B19)+1))/'1. Liga'!$D$450,0)","v":21},0,0,11,{"$f":"IF(O19>0,(ABS(O19-$B19)*(ABS(O19-$B19)+1))/'1. Liga'!$D$450,0)","v":21},0,0,null,{"$f":"IF(S19>0,(ABS(S19-$B19)*(ABS(S19-$B19)+1))/'1. Liga'!$D$450,0)","v":0},0,0,null,{"$f":"IF(W19>0,(ABS(W19-$B19)*(ABS(W19-$B19)+1))/'1. Liga'!$D$450,0)","v":0},0,0,13,{"$f":"IF(AA19>0,(ABS(AA19-$B19)*(ABS(AA19-$B19)+1))/'1. Liga'!$D$450,0)","v":10},0,0,10,{"$f":"IF(AE19>0,(ABS(AE19-$B19)*(ABS(AE19-$B19)+1))/'1. Liga'!$D$450,0)","v":28},0,0,9,{"$f":"IF(AI19>0,(ABS(AI19-$B19)*(ABS(AI19-$B19)+1))/'1. Liga'!$D$450,0)","v":36},0,0,14,{"$f":"IF(AM19>0,(ABS(AM19-$B19)*(ABS(AM19-$B19)+1))/'1. Liga'!$D$450,0)","v":6},0,0,8,{"$f":"IF(AQ19>0,(ABS(AQ19-$B19)*(ABS(AQ19-$B19)+1))/'1. Liga'!$D$450,0)","v":45},0,0,8,{"$f":"IF(AU19>0,(ABS(AU19-$B19)*(ABS(AU19-$B19)+1))/'1. Liga'!$D$450,0)","v":45},0,0,12,{"$f":"IF(AY19>0,(ABS(AY19-$B19)*(ABS(AY19-$B19)+1))/'1. Liga'!$D$450,0)","v":15},0,0,12,{"$f":"IF(BC19>0,(ABS(BC19-$B19)*(ABS(BC19-$B19)+1))/'1. Liga'!$D$450,0)","v":15},0,0,11,{"$f":"IF(BG19>0,(ABS(BG19-$B19)*(ABS(BG19-$B19)+1))/'1. Liga'!$D$450,0)","v":21},0,0,10,{"$f":"IF(BK19>0,(ABS(BK19-$B19)*(ABS(BK19-$B19)+1))/'1. Liga'!$D$450,0)","v":28},0,0,12,{"$f":"IF(BO19>0,(ABS(BO19-$B19)*(ABS(BO19-$B19)+1))/'1. Liga'!$D$450,0)","v":15},0,0,9,{"$f":"IF(BS19>0,(ABS(BS19-$B19)*(ABS(BS19-$B19)+1))/'1. Liga'!$D$450,0)","v":36},0,0,14,{"$f":"IF(BW19>0,(ABS(BW19-$B19)*(ABS(BW19-$B19)+1))/'1. Liga'!$D$450,0)","v":6},0,0,null,{"$f":"IF(CA19>0,(ABS(CA19-$B19)*(ABS(CA19-$B19)+1))/'1. Liga'!$D$450,0)","v":0},0,0,null,{"$f":"IF(CE19>0,(ABS(CE19-$B19)*(ABS(CE19-$B19)+1))/'1. Liga'!$D$450,0)","v":0},0,0,null,{"$f":"IF(CI19>0,(ABS(CI19-$B19)*(ABS(CI19-$B19)+1))/'1. Liga'!$D$450,0)","v":0},0,0,null,{"$f":"IF(CM19>0,(ABS(CM19-$B19)*(ABS(CM19-$B19)+1))/'1. Liga'!$D$450,0)","v":0},0,0,null,{"$f":"IF(CQ19>0,(ABS(CQ19-$B19)*(ABS(CQ19-$B19)+1))/'1. Liga'!$D$450,0)","v":0},0,0,null,null,1,{"$f":"SUMPRODUCT((INDIRECT(\"'1. Liga'!$G\"&CZ$1):INDIRECT(\"'1. Liga'!$G\"&DA$1)=$A19)*(INDIRECT(\"'1. Liga'!$N\"&CZ$1):INDIRECT(\"'1. Liga'!$N\"&DA$1)))+SUMPRODUCT((INDIRECT(\"'1. Liga'!$I\"&CZ$1):INDIRECT(\"'1. Liga'!$I\"&DA$1)=$A19)*(INDIRECT(\"'1. Liga'!$P\"&CZ$1):INDIRECT(\"'1. Liga'!$P\"&DA$1)))","v":0},{"$f":"SUMPRODUCT((INDIRECT(\"'1. Liga'!$g\"&CZ$1):INDIRECT(\"'1. Liga'!$g\"&DA$1)=$A19)*(INDIRECT(\"'1. Liga'!$r\"&CZ$1):INDIRECT(\"'1. Liga'!$r\"&DA$1)))+SUMPRODUCT((INDIRECT(\"'1. Liga'!$i\"&CZ$1):INDIRECT(\"'1. Liga'!$i\"&DA$1)=$A19)*(INDIRECT(\"'1. Liga'!$t\"&CZ$1):INDIRECT(\"'1. Liga'!$t\"&DA$1)))","v":0},0]
[{"$f":"'1. Liga'!$AR$1","v":"SV Darmstadt 98"},{"$f":"'1. Liga'!$Y$3","v":18},{"$f":"'1. Liga'!$AR$3","v":17},{"$f":"'1. Liga'!$BK$3","v":-56},{"$f":"'1. Liga'!$CD$3","v":30},86,"ñ",{"$f":"'1. Liga'!$CW$2","v":16},{"$f":"'1. Liga'!$CW$3","v":3},13.1875,18,{"$f":"IF(K20>0,(ABS(K20-$B20)*(ABS(K20-$B20)+1))/'1. Liga'!$D$450,0)","v":0},10,0,18,{"$f":"IF(O20>0,(ABS(O20-$B20)*(ABS(O20-$B20)+1))/'1. Liga'!$D$450,0)","v":0},10,0,null,{"$f":"IF(S20>0,(ABS(S20-$B20)*(ABS(S20-$B20)+1))/'1. Liga'!$D$450,0)","v":0},0,0,null,{"$f":"IF(W20>0,(ABS(W20-$B20)*(ABS(W20-$B20)+1))/'1. Liga'!$D$450,0)","v":0},0,0,16,{"$f":"IF(AA20>0,(ABS(AA20-$B20)*(ABS(AA20-$B20)+1))/'1. Liga'!$D$450,0)","v":3},10,0,18,{"$f":"IF(AE20>0,(ABS(AE20-$B20)*(ABS(AE20-$B20)+1))/'1. Liga'!$D$450,0)","v":0},10,0,18,{"$f":"IF(AI20>0,(ABS(AI20-$B20)*(ABS(AI20-$B20)+1))/'1. Liga'!$D$450,0)","v":0},10,0,16,{"$f":"IF(AM20>0,(ABS(AM20-$B20)*(ABS(AM20-$B20)+1))/'1. Liga'!$D$450,0)","v":3},10,0,17,{"$f":"IF(AQ20>0,(ABS(AQ20-$B20)*(ABS(AQ20-$B20)+1))/'1. Liga'!$D$450,0)","v":1},10,0,17,{"$f":"IF(AU20>0,(ABS(AU20-$B20)*(ABS(AU20-$B20)+1))/'1. Liga'!$D$450,0)","v":1},10,0,17,{"$f":"IF(AY20>0,(ABS(AY20-$B20)*(ABS(AY20-$B20)+1))/'1. Liga'!$D$450,0)","v":1},10,0,18,{"$f":"IF(BC20>0,(ABS(BC20-$B20)*(ABS(BC20-$B20)+1))/'1. Liga'!$D$450,0)","v":0},10,0,13,{"$f":"IF(BG20>0,(ABS(BG20-$B20)*(ABS(BG20-$B20)+1))/'1. Liga'!$D$450,0)","v":15},0,0,18,{"$f":"IF(BK20>0,(ABS(BK20-$B20)*(ABS(BK20-$B20)+1))/'1. Liga'!$D$450,0)","v":0},10,0,17,{"$f":"IF(BO20>0,(ABS(BO20-$B20)*(ABS(BO20-$B20)+1))/'1. Liga'!$D$450,0)","v":1},10,0,18,{"$f":"IF(BS20>0,(ABS(BS20-$B20)*(ABS(BS20-$B20)+1))/'1. Liga'!$D$450,0)","v":0},10,0,18,{"$f":"IF(BW20>0,(ABS(BW20-$B20)*(ABS(BW20-$B20)+1))/'1. Liga'!$D$450,0)","v":0},10,0,null,{"$f":"IF(CA20>0,(ABS(CA20-$B20)*(ABS(CA20-$B20)+1))/'1. Liga'!$D$450,0)","v":0},0,0,null,{"$f":"IF(CE20>0,(ABS(CE20-$B20)*(ABS(CE20-$B20)+1))/'1. Liga'!$D$450,0)","v":0},0,0,null,{"$f":"IF(CI20>0,(ABS(CI20-$B20)*(ABS(CI20-$B20)+1))/'1. Liga'!$D$450,0)","v":0},0,0,null,{"$f":"IF(CM20>0,(ABS(CM20-$B20)*(ABS(CM20-$B20)+1))/'1. Liga'!$D$450,0)","v":0},0,0,null,{"$f":"IF(CQ20>0,(ABS(CQ20-$B20)*(ABS(CQ20-$B20)+1))/'1. Liga'!$D$450,0)","v":0},0,0,null,null,1,{"$f":"SUMPRODUCT((INDIRECT(\"'1. Liga'!$G\"&CZ$1):INDIRECT(\"'1. Liga'!$G\"&DA$1)=$A20)*(INDIRECT(\"'1. Liga'!$N\"&CZ$1):INDIRECT(\"'1. Liga'!$N\"&DA$1)))+SUMPRODUCT((INDIRECT(\"'1. Liga'!$I\"&CZ$1):INDIRECT(\"'1. Liga'!$I\"&DA$1)=$A20)*(INDIRECT(\"'1. Liga'!$P\"&CZ$1):INDIRECT(\"'1. Liga'!$P\"&DA$1)))","v":0},{"$f":"SUMPRODUCT((INDIRECT(\"'1. Liga'!$g\"&CZ$1):INDIRECT(\"'1. Liga'!$g\"&DA$1)=$A20)*(INDIRECT(\"'1. Liga'!$r\"&CZ$1):INDIRECT(\"'1. Liga'!$r\"&DA$1)))+SUMPRODUCT((INDIRECT(\"'1. Liga'!$i\"&CZ$1):INDIRECT(\"'1. Liga'!$i\"&DA$1)=$A20)*(INDIRECT(\"'1. Liga'!$t\"&CZ$1):INDIRECT(\"'1. Liga'!$t\"&DA$1)))","v":0},0]
["Punkte Tabellenplatz",null,null,null,null,null,null,null,null,null,null,{"$f":"-SUM(L3:L20)","v":-291},null,null,null,{"$f":"-SUM(P3:P20)","v":-346},null,null,null,{"$f":"-SUM(T3:T20)","v":0},null,null,null,{"$f":"-SUM(X3:X20)","v":0},null,null,null,{"$f":"-SUM(AB3:AB20)","v":-249},null,null,null,{"$f":"-SUM(AF3:AF20)","v":-299},null,null,null,{"$f":"-SUM(AJ3:AJ20)","v":-293},null,null,null,{"$f":"-SUM(AN3:AN20)","v":-207},null,null,null,{"$f":"-SUM(AR3:AR20)","v":-304},null,null,null,{"$f":"-SUM(AV3:AV20)","v":-342},null,null,null,{"$f":"-SUM(AZ3:AZ20)","v":-286},null,null,null,{"$f":"-SUM(BD3:BD20)","v":-330},null,null,null,{"$f":"-SUM(BH3:BH20)","v":-238},null,null,null,{"$f":"-SUM(BL3:BL20)","v":-281},null,null,null,{"$f":"-SUM(BP3:BP20)","v":-259},null,null,null,{"$f":"-SUM(BT3:BT20)","v":-344},null,null,null,{"$f":"-SUM(BX3:BX20)","v":-233},null,null,null,{"$f":"-SUM(CB3:CB20)","v":0},null,null,null,{"$f":"-SUM(CF3:CF20)","v":0},null,null,null,{"$f":"-SUM(CJ3:CJ20)","v":0},null,null,null,{"$f":"-SUM(CN3:CN20)","v":0},null,null,null,{"$f":"-SUM(CR3:CR20)","v":0}]
["Meistertipp","10 Sonderpunkte",null,null,null,null,null,null,null,null,null,{"$f":"IF(AND(K3=1,J3=$B3),10,0)+IF(AND(K4=1,J4=$B4),10,0)+IF(AND(K5=1,J5=$B5),10,0)+IF(AND(K6=1,J6=$B6),10,0)+IF(AND(K7=1,J7=$B7),10,0)+IF(AND(K8=1,J8=$B8),10,0)+IF(AND(K9=1,J9=$B9),10,0)+IF(AND(K10=1,J10=$B10),10,0)+IF(AND(K11=1,J11=$B11),10,0)+IF(AND(K12=1,J12=$B12),10,0)+IF(AND(K13=1,J13=$B13),10,0)+IF(AND(K14=1,J14=$B14),10,0)+IF(AND(K15=1,J15=$B15),10,0)+IF(AND(K16=1,J16=$B16),10,0)+IF(AND(K17=1,J17=$B17),10,0)+IF(AND(K18=1,J18=$B18),10,0)+IF(AND(K19=1,J19=$B19),10,0)+IF(AND(K20=1,J20=$B20),10,0)","v":0},null,null,null,{"$f":"IF(AND(O3=1,O3=$B3),10,0)+IF(AND(O4=1,O4=$B4),10,0)+IF(AND(O5=1,O5=$B5),10,0)+IF(AND(O6=1,O6=$B6),10,0)+IF(AND(O7=1,O7=$B7),10,0)+IF(AND(O8=1,O8=$B8),10,0)+IF(AND(O9=1,O9=$B9),10,0)+IF(AND(O10=1,O10=$B10),10,0)+IF(AND(O11=1,O11=$B11),10,0)+IF(AND(O12=1,O12=$B12),10,0)+IF(AND(O13=1,O13=$B13),10,0)+IF(AND(O14=1,O14=$B14),10,0)+IF(AND(O15=1,O15=$B15),10,0)+IF(AND(O16=1,O16=$B16),10,0)+IF(AND(O17=1,O17=$B17),10,0)+IF(AND(O18=1,O18=$B18),10,0)+IF(AND(O19=1,O19=$B19),10,0)+IF(AND(O20=1,O20=$B20),10,0)","v":0},null,null,null,{"$f":"IF(AND(S3=1,S3=$B3),10,0)+IF(AND(S4=1,S4=$B4),10,0)+IF(AND(S5=1,S5=$B5),10,0)+IF(AND(S6=1,S6=$B6),10,0)+IF(AND(S7=1,S7=$B7),10,0)+IF(AND(S8=1,S8=$B8),10,0)+IF(AND(S9=1,S9=$B9),10,0)+IF(AND(S10=1,S10=$B10),10,0)+IF(AND(S11=1,S11=$B11),10,0)+IF(AND(S12=1,S12=$B12),10,0)+IF(AND(S13=1,S13=$B13),10,0)+IF(AND(S14=1,S14=$B14),10,0)+IF(AND(S15=1,S15=$B15),10,0)+IF(AND(S16=1,S16=$B16),10,0)+IF(AND(S17=1,S17=$B17),10,0)+IF(AND(S18=1,S18=$B18),10,0)+IF(AND(S19=1,S19=$B19),10,0)+IF(AND(S20=1,S20=$B20),10,0)","v":0},null,null,null,{"$f":"IF(AND(W3=1,W3=$B3),10,0)+IF(AND(W4=1,W4=$B4),10,0)+IF(AND(W5=1,W5=$B5),10,0)+IF(AND(W6=1,W6=$B6),10,0)+IF(AND(W7=1,W7=$B7),10,0)+IF(AND(W8=1,W8=$B8),10,0)+IF(AND(W9=1,W9=$B9),10,0)+IF(AND(W10=1,W10=$B10),10,0)+IF(AND(W11=1,W11=$B11),10,0)+IF(AND(W12=1,W12=$B12),10,0)+IF(AND(W13=1,W13=$B13),10,0)+IF(AND(W14=1,W14=$B14),10,0)+IF(AND(W15=1,W15=$B15),10,0)+IF(AND(W16=1,W16=$B16),10,0)+IF(AND(W17=1,W17=$B17),10,0)+IF(AND(W18=1,W18=$B18),10,0)+IF(AND(W19=1,W19=$B19),10,0)+IF(AND(W20=1,W20=$B20),10,0)","v":0},null,null,null,{"$f":"IF(AND(AA3=1,AA3=$B3),10,0)+IF(AND(AA4=1,AA4=$B4),10,0)+IF(AND(AA5=1,AA5=$B5),10,0)+IF(AND(AA6=1,AA6=$B6),10,0)+IF(AND(AA7=1,AA7=$B7),10,0)+IF(AND(AA8=1,AA8=$B8),10,0)+IF(AND(AA9=1,AA9=$B9),10,0)+IF(AND(AA10=1,AA10=$B10),10,0)+IF(AND(AA11=1,AA11=$B11),10,0)+IF(AND(AA12=1,AA12=$B12),10,0)+IF(AND(AA13=1,AA13=$B13),10,0)+IF(AND(AA14=1,AA14=$B14),10,0)+IF(AND(AA15=1,AA15=$B15),10,0)+IF(AND(AA16=1,AA16=$B16),10,0)+IF(AND(AA17=1,AA17=$B17),10,0)+IF(AND(AA18=1,AA18=$B18),10,0)+IF(AND(AA19=1,AA19=$B19),10,0)+IF(AND(AA20=1,AA20=$B20),10,0)","v":0},null,null,null,{"$f":"IF(AND(AE3=1,AE3=$B3),10,0)+IF(AND(AE4=1,AE4=$B4),10,0)+IF(AND(AE5=1,AE5=$B5),10,0)+IF(AND(AE6=1,AE6=$B6),10,0)+IF(AND(AE7=1,AE7=$B7),10,0)+IF(AND(AE8=1,AE8=$B8),10,0)+IF(AND(AE9=1,AE9=$B9),10,0)+IF(AND(AE10=1,AE10=$B10),10,0)+IF(AND(AE11=1,AE11=$B11),10,0)+IF(AND(AE12=1,AE12=$B12),10,0)+IF(AND(AE13=1,AE13=$B13),10,0)+IF(AND(AE14=1,AE14=$B14),10,0)+IF(AND(AE15=1,AE15=$B15),10,0)+IF(AND(AE16=1,AE16=$B16),10,0)+IF(AND(AE17=1,AE17=$B17),10,0)+IF(AND(AE18=1,AE18=$B18),10,0)+IF(AND(AE19=1,AE19=$B19),10,0)+IF(AND(AE20=1,AE20=$B20),10,0)","v":0},null,null,null,{"$f":"IF(AND(AI3=1,AI3=$B3),10,0)+IF(AND(AI4=1,AI4=$B4),10,0)+IF(AND(AI5=1,AI5=$B5),10,0)+IF(AND(AI6=1,AI6=$B6),10,0)+IF(AND(AI7=1,AI7=$B7),10,0)+IF(AND(AI8=1,AI8=$B8),10,0)+IF(AND(AI9=1,AI9=$B9),10,0)+IF(AND(AI10=1,AI10=$B10),10,0)+IF(AND(AI11=1,AI11=$B11),10,0)+IF(AND(AI12=1,AI12=$B12),10,0)+IF(AND(AI13=1,AI13=$B13),10,0)+IF(AND(AI14=1,AI14=$B14),10,0)+IF(AND(AI15=1,AI15=$B15),10,0)+IF(AND(AI16=1,AI16=$B16),10,0)+IF(AND(AI17=1,AI17=$B17),10,0)+IF(AND(AI18=1,AI18=$B18),10,0)+IF(AND(AI19=1,AI19=$B19),10,0)+IF(AND(AI20=1,AI20=$B20),10,0)","v":0},null,null,null,{"$f":"IF(AND(AM3=1,AM3=$B3),10,0)+IF(AND(AM4=1,AM4=$B4),10,0)+IF(AND(AM5=1,AM5=$B5),10,0)+IF(AND(AM6=1,AM6=$B6),10,0)+IF(AND(AM7=1,AM7=$B7),10,0)+IF(AND(AM8=1,AM8=$B8),10,0)+IF(AND(AM9=1,AM9=$B9),10,0)+IF(AND(AM10=1,AM10=$B10),10,0)+IF(AND(AM11=1,AM11=$B11),10,0)+IF(AND(AM12=1,AM12=$B12),10,0)+IF(AND(AM13=1,AM13=$B13),10,0)+IF(AND(AM14=1,AM14=$B14),10,0)+IF(AND(AM15=1,AM15=$B15),10,0)+IF(AND(AM16=1,AM16=$B16),10,0)+IF(AND(AM17=1,AM17=$B17),10,0)+IF(AND(AM18=1,AM18=$B18),10,0)+IF(AND(AM19=1,AM19=$B19),10,0)+IF(AND(AM20=1,AM20=$B20),10,0)","v":0},null,null,null,{"$f":"IF(AND(AQ3=1,AQ3=$B3),10,0)+IF(AND(AQ4=1,AQ4=$B4),10,0)+IF(AND(AQ5=1,AQ5=$B5),10,0)+IF(AND(AQ6=1,AQ6=$B6),10,0)+IF(AND(AQ7=1,AQ7=$B7),10,0)+IF(AND(AQ8=1,AQ8=$B8),10,0)+IF(AND(AQ9=1,AQ9=$B9),10,0)+IF(AND(AQ10=1,AQ10=$B10),10,0)+IF(AND(AQ11=1,AQ11=$B11),10,0)+IF(AND(AQ12=1,AQ12=$B12),10,0)+IF(AND(AQ13=1,AQ13=$B13),10,0)+IF(AND(AQ14=1,AQ14=$B14),10,0)+IF(AND(AQ15=1,AQ15=$B15),10,0)+IF(AND(AQ16=1,AQ16=$B16),10,0)+IF(AND(AQ17=1,AQ17=$B17),10,0)+IF(AND(AQ18=1,AQ18=$B18),10,0)+IF(AND(AQ19=1,AQ19=$B19),10,0)+IF(AND(AQ20=1,AQ20=$B20),10,0)","v":0},null,null,null,{"$f":"IF(AND(AU3=1,AU3=$B3),10,0)+IF(AND(AU4=1,AU4=$B4),10,0)+IF(AND(AU5=1,AU5=$B5),10,0)+IF(AND(AU6=1,AU6=$B6),10,0)+IF(AND(AU7=1,AU7=$B7),10,0)+IF(AND(AU8=1,AU8=$B8),10,0)+IF(AND(AU9=1,AU9=$B9),10,0)+IF(AND(AU10=1,AU10=$B10),10,0)+IF(AND(AU11=1,AU11=$B11),10,0)+IF(AND(AU12=1,AU12=$B12),10,0)+IF(AND(AU13=1,AU13=$B13),10,0)+IF(AND(AU14=1,AU14=$B14),10,0)+IF(AND(AU15=1,AU15=$B15),10,0)+IF(AND(AU16=1,AU16=$B16),10,0)+IF(AND(AU17=1,AU17=$B17),10,0)+IF(AND(AU18=1,AU18=$B18),10,0)+IF(AND(AU19=1,AU19=$B19),10,0)+IF(AND(AU20=1,AU20=$B20),10,0)","v":0},null,null,null,{"$f":"IF(AND(AY3=1,AY3=$B3),10,0)+IF(AND(AY4=1,AY4=$B4),10,0)+IF(AND(AY5=1,AY5=$B5),10,0)+IF(AND(AY6=1,AY6=$B6),10,0)+IF(AND(AY7=1,AY7=$B7),10,0)+IF(AND(AY8=1,AY8=$B8),10,0)+IF(AND(AY9=1,AY9=$B9),10,0)+IF(AND(AY10=1,AY10=$B10),10,0)+IF(AND(AY11=1,AY11=$B11),10,0)+IF(AND(AY12=1,AY12=$B12),10,0)+IF(AND(AY13=1,AY13=$B13),10,0)+IF(AND(AY14=1,AY14=$B14),10,0)+IF(AND(AY15=1,AY15=$B15),10,0)+IF(AND(AY16=1,AY16=$B16),10,0)+IF(AND(AY17=1,AY17=$B17),10,0)+IF(AND(AY18=1,AY18=$B18),10,0)+IF(AND(AY19=1,AY19=$B19),10,0)+IF(AND(AY20=1,AY20=$B20),10,0)","v":0},null,null,null,{"$f":"IF(AND(BC3=1,BC3=$B3),10,0)+IF(AND(BC4=1,BC4=$B4),10,0)+IF(AND(BC5=1,BC5=$B5),10,0)+IF(AND(BC6=1,BC6=$B6),10,0)+IF(AND(BC7=1,BC7=$B7),10,0)+IF(AND(BC8=1,BC8=$B8),10,0)+IF(AND(BC9=1,BC9=$B9),10,0)+IF(AND(BC10=1,BC10=$B10),10,0)+IF(AND(BC11=1,BC11=$B11),10,0)+IF(AND(BC12=1,BC12=$B12),10,0)+IF(AND(BC13=1,BC13=$B13),10,0)+IF(AND(BC14=1,BC14=$B14),10,0)+IF(AND(BC15=1,BC15=$B15),10,0)+IF(AND(BC16=1,BC16=$B16),10,0)+IF(AND(BC17=1,BC17=$B17),10,0)+IF(AND(BC18=1,BC18=$B18),10,0)+IF(AND(BC19=1,BC19=$B19),10,0)+IF(AND(BC20=1,BC20=$B20),10,0)","v":0},null,null,null,{"$f":"IF(AND(BG3=1,BG3=$B3),10,0)+IF(AND(BG4=1,BG4=$B4),10,0)+IF(AND(BG5=1,BG5=$B5),10,0)+IF(AND(BG6=1,BG6=$B6),10,0)+IF(AND(BG7=1,BG7=$B7),10,0)+IF(AND(BG8=1,BG8=$B8),10,0)+IF(AND(BG9=1,BG9=$B9),10,0)+IF(AND(BG10=1,BG10=$B10),10,0)+IF(AND(BG11=1,BG11=$B11),10,0)+IF(AND(BG12=1,BG12=$B12),10,0)+IF(AND(BG13=1,BG13=$B13),10,0)+IF(AND(BG14=1,BG14=$B14),10,0)+IF(AND(BG15=1,BG15=$B15),10,0)+IF(AND(BG16=1,BG16=$B16),10,0)+IF(AND(BG17=1,BG17=$B17),10,0)+IF(AND(BG18=1,BG18=$B18),10,0)+IF(AND(BG19=1,BG19=$B19),10,0)+IF(AND(BG20=1,BG20=$B20),10,0)","v":0},null,null,null,{"$f":"IF(AND(BK3=1,BK3=$B3),10,0)+IF(AND(BK4=1,BK4=$B4),10,0)+IF(AND(BK5=1,BK5=$B5),10,0)+IF(AND(BK6=1,BK6=$B6),10,0)+IF(AND(BK7=1,BK7=$B7),10,0)+IF(AND(BK8=1,BK8=$B8),10,0)+IF(AND(BK9=1,BK9=$B9),10,0)+IF(AND(BK10=1,BK10=$B10),10,0)+IF(AND(BK11=1,BK11=$B11),10,0)+IF(AND(BK12=1,BK12=$B12),10,0)+IF(AND(BK13=1,BK13=$B13),10,0)+IF(AND(BK14=1,BK14=$B14),10,0)+IF(AND(BK15=1,BK15=$B15),10,0)+IF(AND(BK16=1,BK16=$B16),10,0)+IF(AND(BK17=1,BK17=$B17),10,0)+IF(AND(BK18=1,BK18=$B18),10,0)+IF(AND(BK19=1,BK19=$B19),10,0)+IF(AND(BK20=1,BK20=$B20),10,0)","v":0},null,null,null,{"$f":"IF(AND(BO3=1,BO3=$B3),10,0)+IF(AND(BO4=1,BO4=$B4),10,0)+IF(AND(BO5=1,BO5=$B5),10,0)+IF(AND(BO6=1,BO6=$B6),10,0)+IF(AND(BO7=1,BO7=$B7),10,0)+IF(AND(BO8=1,BO8=$B8),10,0)+IF(AND(BO9=1,BO9=$B9),10,0)+IF(AND(BO10=1,BO10=$B10),10,0)+IF(AND(BO11=1,BO11=$B11),10,0)+IF(AND(BO12=1,BO12=$B12),10,0)+IF(AND(BO13=1,BO13=$B13),10,0)+IF(AND(BO14=1,BO14=$B14),10,0)+IF(AND(BO15=1,BO15=$B15),10,0)+IF(AND(BO16=1,BO16=$B16),10,0)+IF(AND(BO17=1,BO17=$B17),10,0)+IF(AND(BO18=1,BO18=$B18),10,0)+IF(AND(BO19=1,BO19=$B19),10,0)+IF(AND(BO20=1,BO20=$B20),10,0)","v":0},null,null,null,{"$f":"IF(AND(BS3=1,BS3=$B3),10,0)+IF(AND(BS4=1,BS4=$B4),10,0)+IF(AND(BS5=1,BS5=$B5),10,0)+IF(AND(BS6=1,BS6=$B6),10,0)+IF(AND(BS7=1,BS7=$B7),10,0)+IF(AND(BS8=1,BS8=$B8),10,0)+IF(AND(BS9=1,BS9=$B9),10,0)+IF(AND(BS10=1,BS10=$B10),10,0)+IF(AND(BS11=1,BS11=$B11),10,0)+IF(AND(BS12=1,BS12=$B12),10,0)+IF(AND(BS13=1,BS13=$B13),10,0)+IF(AND(BS14=1,BS14=$B14),10,0)+IF(AND(BS15=1,BS15=$B15),10,0)+IF(AND(BS16=1,BS16=$B16),10,0)+IF(AND(BS17=1,BS17=$B17),10,0)+IF(AND(BS18=1,BS18=$B18),10,0)+IF(AND(BS19=1,BS19=$B19),10,0)+IF(AND(BS20=1,BS20=$B20),10,0)","v":0},null,null,null,{"$f":"IF(AND(BW3=1,BW3=$B3),10,0)+IF(AND(BW4=1,BW4=$B4),10,0)+IF(AND(BW5=1,BW5=$B5),10,0)+IF(AND(BW6=1,BW6=$B6),10,0)+IF(AND(BW7=1,BW7=$B7),10,0)+IF(AND(BW8=1,BW8=$B8),10,0)+IF(AND(BW9=1,BW9=$B9),10,0)+IF(AND(BW10=1,BW10=$B10),10,0)+IF(AND(BW11=1,BW11=$B11),10,0)+IF(AND(BW12=1,BW12=$B12),10,0)+IF(AND(BW13=1,BW13=$B13),10,0)+IF(AND(BW14=1,BW14=$B14),10,0)+IF(AND(BW15=1,BW15=$B15),10,0)+IF(AND(BW16=1,BW16=$B16),10,0)+IF(AND(BW17=1,BW17=$B17),10,0)+IF(AND(BW18=1,BW18=$B18),10,0)+IF(AND(BW19=1,BW19=$B19),10,0)+IF(AND(BW20=1,BW20=$B20),10,0)","v":0},null,null,null,{"$f":"IF(AND(CA3=1,CA3=$B3),10,0)+IF(AND(CA4=1,CA4=$B4),10,0)+IF(AND(CA5=1,CA5=$B5),10,0)+IF(AND(CA6=1,CA6=$B6),10,0)+IF(AND(CA7=1,CA7=$B7),10,0)+IF(AND(CA8=1,CA8=$B8),10,0)+IF(AND(CA9=1,CA9=$B9),10,0)+IF(AND(CA10=1,CA10=$B10),10,0)+IF(AND(CA11=1,CA11=$B11),10,0)+IF(AND(CA12=1,CA12=$B12),10,0)+IF(AND(CA13=1,CA13=$B13),10,0)+IF(AND(CA14=1,CA14=$B14),10,0)+IF(AND(CA15=1,CA15=$B15),10,0)+IF(AND(CA16=1,CA16=$B16),10,0)+IF(AND(CA17=1,CA17=$B17),10,0)+IF(AND(CA18=1,CA18=$B18),10,0)+IF(AND(CA19=1,CA19=$B19),10,0)+IF(AND(CA20=1,CA20=$B20),10,0)","v":0},null,null,null,{"$f":"IF(AND(CE3=1,CE3=$B3),10,0)+IF(AND(CE4=1,CE4=$B4),10,0)+IF(AND(CE5=1,CE5=$B5),10,0)+IF(AND(CE6=1,CE6=$B6),10,0)+IF(AND(CE7=1,CE7=$B7),10,0)+IF(AND(CE8=1,CE8=$B8),10,0)+IF(AND(CE9=1,CE9=$B9),10,0)+IF(AND(CE10=1,CE10=$B10),10,0)+IF(AND(CE11=1,CE11=$B11),10,0)+IF(AND(CE12=1,CE12=$B12),10,0)+IF(AND(CE13=1,CE13=$B13),10,0)+IF(AND(CE14=1,CE14=$B14),10,0)+IF(AND(CE15=1,CE15=$B15),10,0)+IF(AND(CE16=1,CE16=$B16),10,0)+IF(AND(CE17=1,CE17=$B17),10,0)+IF(AND(CE18=1,CE18=$B18),10,0)+IF(AND(CE19=1,CE19=$B19),10,0)+IF(AND(CE20=1,CE20=$B20),10,0)","v":0},null,null,null,{"$f":"IF(AND(CI3=1,CI3=$B3),10,0)+IF(AND(CI4=1,CI4=$B4),10,0)+IF(AND(CI5=1,CI5=$B5),10,0)+IF(AND(CI6=1,CI6=$B6),10,0)+IF(AND(CI7=1,CI7=$B7),10,0)+IF(AND(CI8=1,CI8=$B8),10,0)+IF(AND(CI9=1,CI9=$B9),10,0)+IF(AND(CI10=1,CI10=$B10),10,0)+IF(AND(CI11=1,CI11=$B11),10,0)+IF(AND(CI12=1,CI12=$B12),10,0)+IF(AND(CI13=1,CI13=$B13),10,0)+IF(AND(CI14=1,CI14=$B14),10,0)+IF(AND(CI15=1,CI15=$B15),10,0)+IF(AND(CI16=1,CI16=$B16),10,0)+IF(AND(CI17=1,CI17=$B17),10,0)+IF(AND(CI18=1,CI18=$B18),10,0)+IF(AND(CI19=1,CI19=$B19),10,0)+IF(AND(CI20=1,CI20=$B20),10,0)","v":0},null,null,null,{"$f":"IF(AND(CM3=1,CM3=$B3),10,0)+IF(AND(CM4=1,CM4=$B4),10,0)+IF(AND(CM5=1,CM5=$B5),10,0)+IF(AND(CM6=1,CM6=$B6),10,0)+IF(AND(CM7=1,CM7=$B7),10,0)+IF(AND(CM8=1,CM8=$B8),10,0)+IF(AND(CM9=1,CM9=$B9),10,0)+IF(AND(CM10=1,CM10=$B10),10,0)+IF(AND(CM11=1,CM11=$B11),10,0)+IF(AND(CM12=1,CM12=$B12),10,0)+IF(AND(CM13=1,CM13=$B13),10,0)+IF(AND(CM14=1,CM14=$B14),10,0)+IF(AND(CM15=1,CM15=$B15),10,0)+IF(AND(CM16=1,CM16=$B16),10,0)+IF(AND(CM17=1,CM17=$B17),10,0)+IF(AND(CM18=1,CM18=$B18),10,0)+IF(AND(CM19=1,CM19=$B19),10,0)+IF(AND(CM20=1,CM20=$B20),10,0)","v":0},null,null,null,{"$f":"IF(AND(CQ3=1,CQ3=$B3),10,0)+IF(AND(CQ4=1,CQ4=$B4),10,0)+IF(AND(CQ5=1,CQ5=$B5),10,0)+IF(AND(CQ6=1,CQ6=$B6),10,0)+IF(AND(CQ7=1,CQ7=$B7),10,0)+IF(AND(CQ8=1,CQ8=$B8),10,0)+IF(AND(CQ9=1,CQ9=$B9),10,0)+IF(AND(CQ10=1,CQ10=$B10),10,0)+IF(AND(CQ11=1,CQ11=$B11),10,0)+IF(AND(CQ12=1,CQ12=$B12),10,0)+IF(AND(CQ13=1,CQ13=$B13),10,0)+IF(AND(CQ14=1,CQ14=$B14),10,0)+IF(AND(CQ15=1,CQ15=$B15),10,0)+IF(AND(CQ16=1,CQ16=$B16),10,0)+IF(AND(CQ17=1,CQ17=$B17),10,0)+IF(AND(CQ18=1,CQ18=$B18),10,0)+IF(AND(CQ19=1,CQ19=$B19),10,0)+IF(AND(CQ20=1,CQ20=$B20),10,0)","v":0}]
["Tipp Plätze 1 - 7","jeweils 10 Sonderpunkte",null,null,null,null,null,null,null,null,null,{"$f":"N3+N4+N5+N6+N7+N8+N9+N10+N11+N12+N13+N14+N15+N16+N17+N18+N19+N20","v":50},null,null,null,{"$f":"R3+R4+R5+R6+R7+R8+R9+R10+R11+R12+R13+R14+R15+R16+R17+R18+R19+R20","v":50},null,null,null,{"$f":"V3+V4+V5+V6+V7+V8+V9+V10+V11+V12+V13+V14+V15+V16+V17+V18+V19+V20","v":0},null,null,null,{"$f":"Z3+Z4+Z5+Z6+Z7+Z8+Z9+Z10+Z11+Z12+Z13+Z14+Z15+Z16+Z17+Z18+Z19+Z20","v":0},null,null,null,{"$f":"AD3+AD4+AD5+AD6+AD7+AD8+AD9+AD10+AD11+AD12+AD13+AD14+AD15+AD16+AD17+AD18+AD19+AD20","v":50},null,null,null,{"$f":"AH3+AH4+AH5+AH6+AH7+AH8+AH9+AH10+AH11+AH12+AH13+AH14+AH15+AH16+AH17+AH18+AH19+AH20","v":50},null,null,null,{"$f":"AL3+AL4+AL5+AL6+AL7+AL8+AL9+AL10+AL11+AL12+AL13+AL14+AL15+AL16+AL17+AL18+AL19+AL20","v":40},null,null,null,{"$f":"AP3+AP4+AP5+AP6+AP7+AP8+AP9+AP10+AP11+AP12+AP13+AP14+AP15+AP16+AP17+AP18+AP19+AP20","v":50},null,null,null,{"$f":"AT3+AT4+AT5+AT6+AT7+AT8+AT9+AT10+AT11+AT12+AT13+AT14+AT15+AT16+AT17+AT18+AT19+AT20","v":50},null,null,null,{"$f":"AX3+AX4+AX5+AX6+AX7+AX8+AX9+AX10+AX11+AX12+AX13+AX14+AX15+AX16+AX17+AX18+AX19+AX20","v":50},null,null,null,{"$f":"BB3+BB4+BB5+BB6+BB7+BB8+BB9+BB10+BB11+BB12+BB13+BB14+BB15+BB16+BB17+BB18+BB19+BB20","v":50},null,null,null,{"$f":"BF3+BF4+BF5+BF6+BF7+BF8+BF9+BF10+BF11+BF12+BF13+BF14+BF15+BF16+BF17+BF18+BF19+BF20","v":40},null,null,null,{"$f":"BJ3+BJ4+BJ5+BJ6+BJ7+BJ8+BJ9+BJ10+BJ11+BJ12+BJ13+BJ14+BJ15+BJ16+BJ17+BJ18+BJ19+BJ20","v":40},null,null,null,{"$f":"BN3+BN4+BN5+BN6+BN7+BN8+BN9+BN10+BN11+BN12+BN13+BN14+BN15+BN16+BN17+BN18+BN19+BN20","v":50},null,null,null,{"$f":"BR3+BR4+BR5+BR6+BR7+BR8+BR9+BR10+BR11+BR12+BR13+BR14+BR15+BR16+BR17+BR18+BR19+BR20","v":50},null,null,null,{"$f":"BV3+BV4+BV5+BV6+BV7+BV8+BV9+BV10+BV11+BV12+BV13+BV14+BV15+BV16+BV17+BV18+BV19+BV20","v":50},null,null,null,{"$f":"BZ3+BZ4+BZ5+BZ6+BZ7+BZ8+BZ9+BZ10+BZ11+BZ12+BZ13+BZ14+BZ15+BZ16+BZ17+BZ18+BZ19+BZ20","v":40},null,null,null,{"$f":"CD3+CD4+CD5+CD6+CD7+CD8+CD9+CD10+CD11+CD12+CD13+CD14+CD15+CD16+CD17+CD18+CD19+CD20","v":0},null,null,null,{"$f":"CH3+CH4+CH5+CH6+CH7+CH8+CH9+CH10+CH11+CH12+CH13+CH14+CH15+CH16+CH17+CH18+CH19+CH20","v":0},null,null,null,{"$f":"CL3+CL4+CL5+CL6+CL7+CL8+CL9+CL10+CL11+CL12+CL13+CL14+CL15+CL16+CL17+CL18+CL19+CL20","v":0},null,null,null,{"$f":"CP3+CP4+CP5+CP6+CP7+CP8+CP9+CP10+CP11+CP12+CP13+CP14+CP15+CP16+CP17+CP18+CP19+CP20","v":0},null,null,null,{"$f":"CT3+CT4+CT5+CT6+CT7+CT8+CT9+CT10+CT11+CT12+CT13+CT14+CT15+CT16+CT17+CT18+CT19+CT20","v":0}]
["Tipp Plätze 16 - 18","jeweils 10 Sonderpunkte",null,null,null,null,null,null,null,null,null,{"$f":"M3+M4+M5+M6+M7+M8+M9+M10+M11+M12+M13+M14+M15+M16+M17+M18+M19+M20","v":20},null,null,null,{"$f":"Q3+Q4+Q5+Q6+Q7+Q8+Q9+Q10+Q11+Q12+Q13+Q14+Q15+Q16+Q17+Q18+Q19+Q20","v":10},null,null,null,{"$f":"U3+U4+U5+U6+U7+U8+U9+U10+U11+U12+U13+U14+U15+U16+U17+U18+U19+U20","v":0},null,null,null,{"$f":"Y3+Y4+Y5+Y6+Y7+Y8+Y9+Y10+Y11+Y12+Y13+Y14+Y15+Y16+Y17+Y18+Y19+Y20","v":0},null,null,null,{"$f":"AC3+AC4+AC5+AC6+AC7+AC8+AC9+AC10+AC11+AC12+AC13+AC14+AC15+AC16+AC17+AC18+AC19+AC20","v":20},null,null,null,{"$f":"AG3+AG4+AG5+AG6+AG7+AG8+AG9+AG10+AG11+AG12+AG13+AG14+AG15+AG16+AG17+AG18+AG19+AG20","v":10},null,null,null,{"$f":"AK3+AK4+AK5+AK6+AK7+AK8+AK9+AK10+AK11+AK12+AK13+AK14+AK15+AK16+AK17+AK18+AK19+AK20","v":10},null,null,null,{"$f":"AO3+AO4+AO5+AO6+AO7+AO8+AO9+AO10+AO11+AO12+AO13+AO14+AO15+AO16+AO17+AO18+AO19+AO20","v":20},null,null,null,{"$f":"AS3+AS4+AS5+AS6+AS7+AS8+AS9+AS10+AS11+AS12+AS13+AS14+AS15+AS16+AS17+AS18+AS19+AS20","v":20},null,null,null,{"$f":"AW3+AW4+AW5+AW6+AW7+AW8+AW9+AW10+AW11+AW12+AW13+AW14+AW15+AW16+AW17+AW18+AW19+AW20","v":10},null,null,null,{"$f":"BA3+BA4+BA5+BA6+BA7+BA8+BA9+BA10+BA11+BA12+BA13+BA14+BA15+BA16+BA17+BA18+BA19+BA20","v":10},null,null,null,{"$f":"BE3+BE4+BE5+BE6+BE7+BE8+BE9+BE10+BE11+BE12+BE13+BE14+BE15+BE16+BE17+BE18+BE19+BE20","v":10},null,null,null,{"$f":"BI3+BI4+BI5+BI6+BI7+BI8+BI9+BI10+BI11+BI12+BI13+BI14+BI15+BI16+BI17+BI18+BI19+BI20","v":10},null,null,null,{"$f":"BM3+BM4+BM5+BM6+BM7+BM8+BM9+BM10+BM11+BM12+BM13+BM14+BM15+BM16+BM17+BM18+BM19+BM20","v":20},null,null,null,{"$f":"BQ3+BQ4+BQ5+BQ6+BQ7+BQ8+BQ9+BQ10+BQ11+BQ12+BQ13+BQ14+BQ15+BQ16+BQ17+BQ18+BQ19+BQ20","v":20},null,null,null,{"$f":"BU3+BU4+BU5+BU6+BU7+BU8+BU9+BU10+BU11+BU12+BU13+BU14+BU15+BU16+BU17+BU18+BU19+BU20","v":10},null,null,null,{"$f":"BY3+BY4+BY5+BY6+BY7+BY8+BY9+BY10+BY11+BY12+BY13+BY14+BY15+BY16+BY17+BY18+BY19+BY20","v":10},null,null,null,{"$f":"CC3+CC4+CC5+CC6+CC7+CC8+CC9+CC10+CC11+CC12+CC13+CC14+CC15+CC16+CC17+CC18+CC19+CC20","v":0},null,null,null,{"$f":"CG3+CG4+CG5+CG6+CG7+CG8+CG9+CG10+CG11+CG12+CG13+CG14+CG15+CG16+CG17+CG18+CG19+CG20","v":0},null,null,null,{"$f":"CK3+CK4+CK5+CK6+CK7+CK8+CK9+CK10+CK11+CK12+CK13+CK14+CK15+CK16+CK17+CK18+CK19+CK20","v":0},null,null,null,{"$f":"CO3+CO4+CO5+CO6+CO7+CO8+CO9+CO10+CO11+CO12+CO13+CO14+CO15+CO16+CO17+CO18+CO19+CO20","v":0},null,null,null,{"$f":"CS3+CS4+CS5+CS6+CS7+CS8+CS9+CS10+CS11+CS12+CS13+CS14+CS15+CS16+CS17+CS18+CS19+CS20","v":0}]
["Gesamtpunkte",null,null,null,null,null,null,null,null,null,null,{"$f":"L24+L23+L22+L21","v":-221},null,null,null,{"$f":"P24+P23+P22+P21","v":-286},null,null,null,{"$f":"T24+T23+T22+T21","v":0},null,null,null,{"$f":"X24+X23+X22+X21","v":0},null,null,null,{"$f":"AB24+AB23+AB22+AB21","v":-179},null,null,null,{"$f":"AF24+AF23+AF22+AF21","v":-239},null,null,null,{"$f":"AJ24+AJ23+AJ22+AJ21","v":-243},null,null,null,{"$f":"AN24+AN23+AN22+AN21","v":-137},null,null,null,{"$f":"AR24+AR23+AR22+AR21","v":-234},null,null,null,{"$f":"AV24+AV23+AV22+AV21","v":-282},null,null,null,{"$f":"AZ24+AZ23+AZ22+AZ21","v":-226},null,null,null,{"$f":"BD24+BD23+BD22+BD21","v":-280},null,null,null,{"$f":"BH24+BH23+BH22+BH21","v":-188},null,null,null,{"$f":"BL24+BL23+BL22+BL21","v":-211},null,null,null,{"$f":"BP24+BP23+BP22+BP21","v":-189},null,null,null,{"$f":"BT24+BT23+BT22+BT21","v":-284},null,null,null,{"$f":"BX24+BX23+BX22+BX21","v":-183},null,null,null,{"$f":"CB24+CB23+CB22+CB21","v":0},null,null,null,{"$f":"CF24+CF23+CF22+CF21","v":0},null,null,null,{"$f":"CJ24+CJ23+CJ22+CJ21","v":0},null,null,null,{"$f":"CN24+CN23+CN22+CN21","v":0},null,null,null,{"$f":"CR24+CR23+CR22+CR21","v":0}," "," "]
["Aktueller Rang",null,null,null,null,null,null,null,null,null,null,null,null,null,null,null,null,null,null,null,null,null,null,null,null,null,null,{"$f":"RANK(AB25,($AA$25:$BX$25,$AA$53:$BT$53),0)","v":3},null,null,null,{"$f":"RANK(AF25,($AA$25:$BX$25,$AA$53:$BT$53),0)","v":19},null,null,null,{"$f":"RANK(AJ25,($AA$25:$BX$25,$AA$53:$BT$53),0)","v":20},null,null,null,{"$f":"RANK(AN25,($AA$25:$BX$25,$AA$53:$BT$53),0)","v":2},null,null,null,{"$f":"RANK(AR25,($AA$25:$BX$25,$AA$53:$BT$53),0)","v":17},null,null,null,{"$f":"RANK(AV25,($AA$25:$BX$25,$AA$53:$BT$53),0)","v":23},null,null,null,{"$f":"RANK(AZ25,($AA$25:$BX$25,$AA$53:$BT$53),0)","v":14},null,null,null,{"$f":"RANK(BD25,($AA$25:$BX$25,$AA$53:$BT$53),0)","v":22},null,null,null,{"$f":"RANK(BH25,($AA$25:$BX$25,$AA$53:$BT$53),0)","v":5},null,null,null,{"$f":"RANK(BL25,($AA$25:$BX$25,$AA$53:$BT$53),0)","v":9},null,null,null,{"$f":"RANK(BP25,($AA$25:$BX$25,$AA$53:$BT$53),0)","v":6},null,null,null,{"$f":"RANK(BT25,($AA$25:$BX$25,$AA$53:$BT$53),0)","v":24},null,null,null,{"$f":"RANK(BX25,($AA$25:$BX$25,$AA$53:$BT$53),0)","v":4},null,null,null,{"$f":"RANK(CB25,($AA$25:$BX$25,$AA$53:$BP$53),0)","v":{"$error":"#N/A"}},null,null,null,{"$f":"RANK(CF25,($AA$25:$BX$25,$AA$53:$BP$53),0)","v":{"$error":"#N/A"}},null,null,null,{"$f":"RANK(CJ25,($AA$25:$CF$25,$AA$53:$CB$53),0)","v":1},null," ",null,{"$f":"RANK(CN25,($AA$25:$CJ$25,$AA$53:$CJ$53),0)","v":1},null,null,null,{"$f":"RANK(CR25,($AA$25:$CJ$25,$AA$53:$CJ$53),0)","v":1}]
[]
[]
["Bundesliga-Tipp 2023/2024",null,null,null,null,null,null,{"$f":"\"Stand letzte \"&'1. Liga'!$CO$3&\" Spiele\"","v":"Stand letzte 6 Spiele"},null,null,{"$f":"K1","v":"Mittelwert"}," ",null,null,"Tipp \"11 Freunde\"","( * außerhalb der Wertung)",null,null,"Quoten- Dummy",null,null,null,{"$f":"W1","v":"Kicker Experten"},null,null,null,"Stefan Burger (14-17-15-22-25-29-31-29-15-29-2)",null,null,null,"Silvia Röder (2-X-X-X-X-X-X-X-X-X-X)",null,null,null,"Bernhard Wähling (5-6-4-20-15-22-22-28-33-21-10)",null,null,null,"Andreas Wähling (11-22-7-2-14-23-20-9-34-3-15)",null,null,null,"Eileen Klein (23-8-13-5-4-9-6-20-9-4-8)",null,null,null,"Frank Mader (9-12-3-21-20-10-3-27-19-19-1)",null,null,null,"Christian Bergfried (1-21-1-12-17-13-18-13-X-9-X)",null,null,null,"Hermann Bergfried (16-24-18-18-12-6-27-2-X-X-X)",null,null,null,"Heinz Ballach (6-10-10-6-23-11-17-4-7-6-3)",null,null,null,"Rainer Borgmann (24-9-23-12-28-2-9-18-3-20-25)",null,null,null,"Bodo Blume (13-14-14-8-24-3-1-1-32-16-29)",null,null,null,"Patrick Schmidt (18-14-20-1-16-8-15-7-28-28-11)",null,null,null,null,null,null,null,null,null,null,null,null,null,null,null,null,null,null,null,null,null,null,null,null,null,null,null,null,null,null,null,null,null,null,null,"Angelika Fischer (32-26-25-X-26-7-33-25-2-29-17-23-32-31-15-X-27-1-X)","München",null,"Werner Kneis (21-X-16-X-X-X-X-X-X-X-X-22-7-6-X-5-26-2-X)","Unterschleißheim"]
[null,"Platz","Punkte","Tordiff.",null,null,"Trend","Platz","Punkte",null,{"$f":"K2","v":"Platz"},{"$f":"L2","v":"Punkte"},"Absteiger-Punkte","EURO- Punkte","Platz","Punkte","Absteiger-Punkte","EURO- Punkte","Platz","Punkte","Absteiger-Punkte","UEFA- Punkte","Platz","Punkte","Absteiger-Punkte","UEFA- Punkte","Platz","Punkte","Absteiger-Punkte","UEFA- Punkte","Platz","Punkte","Absteiger-Punkte","UEFA- Punkte","Platz","Punkte","Absteiger-Punkte","UEFA- Punkte","Platz","Punkte","Absteiger-Punkte","UEFA- Punkte","Platz","Punkte","Absteiger-Punkte","UEFA- Punkte","Platz","Punkte","Absteiger-Punkte","UEFA- Punkte","Platz","Punkte","Absteiger-Punkte","UEFA- Punkte","Platz","Punkte","Absteiger-Punkte","UEFA- Punkte","Platz","Punkte","Absteiger-Punkte","UEFA- Punkte","Platz","Punkte","Absteiger-Punkte","UEFA- Punkte","Platz","Punkte","Absteiger-Punkte","UEFA- Punkte","Platz","Punkte","Absteiger-Punkte","UEFA- Punkte","Platz","Punkte","Absteiger-Punkte","UEFA- Punkte","Platz","Punkte","Absteiger-Punkte","UEFA- Punkte","Platz","Punkte","Absteiger-Punkte","UEFA- Punkte","Platz","Punkte","Absteiger-Punkte","UEFA- Punkte","Platz","Punkte","Absteiger-Punkte","UEFA- Punkte","Platz","Punkte","Absteiger-Punkte","UEFA- Punkte"]
[{"$f":"'1. Liga'!$AS$1","v":"Bayer 04 Leverkusen"},{"$f":"'1. Liga'!$Z$3","v":1},{"$f":"'1. Liga'!$AS$3","v":90},{"$f":"'1. Liga'!$BL$3","v":65},{"$f":"'1. Liga'!$CE$3","v":89},{"$f":"F3","v":24},{"$f":"IF(B31-H31>2,\"ññ\",IF(B31-H31<-2,\"òò\",IF(B31-H31>0,\"ñ\",IF(B31-H31<0,\"ò\",\"ó\"))))","v":"ó"},{"$f":"'1. Liga'!$CX$2","v":1},{"$f":"'1. Liga'!$CX$3","v":14},{"$f":"(W3+AA3+AE3+AI3+AM3+AQ3+AU3+AY3+BC3+BG3+BK3+BO3+BS3+BW3+CA3+CE3+CI3+W31+AA31+AE31+AI31+AM31+AQ31+AU31+AY31+BC31+BG31+BK31+BO31+BS31+BW31+CA31+CE31+CI31)/32","v":3.25},{"$f":"RANK(J31,J$31:J$48,1)","v":4},{"$f":"IF(K31>0,(ABS(K31-$B31)*(ABS(K31-$B31)+1))/'1. Liga'!$D$450,0)","v":6},{"$f":"IF(AND(OR($B31=16,$B31=17,$B31=18),OR(K31=16,K31=17,K31=18)),10,0)","v":0},{"$f":"IF(AND(OR(K31=1,K31=2,K31=3,K31=4,K31=5,K31=5,K31=6,K31=7),OR($B31=1,$B31=2,$B31=3,$B31=4,$B31=5,$B31=5,$B31=6,$B31=7)),10,0)","v":10},3,{"$f":"IF(O31>0,(ABS(O31-$B31)*(ABS(O31-$B31)+1))/'1. Liga'!$D$450,0)","v":3},{"$f":"IF(AND(OR($B31=16,$B31=17,$B31=18),OR(O31=16,O31=17,O31=18)),10,0)","v":0},{"$f":"IF(AND(OR(O31=1,O31=2,O31=3,O31=4,O31=5,O31=5,O31=6,O31=7),OR($B31=1,$B31=2,$B31=3,$B31=4,$B31=5,$B31=5,$B31=6,$B31=7)),10,0)","v":10},{"$f":"S3","v":0},{"$f":"IF(S31>0,(ABS(S31-$B3)*(ABS(S31-$B3)+1))/'1. Liga'!$D$450,0)","v":0},{"$f":"IF(AND(OR($B3=16,$B3=17,$B3=18),OR(S31=16,S31=17,S31=18)),10,0)","v":0},{"$f":"IF(AND(OR(S31=1,S31=2,S31=3,S31=4,S31=5,S31=5,S31=6,S31=7),OR($B31=1,$B31=2,$B31=3,$B31=4,$B31=5,$B31=5,$B31=6,$B31=7)),10,0)","v":0},{"$f":"W3","v":0},{"$f":"IF(W31>0,(ABS(W31-$B3)*(ABS(W31-$B3)+1))/'1. Liga'!$D$450,0)","v":0},{"$f":"IF(AND(OR($B3=16,$B3=17,$B3=18),OR(W31=16,W31=17,W31=18)),10,0)","v":0},{"$f":"IF(AND(OR(W31=1,W31=2,W31=3,W31=4,W31=5,W31=5,W31=6,W31=7),OR($B31=1,$B31=2,$B31=3,$B31=4,$B31=5,$B31=5,$B31=6,$B31=7)),10,0)","v":0},5,{"$f":"IF(AA31>0,(ABS(AA31-$B3)*(ABS(AA31-$B3)+1))/'1. Liga'!$D$450,0)","v":10},{"$f":"IF(AND(OR($B3=16,$B3=17,$B3=18),OR(AA31=16,AA31=17,AA31=18)),10,0)","v":0},{"$f":"IF(AND(OR(AA31=1,AA31=2,AA31=3,AA31=4,AA31=5,AA31=5,AA31=6,AA31=7),OR($B31=1,$B31=2,$B31=3,$B31=4,$B31=5,$B31=5,$B31=6,$B31=7)),10,0)","v":10},6,{"$f":"IF(AE31>0,(ABS(AE31-$B3)*(ABS(AE31-$B3)+1))/'1. Liga'!$D$450,0)","v":15},{"$f":"IF(AND(OR($B3=16,$B3=17,$B3=18),OR(AE31=16,AE31=17,AE31=18)),10,0)","v":0},{"$f":"IF(AND(OR(AE31=1,AE31=2,AE31=3,AE31=4,AE31=5,AE31=5,AE31=6,AE31=7),OR($B31=1,$B31=2,$B31=3,$B31=4,$B31=5,$B31=5,$B31=6,$B31=7)),10,0)","v":10},4,{"$f":"IF(AI31>0,(ABS(AI31-$B3)*(ABS(AI31-$B3)+1))/'1. Liga'!$D$450,0)","v":6},{"$f":"IF(AND(OR($B3=16,$B3=17,$B3=18),OR(AI31=16,AI31=17,AI31=18)),10,0)","v":0},{"$f":"IF(AND(OR(AI31=1,AI31=2,AI31=3,AI31=4,AI31=5,AI31=5,AI31=6,AI31=7),OR($B31=1,$B31=2,$B31=3,$B31=4,$B31=5,$B31=5,$B31=6,$B31=7)),10,0)","v":10},3,{"$f":"IF(AM31>0,(ABS(AM31-$B3)*(ABS(AM31-$B3)+1))/'1. Liga'!$D$450,0)","v":3},{"$f":"IF(AND(OR($B3=16,$B3=17,$B3=18),OR(AM31=16,AM31=17,AM31=18)),10,0)","v":0},{"$f":"IF(AND(OR(AM31=1,AM31=2,AM31=3,AM31=4,AM31=5,AM31=5,AM31=6,AM31=7),OR($B31=1,$B31=2,$B31=3,$B31=4,$B31=5,$B31=5,$B31=6,$B31=7)),10,0)","v":10},4,{"$f":"IF(AQ31>0,(ABS(AQ31-$B3)*(ABS(AQ31-$B3)+1))/'1. Liga'!$D$450,0)","v":6},{"$f":"IF(AND(OR($B3=16,$B3=17,$B3=18),OR(AQ31=16,AQ31=17,AQ31=18)),10,0)","v":0},{"$f":"IF(AND(OR(AQ31=1,AQ31=2,AQ31=3,AQ31=4,AQ31=5,AQ31=5,AQ31=6,AQ31=7),OR($B31=1,$B31=2,$B31=3,$B31=4,$B31=5,$B31=5,$B31=6,$B31=7)),10,0)","v":10},3,{"$f":"IF(AU31>0,(ABS(AU31-$B3)*(ABS(AU31-$B3)+1))/'1. Liga'!$D$450,0)","v":3},{"$f":"IF(AND(OR($B3=16,$B3=17,$B3=18),OR(AU31=16,AU31=17,AU31=18)),10,0)","v":0},{"$f":"IF(AND(OR(AU31=1,AU31=2,AU31=3,AU31=4,AU31=5,AU31=5,AU31=6,AU31=7),OR($B31=1,$B31=2,$B31=3,$B31=4,$B31=5,$B31=5,$B31=6,$B31=7)),10,0)","v":10},5,{"$f":"IF(AY31>0,(ABS(AY31-$B3)*(ABS(AY31-$B3)+1))/'1. Liga'!$D$450,0)","v":10},{"$f":"IF(AND(OR($B3=16,$B3=17,$B3=18),OR(AY31=16,AY31=17,AY31=18)),10,0)","v":0},{"$f":"IF(AND(OR(AY31=1,AY31=2,AY31=3,AY31=4,AY31=5,AY31=5,AY31=6,AY31=7),OR($B31=1,$B31=2,$B31=3,$B31=4,$B31=5,$B31=5,$B31=6,$B31=7)),10,0)","v":10},3,{"$f":"IF(BC31>0,(ABS(BC31-$B3)*(ABS(BC31-$B3)+1))/'1. Liga'!$D$450,0)","v":3},{"$f":"IF(AND(OR($B3=16,$B3=17,$B3=18),OR(BC31=16,BC31=17,BC31=18)),10,0)","v":0},{"$f":"IF(AND(OR(BC31=1,BC31=2,BC31=3,BC31=4,BC31=5,BC31=5,BC31=6,BC31=7),OR($B31=1,$B31=2,$B31=3,$B31=4,$B31=5,$B31=5,$B31=6,$B31=7)),10,0)","v":10},4,{"$f":"IF(BG31>0,(ABS(BG31-$B3)*(ABS(BG31-$B3)+1))/'1. Liga'!$D$450,0)","v":6},{"$f":"IF(AND(OR($B3=16,$B3=17,$B3=18),OR(BG31=16,BG31=17,BG31=18)),10,0)","v":0},{"$f":"IF(AND(OR(BG31=1,BG31=2,BG31=3,BG31=4,BG31=5,BG31=5,BG31=6,BG31=7),OR($B31=1,$B31=2,$B31=3,$B31=4,$B31=5,$B31=5,$B31=6,$B31=7)),10,0)","v":10},5,{"$f":"IF(BK31>0,(ABS(BK31-$B3)*(ABS(BK31-$B3)+1))/'1. Liga'!$D$450,0)","v":10},{"$f":"IF(AND(OR($B3=16,$B3=17,$B3=18),OR(BK31=16,BK31=17,BK31=18)),10,0)","v":0},{"$f":"IF(AND(OR(BK31=1,BK31=2,BK31=3,BK31=4,BK31=5,BK31=5,BK31=6,BK31=7),OR($B31=1,$B31=2,$B31=3,$B31=4,$B31=5,$B31=5,$B31=6,$B31=7)),10,0)","v":10},3,{"$f":"IF(BO31>0,(ABS(BO31-$B3)*(ABS(BO31-$B3)+1))/'1. Liga'!$D$450,0)","v":3},{"$f":"IF(AND(OR($B3=16,$B3=17,$B3=18),OR(BO31=16,BO31=17,BO31=18)),10,0)","v":0},{"$f":"IF(AND(OR(BO31=1,BO31=2,BO31=3,BO31=4,BO31=5,BO31=5,BO31=6,BO31=7),OR($B31=1,$B31=2,$B31=3,$B31=4,$B31=5,$B31=5,$B31=6,$B31=7)),10,0)","v":10},4,{"$f":"IF(BS31>0,(ABS(BS31-$B3)*(ABS(BS31-$B3)+1))/'1. Liga'!$D$450,0)","v":6},{"$f":"IF(AND(OR($B3=16,$B3=17,$B3=18),OR(BS31=16,BS31=17,BS31=18)),10,0)","v":0},{"$f":"IF(AND(OR(BS31=1,BS31=2,BS31=3,BS31=4,BS31=5,BS31=5,BS31=6,BS31=7),OR($B31=1,$B31=2,$B31=3,$B31=4,$B31=5,$B31=5,$B31=6,$B31=7)),10,0)","v":10},null,{"$f":"IF(BW31>0,(ABS(BW31-$B3)*(ABS(BW31-$B3)+1))/'1. Liga'!$D$450,0)","v":0},{"$f":"IF(AND(OR($B3=16,$B3=17,$B3=18),OR(BW31=16,BW31=17,BW31=18)),10,0)","v":0},{"$f":"IF(AND(OR(BW31=1,BW31=2,BW31=3,BW31=4,BW31=5,BW31=5,BW31=6,BW31=7),OR($B31=1,$B31=2,$B31=3,$B31=4,$B31=5,$B31=5,$B31=6,$B31=7)),10,0)","v":0},null,{"$f":"IF(CA31>0,(ABS(CA31-$B3)*(ABS(CA31-$B3)+1))/'1. Liga'!$D$450,0)","v":0},{"$f":"IF(AND(OR($B3=16,$B3=17,$B3=18),OR(CA31=16,CA31=17,CA31=18)),10,0)","v":0},{"$f":"IF(AND(OR(CA31=1,CA31=2,CA31=3,CA31=4,CA31=5,CA31=5,CA31=6,CA31=7),OR($B31=1,$B31=2,$B31=3,$B31=4,$B31=5,$B31=5,$B31=6,$B31=7)),10,0)","v":0},null,{"$f":"IF(CE31>0,(ABS(CE31-$B3)*(ABS(CE31-$B3)+1))/'1. Liga'!$D$450,0)","v":0},{"$f":"IF(AND(OR($B3=16,$B3=17,$B3=18),OR(CE31=16,CE31=17,CE31=18)),10,0)","v":0},{"$f":"IF(AND(OR(CE31=1,CE31=2,CE31=3,CE31=4,CE31=5,CE31=5,CE31=6,CE31=7),OR($B31=1,$B31=2,$B31=3,$B31=4,$B31=5,$B31=5,$B31=6,$B31=7)),10,0)","v":0},null,{"$f":"IF(CI31>0,(ABS(CI31-$B3)*(ABS(CI31-$B3)+1))/'1. Liga'!$D$450,0)","v":0},{"$f":"IF(AND(OR($B3=16,$B3=17,$B3=18),OR(CI31=16,CI31=17,CI31=18)),10,0)","v":0},{"$f":"IF(AND(OR(CI31=1,CI31=2,CI31=3,CI31=4,CI31=5,CI31=5,CI31=6,CI31=7),OR($B31=1,$B31=2,$B31=3,$B31=4,$B31=5,$B31=5,$B31=6,$B31=7)),10,0)","v":0},null,{"$f":"IF(CM31>0,(ABS(CM31-$B3)*(ABS(CM31-$B3)+1))/'1. Liga'!$D$450,0)","v":0},{"$f":"IF(AND(OR($B3=16,$B3=17,$B3=18),OR(CM31=16,CM31=17,CM31=18)),10,0)","v":0},{"$f":"IF(AND(OR(CM31=1,CM31=2,CM31=3,CM31=4,CM31=5,CM31=5,CM31=6,CM31=7),OR($B31=1,$B31=2,$B31=3,$B31=4,$B31=5,$B31=5,$B31=6,$B31=7)),10,0)","v":0},null,{"$f":"IF(CQ31>0,(ABS(CQ31-$B3)*(ABS(CQ31-$B3)+1))/'1. Liga'!$D$450,0)","v":0},{"$f":"IF(AND(OR($B3=16,$B3=17,$B3=18),OR(CQ31=16,CQ31=17,CQ31=18)),10,0)","v":0},{"$f":"IF(AND(OR(CQ31=1,CQ31=2,CQ31=3,CQ31=4,CQ31=5,CQ31=5,CQ31=6,CQ31=7),OR($B31=1,$B31=2,$B31=3,$B31=4,$B31=5,$B31=5,$B31=6,$B31=7)),10,0)","v":0}]
[{"$f":"'1. Liga'!$AM$1","v":"VfB Stuttgart"},{"$f":"'1. Liga'!$T$3","v":2},{"$f":"'1. Liga'!$AM$3","v":73},{"$f":"'1. Liga'!$BF$3","v":39},{"$f":"'1. Liga'!$BY$3","v":78},39,"ó",{"$f":"'1. Liga'!$CR$2","v":2},{"$f":"'1. Liga'!$CR$3","v":13},10.21875,14,{"$f":"IF(K32>0,(ABS(K32-$B32)*(ABS(K32-$B32)+1))/'1. Liga'!$D$450,0)","v":78},0,0,10,{"$f":"IF(O32>0,(ABS(O32-$B32)*(ABS(O32-$B32)+1))/'1. Liga'!$D$450,0)","v":36},0,0,0,{"$f":"IF(S32>0,(ABS(S32-$B4)*(ABS(S32-$B4)+1))/'1. Liga'!$D$450,0)","v":0},0,0,0,{"$f":"IF(W32>0,(ABS(W32-$B4)*(ABS(W32-$B4)+1))/'1. Liga'!$D$450,0)","v":0},0,0,14,{"$f":"IF(AA32>0,(ABS(AA32-$B4)*(ABS(AA32-$B4)+1))/'1. Liga'!$D$450,0)","v":78},0,0,11,{"$f":"IF(AE32>0,(ABS(AE32-$B4)*(ABS(AE32-$B4)+1))/'1. Liga'!$D$450,0)","v":45},0,0,13,{"$f":"IF(AI32>0,(ABS(AI32-$B4)*(ABS(AI32-$B4)+1))/'1. Liga'!$D$450,0)","v":66},0,0,10,{"$f":"IF(AM32>0,(ABS(AM32-$B4)*(ABS(AM32-$B4)+1))/'1. Liga'!$D$450,0)","v":36},0,0,14,{"$f":"IF(AQ32>0,(ABS(AQ32-$B4)*(ABS(AQ32-$B4)+1))/'1. Liga'!$D$450,0)","v":78},0,0,14,{"$f":"IF(AU32>0,(ABS(AU32-$B4)*(ABS(AU32-$B4)+1))/'1. Liga'!$D$450,0)","v":78},0,0,17,{"$f":"IF(AY32>0,(ABS(AY32-$B4)*(ABS(AY32-$B4)+1))/'1. Liga'!$D$450,0)","v":120},0,0,13,{"$f":"IF(BC32>0,(ABS(BC32-$B4)*(ABS(BC32-$B4)+1))/'1. Liga'!$D$450,0)","v":66},0,0,14,{"$f":"IF(BG32>0,(ABS(BG32-$B4)*(ABS(BG32-$B4)+1))/'1. Liga'!$D$450,0)","v":78},0,0,13,{"$f":"IF(BK32>0,(ABS(BK32-$B4)*(ABS(BK32-$B4)+1))/'1. Liga'!$D$450,0)","v":66},0,0,16,{"$f":"IF(BO32>0,(ABS(BO32-$B4)*(ABS(BO32-$B4)+1))/'1. Liga'!$D$450,0)","v":105},0,0,14,{"$f":"IF(BS32>0,(ABS(BS32-$B4)*(ABS(BS32-$B4)+1))/'1. Liga'!$D$450,0)","v":78},0,0,null,{"$f":"IF(BW32>0,(ABS(BW32-$B4)*(ABS(BW32-$B4)+1))/'1. Liga'!$D$450,0)","v":0},0,0,null,{"$f":"IF(CA32>0,(ABS(CA32-$B4)*(ABS(CA32-$B4)+1))/'1. Liga'!$D$450,0)","v":0},0,0,null,{"$f":"IF(CE32>0,(ABS(CE32-$B4)*(ABS(CE32-$B4)+1))/'1. Liga'!$D$450,0)","v":0},0,0,null,{"$f":"IF(CI32>0,(ABS(CI32-$B4)*(ABS(CI32-$B4)+1))/'1. Liga'!$D$450,0)","v":0},0,0,null,{"$f":"IF(CM32>0,(ABS(CM32-$B4)*(ABS(CM32-$B4)+1))/'1. Liga'!$D$450,0)","v":0},0,0,null,{"$f":"IF(CQ32>0,(ABS(CQ32-$B4)*(ABS(CQ32-$B4)+1))/'1. Liga'!$D$450,0)","v":0},0,0]
[{"$f":"'1. Liga'!$AL$1","v":"FC Bayern München"},{"$f":"'1. Liga'!$S$3","v":3},{"$f":"'1. Liga'!$AL$3","v":72},{"$f":"'1. Liga'!$BE$3","v":49},{"$f":"'1. Liga'!$BX$3","v":94},45,"ó",{"$f":"'1. Liga'!$CQ$2","v":3},{"$f":"'1. Liga'!$CQ$3","v":12},1.1875,1,{"$f":"IF(K33>0,(ABS(K33-$B33)*(ABS(K33-$B33)+1))/'1. Liga'!$D$450,0)","v":3},0,10,1,{"$f":"IF(O33>0,(ABS(O33-$B33)*(ABS(O33-$B33)+1))/'1. Liga'!$D$450,0)","v":3},0,10,0,{"$f":"IF(S33>0,(ABS(S33-$B5)*(ABS(S33-$B5)+1))/'1. Liga'!$D$450,0)","v":0},0,0,0,{"$f":"IF(W33>0,(ABS(W33-$B5)*(ABS(W33-$B5)+1))/'1. Liga'!$D$450,0)","v":0},0,0,1,{"$f":"IF(AA33>0,(ABS(AA33-$B5)*(ABS(AA33-$B5)+1))/'1. Liga'!$D$450,0)","v":3},0,10,1,{"$f":"IF(AE33>0,(ABS(AE33-$B5)*(ABS(AE33-$B5)+1))/'1. Liga'!$D$450,0)","v":3},0,10,1,{"$f":"IF(AI33>0,(ABS(AI33-$B5)*(ABS(AI33-$B5)+1))/'1. Liga'!$D$450,0)","v":3},0,10,1,{"$f":"IF(AM33>0,(ABS(AM33-$B5)*(ABS(AM33-$B5)+1))/'1. Liga'!$D$450,0)","v":3},0,10,1,{"$f":"IF(AQ33>0,(ABS(AQ33-$B5)*(ABS(AQ33-$B5)+1))/'1. Liga'!$D$450,0)","v":3},0,10,2,{"$f":"IF(AU33>0,(ABS(AU33-$B5)*(ABS(AU33-$B5)+1))/'1. Liga'!$D$450,0)","v":1},0,10,1,{"$f":"IF(AY33>0,(ABS(AY33-$B5)*(ABS(AY33-$B5)+1))/'1. Liga'!$D$450,0)","v":3},0,10,1,{"$f":"IF(BC33>0,(ABS(BC33-$B5)*(ABS(BC33-$B5)+1))/'1. Liga'!$D$450,0)","v":3},0,10,1,{"$f":"IF(BG33>0,(ABS(BG33-$B5)*(ABS(BG33-$B5)+1))/'1. Liga'!$D$450,0)","v":3},0,10,2,{"$f":"IF(BK33>0,(ABS(BK33-$B5)*(ABS(BK33-$B5)+1))/'1. Liga'!$D$450,0)","v":1},0,10,1,{"$f":"IF(BO33>0,(ABS(BO33-$B5)*(ABS(BO33-$B5)+1))/'1. Liga'!$D$450,0)","v":3},0,10,1,{"$f":"IF(BS33>0,(ABS(BS33-$B5)*(ABS(BS33-$B5)+1))/'1. Liga'!$D$450,0)","v":3},0,10,null,{"$f":"IF(BW33>0,(ABS(BW33-$B5)*(ABS(BW33-$B5)+1))/'1. Liga'!$D$450,0)","v":0},0,0,null,{"$f":"IF(CA33>0,(ABS(CA33-$B5)*(ABS(CA33-$B5)+1))/'1. Liga'!$D$450,0)","v":0},0,0,null,{"$f":"IF(CE33>0,(ABS(CE33-$B5)*(ABS(CE33-$B5)+1))/'1. Liga'!$D$450,0)","v":0},0,0,null,{"$f":"IF(CI33>0,(ABS(CI33-$B5)*(ABS(CI33-$B5)+1))/'1. Liga'!$D$450,0)","v":0},0,0,null,{"$f":"IF(CM33>0,(ABS(CM33-$B5)*(ABS(CM33-$B5)+1))/'1. Liga'!$D$450,0)","v":0},0,0,null,{"$f":"IF(CQ33>0,(ABS(CQ33-$B5)*(ABS(CQ33-$B5)+1))/'1. Liga'!$D$450,0)","v":0},0,0]
[{"$f":"'1. Liga'!$AT$1","v":"RB Leipzig"},{"$f":"'1. Liga'!$AA$3","v":4},{"$f":"'1. Liga'!$AT$3","v":65},{"$f":"'1. Liga'!$BM$3","v":38},{"$f":"'1. Liga'!$CF$3","v":77},39,"ñ",{"$f":"'1. Liga'!$CY$2","v":3},{"$f":"'1. Liga'!$CY$3","v":12},2.28125,3,{"$f":"IF(K34>0,(ABS(K34-$B34)*(ABS(K34-$B34)+1))/'1. Liga'!$D$450,0)","v":1},0,10,4,{"$f":"IF(O34>0,(ABS(O34-$B34)*(ABS(O34-$B34)+1))/'1. Liga'!$D$450,0)","v":0},0,10,0,{"$f":"IF(S34>0,(ABS(S34-$B6)*(ABS(S34-$B6)+1))/'1. Liga'!$D$450,0)","v":0},0,0,0,{"$f":"IF(W34>0,(ABS(W34-$B6)*(ABS(W34-$B6)+1))/'1. Liga'!$D$450,0)","v":0},0,0,2,{"$f":"IF(AA34>0,(ABS(AA34-$B6)*(ABS(AA34-$B6)+1))/'1. Liga'!$D$450,0)","v":3},0,10,2,{"$f":"IF(AE34>0,(ABS(AE34-$B6)*(ABS(AE34-$B6)+1))/'1. Liga'!$D$450,0)","v":3},0,10,3,{"$f":"IF(AI34>0,(ABS(AI34-$B6)*(ABS(AI34-$B6)+1))/'1. Liga'!$D$450,0)","v":1},0,10,4,{"$f":"IF(AM34>0,(ABS(AM34-$B6)*(ABS(AM34-$B6)+1))/'1. Liga'!$D$450,0)","v":0},0,10,3,{"$f":"IF(AQ34>0,(ABS(AQ34-$B6)*(ABS(AQ34-$B6)+1))/'1. Liga'!$D$450,0)","v":1},0,10,4,{"$f":"IF(AU34>0,(ABS(AU34-$B6)*(ABS(AU34-$B6)+1))/'1. Liga'!$D$450,0)","v":0},0,10,3,{"$f":"IF(AY34>0,(ABS(AY34-$B6)*(ABS(AY34-$B6)+1))/'1. Liga'!$D$450,0)","v":1},0,10,4,{"$f":"IF(BC34>0,(ABS(BC34-$B6)*(ABS(BC34-$B6)+1))/'1. Liga'!$D$450,0)","v":0},0,10,3,{"$f":"IF(BG34>0,(ABS(BG34-$B6)*(ABS(BG34-$B6)+1))/'1. Liga'!$D$450,0)","v":1},0,10,1,{"$f":"IF(BK34>0,(ABS(BK34-$B6)*(ABS(BK34-$B6)+1))/'1. Liga'!$D$450,0)","v":6},0,10,4,{"$f":"IF(BO34>0,(ABS(BO34-$B6)*(ABS(BO34-$B6)+1))/'1. Liga'!$D$450,0)","v":0},0,10,3,{"$f":"IF(BS34>0,(ABS(BS34-$B6)*(ABS(BS34-$B6)+1))/'1. Liga'!$D$450,0)","v":1},0,10,null,{"$f":"IF(BW34>0,(ABS(BW34-$B6)*(ABS(BW34-$B6)+1))/'1. Liga'!$D$450,0)","v":0},0,0,null,{"$f":"IF(CA34>0,(ABS(CA34-$B6)*(ABS(CA34-$B6)+1))/'1. Liga'!$D$450,0)","v":0},0,0,null,{"$f":"IF(CE34>0,(ABS(CE34-$B6)*(ABS(CE34-$B6)+1))/'1. Liga'!$D$450,0)","v":0},0,0,null,{"$f":"IF(CI34>0,(ABS(CI34-$B6)*(ABS(CI34-$B6)+1))/'1. Liga'!$D$450,0)","v":0},0,0,null,{"$f":"IF(CM34>0,(ABS(CM34-$B6)*(ABS(CM34-$B6)+1))/'1. Liga'!$D$450,0)","v":0},0,0,null,{"$f":"IF(CQ34>0,(ABS(CQ34-$B6)*(ABS(CQ34-$B6)+1))/'1. Liga'!$D$450,0)","v":0},0,0]
[{"$f":"'1. Liga'!$AO$1","v":"Borussia Dortmund"},{"$f":"'1. Liga'!$V$3","v":5},{"$f":"'1. Liga'!$AO$3","v":63},{"$f":"'1. Liga'!$BH$3","v":25},{"$f":"'1. Liga'!$CA$3","v":68},43,"ò",{"$f":"'1. Liga'!$CT$2","v":7},{"$f":"'1. Liga'!$CT$3","v":10},1.5625,2,{"$f":"IF(K35>0,(ABS(K35-$B35)*(ABS(K35-$B35)+1))/'1. Liga'!$D$450,0)","v":6},0,10,2,{"$f":"IF(O35>0,(ABS(O35-$B35)*(ABS(O35-$B35)+1))/'1. Liga'!$D$450,0)","v":6},0,10,0,{"$f":"IF(S35>0,(ABS(S35-$B7)*(ABS(S35-$B7)+1))/'1. Liga'!$D$450,0)","v":0},0,0,0,{"$f":"IF(W35>0,(ABS(W35-$B7)*(ABS(W35-$B7)+1))/'1. Liga'!$D$450,0)","v":0},0,0,4,{"$f":"IF(AA35>0,(ABS(AA35-$B7)*(ABS(AA35-$B7)+1))/'1. Liga'!$D$450,0)","v":1},0,10,3,{"$f":"IF(AE35>0,(ABS(AE35-$B7)*(ABS(AE35-$B7)+1))/'1. Liga'!$D$450,0)","v":3},0,10,2,{"$f":"IF(AI35>0,(ABS(AI35-$B7)*(ABS(AI35-$B7)+1))/'1. Liga'!$D$450,0)","v":6},0,10,2,{"$f":"IF(AM35>0,(ABS(AM35-$B7)*(ABS(AM35-$B7)+1))/'1. Liga'!$D$450,0)","v":6},0,10,2,{"$f":"IF(AQ35>0,(ABS(AQ35-$B7)*(ABS(AQ35-$B7)+1))/'1. Liga'!$D$450,0)","v":6},0,10,1,{"$f":"IF(AU35>0,(ABS(AU35-$B7)*(ABS(AU35-$B7)+1))/'1. Liga'!$D$450,0)","v":10},0,10,2,{"$f":"IF(AY35>0,(ABS(AY35-$B7)*(ABS(AY35-$B7)+1))/'1. Liga'!$D$450,0)","v":6},0,10,2,{"$f":"IF(BC35>0,(ABS(BC35-$B7)*(ABS(BC35-$B7)+1))/'1. Liga'!$D$450,0)","v":6},0,10,2,{"$f":"IF(BG35>0,(ABS(BG35-$B7)*(ABS(BG35-$B7)+1))/'1. Liga'!$D$450,0)","v":6},0,10,3,{"$f":"IF(BK35>0,(ABS(BK35-$B7)*(ABS(BK35-$B7)+1))/'1. Liga'!$D$450,0)","v":3},0,10,2,{"$f":"IF(BO35>0,(ABS(BO35-$B7)*(ABS(BO35-$B7)+1))/'1. Liga'!$D$450,0)","v":6},0,10,2,{"$f":"IF(BS35>0,(ABS(BS35-$B7)*(ABS(BS35-$B7)+1))/'1. Liga'!$D$450,0)","v":6},0,10,null,{"$f":"IF(BW35>0,(ABS(BW35-$B7)*(ABS(BW35-$B7)+1))/'1. Liga'!$D$450,0)","v":0},0,0,null,{"$f":"IF(CA35>0,(ABS(CA35-$B7)*(ABS(CA35-$B7)+1))/'1. Liga'!$D$450,0)","v":0},0,0,null,{"$f":"IF(CE35>0,(ABS(CE35-$B7)*(ABS(CE35-$B7)+1))/'1. Liga'!$D$450,0)","v":0},0,0,null,{"$f":"IF(CI35>0,(ABS(CI35-$B7)*(ABS(CI35-$B7)+1))/'1. Liga'!$D$450,0)","v":0},0,0,null,{"$f":"IF(CM35>0,(ABS(CM35-$B7)*(ABS(CM35-$B7)+1))/'1. Liga'!$D$450,0)","v":0},0,0,null,{"$f":"IF(CQ35>0,(ABS(CQ35-$B7)*(ABS(CQ35-$B7)+1))/'1. Liga'!$D$450,0)","v":0},0,0]
[{"$f":"'1. Liga'!$AQ$1","v":"Eintracht Frankfurt"},{"$f":"'1. Liga'!$X$3","v":6},{"$f":"'1. Liga'!$AQ$3","v":47},{"$f":"'1. Liga'!$BJ$3","v":1},{"$f":"'1. Liga'!$CC$3","v":51},50,"òò",{"$f":"'1. Liga'!$CV$2","v":13},{"$f":"'1. Liga'!$CV$3","v":5},5.375,6,{"$f":"IF(K36>0,(ABS(K36-$B36)*(ABS(K36-$B36)+1))/'1. Liga'!$D$450,0)","v":0},0,10,5,{"$f":"IF(O36>0,(ABS(O36-$B36)*(ABS(O36-$B36)+1))/'1. Liga'!$D$450,0)","v":1},0,10,0,{"$f":"IF(S36>0,(ABS(S36-$B8)*(ABS(S36-$B8)+1))/'1. Liga'!$D$450,0)","v":0},0,0,0,{"$f":"IF(W36>0,(ABS(W36-$B8)*(ABS(W36-$B8)+1))/'1. Liga'!$D$450,0)","v":0},0,0,6,{"$f":"IF(AA36>0,(ABS(AA36-$B8)*(ABS(AA36-$B8)+1))/'1. Liga'!$D$450,0)","v":0},0,10,9,{"$f":"IF(AE36>0,(ABS(AE36-$B8)*(ABS(AE36-$B8)+1))/'1. Liga'!$D$450,0)","v":6},0,0,9,{"$f":"IF(AI36>0,(ABS(AI36-$B8)*(ABS(AI36-$B8)+1))/'1. Liga'!$D$450,0)","v":6},0,0,5,{"$f":"IF(AM36>0,(ABS(AM36-$B8)*(ABS(AM36-$B8)+1))/'1. Liga'!$D$450,0)","v":1},0,10,6,{"$f":"IF(AQ36>0,(ABS(AQ36-$B8)*(ABS(AQ36-$B8)+1))/'1. Liga'!$D$450,0)","v":0},0,10,9,{"$f":"IF(AU36>0,(ABS(AU36-$B8)*(ABS(AU36-$B8)+1))/'1. Liga'!$D$450,0)","v":6},0,0,4,{"$f":"IF(AY36>0,(ABS(AY36-$B8)*(ABS(AY36-$B8)+1))/'1. Liga'!$D$450,0)","v":3},0,10,9,{"$f":"IF(BC36>0,(ABS(BC36-$B8)*(ABS(BC36-$B8)+1))/'1. Liga'!$D$450,0)","v":6},0,0,6,{"$f":"IF(BG36>0,(ABS(BG36-$B8)*(ABS(BG36-$B8)+1))/'1. Liga'!$D$450,0)","v":0},0,10,6,{"$f":"IF(BK36>0,(ABS(BK36-$B8)*(ABS(BK36-$B8)+1))/'1. Liga'!$D$450,0)","v":0},0,10,5,{"$f":"IF(BO36>0,(ABS(BO36-$B8)*(ABS(BO36-$B8)+1))/'1. Liga'!$D$450,0)","v":1},0,10,5,{"$f":"IF(BS36>0,(ABS(BS36-$B8)*(ABS(BS36-$B8)+1))/'1. Liga'!$D$450,0)","v":1},0,10,null,{"$f":"IF(BW36>0,(ABS(BW36-$B8)*(ABS(BW36-$B8)+1))/'1. Liga'!$D$450,0)","v":0},0,0,null,{"$f":"IF(CA36>0,(ABS(CA36-$B8)*(ABS(CA36-$B8)+1))/'1. Liga'!$D$450,0)","v":0},0,0,null,{"$f":"IF(CE36>0,(ABS(CE36-$B8)*(ABS(CE36-$B8)+1))/'1. Liga'!$D$450,0)","v":0},0,0,null,{"$f":"IF(CI36>0,(ABS(CI36-$B8)*(ABS(CI36-$B8)+1))/'1. Liga'!$D$450,0)","v":0},0,0,null,{"$f":"IF(CM36>0,(ABS(CM36-$B8)*(ABS(CM36-$B8)+1))/'1. Liga'!$D$450,0)","v":0},0,0,null,{"$f":"IF(CQ36>0,(ABS(CQ36-$B8)*(ABS(CQ36-$B8)+1))/'1. Liga'!$D$450,0)","v":0},0,0]
[{"$f":"'1. Liga'!$BA$1","v":"TSG Hoffenheim"},{"$f":"'1. Liga'!$AH$3","v":7},{"$f":"'1. Liga'!$BA$3","v":46},{"$f":"'1. Liga'!$BT$3","v":0},{"$f":"'1. Liga'!$CM$3","v":66},66,"ó",{"$f":"'1. Liga'!$DF$2","v":7},{"$f":"'1. Liga'!$DF$3","v":10},9.15625,13,{"$f":"IF(K37>0,(ABS(K37-$B37)*(ABS(K37-$B37)+1))/'1. Liga'!$D$450,0)","v":21},0,0,17,{"$f":"IF(O37>0,(ABS(O37-$B37)*(ABS(O37-$B37)+1))/'1. Liga'!$D$450,0)","v":55},0,0,0,{"$f":"IF(S37>0,(ABS(S37-$B9)*(ABS(S37-$B9)+1))/'1. Liga'!$D$450,0)","v":0},0,0,0,{"$f":"IF(W37>0,(ABS(W37-$B9)*(ABS(W37-$B9)+1))/'1. Liga'!$D$450,0)","v":0},0,0,11,{"$f":"IF(AA37>0,(ABS(AA37-$B9)*(ABS(AA37-$B9)+1))/'1. Liga'!$D$450,0)","v":10},0,0,14,{"$f":"IF(AE37>0,(ABS(AE37-$B9)*(ABS(AE37-$B9)+1))/'1. Liga'!$D$450,0)","v":28},0,0,10,{"$f":"IF(AI37>0,(ABS(AI37-$B9)*(ABS(AI37-$B9)+1))/'1. Liga'!$D$450,0)","v":6},0,0,11,{"$f":"IF(AM37>0,(ABS(AM37-$B9)*(ABS(AM37-$B9)+1))/'1. Liga'!$D$450,0)","v":10},0,0,10,{"$f":"IF(AQ37>0,(ABS(AQ37-$B9)*(ABS(AQ37-$B9)+1))/'1. Liga'!$D$450,0)","v":6},0,0,7,{"$f":"IF(AU37>0,(ABS(AU37-$B9)*(ABS(AU37-$B9)+1))/'1. Liga'!$D$450,0)","v":0},0,10,15,{"$f":"IF(AY37>0,(ABS(AY37-$B9)*(ABS(AY37-$B9)+1))/'1. Liga'!$D$450,0)","v":36},0,0,15,{"$f":"IF(BC37>0,(ABS(BC37-$B9)*(ABS(BC37-$B9)+1))/'1. Liga'!$D$450,0)","v":36},0,0,10,{"$f":"IF(BG37>0,(ABS(BG37-$B9)*(ABS(BG37-$B9)+1))/'1. Liga'!$D$450,0)","v":6},0,0,11,{"$f":"IF(BK37>0,(ABS(BK37-$B9)*(ABS(BK37-$B9)+1))/'1. Liga'!$D$450,0)","v":10},0,0,10,{"$f":"IF(BO37>0,(ABS(BO37-$B9)*(ABS(BO37-$B9)+1))/'1. Liga'!$D$450,0)","v":6},0,0,13,{"$f":"IF(BS37>0,(ABS(BS37-$B9)*(ABS(BS37-$B9)+1))/'1. Liga'!$D$450,0)","v":21},0,0,null,{"$f":"IF(BW37>0,(ABS(BW37-$B9)*(ABS(BW37-$B9)+1))/'1. Liga'!$D$450,0)","v":0},0,0,null,{"$f":"IF(CA37>0,(ABS(CA37-$B9)*(ABS(CA37-$B9)+1))/'1. Liga'!$D$450,0)","v":0},0,0,null,{"$f":"IF(CE37>0,(ABS(CE37-$B9)*(ABS(CE37-$B9)+1))/'1. Liga'!$D$450,0)","v":0},0,0,null,{"$f":"IF(CI37>0,(ABS(CI37-$B9)*(ABS(CI37-$B9)+1))/'1. Liga'!$D$450,0)","v":0},0,0,null,{"$f":"IF(CM37>0,(ABS(CM37-$B9)*(ABS(CM37-$B9)+1))/'1. Liga'!$D$450,0)","v":0},0,0,null,{"$f":"IF(CQ37>0,(ABS(CQ37-$B9)*(ABS(CQ37-$B9)+1))/'1. Liga'!$D$450,0)","v":0},0,0]
[{"$f":"'1. Liga'!$AV$1","v":"1. FC Heidenheim 1846"},{"$f":"'1. Liga'!$AC$3","v":8},{"$f":"'1. Liga'!$AV$3","v":42},{"$f":"'1. Liga'!$BO$3","v":-5},{"$f":"'1. Liga'!$CH$3","v":50},55,"ò",{"$f":"'1. Liga'!$DA$2","v":9},{"$f":"'1. Liga'!$DA$3","v":9},13.0625,17,{"$f":"IF(K38>0,(ABS(K38-$B38)*(ABS(K38-$B38)+1))/'1. Liga'!$D$450,0)","v":45},0,0,15,{"$f":"IF(O38>0,(ABS(O38-$B38)*(ABS(O38-$B38)+1))/'1. Liga'!$D$450,0)","v":28},0,0,0,{"$f":"IF(S38>0,(ABS(S38-$B10)*(ABS(S38-$B10)+1))/'1. Liga'!$D$450,0)","v":0},0,0,0,{"$f":"IF(W38>0,(ABS(W38-$B10)*(ABS(W38-$B10)+1))/'1. Liga'!$D$450,0)","v":0},0,0,18,{"$f":"IF(AA38>0,(ABS(AA38-$B10)*(ABS(AA38-$B10)+1))/'1. Liga'!$D$450,0)","v":55},0,0,18,{"$f":"IF(AE38>0,(ABS(AE38-$B10)*(ABS(AE38-$B10)+1))/'1. Liga'!$D$450,0)","v":55},0,0,17,{"$f":"IF(AI38>0,(ABS(AI38-$B10)*(ABS(AI38-$B10)+1))/'1. Liga'!$D$450,0)","v":45},0,0,14,{"$f":"IF(AM38>0,(ABS(AM38-$B10)*(ABS(AM38-$B10)+1))/'1. Liga'!$D$450,0)","v":21},0,0,18,{"$f":"IF(AQ38>0,(ABS(AQ38-$B10)*(ABS(AQ38-$B10)+1))/'1. Liga'!$D$450,0)","v":55},0,0,18,{"$f":"IF(AU38>0,(ABS(AU38-$B10)*(ABS(AU38-$B10)+1))/'1. Liga'!$D$450,0)","v":55},0,0,18,{"$f":"IF(AY38>0,(ABS(AY38-$B10)*(ABS(AY38-$B10)+1))/'1. Liga'!$D$450,0)","v":55},0,0,18,{"$f":"IF(BC38>0,(ABS(BC38-$B10)*(ABS(BC38-$B10)+1))/'1. Liga'!$D$450,0)","v":55},0,0,18,{"$f":"IF(BG38>0,(ABS(BG38-$B10)*(ABS(BG38-$B10)+1))/'1. Liga'!$D$450,0)","v":55},0,0,18,{"$f":"IF(BK38>0,(ABS(BK38-$B10)*(ABS(BK38-$B10)+1))/'1. Liga'!$D$450,0)","v":55},0,0,14,{"$f":"IF(BO38>0,(ABS(BO38-$B10)*(ABS(BO38-$B10)+1))/'1. Liga'!$D$450,0)","v":21},0,0,18,{"$f":"IF(BS38>0,(ABS(BS38-$B10)*(ABS(BS38-$B10)+1))/'1. Liga'!$D$450,0)","v":55},0,0,null,{"$f":"IF(BW38>0,(ABS(BW38-$B10)*(ABS(BW38-$B10)+1))/'1. Liga'!$D$450,0)","v":0},0,0,null,{"$f":"IF(CA38>0,(ABS(CA38-$B10)*(ABS(CA38-$B10)+1))/'1. Liga'!$D$450,0)","v":0},0,0,null,{"$f":"IF(CE38>0,(ABS(CE38-$B10)*(ABS(CE38-$B10)+1))/'1. Liga'!$D$450,0)","v":0},0,0,null,{"$f":"IF(CI38>0,(ABS(CI38-$B10)*(ABS(CI38-$B10)+1))/'1. Liga'!$D$450,0)","v":0},0,0,null,{"$f":"IF(CM38>0,(ABS(CM38-$B10)*(ABS(CM38-$B10)+1))/'1. Liga'!$D$450,0)","v":0},0,0,null,{"$f":"IF(CQ38>0,(ABS(CQ38-$B10)*(ABS(CQ38-$B10)+1))/'1. Liga'!$D$450,0)","v":0},0,0]
[{"$f":"'1. Liga'!$AK$1","v":"SV Werder Bremen"},{"$f":"'1. Liga'!$R$3","v":9},{"$f":"'1. Liga'!$AK$3","v":42},{"$f":"'1. Liga'!$BD$3","v":-6},{"$f":"'1. Liga'!$BW$3","v":48},54,"ññ",{"$f":"'1. Liga'!$CP$2","v":6},{"$f":"'1. Liga'!$CP$3","v":11},9.09375,12,{"$f":"IF(K39>0,(ABS(K39-$B39)*(ABS(K39-$B39)+1))/'1. Liga'!$D$450,0)","v":6},0,0,13,{"$f":"IF(O39>0,(ABS(O39-$B39)*(ABS(O39-$B39)+1))/'1. Liga'!$D$450,0)","v":10},0,0,0,{"$f":"IF(S39>0,(ABS(S39-$B11)*(ABS(S39-$B11)+1))/'1. Liga'!$D$450,0)","v":0},0,0,0,{"$f":"IF(W39>0,(ABS(W39-$B11)*(ABS(W39-$B11)+1))/'1. Liga'!$D$450,0)","v":0},0,0,13,{"$f":"IF(AA39>0,(ABS(AA39-$B11)*(ABS(AA39-$B11)+1))/'1. Liga'!$D$450,0)","v":10},0,0,12,{"$f":"IF(AE39>0,(ABS(AE39-$B11)*(ABS(AE39-$B11)+1))/'1. Liga'!$D$450,0)","v":6},0,0,15,{"$f":"IF(AI39>0,(ABS(AI39-$B11)*(ABS(AI39-$B11)+1))/'1. Liga'!$D$450,0)","v":21},0,0,13,{"$f":"IF(AM39>0,(ABS(AM39-$B11)*(ABS(AM39-$B11)+1))/'1. Liga'!$D$450,0)","v":10},0,0,13,{"$f":"IF(AQ39>0,(ABS(AQ39-$B11)*(ABS(AQ39-$B11)+1))/'1. Liga'!$D$450,0)","v":10},0,0,12,{"$f":"IF(AU39>0,(ABS(AU39-$B11)*(ABS(AU39-$B11)+1))/'1. Liga'!$D$450,0)","v":6},0,0,11,{"$f":"IF(AY39>0,(ABS(AY39-$B11)*(ABS(AY39-$B11)+1))/'1. Liga'!$D$450,0)","v":3},0,0,10,{"$f":"IF(BC39>0,(ABS(BC39-$B11)*(ABS(BC39-$B11)+1))/'1. Liga'!$D$450,0)","v":1},0,0,11,{"$f":"IF(BG39>0,(ABS(BG39-$B11)*(ABS(BG39-$B11)+1))/'1. Liga'!$D$450,0)","v":3},0,0,7,{"$f":"IF(BK39>0,(ABS(BK39-$B11)*(ABS(BK39-$B11)+1))/'1. Liga'!$D$450,0)","v":3},0,0,13,{"$f":"IF(BO39>0,(ABS(BO39-$B11)*(ABS(BO39-$B11)+1))/'1. Liga'!$D$450,0)","v":10},0,0,12,{"$f":"IF(BS39>0,(ABS(BS39-$B11)*(ABS(BS39-$B11)+1))/'1. Liga'!$D$450,0)","v":6},0,0,null,{"$f":"IF(BW39>0,(ABS(BW39-$B11)*(ABS(BW39-$B11)+1))/'1. Liga'!$D$450,0)","v":0},0,0,null,{"$f":"IF(CA39>0,(ABS(CA39-$B11)*(ABS(CA39-$B11)+1))/'1. Liga'!$D$450,0)","v":0},0,0,null,{"$f":"IF(CE39>0,(ABS(CE39-$B11)*(ABS(CE39-$B11)+1))/'1. Liga'!$D$450,0)","v":0},0,0,null,{"$f":"IF(CI39>0,(ABS(CI39-$B11)*(ABS(CI39-$B11)+1))/'1. Liga'!$D$450,0)","v":0},0,0,null,{"$f":"IF(CM39>0,(ABS(CM39-$B11)*(ABS(CM39-$B11)+1))/'1. Liga'!$D$450,0)","v":0},0,0,null,{"$f":"IF(CQ39>0,(ABS(CQ39-$B11)*(ABS(CQ39-$B11)+1))/'1. Liga'!$D$450,0)","v":0},0,0]
[{"$f":"'1. Liga'!$BB$1","v":"Sport-Club Freiburg"},{"$f":"'1. Liga'!$AI$3","v":10},{"$f":"'1. Liga'!$BB$3","v":42},{"$f":"'1. Liga'!$BU$3","v":-13},{"$f":"'1. Liga'!$CN$3","v":45},58,"ò",{"$f":"'1. Liga'!$DG$2","v":12},{"$f":"'1. Liga'!$DG$3","v":6},5.75,8,{"$f":"IF(K40>0,(ABS(K40-$B40)*(ABS(K40-$B40)+1))/'1. Liga'!$D$450,0)","v":3},0,0,8,{"$f":"IF(O40>0,(ABS(O40-$B40)*(ABS(O40-$B40)+1))/'1. Liga'!$D$450,0)","v":3},0,0,0,{"$f":"IF(S40>0,(ABS(S40-$B12)*(ABS(S40-$B12)+1))/'1. Liga'!$D$450,0)","v":0},0,0,0,{"$f":"IF(W40>0,(ABS(W40-$B12)*(ABS(W40-$B12)+1))/'1. Liga'!$D$450,0)","v":0},0,0,7,{"$f":"IF(AA40>0,(ABS(AA40-$B12)*(ABS(AA40-$B12)+1))/'1. Liga'!$D$450,0)","v":6},0,0,5,{"$f":"IF(AE40>0,(ABS(AE40-$B12)*(ABS(AE40-$B12)+1))/'1. Liga'!$D$450,0)","v":15},0,0,6,{"$f":"IF(AI40>0,(ABS(AI40-$B12)*(ABS(AI40-$B12)+1))/'1. Liga'!$D$450,0)","v":10},0,0,8,{"$f":"IF(AM40>0,(ABS(AM40-$B12)*(ABS(AM40-$B12)+1))/'1. Liga'!$D$450,0)","v":3},0,0,8,{"$f":"IF(AQ40>0,(ABS(AQ40-$B12)*(ABS(AQ40-$B12)+1))/'1. Liga'!$D$450,0)","v":3},0,0,8,{"$f":"IF(AU40>0,(ABS(AU40-$B12)*(ABS(AU40-$B12)+1))/'1. Liga'!$D$450,0)","v":3},0,0,7,{"$f":"IF(AY40>0,(ABS(AY40-$B12)*(ABS(AY40-$B12)+1))/'1. Liga'!$D$450,0)","v":6},0,0,8,{"$f":"IF(BC40>0,(ABS(BC40-$B12)*(ABS(BC40-$B12)+1))/'1. Liga'!$D$450,0)","v":3},0,0,7,{"$f":"IF(BG40>0,(ABS(BG40-$B12)*(ABS(BG40-$B12)+1))/'1. Liga'!$D$450,0)","v":6},0,0,10,{"$f":"IF(BK40>0,(ABS(BK40-$B12)*(ABS(BK40-$B12)+1))/'1. Liga'!$D$450,0)","v":0},0,0,9,{"$f":"IF(BO40>0,(ABS(BO40-$B12)*(ABS(BO40-$B12)+1))/'1. Liga'!$D$450,0)","v":1},0,0,9,{"$f":"IF(BS40>0,(ABS(BS40-$B12)*(ABS(BS40-$B12)+1))/'1. Liga'!$D$450,0)","v":1},0,0,null,{"$f":"IF(BW40>0,(ABS(BW40-$B12)*(ABS(BW40-$B12)+1))/'1. Liga'!$D$450,0)","v":0},0,0,null,{"$f":"IF(CA40>0,(ABS(CA40-$B12)*(ABS(CA40-$B12)+1))/'1. Liga'!$D$450,0)","v":0},0,0,null,{"$f":"IF(CE40>0,(ABS(CE40-$B12)*(ABS(CE40-$B12)+1))/'1. Liga'!$D$450,0)","v":0},0,0,null,{"$f":"IF(CI40>0,(ABS(CI40-$B12)*(ABS(CI40-$B12)+1))/'1. Liga'!$D$450,0)","v":0},0,0,null,{"$f":"IF(CM40>0,(ABS(CM40-$B12)*(ABS(CM40-$B12)+1))/'1. Liga'!$D$450,0)","v":0},0,0,null,{"$f":"IF(CQ40>0,(ABS(CQ40-$B12)*(ABS(CQ40-$B12)+1))/'1. Liga'!$D$450,0)","v":0},0,0]
[{"$f":"'1. Liga'!$AY$1","v":"FC Augsburg"},{"$f":"'1. Liga'!$AF$3","v":11},{"$f":"'1. Liga'!$AY$3","v":39},{"$f":"'1. Liga'!$BR$3","v":-10},{"$f":"'1. Liga'!$CK$3","v":50},60,"òò",{"$f":"'1. Liga'!$DD$2","v":16},{"$f":"'1. Liga'!$DD$3","v":3},11.96875,15,{"$f":"IF(K41>0,(ABS(K41-$B41)*(ABS(K41-$B41)+1))/'1. Liga'!$D$450,0)","v":10},0,0,11,{"$f":"IF(O41>0,(ABS(O41-$B41)*(ABS(O41-$B41)+1))/'1. Liga'!$D$450,0)","v":0},0,0,0,{"$f":"IF(S41>0,(ABS(S41-$B13)*(ABS(S41-$B13)+1))/'1. Liga'!$D$450,0)","v":0},0,0,0,{"$f":"IF(W41>0,(ABS(W41-$B13)*(ABS(W41-$B13)+1))/'1. Liga'!$D$450,0)","v":0},0,0,16,{"$f":"IF(AA41>0,(ABS(AA41-$B13)*(ABS(AA41-$B13)+1))/'1. Liga'!$D$450,0)","v":15},0,0,10,{"$f":"IF(AE41>0,(ABS(AE41-$B13)*(ABS(AE41-$B13)+1))/'1. Liga'!$D$450,0)","v":1},0,0,14,{"$f":"IF(AI41>0,(ABS(AI41-$B13)*(ABS(AI41-$B13)+1))/'1. Liga'!$D$450,0)","v":6},0,0,17,{"$f":"IF(AM41>0,(ABS(AM41-$B13)*(ABS(AM41-$B13)+1))/'1. Liga'!$D$450,0)","v":21},0,0,15,{"$f":"IF(AQ41>0,(ABS(AQ41-$B13)*(ABS(AQ41-$B13)+1))/'1. Liga'!$D$450,0)","v":10},0,0,16,{"$f":"IF(AU41>0,(ABS(AU41-$B13)*(ABS(AU41-$B13)+1))/'1. Liga'!$D$450,0)","v":15},0,0,13,{"$f":"IF(AY41>0,(ABS(AY41-$B13)*(ABS(AY41-$B13)+1))/'1. Liga'!$D$450,0)","v":3},0,0,12,{"$f":"IF(BC41>0,(ABS(BC41-$B13)*(ABS(BC41-$B13)+1))/'1. Liga'!$D$450,0)","v":1},0,0,16,{"$f":"IF(BG41>0,(ABS(BG41-$B13)*(ABS(BG41-$B13)+1))/'1. Liga'!$D$450,0)","v":15},0,0,15,{"$f":"IF(BK41>0,(ABS(BK41-$B13)*(ABS(BK41-$B13)+1))/'1. Liga'!$D$450,0)","v":10},0,0,15,{"$f":"IF(BO41>0,(ABS(BO41-$B13)*(ABS(BO41-$B13)+1))/'1. Liga'!$D$450,0)","v":10},0,0,15,{"$f":"IF(BS41>0,(ABS(BS41-$B13)*(ABS(BS41-$B13)+1))/'1. Liga'!$D$450,0)","v":10},0,0,null,{"$f":"IF(BW41>0,(ABS(BW41-$B13)*(ABS(BW41-$B13)+1))/'1. Liga'!$D$450,0)","v":0},0,0,null,{"$f":"IF(CA41>0,(ABS(CA41-$B13)*(ABS(CA41-$B13)+1))/'1. Liga'!$D$450,0)","v":0},0,0,null,{"$f":"IF(CE41>0,(ABS(CE41-$B13)*(ABS(CE41-$B13)+1))/'1. Liga'!$D$450,0)","v":0},0,0,null,{"$f":"IF(CI41>0,(ABS(CI41-$B13)*(ABS(CI41-$B13)+1))/'1. Liga'!$D$450,0)","v":0},0,0,null,{"$f":"IF(CM41>0,(ABS(CM41-$B13)*(ABS(CM41-$B13)+1))/'1. Liga'!$D$450,0)","v":0},0,0,null,{"$f":"IF(CQ41>0,(ABS(CQ41-$B13)*(ABS(CQ41-$B13)+1))/'1. Liga'!$D$450,0)","v":0},0,0]
[{"$f":"'1. Liga'!$AU$1","v":"VfL Wolfsburg"},{"$f":"'1. Liga'!$AB$3","v":12},{"$f":"'1. Liga'!$AU$3","v":37},{"$f":"'1. Liga'!$BN$3","v":-15},{"$f":"'1. Liga'!$CG$3","v":41},56,"ññ",{"$f":"'1. Liga'!$CZ$2","v":9},{"$f":"'1. Liga'!$CZ$3","v":9},5.625,7,{"$f":"IF(K42>0,(ABS(K42-$B42)*(ABS(K42-$B42)+1))/'1. Liga'!$D$450,0)","v":15},0,0,7,{"$f":"IF(O42>0,(ABS(O42-$B42)*(ABS(O42-$B42)+1))/'1. Liga'!$D$450,0)","v":15},0,0,0,{"$f":"IF(S42>0,(ABS(S42-$B14)*(ABS(S42-$B14)+1))/'1. Liga'!$D$450,0)","v":0},0,0,0,{"$f":"IF(W42>0,(ABS(W42-$B14)*(ABS(W42-$B14)+1))/'1. Liga'!$D$450,0)","v":0},0,0,12,{"$f":"IF(AA42>0,(ABS(AA42-$B14)*(ABS(AA42-$B14)+1))/'1. Liga'!$D$450,0)","v":0},0,0,4,{"$f":"IF(AE42>0,(ABS(AE42-$B14)*(ABS(AE42-$B14)+1))/'1. Liga'!$D$450,0)","v":36},0,0,7,{"$f":"IF(AI42>0,(ABS(AI42-$B14)*(ABS(AI42-$B14)+1))/'1. Liga'!$D$450,0)","v":15},0,0,7,{"$f":"IF(AM42>0,(ABS(AM42-$B14)*(ABS(AM42-$B14)+1))/'1. Liga'!$D$450,0)","v":15},0,0,9,{"$f":"IF(AQ42>0,(ABS(AQ42-$B14)*(ABS(AQ42-$B14)+1))/'1. Liga'!$D$450,0)","v":6},0,0,6,{"$f":"IF(AU42>0,(ABS(AU42-$B14)*(ABS(AU42-$B14)+1))/'1. Liga'!$D$450,0)","v":21},0,0,9,{"$f":"IF(AY42>0,(ABS(AY42-$B14)*(ABS(AY42-$B14)+1))/'1. Liga'!$D$450,0)","v":6},0,0,7,{"$f":"IF(BC42>0,(ABS(BC42-$B14)*(ABS(BC42-$B14)+1))/'1. Liga'!$D$450,0)","v":15},0,0,8,{"$f":"IF(BG42>0,(ABS(BG42-$B14)*(ABS(BG42-$B14)+1))/'1. Liga'!$D$450,0)","v":10},0,0,4,{"$f":"IF(BK42>0,(ABS(BK42-$B14)*(ABS(BK42-$B14)+1))/'1. Liga'!$D$450,0)","v":36},0,0,7,{"$f":"IF(BO42>0,(ABS(BO42-$B14)*(ABS(BO42-$B14)+1))/'1. Liga'!$D$450,0)","v":15},0,0,7,{"$f":"IF(BS42>0,(ABS(BS42-$B14)*(ABS(BS42-$B14)+1))/'1. Liga'!$D$450,0)","v":15},0,0,null,{"$f":"IF(BW42>0,(ABS(BW42-$B14)*(ABS(BW42-$B14)+1))/'1. Liga'!$D$450,0)","v":0},0,0,null,{"$f":"IF(CA42>0,(ABS(CA42-$B14)*(ABS(CA42-$B14)+1))/'1. Liga'!$D$450,0)","v":0},0,0,null,{"$f":"IF(CE42>0,(ABS(CE42-$B14)*(ABS(CE42-$B14)+1))/'1. Liga'!$D$450,0)","v":0},0,0,null,{"$f":"IF(CI42>0,(ABS(CI42-$B14)*(ABS(CI42-$B14)+1))/'1. Liga'!$D$450,0)","v":0},0,0,null,{"$f":"IF(CM42>0,(ABS(CM42-$B14)*(ABS(CM42-$B14)+1))/'1. Liga'!$D$450,0)","v":0},0,0,null,{"$f":"IF(CQ42>0,(ABS(CQ42-$B14)*(ABS(CQ42-$B14)+1))/'1. Liga'!$D$450,0)","v":0},0,0]
[{"$f":"'1. Liga'!$AX$1","v":"1. FSV Mainz 05"},{"$f":"'1. Liga'!$AE$3","v":13},{"$f":"'1. Liga'!$AX$3","v":35},{"$f":"'1. Liga'!$BQ$3","v":-12},{"$f":"'1. Liga'!$CJ$3","v":39},51,"ññ",{"$f":"'1. Liga'!$DC$2","v":3},{"$f":"'1. Liga'!$DC$3","v":12},8.40625,10,{"$f":"IF(K43>0,(ABS(K43-$B43)*(ABS(K43-$B43)+1))/'1. Liga'!$D$450,0)","v":6},0,0,9,{"$f":"IF(O43>0,(ABS(O43-$B43)*(ABS(O43-$B43)+1))/'1. Liga'!$D$450,0)","v":10},0,0,0,{"$f":"IF(S43>0,(ABS(S43-$B15)*(ABS(S43-$B15)+1))/'1. Liga'!$D$450,0)","v":0},0,0,0,{"$f":"IF(W43>0,(ABS(W43-$B15)*(ABS(W43-$B15)+1))/'1. Liga'!$D$450,0)","v":0},0,0,9,{"$f":"IF(AA43>0,(ABS(AA43-$B15)*(ABS(AA43-$B15)+1))/'1. Liga'!$D$450,0)","v":10},0,0,8,{"$f":"IF(AE43>0,(ABS(AE43-$B15)*(ABS(AE43-$B15)+1))/'1. Liga'!$D$450,0)","v":15},0,0,11,{"$f":"IF(AI43>0,(ABS(AI43-$B15)*(ABS(AI43-$B15)+1))/'1. Liga'!$D$450,0)","v":3},0,0,9,{"$f":"IF(AM43>0,(ABS(AM43-$B15)*(ABS(AM43-$B15)+1))/'1. Liga'!$D$450,0)","v":10},0,0,11,{"$f":"IF(AQ43>0,(ABS(AQ43-$B15)*(ABS(AQ43-$B15)+1))/'1. Liga'!$D$450,0)","v":3},0,0,13,{"$f":"IF(AU43>0,(ABS(AU43-$B15)*(ABS(AU43-$B15)+1))/'1. Liga'!$D$450,0)","v":0},0,0,12,{"$f":"IF(AY43>0,(ABS(AY43-$B15)*(ABS(AY43-$B15)+1))/'1. Liga'!$D$450,0)","v":1},0,0,11,{"$f":"IF(BC43>0,(ABS(BC43-$B15)*(ABS(BC43-$B15)+1))/'1. Liga'!$D$450,0)","v":3},0,0,12,{"$f":"IF(BG43>0,(ABS(BG43-$B15)*(ABS(BG43-$B15)+1))/'1. Liga'!$D$450,0)","v":1},0,0,14,{"$f":"IF(BK43>0,(ABS(BK43-$B15)*(ABS(BK43-$B15)+1))/'1. Liga'!$D$450,0)","v":1},0,0,11,{"$f":"IF(BO43>0,(ABS(BO43-$B15)*(ABS(BO43-$B15)+1))/'1. Liga'!$D$450,0)","v":3},0,0,10,{"$f":"IF(BS43>0,(ABS(BS43-$B15)*(ABS(BS43-$B15)+1))/'1. Liga'!$D$450,0)","v":6},0,0,null,{"$f":"IF(BW43>0,(ABS(BW43-$B15)*(ABS(BW43-$B15)+1))/'1. Liga'!$D$450,0)","v":0},0,0,null,{"$f":"IF(CA43>0,(ABS(CA43-$B15)*(ABS(CA43-$B15)+1))/'1. Liga'!$D$450,0)","v":0},0,0,null,{"$f":"IF(CE43>0,(ABS(CE43-$B15)*(ABS(CE43-$B15)+1))/'1. Liga'!$D$450,0)","v":0},0,0,null,{"$f":"IF(CI43>0,(ABS(CI43-$B15)*(ABS(CI43-$B15)+1))/'1. Liga'!$D$450,0)","v":0},0,0,null,{"$f":"IF(CM43>0,(ABS(CM43-$B15)*(ABS(CM43-$B15)+1))/'1. Liga'!$D$450,0)","v":0},0,0,null,{"$f":"IF(CQ43>0,(ABS(CQ43-$B15)*(ABS(CQ43-$B15)+1))/'1. Liga'!$D$450,0)","v":0},0,0]
[{"$f":"'1. Liga'!$AZ$1","v":"Borussia Mönchengladbach"},{"$f":"'1. Liga'!$AG$3","v":14},{"$f":"'1. Liga'!$AZ$3","v":34},{"$f":"'1. Liga'!$BS$3","v":-11},{"$f":"'1. Liga'!$CL$3","v":56},67,"ò",{"$f":"'1. Liga'!$DE$2","v":16},{"$f":"'1. Liga'!$DE$3","v":3},7.625,9,{"$f":"IF(K44>0,(ABS(K44-$B44)*(ABS(K44-$B44)+1))/'1. Liga'!$D$450,0)","v":15},0,0,16,{"$f":"IF(O44>0,(ABS(O44-$B44)*(ABS(O44-$B44)+1))/'1. Liga'!$D$450,0)","v":3},0,0,0,{"$f":"IF(S44>0,(ABS(S44-$B16)*(ABS(S44-$B16)+1))/'1. Liga'!$D$450,0)","v":0},0,0,0,{"$f":"IF(W44>0,(ABS(W44-$B16)*(ABS(W44-$B16)+1))/'1. Liga'!$D$450,0)","v":0},0,0,8,{"$f":"IF(AA44>0,(ABS(AA44-$B16)*(ABS(AA44-$B16)+1))/'1. Liga'!$D$450,0)","v":21},0,0,13,{"$f":"IF(AE44>0,(ABS(AE44-$B16)*(ABS(AE44-$B16)+1))/'1. Liga'!$D$450,0)","v":1},0,0,8,{"$f":"IF(AI44>0,(ABS(AI44-$B16)*(ABS(AI44-$B16)+1))/'1. Liga'!$D$450,0)","v":21},0,0,15,{"$f":"IF(AM44>0,(ABS(AM44-$B16)*(ABS(AM44-$B16)+1))/'1. Liga'!$D$450,0)","v":1},0,0,7,{"$f":"IF(AQ44>0,(ABS(AQ44-$B16)*(ABS(AQ44-$B16)+1))/'1. Liga'!$D$450,0)","v":28},0,0,11,{"$f":"IF(AU44>0,(ABS(AU44-$B16)*(ABS(AU44-$B16)+1))/'1. Liga'!$D$450,0)","v":6},0,0,10,{"$f":"IF(AY44>0,(ABS(AY44-$B16)*(ABS(AY44-$B16)+1))/'1. Liga'!$D$450,0)","v":10},0,0,6,{"$f":"IF(BC44>0,(ABS(BC44-$B16)*(ABS(BC44-$B16)+1))/'1. Liga'!$D$450,0)","v":36},0,0,9,{"$f":"IF(BG44>0,(ABS(BG44-$B16)*(ABS(BG44-$B16)+1))/'1. Liga'!$D$450,0)","v":15},0,0,9,{"$f":"IF(BK44>0,(ABS(BK44-$B16)*(ABS(BK44-$B16)+1))/'1. Liga'!$D$450,0)","v":15},0,0,8,{"$f":"IF(BO44>0,(ABS(BO44-$B16)*(ABS(BO44-$B16)+1))/'1. Liga'!$D$450,0)","v":21},0,0,8,{"$f":"IF(BS44>0,(ABS(BS44-$B16)*(ABS(BS44-$B16)+1))/'1. Liga'!$D$450,0)","v":21},0,0,null,{"$f":"IF(BW44>0,(ABS(BW44-$B16)*(ABS(BW44-$B16)+1))/'1. Liga'!$D$450,0)","v":0},0,0,null,{"$f":"IF(CA44>0,(ABS(CA44-$B16)*(ABS(CA44-$B16)+1))/'1. Liga'!$D$450,0)","v":0},0,0,null,{"$f":"IF(CE44>0,(ABS(CE44-$B16)*(ABS(CE44-$B16)+1))/'1. Liga'!$D$450,0)","v":0},0,0,null,{"$f":"IF(CI44>0,(ABS(CI44-$B16)*(ABS(CI44-$B16)+1))/'1. Liga'!$D$450,0)","v":0},0,0,null,{"$f":"IF(CM44>0,(ABS(CM44-$B16)*(ABS(CM44-$B16)+1))/'1. Liga'!$D$450,0)","v":0},0,0,null,{"$f":"IF(CQ44>0,(ABS(CQ44-$B16)*(ABS(CQ44-$B16)+1))/'1. Liga'!$D$450,0)","v":0},0,0]
[{"$f":"'1. Liga'!$AW$1","v":"1. FC Union Berlin"},{"$f":"'1. Liga'!$AD$3","v":15},{"$f":"'1. Liga'!$AW$3","v":33},{"$f":"'1. Liga'!$BP$3","v":-25},{"$f":"'1. Liga'!$CI$3","v":33},58,"ó",{"$f":"'1. Liga'!$DB$2","v":15},{"$f":"'1. Liga'!$DB$3","v":4},4.4375,5,{"$f":"IF(K45>0,(ABS(K45-$B45)*(ABS(K45-$B45)+1))/'1. Liga'!$D$450,0)","v":55},0,0,6,{"$f":"IF(O45>0,(ABS(O45-$B45)*(ABS(O45-$B45)+1))/'1. Liga'!$D$450,0)","v":45},0,0,0,{"$f":"IF(S45>0,(ABS(S45-$B17)*(ABS(S45-$B17)+1))/'1. Liga'!$D$450,0)","v":0},0,0,0,{"$f":"IF(W45>0,(ABS(W45-$B17)*(ABS(W45-$B17)+1))/'1. Liga'!$D$450,0)","v":0},0,0,3,{"$f":"IF(AA45>0,(ABS(AA45-$B17)*(ABS(AA45-$B17)+1))/'1. Liga'!$D$450,0)","v":78},0,0,7,{"$f":"IF(AE45>0,(ABS(AE45-$B17)*(ABS(AE45-$B17)+1))/'1. Liga'!$D$450,0)","v":36},0,0,5,{"$f":"IF(AI45>0,(ABS(AI45-$B17)*(ABS(AI45-$B17)+1))/'1. Liga'!$D$450,0)","v":55},0,0,6,{"$f":"IF(AM45>0,(ABS(AM45-$B17)*(ABS(AM45-$B17)+1))/'1. Liga'!$D$450,0)","v":45},0,0,5,{"$f":"IF(AQ45>0,(ABS(AQ45-$B17)*(ABS(AQ45-$B17)+1))/'1. Liga'!$D$450,0)","v":55},0,0,5,{"$f":"IF(AU45>0,(ABS(AU45-$B17)*(ABS(AU45-$B17)+1))/'1. Liga'!$D$450,0)","v":55},0,0,6,{"$f":"IF(AY45>0,(ABS(AY45-$B17)*(ABS(AY45-$B17)+1))/'1. Liga'!$D$450,0)","v":45},0,0,5,{"$f":"IF(BC45>0,(ABS(BC45-$B17)*(ABS(BC45-$B17)+1))/'1. Liga'!$D$450,0)","v":55},0,0,5,{"$f":"IF(BG45>0,(ABS(BG45-$B17)*(ABS(BG45-$B17)+1))/'1. Liga'!$D$450,0)","v":55},0,0,8,{"$f":"IF(BK45>0,(ABS(BK45-$B17)*(ABS(BK45-$B17)+1))/'1. Liga'!$D$450,0)","v":28},0,0,6,{"$f":"IF(BO45>0,(ABS(BO45-$B17)*(ABS(BO45-$B17)+1))/'1. Liga'!$D$450,0)","v":45},0,0,6,{"$f":"IF(BS45>0,(ABS(BS45-$B17)*(ABS(BS45-$B17)+1))/'1. Liga'!$D$450,0)","v":45},0,0,null,{"$f":"IF(BW45>0,(ABS(BW45-$B17)*(ABS(BW45-$B17)+1))/'1. Liga'!$D$450,0)","v":0},0,0,null,{"$f":"IF(CA45>0,(ABS(CA45-$B17)*(ABS(CA45-$B17)+1))/'1. Liga'!$D$450,0)","v":0},0,0,null,{"$f":"IF(CE45>0,(ABS(CE45-$B17)*(ABS(CE45-$B17)+1))/'1. Liga'!$D$450,0)","v":0},0,0,null,{"$f":"IF(CI45>0,(ABS(CI45-$B17)*(ABS(CI45-$B17)+1))/'1. Liga'!$D$450,0)","v":0},0,0,null,{"$f":"IF(CM45>0,(ABS(CM45-$B17)*(ABS(CM45-$B17)+1))/'1. Liga'!$D$450,0)","v":0},0,0,null,{"$f":"IF(CQ45>0,(ABS(CQ45-$B17)*(ABS(CQ45-$B17)+1))/'1. Liga'!$D$450,0)","v":0},0,0]
[{"$f":"'1. Liga'!$AN$1","v":"VfL Bochum 1848"},{"$f":"'1. Liga'!$U$3","v":16},{"$f":"'1. Liga'!$AN$3","v":33},{"$f":"'1. Liga'!$BG$3","v":-32},{"$f":"'1. Liga'!$BZ$3","v":42},74,"ññ",{"$f":"'1. Liga'!$CS$2","v":11},{"$f":"'1. Liga'!$CS$3","v":7},12.4375,16,{"$f":"IF(K46>0,(ABS(K46-$B46)*(ABS(K46-$B46)+1))/'1. Liga'!$D$450,0)","v":0},10,0,14,{"$f":"IF(O46>0,(ABS(O46-$B46)*(ABS(O46-$B46)+1))/'1. Liga'!$D$450,0)","v":3},0,0,0,{"$f":"IF(S46>0,(ABS(S46-$B18)*(ABS(S46-$B18)+1))/'1. Liga'!$D$450,0)","v":0},0,0,0,{"$f":"IF(W46>0,(ABS(W46-$B18)*(ABS(W46-$B18)+1))/'1. Liga'!$D$450,0)","v":0},0,0,17,{"$f":"IF(AA46>0,(ABS(AA46-$B18)*(ABS(AA46-$B18)+1))/'1. Liga'!$D$450,0)","v":1},10,0,15,{"$f":"IF(AE46>0,(ABS(AE46-$B18)*(ABS(AE46-$B18)+1))/'1. Liga'!$D$450,0)","v":1},0,0,16,{"$f":"IF(AI46>0,(ABS(AI46-$B18)*(ABS(AI46-$B18)+1))/'1. Liga'!$D$450,0)","v":0},10,0,16,{"$f":"IF(AM46>0,(ABS(AM46-$B18)*(ABS(AM46-$B18)+1))/'1. Liga'!$D$450,0)","v":0},10,0,16,{"$f":"IF(AQ46>0,(ABS(AQ46-$B18)*(ABS(AQ46-$B18)+1))/'1. Liga'!$D$450,0)","v":0},10,0,15,{"$f":"IF(AU46>0,(ABS(AU46-$B18)*(ABS(AU46-$B18)+1))/'1. Liga'!$D$450,0)","v":1},0,0,16,{"$f":"IF(AY46>0,(ABS(AY46-$B18)*(ABS(AY46-$B18)+1))/'1. Liga'!$D$450,0)","v":0},10,0,16,{"$f":"IF(BC46>0,(ABS(BC46-$B18)*(ABS(BC46-$B18)+1))/'1. Liga'!$D$450,0)","v":0},10,0,15,{"$f":"IF(BG46>0,(ABS(BG46-$B18)*(ABS(BG46-$B18)+1))/'1. Liga'!$D$450,0)","v":1},0,0,16,{"$f":"IF(BK46>0,(ABS(BK46-$B18)*(ABS(BK46-$B18)+1))/'1. Liga'!$D$450,0)","v":0},10,0,17,{"$f":"IF(BO46>0,(ABS(BO46-$B18)*(ABS(BO46-$B18)+1))/'1. Liga'!$D$450,0)","v":1},10,0,16,{"$f":"IF(BS46>0,(ABS(BS46-$B18)*(ABS(BS46-$B18)+1))/'1. Liga'!$D$450,0)","v":0},10,0,null,{"$f":"IF(BW46>0,(ABS(BW46-$B18)*(ABS(BW46-$B18)+1))/'1. Liga'!$D$450,0)","v":0},0,0,null,{"$f":"IF(CA46>0,(ABS(CA46-$B18)*(ABS(CA46-$B18)+1))/'1. Liga'!$D$450,0)","v":0},0,0,null,{"$f":"IF(CE46>0,(ABS(CE46-$B18)*(ABS(CE46-$B18)+1))/'1. Liga'!$D$450,0)","v":0},0,0,null,{"$f":"IF(CI46>0,(ABS(CI46-$B18)*(ABS(CI46-$B18)+1))/'1. Liga'!$D$450,0)","v":0},0,0,null,{"$f":"IF(CM46>0,(ABS(CM46-$B18)*(ABS(CM46-$B18)+1))/'1. Liga'!$D$450,0)","v":0},0,0,null,{"$f":"IF(CQ46>0,(ABS(CQ46-$B18)*(ABS(CQ46-$B18)+1))/'1. Liga'!$D$450,0)","v":0},0,0]
[{"$f":"'1. Liga'!$AP$1","v":"1. FC Köln"},{"$f":"'1. Liga'!$W$3","v":17},{"$f":"'1. Liga'!$AP$3","v":27},{"$f":"'1. Liga'!$BI$3","v":-32},{"$f":"'1. Liga'!$CB$3","v":28},60,"ññ",{"$f":"'1. Liga'!$CU$2","v":13},{"$f":"'1. Liga'!$CU$3","v":5},8.90625,11,{"$f":"IF(K47>0,(ABS(K47-$B47)*(ABS(K47-$B47)+1))/'1. Liga'!$D$450,0)","v":21},0,0,12,{"$f":"IF(O47>0,(ABS(O47-$B47)*(ABS(O47-$B47)+1))/'1. Liga'!$D$450,0)","v":15},0,0,0,{"$f":"IF(S47>0,(ABS(S47-$B19)*(ABS(S47-$B19)+1))/'1. Liga'!$D$450,0)","v":0},0,0,0,{"$f":"IF(W47>0,(ABS(W47-$B19)*(ABS(W47-$B19)+1))/'1. Liga'!$D$450,0)","v":0},0,0,10,{"$f":"IF(AA47>0,(ABS(AA47-$B19)*(ABS(AA47-$B19)+1))/'1. Liga'!$D$450,0)","v":28},0,0,17,{"$f":"IF(AE47>0,(ABS(AE47-$B19)*(ABS(AE47-$B19)+1))/'1. Liga'!$D$450,0)","v":0},10,0,12,{"$f":"IF(AI47>0,(ABS(AI47-$B19)*(ABS(AI47-$B19)+1))/'1. Liga'!$D$450,0)","v":15},0,0,12,{"$f":"IF(AM47>0,(ABS(AM47-$B19)*(ABS(AM47-$B19)+1))/'1. Liga'!$D$450,0)","v":15},0,0,12,{"$f":"IF(AQ47>0,(ABS(AQ47-$B19)*(ABS(AQ47-$B19)+1))/'1. Liga'!$D$450,0)","v":15},0,0,10,{"$f":"IF(AU47>0,(ABS(AU47-$B19)*(ABS(AU47-$B19)+1))/'1. Liga'!$D$450,0)","v":28},0,0,8,{"$f":"IF(AY47>0,(ABS(AY47-$B19)*(ABS(AY47-$B19)+1))/'1. Liga'!$D$450,0)","v":45},0,0,14,{"$f":"IF(BC47>0,(ABS(BC47-$B19)*(ABS(BC47-$B19)+1))/'1. Liga'!$D$450,0)","v":6},0,0,13,{"$f":"IF(BG47>0,(ABS(BG47-$B19)*(ABS(BG47-$B19)+1))/'1. Liga'!$D$450,0)","v":10},0,0,12,{"$f":"IF(BK47>0,(ABS(BK47-$B19)*(ABS(BK47-$B19)+1))/'1. Liga'!$D$450,0)","v":15},0,0,12,{"$f":"IF(BO47>0,(ABS(BO47-$B19)*(ABS(BO47-$B19)+1))/'1. Liga'!$D$450,0)","v":15},0,0,11,{"$f":"IF(BS47>0,(ABS(BS47-$B19)*(ABS(BS47-$B19)+1))/'1. Liga'!$D$450,0)","v":21},0,0,null,{"$f":"IF(BW47>0,(ABS(BW47-$B19)*(ABS(BW47-$B19)+1))/'1. Liga'!$D$450,0)","v":0},0,0,null,{"$f":"IF(CA47>0,(ABS(CA47-$B19)*(ABS(CA47-$B19)+1))/'1. Liga'!$D$450,0)","v":0},0,0,null,{"$f":"IF(CE47>0,(ABS(CE47-$B19)*(ABS(CE47-$B19)+1))/'1. Liga'!$D$450,0)","v":0},0,0,null,{"$f":"IF(CI47>0,(ABS(CI47-$B19)*(ABS(CI47-$B19)+1))/'1. Liga'!$D$450,0)","v":0},0,0,null,{"$f":"IF(CM47>0,(ABS(CM47-$B19)*(ABS(CM47-$B19)+1))/'1. Liga'!$D$450,0)","v":0},0,0,null,{"$f":"IF(CQ47>0,(ABS(CQ47-$B19)*(ABS(CQ47-$B19)+1))/'1. Liga'!$D$450,0)","v":0},0,0]
[{"$f":"'1. Liga'!$AR$1","v":"SV Darmstadt 98"},{"$f":"'1. Liga'!$Y$3","v":18},{"$f":"'1. Liga'!$AR$3","v":17},{"$f":"'1. Liga'!$BK$3","v":-56},{"$f":"'1. Liga'!$CD$3","v":30},86,"ñ",{"$f":"'1. Liga'!$CW$2","v":16},{"$f":"'1. Liga'!$CW$3","v":3},13.1875,18,{"$f":"IF(K48>0,(ABS(K48-$B48)*(ABS(K48-$B48)+1))/'1. Liga'!$D$450,0)","v":0},10,0,18,{"$f":"IF(O48>0,(ABS(O48-$B48)*(ABS(O48-$B48)+1))/'1. Liga'!$D$450,0)","v":0},10,0,0,{"$f":"IF(S48>0,(ABS(S48-$B20)*(ABS(S48-$B20)+1))/'1. Liga'!$D$450,0)","v":0},0,0,0,{"$f":"IF(W48>0,(ABS(W48-$B20)*(ABS(W48-$B20)+1))/'1. Liga'!$D$450,0)","v":0},0,0,15,{"$f":"IF(AA48>0,(ABS(AA48-$B20)*(ABS(AA48-$B20)+1))/'1. Liga'!$D$450,0)","v":6},0,0,16,{"$f":"IF(AE48>0,(ABS(AE48-$B20)*(ABS(AE48-$B20)+1))/'1. Liga'!$D$450,0)","v":3},10,0,18,{"$f":"IF(AI48>0,(ABS(AI48-$B20)*(ABS(AI48-$B20)+1))/'1. Liga'!$D$450,0)","v":0},10,0,18,{"$f":"IF(AM48>0,(ABS(AM48-$B20)*(ABS(AM48-$B20)+1))/'1. Liga'!$D$450,0)","v":0},10,0,17,{"$f":"IF(AQ48>0,(ABS(AQ48-$B20)*(ABS(AQ48-$B20)+1))/'1. Liga'!$D$450,0)","v":1},10,0,17,{"$f":"IF(AU48>0,(ABS(AU48-$B20)*(ABS(AU48-$B20)+1))/'1. Liga'!$D$450,0)","v":1},10,0,14,{"$f":"IF(AY48>0,(ABS(AY48-$B20)*(ABS(AY48-$B20)+1))/'1. Liga'!$D$450,0)","v":10},0,0,17,{"$f":"IF(BC48>0,(ABS(BC48-$B20)*(ABS(BC48-$B20)+1))/'1. Liga'!$D$450,0)","v":1},10,0,17,{"$f":"IF(BG48>0,(ABS(BG48-$B20)*(ABS(BG48-$B20)+1))/'1. Liga'!$D$450,0)","v":1},10,0,17,{"$f":"IF(BK48>0,(ABS(BK48-$B20)*(ABS(BK48-$B20)+1))/'1. Liga'!$D$450,0)","v":1},10,0,18,{"$f":"IF(BO48>0,(ABS(BO48-$B20)*(ABS(BO48-$B20)+1))/'1. Liga'!$D$450,0)","v":0},10,0,17,{"$f":"IF(BS48>0,(ABS(BS48-$B20)*(ABS(BS48-$B20)+1))/'1. Liga'!$D$450,0)","v":1},10,0,null,{"$f":"IF(BW48>0,(ABS(BW48-$B20)*(ABS(BW48-$B20)+1))/'1. Liga'!$D$450,0)","v":0},0,0,null,{"$f":"IF(CA48>0,(ABS(CA48-$B20)*(ABS(CA48-$B20)+1))/'1. Liga'!$D$450,0)","v":0},0,0,null,{"$f":"IF(CE48>0,(ABS(CE48-$B20)*(ABS(CE48-$B20)+1))/'1. Liga'!$D$450,0)","v":0},0,0,null,{"$f":"IF(CI48>0,(ABS(CI48-$B20)*(ABS(CI48-$B20)+1))/'1. Liga'!$D$450,0)","v":0},0,0,null,{"$f":"IF(CM48>0,(ABS(CM48-$B20)*(ABS(CM48-$B20)+1))/'1. Liga'!$D$450,0)","v":0},0,0,null,{"$f":"IF(CQ48>0,(ABS(CQ48-$B20)*(ABS(CQ48-$B20)+1))/'1. Liga'!$D$450,0)","v":0},0,0]
["Punkte Tabellenplatz",null,null,null,null,null,null,null,null,null,null,{"$f":"-SUM(L31:L48)","v":-291},null,null,null,{"$f":"-SUM(P31:P48)","v":-236},null,null,null,{"$f":"-SUM(T31:T48)","v":0},null,null,null,{"$f":"-SUM(X31:X48)","v":0},null,null,null,{"$f":"-SUM(AB31:AB48)","v":-335},null,null,null,{"$f":"-SUM(AF31:AF48)","v":-272},null,null,null,{"$f":"-SUM(AJ31:AJ48)","v":-285},null,null,null,{"$f":"-SUM(AN31:AN48)","v":-200},null,null,null,{"$f":"-SUM(AR31:AR48)","v":-286},null,null,null,{"$f":"-SUM(AV31:AV48)","v":-289},null,null,null,{"$f":"-SUM(AZ31:AZ48)","v":-363},null,null,null,{"$f":"-SUM(BD31:BD48)","v":-296},null,null,null,{"$f":"-SUM(BH31:BH48)","v":-272},null,null,null,{"$f":"-SUM(BL31:BL48)","v":-260},null,null,null,{"$f":"-SUM(BP31:BP48)","v":-266},null,null,null,{"$f":"-SUM(BT31:BT48)","v":-297},null,null,null,{"$f":"-SUM(BX31:BX48)","v":0},null,null,null,{"$f":"-SUM(CB31:CB48)","v":0},null,null,null,{"$f":"-SUM(CF31:CF48)","v":0},null,null,null,{"$f":"-SUM(CJ31:CJ48)","v":0},null,null,null,{"$f":"-SUM(CN31:CN48)","v":0},null,null,null,{"$f":"-SUM(CR31:CR48)","v":0}]
["Meistertipp",{"$f":"B22","v":"10 Sonderpunkte"},null,null,null,null,null,null,null,null,null,{"$f":"IF(AND(K31=1,J31=$B31),10,0)+IF(AND(K32=1,J32=$B32),10,0)+IF(AND(K33=1,J33=$B33),10,0)+IF(AND(K34=1,J34=$B34),10,0)+IF(AND(K35=1,J35=$B35),10,0)+IF(AND(K36=1,J36=$B36),10,0)+IF(AND(K37=1,J37=$B37),10,0)+IF(AND(K38=1,J38=$B38),10,0)+IF(AND(K39=1,J39=$B39),10,0)+IF(AND(K40=1,J40=$B40),10,0)+IF(AND(K41=1,J41=$B41),10,0)+IF(AND(K42=1,J42=$B42),10,0)+IF(AND(K43=1,J43=$B43),10,0)+IF(AND(K44=1,J44=$B44),10,0)+IF(AND(K45=1,J45=$B45),10,0)+IF(AND(K46=1,J46=$B46),10,0)+IF(AND(K47=1,J47=$B47),10,0)+IF(AND(K48=1,J48=$B48),10,0)","v":0},null,null,null,{"$f":"IF(AND(O31=1,O31=$B31),10,0)+IF(AND(O32=1,O32=$B32),10,0)+IF(AND(O33=1,O33=$B33),10,0)+IF(AND(O34=1,O34=$B34),10,0)+IF(AND(O35=1,O35=$B35),10,0)+IF(AND(O36=1,O36=$B36),10,0)+IF(AND(O37=1,O37=$B37),10,0)+IF(AND(O38=1,O38=$B38),10,0)+IF(AND(O39=1,O39=$B39),10,0)+IF(AND(O40=1,O40=$B40),10,0)+IF(AND(O41=1,O41=$B41),10,0)+IF(AND(O42=1,O42=$B42),10,0)+IF(AND(O43=1,O43=$B43),10,0)+IF(AND(O44=1,O44=$B44),10,0)+IF(AND(O45=1,O45=$B45),10,0)+IF(AND(O46=1,O46=$B46),10,0)+IF(AND(O47=1,O47=$B47),10,0)+IF(AND(O48=1,O48=$B48),10,0)","v":0},null,null,null,{"$f":"IF(AND(S31=1,S31=$B3),10,0)+IF(AND(S32=1,S32=$B4),10,0)+IF(AND(S33=1,S33=$B5),10,0)+IF(AND(S34=1,S34=$B6),10,0)+IF(AND(S35=1,S35=$B7),10,0)+IF(AND(S36=1,S36=$B8),10,0)+IF(AND(S37=1,S37=$B9),10,0)+IF(AND(S38=1,S38=$B10),10,0)+IF(AND(S39=1,S39=$B11),10,0)+IF(AND(S40=1,S40=$B12),10,0)+IF(AND(S41=1,S41=$B13),10,0)+IF(AND(S42=1,S42=$B14),10,0)+IF(AND(S43=1,S43=$B15),10,0)+IF(AND(S44=1,S44=$B16),10,0)+IF(AND(S45=1,S45=$B17),10,0)+IF(AND(S46=1,S46=$B18),10,0)+IF(AND(S47=1,S47=$B19),10,0)+IF(AND(S48=1,S48=$B20),10,0)","v":0},null,null,null,{"$f":"IF(AND(W31=1,W31=$B3),10,0)+IF(AND(W32=1,W32=$B4),10,0)+IF(AND(W33=1,W33=$B5),10,0)+IF(AND(W34=1,W34=$B6),10,0)+IF(AND(W35=1,W35=$B7),10,0)+IF(AND(W36=1,W36=$B8),10,0)+IF(AND(W37=1,W37=$B9),10,0)+IF(AND(W38=1,W38=$B10),10,0)+IF(AND(W39=1,W39=$B11),10,0)+IF(AND(W40=1,W40=$B12),10,0)+IF(AND(W41=1,W41=$B13),10,0)+IF(AND(W42=1,W42=$B14),10,0)+IF(AND(W43=1,W43=$B15),10,0)+IF(AND(W44=1,W44=$B16),10,0)+IF(AND(W45=1,W45=$B17),10,0)+IF(AND(W46=1,W46=$B18),10,0)+IF(AND(W47=1,W47=$B19),10,0)+IF(AND(W48=1,W48=$B20),10,0)","v":0},null,null,null,{"$f":"IF(AND(AA31=1,AA31=$B3),10,0)+IF(AND(AA32=1,AA32=$B4),10,0)+IF(AND(AA33=1,AA33=$B5),10,0)+IF(AND(AA34=1,AA34=$B6),10,0)+IF(AND(AA35=1,AA35=$B7),10,0)+IF(AND(AA36=1,AA36=$B8),10,0)+IF(AND(AA37=1,AA37=$B9),10,0)+IF(AND(AA38=1,AA38=$B10),10,0)+IF(AND(AA39=1,AA39=$B11),10,0)+IF(AND(AA40=1,AA40=$B12),10,0)+IF(AND(AA41=1,AA41=$B13),10,0)+IF(AND(AA42=1,AA42=$B14),10,0)+IF(AND(AA43=1,AA43=$B15),10,0)+IF(AND(AA44=1,AA44=$B16),10,0)+IF(AND(AA45=1,AA45=$B17),10,0)+IF(AND(AA46=1,AA46=$B18),10,0)+IF(AND(AA47=1,AA47=$B19),10,0)+IF(AND(AA48=1,AA48=$B20),10,0)","v":0},null,null,null,{"$f":"IF(AND(AE31=1,AE31=$B3),10,0)+IF(AND(AE32=1,AE32=$B4),10,0)+IF(AND(AE33=1,AE33=$B5),10,0)+IF(AND(AE34=1,AE34=$B6),10,0)+IF(AND(AE35=1,AE35=$B7),10,0)+IF(AND(AE36=1,AE36=$B8),10,0)+IF(AND(AE37=1,AE37=$B9),10,0)+IF(AND(AE38=1,AE38=$B10),10,0)+IF(AND(AE39=1,AE39=$B11),10,0)+IF(AND(AE40=1,AE40=$B12),10,0)+IF(AND(AE41=1,AE41=$B13),10,0)+IF(AND(AE42=1,AE42=$B14),10,0)+IF(AND(AE43=1,AE43=$B15),10,0)+IF(AND(AE44=1,AE44=$B16),10,0)+IF(AND(AE45=1,AE45=$B17),10,0)+IF(AND(AE46=1,AE46=$B18),10,0)+IF(AND(AE47=1,AE47=$B19),10,0)+IF(AND(AE48=1,AE48=$B20),10,0)","v":0},null,null,null,{"$f":"IF(AND(AI31=1,AI31=$B3),10,0)+IF(AND(AI32=1,AI32=$B4),10,0)+IF(AND(AI33=1,AI33=$B5),10,0)+IF(AND(AI34=1,AI34=$B6),10,0)+IF(AND(AI35=1,AI35=$B7),10,0)+IF(AND(AI36=1,AI36=$B8),10,0)+IF(AND(AI37=1,AI37=$B9),10,0)+IF(AND(AI38=1,AI38=$B10),10,0)+IF(AND(AI39=1,AI39=$B11),10,0)+IF(AND(AI40=1,AI40=$B12),10,0)+IF(AND(AI41=1,AI41=$B13),10,0)+IF(AND(AI42=1,AI42=$B14),10,0)+IF(AND(AI43=1,AI43=$B15),10,0)+IF(AND(AI44=1,AI44=$B16),10,0)+IF(AND(AI45=1,AI45=$B17),10,0)+IF(AND(AI46=1,AI46=$B18),10,0)+IF(AND(AI47=1,AI47=$B19),10,0)+IF(AND(AI48=1,AI48=$B20),10,0)","v":0},null,null,null,{"$f":"IF(AND(AM31=1,AM31=$B3),10,0)+IF(AND(AM32=1,AM32=$B4),10,0)+IF(AND(AM33=1,AM33=$B5),10,0)+IF(AND(AM34=1,AM34=$B6),10,0)+IF(AND(AM35=1,AM35=$B7),10,0)+IF(AND(AM36=1,AM36=$B8),10,0)+IF(AND(AM37=1,AM37=$B9),10,0)+IF(AND(AM38=1,AM38=$B10),10,0)+IF(AND(AM39=1,AM39=$B11),10,0)+IF(AND(AM40=1,AM40=$B12),10,0)+IF(AND(AM41=1,AM41=$B13),10,0)+IF(AND(AM42=1,AM42=$B14),10,0)+IF(AND(AM43=1,AM43=$B15),10,0)+IF(AND(AM44=1,AM44=$B16),10,0)+IF(AND(AM45=1,AM45=$B17),10,0)+IF(AND(AM46=1,AM46=$B18),10,0)+IF(AND(AM47=1,AM47=$B19),10,0)+IF(AND(AM48=1,AM48=$B20),10,0)","v":0},null,null,null,{"$f":"IF(AND(AQ31=1,AQ31=$B3),10,0)+IF(AND(AQ32=1,AQ32=$B4),10,0)+IF(AND(AQ33=1,AQ33=$B5),10,0)+IF(AND(AQ34=1,AQ34=$B6),10,0)+IF(AND(AQ35=1,AQ35=$B7),10,0)+IF(AND(AQ36=1,AQ36=$B8),10,0)+IF(AND(AQ37=1,AQ37=$B9),10,0)+IF(AND(AQ38=1,AQ38=$B10),10,0)+IF(AND(AQ39=1,AQ39=$B11),10,0)+IF(AND(AQ40=1,AQ40=$B12),10,0)+IF(AND(AQ41=1,AQ41=$B13),10,0)+IF(AND(AQ42=1,AQ42=$B14),10,0)+IF(AND(AQ43=1,AQ43=$B15),10,0)+IF(AND(AQ44=1,AQ44=$B16),10,0)+IF(AND(AQ45=1,AQ45=$B17),10,0)+IF(AND(AQ46=1,AQ46=$B18),10,0)+IF(AND(AQ47=1,AQ47=$B19),10,0)+IF(AND(AQ48=1,AQ48=$B20),10,0)","v":0},null,null,null,{"$f":"IF(AND(AU31=1,AU31=$B3),10,0)+IF(AND(AU32=1,AU32=$B4),10,0)+IF(AND(AU33=1,AU33=$B5),10,0)+IF(AND(AU34=1,AU34=$B6),10,0)+IF(AND(AU35=1,AU35=$B7),10,0)+IF(AND(AU36=1,AU36=$B8),10,0)+IF(AND(AU37=1,AU37=$B9),10,0)+IF(AND(AU38=1,AU38=$B10),10,0)+IF(AND(AU39=1,AU39=$B11),10,0)+IF(AND(AU40=1,AU40=$B12),10,0)+IF(AND(AU41=1,AU41=$B13),10,0)+IF(AND(AU42=1,AU42=$B14),10,0)+IF(AND(AU43=1,AU43=$B15),10,0)+IF(AND(AU44=1,AU44=$B16),10,0)+IF(AND(AU45=1,AU45=$B17),10,0)+IF(AND(AU46=1,AU46=$B18),10,0)+IF(AND(AU47=1,AU47=$B19),10,0)+IF(AND(AU48=1,AU48=$B20),10,0)","v":0},null,null,null,{"$f":"IF(AND(AY31=1,AY31=$B3),10,0)+IF(AND(AY32=1,AY32=$B4),10,0)+IF(AND(AY33=1,AY33=$B5),10,0)+IF(AND(AY34=1,AY34=$B6),10,0)+IF(AND(AY35=1,AY35=$B7),10,0)+IF(AND(AY36=1,AY36=$B8),10,0)+IF(AND(AY37=1,AY37=$B9),10,0)+IF(AND(AY38=1,AY38=$B10),10,0)+IF(AND(AY39=1,AY39=$B11),10,0)+IF(AND(AY40=1,AY40=$B12),10,0)+IF(AND(AY41=1,AY41=$B13),10,0)+IF(AND(AY42=1,AY42=$B14),10,0)+IF(AND(AY43=1,AY43=$B15),10,0)+IF(AND(AY44=1,AY44=$B16),10,0)+IF(AND(AY45=1,AY45=$B17),10,0)+IF(AND(AY46=1,AY46=$B18),10,0)+IF(AND(AY47=1,AY47=$B19),10,0)+IF(AND(AY48=1,AY48=$B20),10,0)","v":0},null,null,null,{"$f":"IF(AND(BC31=1,BC31=$B3),10,0)+IF(AND(BC32=1,BC32=$B4),10,0)+IF(AND(BC33=1,BC33=$B5),10,0)+IF(AND(BC34=1,BC34=$B6),10,0)+IF(AND(BC35=1,BC35=$B7),10,0)+IF(AND(BC36=1,BC36=$B8),10,0)+IF(AND(BC37=1,BC37=$B9),10,0)+IF(AND(BC38=1,BC38=$B10),10,0)+IF(AND(BC39=1,BC39=$B11),10,0)+IF(AND(BC40=1,BC40=$B12),10,0)+IF(AND(BC41=1,BC41=$B13),10,0)+IF(AND(BC42=1,BC42=$B14),10,0)+IF(AND(BC43=1,BC43=$B15),10,0)+IF(AND(BC44=1,BC44=$B16),10,0)+IF(AND(BC45=1,BC45=$B17),10,0)+IF(AND(BC46=1,BC46=$B18),10,0)+IF(AND(BC47=1,BC47=$B19),10,0)+IF(AND(BC48=1,BC48=$B20),10,0)","v":0},null,null,null,{"$f":"IF(AND(BG31=1,BG31=$B3),10,0)+IF(AND(BG32=1,BG32=$B4),10,0)+IF(AND(BG33=1,BG33=$B5),10,0)+IF(AND(BG34=1,BG34=$B6),10,0)+IF(AND(BG35=1,BG35=$B7),10,0)+IF(AND(BG36=1,BG36=$B8),10,0)+IF(AND(BG37=1,BG37=$B9),10,0)+IF(AND(BG38=1,BG38=$B10),10,0)+IF(AND(BG39=1,BG39=$B11),10,0)+IF(AND(BG40=1,BG40=$B12),10,0)+IF(AND(BG41=1,BG41=$B13),10,0)+IF(AND(BG42=1,BG42=$B14),10,0)+IF(AND(BG43=1,BG43=$B15),10,0)+IF(AND(BG44=1,BG44=$B16),10,0)+IF(AND(BG45=1,BG45=$B17),10,0)+IF(AND(BG46=1,BG46=$B18),10,0)+IF(AND(BG47=1,BG47=$B19),10,0)+IF(AND(BG48=1,BG48=$B20),10,0)","v":0},null,null,null,{"$f":"IF(AND(BK31=1,BK31=$B3),10,0)+IF(AND(BK32=1,BK32=$B4),10,0)+IF(AND(BK33=1,BK33=$B5),10,0)+IF(AND(BK34=1,BK34=$B6),10,0)+IF(AND(BK35=1,BK35=$B7),10,0)+IF(AND(BK36=1,BK36=$B8),10,0)+IF(AND(BK37=1,BK37=$B9),10,0)+IF(AND(BK38=1,BK38=$B10),10,0)+IF(AND(BK39=1,BK39=$B11),10,0)+IF(AND(BK40=1,BK40=$B12),10,0)+IF(AND(BK41=1,BK41=$B13),10,0)+IF(AND(BK42=1,BK42=$B14),10,0)+IF(AND(BK43=1,BK43=$B15),10,0)+IF(AND(BK44=1,BK44=$B16),10,0)+IF(AND(BK45=1,BK45=$B17),10,0)+IF(AND(BK46=1,BK46=$B18),10,0)+IF(AND(BK47=1,BK47=$B19),10,0)+IF(AND(BK48=1,BK48=$B20),10,0)","v":0},null,null,null,{"$f":"IF(AND(BO31=1,BO31=$B3),10,0)+IF(AND(BO32=1,BO32=$B4),10,0)+IF(AND(BO33=1,BO33=$B5),10,0)+IF(AND(BO34=1,BO34=$B6),10,0)+IF(AND(BO35=1,BO35=$B7),10,0)+IF(AND(BO36=1,BO36=$B8),10,0)+IF(AND(BO37=1,BO37=$B9),10,0)+IF(AND(BO38=1,BO38=$B10),10,0)+IF(AND(BO39=1,BO39=$B11),10,0)+IF(AND(BO40=1,BO40=$B12),10,0)+IF(AND(BO41=1,BO41=$B13),10,0)+IF(AND(BO42=1,BO42=$B14),10,0)+IF(AND(BO43=1,BO43=$B15),10,0)+IF(AND(BO44=1,BO44=$B16),10,0)+IF(AND(BO45=1,BO45=$B17),10,0)+IF(AND(BO46=1,BO46=$B18),10,0)+IF(AND(BO47=1,BO47=$B19),10,0)+IF(AND(BO48=1,BO48=$B20),10,0)","v":0},null,null,null,{"$f":"IF(AND(BS31=1,BS31=$B3),10,0)+IF(AND(BS32=1,BS32=$B4),10,0)+IF(AND(BS33=1,BS33=$B5),10,0)+IF(AND(BS34=1,BS34=$B6),10,0)+IF(AND(BS35=1,BS35=$B7),10,0)+IF(AND(BS36=1,BS36=$B8),10,0)+IF(AND(BS37=1,BS37=$B9),10,0)+IF(AND(BS38=1,BS38=$B10),10,0)+IF(AND(BS39=1,BS39=$B11),10,0)+IF(AND(BS40=1,BS40=$B12),10,0)+IF(AND(BS41=1,BS41=$B13),10,0)+IF(AND(BS42=1,BS42=$B14),10,0)+IF(AND(BS43=1,BS43=$B15),10,0)+IF(AND(BS44=1,BS44=$B16),10,0)+IF(AND(BS45=1,BS45=$B17),10,0)+IF(AND(BS46=1,BS46=$B18),10,0)+IF(AND(BS47=1,BS47=$B19),10,0)+IF(AND(BS48=1,BS48=$B20),10,0)","v":0},null,null,null,{"$f":"IF(AND(BW31=1,BW31=$B3),10,0)+IF(AND(BW32=1,BW32=$B4),10,0)+IF(AND(BW33=1,BW33=$B5),10,0)+IF(AND(BW34=1,BW34=$B6),10,0)+IF(AND(BW35=1,BW35=$B7),10,0)+IF(AND(BW36=1,BW36=$B8),10,0)+IF(AND(BW37=1,BW37=$B9),10,0)+IF(AND(BW38=1,BW38=$B10),10,0)+IF(AND(BW39=1,BW39=$B11),10,0)+IF(AND(BW40=1,BW40=$B12),10,0)+IF(AND(BW41=1,BW41=$B13),10,0)+IF(AND(BW42=1,BW42=$B14),10,0)+IF(AND(BW43=1,BW43=$B15),10,0)+IF(AND(BW44=1,BW44=$B16),10,0)+IF(AND(BW45=1,BW45=$B17),10,0)+IF(AND(BW46=1,BW46=$B18),10,0)+IF(AND(BW47=1,BW47=$B19),10,0)+IF(AND(BW48=1,BW48=$B20),10,0)","v":0},null,null,null,{"$f":"IF(AND(CA31=1,CA31=$B3),10,0)+IF(AND(CA32=1,CA32=$B4),10,0)+IF(AND(CA33=1,CA33=$B5),10,0)+IF(AND(CA34=1,CA34=$B6),10,0)+IF(AND(CA35=1,CA35=$B7),10,0)+IF(AND(CA36=1,CA36=$B8),10,0)+IF(AND(CA37=1,CA37=$B9),10,0)+IF(AND(CA38=1,CA38=$B10),10,0)+IF(AND(CA39=1,CA39=$B11),10,0)+IF(AND(CA40=1,CA40=$B12),10,0)+IF(AND(CA41=1,CA41=$B13),10,0)+IF(AND(CA42=1,CA42=$B14),10,0)+IF(AND(CA43=1,CA43=$B15),10,0)+IF(AND(CA44=1,CA44=$B16),10,0)+IF(AND(CA45=1,CA45=$B17),10,0)+IF(AND(CA46=1,CA46=$B18),10,0)+IF(AND(CA47=1,CA47=$B19),10,0)+IF(AND(CA48=1,CA48=$B20),10,0)","v":0},null,null,null,{"$f":"IF(AND(CE31=1,CE31=$B3),10,0)+IF(AND(CE32=1,CE32=$B4),10,0)+IF(AND(CE33=1,CE33=$B5),10,0)+IF(AND(CE34=1,CE34=$B6),10,0)+IF(AND(CE35=1,CE35=$B7),10,0)+IF(AND(CE36=1,CE36=$B8),10,0)+IF(AND(CE37=1,CE37=$B9),10,0)+IF(AND(CE38=1,CE38=$B10),10,0)+IF(AND(CE39=1,CE39=$B11),10,0)+IF(AND(CE40=1,CE40=$B12),10,0)+IF(AND(CE41=1,CE41=$B13),10,0)+IF(AND(CE42=1,CE42=$B14),10,0)+IF(AND(CE43=1,CE43=$B15),10,0)+IF(AND(CE44=1,CE44=$B16),10,0)+IF(AND(CE45=1,CE45=$B17),10,0)+IF(AND(CE46=1,CE46=$B18),10,0)+IF(AND(CE47=1,CE47=$B19),10,0)+IF(AND(CE48=1,CE48=$B20),10,0)","v":0},null,null,null,{"$f":"IF(AND(CI31=1,CI31=$B3),10,0)+IF(AND(CI32=1,CI32=$B4),10,0)+IF(AND(CI33=1,CI33=$B5),10,0)+IF(AND(CI34=1,CI34=$B6),10,0)+IF(AND(CI35=1,CI35=$B7),10,0)+IF(AND(CI36=1,CI36=$B8),10,0)+IF(AND(CI37=1,CI37=$B9),10,0)+IF(AND(CI38=1,CI38=$B10),10,0)+IF(AND(CI39=1,CI39=$B11),10,0)+IF(AND(CI40=1,CI40=$B12),10,0)+IF(AND(CI41=1,CI41=$B13),10,0)+IF(AND(CI42=1,CI42=$B14),10,0)+IF(AND(CI43=1,CI43=$B15),10,0)+IF(AND(CI44=1,CI44=$B16),10,0)+IF(AND(CI45=1,CI45=$B17),10,0)+IF(AND(CI46=1,CI46=$B18),10,0)+IF(AND(CI47=1,CI47=$B19),10,0)+IF(AND(CI48=1,CI48=$B20),10,0)","v":0},null,null,null,{"$f":"IF(AND(CM31=1,CM31=$B3),10,0)+IF(AND(CM32=1,CM32=$B4),10,0)+IF(AND(CM33=1,CM33=$B5),10,0)+IF(AND(CM34=1,CM34=$B6),10,0)+IF(AND(CM35=1,CM35=$B7),10,0)+IF(AND(CM36=1,CM36=$B8),10,0)+IF(AND(CM37=1,CM37=$B9),10,0)+IF(AND(CM38=1,CM38=$B10),10,0)+IF(AND(CM39=1,CM39=$B11),10,0)+IF(AND(CM40=1,CM40=$B12),10,0)+IF(AND(CM41=1,CM41=$B13),10,0)+IF(AND(CM42=1,CM42=$B14),10,0)+IF(AND(CM43=1,CM43=$B15),10,0)+IF(AND(CM44=1,CM44=$B16),10,0)+IF(AND(CM45=1,CM45=$B17),10,0)+IF(AND(CM46=1,CM46=$B18),10,0)+IF(AND(CM47=1,CM47=$B19),10,0)+IF(AND(CM48=1,CM48=$B20),10,0)","v":0},null,null,null,{"$f":"IF(AND(CQ31=1,CQ31=$B3),10,0)+IF(AND(CQ32=1,CQ32=$B4),10,0)+IF(AND(CQ33=1,CQ33=$B5),10,0)+IF(AND(CQ34=1,CQ34=$B6),10,0)+IF(AND(CQ35=1,CQ35=$B7),10,0)+IF(AND(CQ36=1,CQ36=$B8),10,0)+IF(AND(CQ37=1,CQ37=$B9),10,0)+IF(AND(CQ38=1,CQ38=$B10),10,0)+IF(AND(CQ39=1,CQ39=$B11),10,0)+IF(AND(CQ40=1,CQ40=$B12),10,0)+IF(AND(CQ41=1,CQ41=$B13),10,0)+IF(AND(CQ42=1,CQ42=$B14),10,0)+IF(AND(CQ43=1,CQ43=$B15),10,0)+IF(AND(CQ44=1,CQ44=$B16),10,0)+IF(AND(CQ45=1,CQ45=$B17),10,0)+IF(AND(CQ46=1,CQ46=$B18),10,0)+IF(AND(CQ47=1,CQ47=$B19),10,0)+IF(AND(CQ48=1,CQ48=$B20),10,0)","v":0}]
[{"$f":"A23","v":"Tipp Plätze 1 - 7"},{"$f":"B23","v":"jeweils 10 Sonderpunkte"},null,null,null,null,null,null,null,null,null,{"$f":"N31+N32+N33+N34+N35+N36+N37+N38+N39+N40+N41+N42+N43+N44+N45+N46+N47+N48","v":50},null,null,null,{"$f":"R31+R32+R33+R34+R35+R36+R37+R38+R39+R40+R41+R42+R43+R44+R45+R46+R47+R48","v":50},null,null,null,{"$f":"V31+V32+V33+V34+V35+V36+V37+V38+V39+V40+V41+V42+V43+V44+V45+V46+V47+V48","v":0},null,null,null,{"$f":"Z31+Z32+Z33+Z34+Z35+Z36+Z37+Z38+Z39+Z40+Z41+Z42+Z43+Z44+Z45+Z46+Z47+Z48","v":0},null,null,null,{"$f":"AD31+AD32+AD33+AD34+AD35+AD36+AD37+AD38+AD39+AD40+AD41+AD42+AD43+AD44+AD45+AD46+AD47+AD48","v":50},null,null,null,{"$f":"AH31+AH32+AH33+AH34+AH35+AH36+AH37+AH38+AH39+AH40+AH41+AH42+AH43+AH44+AH45+AH46+AH47+AH48","v":40},null,null,null,{"$f":"AL31+AL32+AL33+AL34+AL35+AL36+AL37+AL38+AL39+AL40+AL41+AL42+AL43+AL44+AL45+AL46+AL47+AL48","v":40},null,null,null,{"$f":"AP31+AP32+AP33+AP34+AP35+AP36+AP37+AP38+AP39+AP40+AP41+AP42+AP43+AP44+AP45+AP46+AP47+AP48","v":50},null,null,null,{"$f":"AT31+AT32+AT33+AT34+AT35+AT36+AT37+AT38+AT39+AT40+AT41+AT42+AT43+AT44+AT45+AT46+AT47+AT48","v":50},null,null,null,{"$f":"AX31+AX32+AX33+AX34+AX35+AX36+AX37+AX38+AX39+AX40+AX41+AX42+AX43+AX44+AX45+AX46+AX47+AX48","v":50},null,null,null,{"$f":"BB31+BB32+BB33+BB34+BB35+BB36+BB37+BB38+BB39+BB40+BB41+BB42+BB43+BB44+BB45+BB46+BB47+BB48","v":50},null,null,null,{"$f":"BF31+BF32+BF33+BF34+BF35+BF36+BF37+BF38+BF39+BF40+BF41+BF42+BF43+BF44+BF45+BF46+BF47+BF48","v":40},null,null,null,{"$f":"BJ31+BJ32+BJ33+BJ34+BJ35+BJ36+BJ37+BJ38+BJ39+BJ40+BJ41+BJ42+BJ43+BJ44+BJ45+BJ46+BJ47+BJ48","v":50},null,null,null,{"$f":"BN31+BN32+BN33+BN34+BN35+BN36+BN37+BN38+BN39+BN40+BN41+BN42+BN43+BN44+BN45+BN46+BN47+BN48","v":50},null,null,null,{"$f":"BR31+BR32+BR33+BR34+BR35+BR36+BR37+BR38+BR39+BR40+BR41+BR42+BR43+BR44+BR45+BR46+BR47+BR48","v":50},null,null,null,{"$f":"BV31+BV32+BV33+BV34+BV35+BV36+BV37+BV38+BV39+BV40+BV41+BV42+BV43+BV44+BV45+BV46+BV47+BV48","v":50},null,null,null,{"$f":"BZ31+BZ32+BZ33+BZ34+BZ35+BZ36+BZ37+BZ38+BZ39+BZ40+BZ41+BZ42+BZ43+BZ44+BZ45+BZ46+BZ47+BZ48","v":0},null,null,null,{"$f":"CD31+CD32+CD33+CD34+CD35+CD36+CD37+CD38+CD39+CD40+CD41+CD42+CD43+CD44+CD45+CD46+CD47+CD48","v":0},null,null,null,{"$f":"CH31+CH32+CH33+CH34+CH35+CH36+CH37+CH38+CH39+CH40+CH41+CH42+CH43+CH44+CH45+CH46+CH47+CH48","v":0},null,null,null,{"$f":"CL31+CL32+CL33+CL34+CL35+CL36+CL37+CL38+CL39+CL40+CL41+CL42+CL43+CL44+CL45+CL46+CL47+CL48","v":0},null,null,null,{"$f":"CP31+CP32+CP33+CP34+CP35+CP36+CP37+CP38+CP39+CP40+CP41+CP42+CP43+CP44+CP45+CP46+CP47+CP48","v":0},null,null,null,{"$f":"CT31+CT32+CT33+CT34+CT35+CT36+CT37+CT38+CT39+CT40+CT41+CT42+CT43+CT44+CT45+CT46+CT47+CT48","v":0}]
[{"$f":"A24","v":"Tipp Plätze 16 - 18"},{"$f":"B24","v":"jeweils 10 Sonderpunkte"},null,null,null,null,null,null,null,null,null,{"$f":"M31+M32+M33+M34+M35+M36+M37+M38+M39+M40+M41+M42+M43+M44+M45+M46+M47+M48","v":20},null,null,null,{"$f":"Q31+Q32+Q33+Q34+Q35+Q36+Q37+Q38+Q39+Q40+Q41+Q42+Q43+Q44+Q45+Q46+Q47+Q48","v":10},null,null,null,{"$f":"U31+U32+U33+U34+U35+U36+U37+U38+U39+U40+U41+U42+U43+U44+U45+U46+U47+U48","v":0},null,null,null,{"$f":"Y31+Y32+Y33+Y34+Y35+Y36+Y37+Y38+Y39+Y40+Y41+Y42+Y43+Y44+Y45+Y46+Y47+Y48","v":0},null,null,null,{"$f":"AC31+AC32+AC33+AC34+AC35+AC36+AC37+AC38+AC39+AC40+AC41+AC42+AC43+AC44+AC45+AC46+AC47+AC48","v":10},null,null,null,{"$f":"AG31+AG32+AG33+AG34+AG35+AG36+AG37+AG38+AG39+AG40+AG41+AG42+AG43+AG44+AG45+AG46+AG47+AG48","v":20},null,null,null,{"$f":"AK31+AK32+AK33+AK34+AK35+AK36+AK37+AK38+AK39+AK40+AK41+AK42+AK43+AK44+AK45+AK46+AK47+AK48","v":20},null,null,null,{"$f":"AO31+AO32+AO33+AO34+AO35+AO36+AO37+AO38+AO39+AO40+AO41+AO42+AO43+AO44+AO45+AO46+AO47+AO48","v":20},null,null,null,{"$f":"AS31+AS32+AS33+AS34+AS35+AS36+AS37+AS38+AS39+AS40+AS41+AS42+AS43+AS44+AS45+AS46+AS47+AS48","v":20},null,null,null,{"$f":"AW31+AW32+AW33+AW34+AW35+AW36+AW37+AW38+AW39+AW40+AW41+AW42+AW43+AW44+AW45+AW46+AW47+AW48","v":10},null,null,null,{"$f":"BA31+BA32+BA33+BA34+BA35+BA36+BA37+BA38+BA39+BA40+BA41+BA42+BA43+BA44+BA45+BA46+BA47+BA48","v":10},null,null,null,{"$f":"BE31+BE32+BE33+BE34+BE35+BE36+BE37+BE38+BE39+BE40+BE41+BE42+BE43+BE44+BE45+BE46+BE47+BE48","v":20},null,null,null,{"$f":"BI31+BI32+BI33+BI34+BI35+BI36+BI37+BI38+BI39+BI40+BI41+BI42+BI43+BI44+BI45+BI46+BI47+BI48","v":10},null,null,null,{"$f":"BM31+BM32+BM33+BM34+BM35+BM36+BM37+BM38+BM39+BM40+BM41+BM42+BM43+BM44+BM45+BM46+BM47+BM48","v":20},null,null,null,{"$f":"BQ31+BQ32+BQ33+BQ34+BQ35+BQ36+BQ37+BQ38+BQ39+BQ40+BQ41+BQ42+BQ43+BQ44+BQ45+BQ46+BQ47+BQ48","v":20},null,null,null,{"$f":"BU31+BU32+BU33+BU34+BU35+BU36+BU37+BU38+BU39+BU40+BU41+BU42+BU43+BU44+BU45+BU46+BU47+BU48","v":20},null,null,null,{"$f":"BY31+BY32+BY33+BY34+BY35+BY36+BY37+BY38+BY39+BY40+BY41+BY42+BY43+BY44+BY45+BY46+BY47+BY48","v":0},null,null,null,{"$f":"CC31+CC32+CC33+CC34+CC35+CC36+CC37+CC38+CC39+CC40+CC41+CC42+CC43+CC44+CC45+CC46+CC47+CC48","v":0},null,null,null,{"$f":"CG31+CG32+CG33+CG34+CG35+CG36+CG37+CG38+CG39+CG40+CG41+CG42+CG43+CG44+CG45+CG46+CG47+CG48","v":0},null,null,null,{"$f":"CK31+CK32+CK33+CK34+CK35+CK36+CK37+CK38+CK39+CK40+CK41+CK42+CK43+CK44+CK45+CK46+CK47+CK48","v":0},null,null,null,{"$f":"CO31+CO32+CO33+CO34+CO35+CO36+CO37+CO38+CO39+CO40+CO41+CO42+CO43+CO44+CO45+CO46+CO47+CO48","v":0},null,null,null,{"$f":"CS31+CS32+CS33+CS34+CS35+CS36+CS37+CS38+CS39+CS40+CS41+CS42+CS43+CS44+CS45+CS46+CS47+CS48","v":0}]
["Gesamtpunkte",null,null,null,null,null,null,null,null,null,null,{"$f":"L52+L51+L50+L49","v":-221},null,null,null,{"$f":"P52+P51+P50+P49","v":-176},null,null,null,{"$f":"T52+T51+T50+T49","v":0},null,null,null,{"$f":"X52+X51+X50+X49","v":0},null,null,null,{"$f":"AB52+AB51+AB50+AB49","v":-275},null,null,null,{"$f":"AF52+AF51+AF50+AF49","v":-212},null,null,null,{"$f":"AJ52+AJ51+AJ50+AJ49","v":-225},null,null,null,{"$f":"AN52+AN51+AN50+AN49","v":-130},null,null,null,{"$f":"AR52+AR51+AR50+AR49","v":-216},null,null,null,{"$f":"AV52+AV51+AV50+AV49","v":-229},null,null,null,{"$f":"AZ52+AZ51+AZ50+AZ49","v":-303},null,null,null,{"$f":"BD52+BD51+BD50+BD49","v":-236},null,null,null,{"$f":"BH52+BH51+BH50+BH49","v":-212},null,null,null,{"$f":"BL52+BL51+BL50+BL49","v":-190},null,null,null,{"$f":"BP52+BP51+BP50+BP49","v":-196},null,null,null,{"$f":"BT52+BT51+BT50+BT49","v":-227},null,null,null,{"$f":"BX52+BX51+BX50+BX49","v":0},null,null,null,{"$f":"CB52+CB51+CB50+CB49","v":0},null,null,null,{"$f":"CF52+CF51+CF50+CF49","v":0},null,null,null,{"$f":"CJ52+CJ51+CJ50+CJ49","v":0}," "," ",null,{"$f":"CN52+CN51+CN50+CN49","v":0}," "," "," ",{"$f":"CR52+CR51+CR50+CR49","v":0}," "," "]
["Aktueller Rang",null,null,null,null,null,null,null,null,null,null,null,null,null,null,{"$f":"\"( \"&RANK(P53,($AA$25:$BX$25,$O$53:$BT$53),0)&\"* )\"","v":"( 5* )"},null,null,null,null,null,null,null,null,null,null,null,{"$f":"RANK(AB53,($AA$25:$BX$25,$AA$53:$BT$53),0)","v":21},null,null,null,{"$f":"RANK(AF53,($AA$25:$BX$25,$AA$53:$BT$53),0)","v":10},null,null,null,{"$f":"RANK(AJ53,($AA$25:$BX$25,$AA$53:$BT$53),0)","v":13},null,null,null,{"$f":"RANK(AN53,($AA$25:$BX$25,$AA$53:$BT$53),0)","v":1},null,null,null,{"$f":"RANK(AR53,($AA$25:$BX$25,$AA$53:$BT$53),0)","v":12},null,null,null,{"$f":"RANK(AV53,($AA$25:$BX$25,$AA$53:$BT$53),0)","v":16},null,null,null,{"$f":"RANK(AZ53,($AA$25:$BX$25,$AA$53:$BT$53),0)","v":25},null,null,null,{"$f":"RANK(BD53,($AA$25:$BX$25,$AA$53:$BT$53),0)","v":18},null,null,null,{"$f":"RANK(BH53,($AA$25:$BX$25,$AA$53:$BT$53),0)","v":10},null,null,null,{"$f":"RANK(BL53,($AA$25:$BX$25,$AA$53:$BT$53),0)","v":7},null,null,null,{"$f":"RANK(BP53,($AA$25:$BX$25,$AA$53:$BT$53),0)","v":8},null,null,null,{"$f":"RANK(BT53,($AA$25:$BX$25,$AA$53:$BT$53),0)","v":15},null,null,null,{"$f":"RANK(BX53,($AA$25:$BX$25,$AA$53:$BT$53),0)","v":{"$error":"#N/A"}},null,null,null,{"$f":"RANK(CB53,($AA$25:$BX$25,$AA$53:$BP$53),0)","v":{"$error":"#N/A"}},null,null,null,{"$f":"RANK(CF53,($AA$25:$BX$25,$AA$53:$BP$53),0)","v":{"$error":"#N/A"}},null,null,null,{"$f":"RANK(CJ53,($AA$25:$CF$25,$AA$53:$CB$53),0)","v":1},null," ",null,{"$f":"RANK(CN53,($AA$25:$CJ$25,$AA$53:$CJ$53),0)","v":1},null,null,null,{"$f":"RANK(CR53,($AA$25:$CJ$25,$AA$53:$CJ$53),0)","v":1}]

{"sheet":"Teilnehmertabelle","index":3,"n_rows":54,"n_cols":44,"rows_kept":54,"cut":false,"hidden":false,"merged":[[40,0,40,2],[41,0,41,2],[42,0,42,2],[43,0,43,2]]}
[]
[null,null,null,"Platz","Punkte","Hinrunde",null,null,null,null,null,null,null,null,null,null,null,null,null,null,null,null,"Rückrunde",null,null,null,null,null,null,null,null,null,null,null,null,null,null,null,null,null,null,"SPT","SPT-1"]
["Teilnehmer",null,null,"lfd.",null,1,2,3,4,5,6,7,8,9,10,11,12,13,14,15,16,17,18,19,20,21,22,23,24,25,26,27,28,29,30,31,32,33,34,null,"Teilnehmer",{"$f":"VLOOKUP(SUMPRODUCT((F26:AM26>0)*(F3:AM3)),Index!A3:B36,2,FALSE)","v":34},{"$f":"AP3-1","v":33}]
[{"$f":"Tabelle!AM$29","v":"Andreas Wähling (11-22-7-2-14-23-20-9-34-3-15)"},null,null,{"$f":"RANK(E4,E$4:E$28,0)","v":1},{"$f":"Tabelle!AN$53","v":-130},4,5,3,2,2,2,2,3,3,2,4,2,3,2,4,1,2,2,2,2,2,2,2,2,2,2,2,2,2,2,2,2,2,1,{"$f":"D4","v":1},{"$f":"A4","v":"Andreas Wähling (11-22-7-2-14-23-20-9-34-3-15)"},{"$f":"HLOOKUP($AP$3,$F$3:$AM$28,ROW()-2,FALSE)","v":1},{"$f":"HLOOKUP($AQ$3,$F$3:$AM$28,ROW()-2,FALSE)","v":2},{"$f":"AQ4-AP4","v":1}]
[{"$f":"Tabelle!AM$1","v":"Ellen Flöttmann (10-2-6-9-5-19-7-19-23-10-7)"},null,null,2,{"$f":"Tabelle!AN$25","v":-137},2,6,4,5,4,3,3,2,1,1,1,1,1,1,1,2,1,1,1,1,1,1,1,1,1,1,1,1,1,1,1,1,1,2,2,"Ellen Flöttmann (10-2-6-9-5-19-7-19-23-10-7)",2,1,-1]
[{"$f":"Tabelle!AA$1","v":"Hedwig Berning (19-5-24-10-21-12-8-15-24-12-33)"},null,null,3,{"$f":"Tabelle!AB$25","v":-179},23,24,19,18,19,18,16,15,17,18,18,18,19,19,20,16,13,11,6,7,6,7,9,9,12,13,12,14,14,7,9,7,10,3,3,"Hedwig Berning (19-5-24-10-21-12-8-15-24-12-33)",3,10,7]
[{"$f":"Tabelle!BW$1","v":"Dejn Dakovic (X-X-8-X-27-18-28-X-26-26-19)"},null,null,4,{"$f":"Tabelle!BX$25","v":-183},8,9,6,11,14,5,5,5,5,4,2,7,2,3,2,3,3,3,3,3,3,5,4,5,3,3,3,3,3,3,3,3,3,4,4,"Dejn Dakovic (X-X-8-X-27-18-28-X-26-26-19)",4,3,-1]
[{"$f":"Tabelle!BG$1","v":"Heinrich Gralla (12-4-9-3-2-25-4-10-12-2-19)"},null,null,5,{"$f":"Tabelle!BH$25","v":-188},1,8,1,1,1,1,1,1,2,3,6,4,10,11,5,5,8,6,5,4,4,4,7,7,6,11,7,11,12,5,5,6,6,5,5,"Heinrich Gralla (12-4-9-3-2-25-4-10-12-2-19)",5,6,1]
[{"$f":"Tabelle!BO$1","v":"Gregor Tischel (6-18-12-7-1-1-13-5-14-17-19)"},null,null,6,{"$f":"Tabelle!BP$25","v":-189},11,17,13,13,9,8,11,12,11,13,14,14,14,13,15,9,9,10,8,8,8,8,6,6,7,8,6,7,8,6,7,10,9,6,6,"Gregor Tischel (6-18-12-7-1-1-13-5-14-17-19)",6,9,3]
[{"$f":"Tabelle!BK$29","v":"Rainer Borgmann (24-9-23-12-28-2-9-18-3-20-25)"},null,null,7,{"$f":"Tabelle!BL$53","v":-190},19,22,10,4,5,7,8,4,4,5,3,3,4,4,10,8,11,12,6,6,7,3,3,3,5,5,9,10,11,12,9,7,8,7,7,"Rainer Borgmann (24-9-23-12-28-2-9-18-3-20-25)",7,8,1]
[{"$f":"Tabelle!BO$29","v":"Bodo Blume (13-14-14-8-24-3-1-1-32-16-29)"},null,null,8,{"$f":"Tabelle!BP$53","v":-196},13,12,16,12,11,9,9,9,10,12,11,10,11,9,11,4,6,8,9,10,9,10,8,8,7,7,9,4,6,10,11,11,6,8,8,"Bodo Blume (13-14-14-8-24-3-1-1-32-16-29)",8,6,-2]
[{"$f":"Tabelle!BK$1","v":"Marcus Tischel (17-3-16-4-3-28-24-13-21-14-26)"},null,null,9,{"$f":"Tabelle!BL$25","v":-211},18,20,24,16,18,12,10,12,14,14,12,13,12,14,9,6,7,9,12,13,12,17,12,17,14,17,17,13,13,15,14,13,11,9,9,"Marcus Tischel (17-3-16-4-3-28-24-13-21-14-26)",9,11,2]
[{"$f":"Tabelle!AE$29","v":"Silvia Röder (2-X-X-X-X-X-X-X-X-X-X)"},null,null,10,{"$f":"Tabelle!AF$53","v":-212},5,2,9,14,6,10,12,8,13,6,9,5,13,11,7,10,11,4,10,9,10,15,18,16,13,5,4,7,4,4,4,4,4,10,10,"Silvia Röder (2-X-X-X-X-X-X-X-X-X-X)",10,4,-6]
[{"$f":"Tabelle!BG$29","v":"Heinz Ballach (6-10-10-6-23-11-17-4-7-6-3)"},null,null,10,{"$f":"Tabelle!BH$53","v":-212},12,3,8,9,8,13,13,12,5,7,5,8,5,4,6,6,4,5,4,5,5,6,4,4,4,4,5,5,4,8,5,5,4,10,10,"Heinz Ballach (6-10-10-6-23-11-17-4-7-6-3)",10,4,-6]
[{"$f":"Tabelle!AQ$29","v":"Eileen Klein (23-8-13-5-4-9-6-20-9-4-8)"},null,null,12,{"$f":"Tabelle!AR$53","v":-216},10,10,15,15,15,16,14,9,5,10,7,11,7,6,11,13,10,12,13,14,14,13,10,10,9,8,8,6,7,11,12,12,12,12,12,"Eileen Klein (23-8-13-5-4-9-6-20-9-4-8)",12,12,0]
[{"$f":"Tabelle!AI$29","v":"Bernhard Wähling (5-6-4-20-15-22-22-28-33-21-10)"},null,null,13,{"$f":"Tabelle!AJ$53","v":-225},3,1,7,7,7,6,7,7,8,11,10,11,9,7,3,10,5,7,11,11,11,19,15,14,11,12,13,9,9,8,8,9,13,13,13,"Bernhard Wähling (5-6-4-20-15-22-22-28-33-21-10)",13,13,0]
[{"$f":"Tabelle!AY$1","v":"Siegbert Ruwwe (20-23-22-24-22-21-14-23-13-34-X)"},null,null,14,{"$f":"Tabelle!AZ$25","v":-226},7,4,12,8,13,11,5,9,11,8,8,5,6,10,13,12,14,14,15,17,16,16,13,13,16,16,17,16,17,17,17,15,15,14,14,"Siegbert Ruwwe (20-23-22-24-22-21-14-23-13-34-X)",14,15,1]
[{"$f":"Tabelle!BS$29","v":"Patrick Schmidt (18-14-20-1-16-8-15-7-28-28-11)"},null,null,15,{"$f":"Tabelle!BT$53","v":-227},8,11,18,17,16,19,17,16,16,16,16,15,15,16,19,17,17,17,19,19,19,17,16,18,18,15,15,15,15,16,16,18,17,15,15,"Patrick Schmidt (18-14-20-1-16-8-15-7-28-28-11)",15,17,2]
[{"$f":"Tabelle!AU$29","v":"Frank Mader (9-12-3-21-20-10-3-27-19-19-1)"},null,null,16,{"$f":"Tabelle!AV$53","v":-229},17,8,2,3,3,4,4,6,8,9,13,9,8,8,7,14,18,17,16,16,15,12,10,11,10,17,16,18,19,19,19,17,14,16,16,"Frank Mader (9-12-3-21-20-10-3-27-19-19-1)",16,14,-2]
[{"$f":"Tabelle!AQ$1","v":"Dietmar Gallach (25-10-21-17-6-27-9-11-6-15-4)"},null,null,17,{"$f":"Tabelle!AR$25","v":-234},8,15,17,21,20,20,20,17,18,19,19,19,18,18,17,19,16,16,14,12,13,10,13,12,14,14,14,17,15,13,13,14,18,17,17,"Dietmar Gallach (25-10-21-17-6-27-9-11-6-15-4)",17,18,1]
[{"$f":"Tabelle!BC$29","v":"Hermann Bergfried (16-24-18-18-12-6-27-2-X-X-X)"},null,null,18,{"$f":"Tabelle!BD$53","v":-236},6,14,14,19,16,17,18,18,15,15,15,15,17,15,18,18,19,19,20,20,20,20,16,14,17,10,11,11,10,14,15,16,19,18,18,"Hermann Bergfried (16-24-18-18-12-6-27-2-X-X-X)",18,19,1]
[{"$f":"Tabelle!AE$1","v":"Egon Lümkemann (15-7-11-16-8-16-2-23-2-12-17)"},null,null,19,{"$f":"Tabelle!AF$25","v":-239},14,7,11,9,11,15,15,19,19,17,17,17,15,16,14,15,15,15,16,18,17,14,19,19,19,19,19,19,18,18,17,18,16,19,19,"Egon Lümkemann (15-7-11-16-8-16-2-23-2-12-17)",19,16,-3]
[{"$f":"Tabelle!AI$1","v":"Wilfried Franke (22-20-5-15-19-7-9-11-11-5-31)"},null,null,20,{"$f":"Tabelle!AJ$25","v":-243},24,21,5,6,10,14,19,20,20,20,21,20,20,20,16,20,20,20,18,15,17,9,20,20,20,21,22,23,23,23,20,20,20,20,20,"Wilfried Franke (22-20-5-15-19-7-9-11-11-5-31)",20,20,0]
[{"$f":"Tabelle!AA$29","v":"Stefan Burger (14-17-15-22-25-29-31-29-15-29-2)"},null,null,21,{"$f":"Tabelle!AB$53","v":-275},16,18,23,24,24,22,22,20,21,21,20,22,23,23,23,24,23,23,23,23,23,24,23,23,23,23,23,20,22,20,23,23,23,21,21,"Stefan Burger (14-17-15-22-25-29-31-29-15-29-2)",21,23,2]
[{"$f":"Tabelle!BC$1","v":"Anita Meesker (3-19-2-23-9-14-X-X-X-X-X)"},null,null,22,{"$f":"Tabelle!BD$25","v":-280},14,16,19,20,22,21,21,25,25,25,25,23,25,24,24,22,24,24,24,25,25,23,24,25,25,25,25,24,24,25,25,25,24,22,22,"Anita Meesker (3-19-2-23-9-14-X-X-X-X-X)",22,24,2]
[{"$f":"Tabelle!AU$1","v":"Sabine Gallach (4-14-17-14-10-23-12-17-19-31-13)"},null,null,23,{"$f":"Tabelle!AV$25","v":-282},22,19,22,22,23,23,23,23,23,23,22,25,21,21,22,22,21,22,21,21,21,20,21,21,20,20,20,20,20,22,22,22,22,23,23,"Sabine Gallach (4-14-17-14-10-23-12-17-19-31-13)",23,22,-1]
[{"$f":"Tabelle!BS$1","v":"Neo Steinfurth (8-X-X-X-X-X-X-X-X-X-X)"},null,null,24,{"$f":"Tabelle!BT$25","v":-284},20,13,21,22,21,24,25,24,24,21,23,21,22,22,21,21,22,21,22,22,22,22,22,22,22,22,21,22,21,21,21,21,21,24,24,"Neo Steinfurth (8-X-X-X-X-X-X-X-X-X-X)",24,21,-3]
[{"$f":"Tabelle!AY$29","v":"Christian Bergfried (1-21-1-12-17-13-18-13-X-9-X)"},null,null,25,{"$f":"Tabelle!AZ$53","v":-303},21,23,25,25,25,25,24,22,22,24,24,24,24,25,25,25,25,25,25,24,24,25,25,24,24,24,24,25,24,24,24,24,25,25,25,{"$f":"A29","v":0},25,25,{"$f":"AQ29-AP29","v":{"$error":"#REF!"}}]
[{"$f":"Tabelle!CA$1","v":0},null,null,{"$f":"RANK(E29,E$4:E$29,0)","v":1},{"$f":"Tabelle!CB$25","v":0},1,1,1,1,1,1,1,1,1,1,1,1,1,1,1,1,1,1,1,1,1,1,1,1,1,1,1,1,1,1,1,1,1,1,{"$f":"D29","v":1},{"$f":"A29","v":0},{"$f":"HLOOKUP($AP$3,$F$3:$AM$28,ROW()-2,FALSE)","v":{"$error":"#REF!"}},{"$f":"HLOOKUP($AQ$3,$F$3:$AM$28,ROW()-2,FALSE)","v":{"$error":"#REF!"}},{"$f":"AQ29-AP29","v":{"$error":"#REF!"}}]
[null,null,null,1,{"$f":"Tabelle!CF$53","v":0},1,1,1,1,1,1,1,1,1,1,1,1,1,1,1,1,1,1,1,1,1,1,1,1,1,1,1,1,1,1,1,1,1,1,1,{"$f":"A30","v":0},{"$error":"#REF!"},{"$error":"#REF!"},{"$error":"#REF!"}]
[{"$f":"Tabelle!BW$29","v":0},null,null,1,{"$f":"Tabelle!BX$53","v":0},1,1,1,1,1,1,1,1,1,1,1,1,1,1,1,1,1,1,1,1,1,1,1,1,1,1,1,1,1,1,1,1,1,1,1,0,{"$error":"#REF!"},{"$error":"#REF!"},{"$error":"#REF!"}]
[{"$f":"Tabelle!CA$29","v":0},null,null,1,{"$f":"Tabelle!CB$53","v":0},1,1,1,1,1,1,1,1,1,1,1,1,1,1,1,1,1,1,1,1,1,1,1,1,1,1,1,1,1,1,1,1,1,1,1,0,{"$error":"#REF!"},{"$error":"#REF!"},{"$error":"#REF!"}]
[{"$f":"Tabelle!CI$29","v":0},null,null,1,{"$f":"Tabelle!CJ$53","v":0},1,1,1,1,1,1,1,1,1,1,1,1,1,1,1,1,1,1,1,1,1,1,1,1,1,1,1,1,1,1,1,1,1,1,1,{"$f":"A33","v":0},{"$error":"#REF!"},{"$error":"#REF!"},{"$error":"#REF!"}]
[{"$f":"Tabelle!CI$1","v":0},null,null,1,{"$f":"Tabelle!CJ$25","v":0},1,1,1,1,1,1,1,1,1,1,1,1,1,1,1,1,1,1,1,1,1,1,1,1,1,1,1,1,1,1,1,1,1,1,1,0,{"$error":"#REF!"},{"$error":"#REF!"},{"$error":"#REF!"}]
[{"$f":"Tabelle!CE$1","v":0},null,null,1,{"$f":"Tabelle!CF$25","v":0},1,1,1,1,1,1,1,1,1,1,1,1,1,1,1,1,1,1,1,1,1,1,1,1,1,1,1,1,1,1,1,1,1,1,1,{"$f":"A35","v":0},{"$error":"#REF!"},{"$error":"#REF!"},{"$error":"#REF!"}]
[{"$f":"Tabelle!CM$1","v":0},null,null,1,{"$f":"Tabelle!CN$25","v":0},1,1,1,1,1,1,1,1,1,1,1,1,1,1,1,1,1,1,1,1,1,1,1,1,1,1,1,1,1,1,1,1,1,1,1,0,{"$error":"#REF!"},{"$error":"#REF!"},{"$error":"#REF!"}]
[{"$f":"Tabelle!CM$29","v":0},null,null,1,{"$f":"Tabelle!CN$53","v":0},1,1,1,1,1,1,1,1,1,1,1,1,1,1,1,1,1,1,1,1,1,1,1,1,1,1,1,1,1,1,1,1,1,1,1,0,{"$error":"#REF!"},{"$error":"#REF!"},{"$error":"#REF!"}]
[{"$f":"Tabelle!CQ$1","v":0},null,null,{"$f":"RANK(E38,E$4:E$31,0)","v":1},{"$f":"Tabelle!CR$25","v":0},1,1,1,1,1,1,1,1,1,1,1,1,1,1,1,1,1,1,1,1,1,1,1,1,1,1,1,1,1,1,1,1,1,1,{"$f":"D38","v":1},0]
[]
[2,17,1,3,null,32,null,null,null,null,null,null,null,null,null,null,null,null,null,null,null,null,null,null,null,null,null,null,null,null,null,null,null,null,null,null,null,null,null,null,15]
[{"$f":"VLOOKUP($A$40,$AN$4:$AO$27,2,0)","v":"Ellen Flöttmann (10-2-6-9-5-19-7-19-23-10-7)"},null,null,null,{"$f":"VLOOKUP($A41,$A$3:$AM$27,SUM(E$3,4),FALSE)","v":2},{"$f":"VLOOKUP($A41,$A$3:$AM$27,SUM(F$3,5),FALSE)","v":2},6,4,5,4,3,3,2,1,1,{"$f":"VLOOKUP($A41,$A$3:$AM$27,SUM(P$3,5),FALSE)","v":1},1,1,1,1,2,1,1,1,1,{"$f":"VLOOKUP($A41,$A$3:$AM$27,SUM(Z$3,5),FALSE)","v":1},1,1,1,1,1,1,1,1,1,1,1,1,2]
[{"$f":"VLOOKUP($B$40,$AN$4:$AO$27,2,0)","v":"Dietmar Gallach (25-10-21-17-6-27-9-11-6-15-4)"},null,null,null,{"$f":"VLOOKUP($A42,$A$3:$AM$27,SUM(E$3,4),FALSE)","v":17},8,15,17,21,20,20,20,17,18,19,19,19,18,18,17,19,16,16,14,12,13,10,13,12,14,14,14,17,15,13,13,14,18,17]
[{"$f":"VLOOKUP($C$40,$AN$4:$AO$27,2,0)","v":"Andreas Wähling (11-22-7-2-14-23-20-9-34-3-15)"},null,null,null,{"$f":"VLOOKUP($A43,$A$3:$AM$27,SUM(E$3,4),FALSE)","v":1},4,5,3,2,2,2,2,3,3,2,4,2,3,2,4,1,2,2,2,2,2,2,2,2,2,2,2,2,2,2,2,2,2,1]
[{"$f":"VLOOKUP($D$40,$AN$4:$AO$27,2,0)","v":"Hedwig Berning (19-5-24-10-21-12-8-15-24-12-33)"},null,null,null,{"$f":"VLOOKUP($A44,$A$3:$AM$27,SUM(E$3,4),FALSE)","v":3},23,24,19,18,19,18,16,15,17,18,18,18,19,19,20,16,13,11,6,7,6,7,9,9,12,13,12,14,14,7,9,7,10,3]
[]
[{"$f":"A41","v":"Ellen Flöttmann (10-2-6-9-5-19-7-19-23-10-7)"},null,null,null,null,{"$f":"IF(F41>0,F41,E46)","v":2},{"$f":"IF(G41>0,G41,F46)","v":6},4,5,4,3,3,2,1,1,1,1,1,1,1,2,1,1,1,1,1,1,1,1,1,1,1,1,1,1,1,1,1,2]
[{"$f":"A42","v":"Dietmar Gallach (25-10-21-17-6-27-9-11-6-15-4)"},null,null,null,null,{"$f":"IF(F42>0,F42,E47)","v":8},{"$f":"IF(G42>0,G42,F47)","v":15},17,21,20,20,20,17,18,19,19,19,18,18,17,19,16,16,14,12,13,10,13,12,14,14,14,17,15,13,13,14,18,17]
[{"$f":"A43","v":"Andreas Wähling (11-22-7-2-14-23-20-9-34-3-15)"},null,null,null,null,{"$f":"IF(F43>0,F43,E48)","v":4},{"$f":"IF(G43>0,G43,F48)","v":5},3,2,2,2,2,3,3,2,4,2,3,2,4,1,2,2,2,2,2,2,2,2,2,2,2,2,2,2,2,2,2,1]
[{"$f":"A44","v":"Hedwig Berning (19-5-24-10-21-12-8-15-24-12-33)"},null,null,null,null,{"$f":"IF(F44>0,F44,E49)","v":23},{"$f":"IF(G44>0,G44,F49)","v":24},19,18,19,18,16,15,17,18,18,18,19,19,20,16,13,11,6,7,6,7,9,9,12,13,12,14,14,7,9,7,10,3]
[]
["Ellen Flöttmann (10-2-6-9-5-19-7-19-23-10-7)",null,null,null,2,2,6,4,5,4,3,3,2,1,1,1,1,1,1,1,2,1,1,1,1,1,1,1,1,1,1,1,1,1,1,1,1,1,0]
["Dietmar Gallach (25-10-21-17-6-27-9-11-6-15-4)",null,null,null,17,8,15,17,21,20,20,20,17,18,19,19,19,18,18,17,19,16,16,14,12,13,10,13,12,14,14,14,17,15,13,13,14,18,0]
["Andreas Wähling (11-22-7-2-14-23-20-9-34-3-15)",null,null,null,1,4,5,3,2,2,2,2,3,3,2,4,2,3,2,4,1,2,2,2,2,2,2,2,2,2,2,2,2,2,2,2,2,2,0]
["Hedwig Berning (19-5-24-10-21-12-8-15-24-12-33)",null,null,null,3,23,24,19,18,19,18,16,15,17,18,18,18,19,19,20,16,13,11,6,7,6,7,9,9,12,13,12,14,14,7,9,7,10,0]

{"sheet":"Platz-Historie","index":7,"n_rows":113,"n_cols":128,"rows_kept":113,"cut":false,"hidden":false,"merged":[]}
[null,null,null,1,null,null,null,null,2,"22/23","21/22","20/21","19/20","18/19","17/18","16/17","15/16","14/15","13/14","12/13","11/12",{"$f":"AY1","v":"10/11"},{"$f":"AZ1","v":"09/10"},{"$f":"BA1","v":"08/09"},"07/08","0607","0506","0405","0304","0203","0102","0001","9900","9899",9798,9697,9596,null,"22/23","21/22","20/21","19/20","18/19","17/18","16/17","15/16","14/15","13/14","12/13","11/12",{"$f":"DE1","v":"10/11"},{"$f":"DF1","v":"09/10"},{"$f":"DG1","v":"08/09"},"07/08","0607","0506","0405","0304","0203","0102","0001","9900","9899",9798,9697,9596,null,"22/23","21/22","20/21","19/20","18/19","17/18","16/17","15/16","14/15","13/14","12/13","11/12","10/11","09/10","08/09","07/08","0607","0506","0405","0304","0203","0102","0001","9900","9899",9798,9697,9596,null,"22/23","21/22","20/21","19/20","18/19","17/18","16/17","15/16","14/15","13/14","12/13","11/12","10/11","09/10","08/09","07/08","0607","0506","0405","0304","0203","0102","0001","9900","9899",9798,9697,9596,null,"alle Ränge","nur gute Ränge (bis 10)","10 Jahre"]
["Adlhoch","Bärbel Adlhoch (X-X-X-X-X-X-X-X-X-X-X)",{"$f":"E2&\" (\"&DX2&\")\"","v":"Bärbel Adlhoch (X-X-X-X-X-X-X-X-X-X-X)"},1,"Bärbel Adlhoch",{"$f":"RANK(G2,G$2:G$106,0)","v":47},{"$f":"SUM(BP2:CQ2)","v":2.5},{"$f":"IF(I2<>99,RANK(I2,I$2:I$106,1),\"\")","v":""},{"$f":"IF(COUNT(AM2:BN2)>$I$1,SUM(AM2:BN2)/COUNT(AM2:BN2),99)","v":99},{"$f":"IF(AND(CS2<>0,CS2<11),CS2,IF(CS2<>0,0,\"X\"))","v":"X"},"X","X",{"$f":"IF(AND(CV2<>0,CV2<11),CV2,IF(CV2<>0,0,\"X\"))","v":"X"},{"$f":"IF(AND(CW2<>0,CW2<11),CW2,IF(CW2<>0,0,\"X\"))","v":"X"},{"$f":"IF(AND(CX2<>0,CX2<11),CX2,IF(CX2<>0,0,\"X\"))","v":"X"},{"$f":"IF(AND(CY2<>0,CY2<11),CY2,IF(CY2<>0,0,\"X\"))","v":"X"},{"$f":"IF(AND(CZ2<>0,CZ2<11),CZ2,IF(CZ2<>0,0,\"X\"))","v":"X"},{"$f":"IF(AND(DA2<>0,DA2<11),DA2,IF(DA2<>0,0,\"X\"))","v":"X"},{"$f":"IF(AND(DB2<>0,DB2<11),DB2,IF(DB2<>0,0,\"X\"))","v":"X"},{"$f":"IF(AND(DC2<>0,DC2<11),DC2,IF(DC2<>0,0,\"X\"))","v":"X"},{"$f":"IF(AND(DD2<>0,DD2<11),DD2,IF(DD2<>0,0,\"X\"))","v":"X"},{"$f":"IF(AND(DE2<>0,DE2<11),DE2,IF(DE2<>0,0,\"X\"))","v":"X"},{"$f":"IF(AND(DF2<>0,DF2<11),DF2,IF(DF2<>0,0,\"X\"))","v":"X"},{"$f":"IF(AND(DG2<>0,DG2<11),DG2,IF(DG2<>0,0,\"X\"))","v":"X"},{"$f":"IF(AND(DH2<>0,DH2<11),DH2,IF(DH2<>0,0,\"X\"))","v":"X"},{"$f":"IF(AND(DI2<>0,DI2<11),DI2,IF(DI2<>0,0,\"X\"))","v":"X"},{"$f":"IF(AND(DJ2<>0,DJ2<11),DJ2,IF(DJ2<>0,0,\"X\"))","v":"X"},{"$f":"IF(AND(DK2<>0,DK2<11),DK2,IF(DK2<>0,0,\"X\"))","v":"X"},{"$f":"IF(AND(DL2<>0,DL2<11),DL2,IF(DL2<>0,0,\"X\"))","v":"X"},{"$f":"IF(AND(DM2<>0,DM2<11),DM2,IF(DM2<>0,0,\"X\"))","v":"X"},{"$f":"IF(AND(DN2<>0,DN2<11),DN2,IF(DN2<>0,0,\"X\"))","v":"X"},{"$f":"IF(AND(DO2<>0,DO2<11),DO2,IF(DO2<>0,0,\"X\"))","v":"X"},{"$f":"IF(AND(DP2<>0,DP2<11),DP2,IF(DP2<>0,0,\"X\"))","v":"X"},{"$f":"IF(AND(DQ2<>0,DQ2<11),DQ2,IF(DQ2<>0,0,\"X\"))","v":10},{"$f":"IF(AND(DR2<>0,DR2<11),DR2,IF(DR2<>0,0,\"X\"))","v":"X"},{"$f":"IF(AND(DS2<>0,DS2<11),DS2,IF(DS2<>0,0,\"X\"))","v":"X"},{"$f":"IF(AND(DT2<>0,DT2<11),DT2,IF(DT2<>0,0,\"X\"))","v":"X"},null,{"$f":"IF(CS2<>0,CS2,\"X\")","v":"X"},"X","X","X","X",{"$f":"IF(CX2<>0,CX2,\"X\")","v":"X"},{"$f":"IF(CY2<>0,CY2,\"X\")","v":"X"},{"$f":"IF(CZ2<>0,CZ2,\"X\")","v":"X"},{"$f":"IF(DA2<>0,DA2,\"X\")","v":"X"},{"$f":"IF(DB2<>0,DB2,\"X\")","v":"X"},{"$f":"IF(DC2<>0,DC2,\"X\")","v":"X"},{"$f":"IF(DD2<>0,DD2,\"X\")","v":"X"},{"$f":"IF(DE2<>0,DE2,\"X\")","v":"X"},{"$f":"IF(DF2<>0,DF2,\"X\")","v":"X"},{"$f":"IF(DG2<>0,DG2,\"X\")","v":"X"},{"$f":"IF(DH2<>0,DH2,\"X\")","v":"X"},{"$f":"IF(DI2<>0,DI2,\"X\")","v":"X"},{"$f":"IF(DJ2<>0,DJ2,\"X\")","v":"X"},{"$f":"IF(DK2<>0,DK2,\"X\")","v":"X"},{"$f":"IF(DL2<>0,DL2,\"X\")","v":"X"},{"$f":"IF(DM2<>0,DM2,\"X\")","v":"X"},{"$f":"IF(DN2<>0,DN2,\"X\")","v":"X"},{"$f":"IF(DO2<>0,DO2,\"X\")","v":"X"},{"$f":"IF(DP2<>0,DP2,\"X\")","v":"X"},{"$f":"IF(DQ2<>0,DQ2,\"X\")","v":10},{"$f":"IF(DR2<>0,DR2,\"X\")","v":"X"},{"$f":"IF(DS2<>0,DS2,\"X\")","v":"X"},{"$f":"IF(DT2<>0,DT2,\"X\")","v":"X"},null,{"$f":"IF(CS2>0,BP$107-CS2,0)","v":0},{"$f":"IF(CT2>0,BQ$107-CT2,0)","v":0},{"$f":"IF(CU2>0,BR$107-CU2,0)","v":0},{"$f":"IF(CV2>0,BS$107-CV2,0)","v":0},{"$f":"IF(CW2>0,BT$107-CW2,0)","v":0},{"$f":"IF(CX2>0,BU$107-CX2,0)","v":0},{"$f":"IF(CY2>0,BV$107-CY2,0)","v":0},{"$f":"IF(CZ2>0,BW$107-CZ2,0)","v":0},{"$f":"IF(DA2>0,BX$107-DA2,0)","v":0},{"$f":"IF(DB2>0,BY$107-DB2,0)","v":0},{"$f":"IF(DC2>0,BZ$107-DC2,0)","v":0},{"$f":"IF(DD2>0,CA$107-DD2,0)","v":0},{"$f":"IF(DE2>0,CB$107-DE2,0)","v":0},{"$f":"IF(DF2>0,CC$107-DF2,0)","v":0},{"$f":"IF(DG2>0,CD$107-DG2,0)","v":0},{"$f":"IF(DH2>0,CE$107-DH2,0)","v":0},{"$f":"IF(DI2>0,CF$107-DI2,0)","v":0},{"$f":"IF(DJ2>0,CG$107-DJ2,0)","v":0},{"$f":"IF(DK2>0,CH$107-DK2,0)","v":0},{"$f":"IF(DL2>0,CI$107-DL2,0)","v":0},{"$f":"IF(DM2>0,CJ$107-DM2,0)","v":0},{"$f":"IF(DN2>0,CK$107-DN2,0)","v":0},{"$f":"IF(DO2>0,CL$107-DO2,0)","v":0},{"$f":"IF(DP2>0,CM$107-DP2,0)","v":0},{"$f":"IF(DQ2>0,CN$107-DQ2,0)","v":2.5},{"$f":"IF(DR2>0,CO$107-DR2,0)","v":0},{"$f":"IF(DS2>0,CP$107-DS2,0)","v":0},{"$f":"IF(DT2>0,CQ$107-DT2,0)","v":0},null,null,null,null,null,null,null,null,null,null,null,null,null,null,null,null,null,null,null,null,null,null,null,null,null,10,null,null,null,null,{"$f":"AM2&\"-\"&AN2&\"-\"&AO2&\"-\"&AP2&\"-\"&AQ2&\"-\"&AR2&\"-\"&AS2&\"-\"&AT2&\"-\"&AU2&\"-\"&AV2&\"-\"&AW2&\"-\"&AX2&\"-\"&AY2&\"-\"&AZ2&\"-\"&BA2&\"-\"&BB2&\"-\"&BC2&\"-\"&BD2&\"-\"&BE2&\"-\"&BF2&\"-\"&BG2&\"-\"&BH2&\"-\"&BI2&\"-\"&BJ2&\"-\"&BK2&\"-\"&BL2&\"-\"&BM2&\"-\"&BN2","v":"X-X-X-X-X-X-X-X-X-X-X-X-X-X-X-X-X-X-X-X-X-X-X-X-10-X-X-X"},{"$f":"J2&\"-\"&K2&\"-\"&L2&\"-\"&M2&\"-\"&N2&\"-\"&O2&\"-\"&P2&\"-\"&Q2&\"-\"&R2&\"-\"&S2&\"-\"&T2&\"-\"&U2&\"-\"&V2&\"-\"&W2&\"-\"&X2&\"-\"&Y2&\"-\"&Z2&\"-\"&AA2&\"-\"&AB2&\"-\"&AC2&\"-\"&AD2&\"-\"&AE2&\"-\"&AF2&\"-\"&AG2&\"-\"&AH2&\"-\"&AI2&\"-\"&AJ2&\"-\"&AK2","v":"X-X-X-X-X-X-X-X-X-X-X-X-X-X-X-X-X-X-X-X-X-X-X-X-10-X-X-X"},{"$f":"AM2&\"-\"&AN2&\"-\"&AO2&\"-\"&AP2&\"-\"&AQ2&\"-\"&AR2&\"-\"&AS2&\"-\"&AT2&\"-\"&AU2&\"-\"&AV2&\"-\"&AW2","v":"X-X-X-X-X-X-X-X-X-X-X"}]
["Baier","Manfred Baier (X-X-X-X-X-X-X-X-X-X-X)","Manfred Baier (X-X-X-X-X-X-X-X-X-X-X)",2,"Manfred Baier",46,3,"",99,"X","X","X","X","X","X","X","X","X","X","X","X","X","X","X","X","X","X","X","X","X","X","X","X",6,0,"X","X",null,"X","X","X","X","X","X","X","X","X","X","X","X","X","X","X","X","X","X","X","X","X","X","X","X",6,14,"X","X",null,0,0,0,0,0,0,0,0,0,0,0,0,0,0,0,0,0,0,0,0,0,0,0,0,6.5,-3.5,0,0,null,null,null,null,null,null,null,null,null,null,null,null,null,null,null,null,null,null,null,null,null,null,null,null,null,6,14,null,null,null,{"$f":"AM3&\"-\"&AN3&\"-\"&AO3&\"-\"&AP3&\"-\"&AQ3&\"-\"&AR3&\"-\"&AS3&\"-\"&AT3&\"-\"&AU3&\"-\"&AV3&\"-\"&AW3&\"-\"&AX3&\"-\"&AY3&\"-\"&AZ3&\"-\"&BA3&\"-\"&BB3&\"-\"&BC3&\"-\"&BD3&\"-\"&BE3&\"-\"&BF3&\"-\"&BG3&\"-\"&BH3&\"-\"&BI3&\"-\"&BJ3&\"-\"&BK3&\"-\"&BL3&\"-\"&BM3&\"-\"&BN3","v":"X-X-X-X-X-X-X-X-X-X-X-X-X-X-X-X-X-X-X-X-X-X-X-X-6-14-X-X"},{"$f":"J3&\"-\"&K3&\"-\"&L3&\"-\"&M3&\"-\"&N3&\"-\"&O3&\"-\"&P3&\"-\"&Q3&\"-\"&R3&\"-\"&S3&\"-\"&T3&\"-\"&U3&\"-\"&V3&\"-\"&W3&\"-\"&X3&\"-\"&Y3&\"-\"&Z3&\"-\"&AA3&\"-\"&AB3&\"-\"&AC3&\"-\"&AD3&\"-\"&AE3&\"-\"&AF3&\"-\"&AG3&\"-\"&AH3&\"-\"&AI3&\"-\"&AJ3&\"-\"&AK3","v":"X-X-X-X-X-X-X-X-X-X-X-X-X-X-X-X-X-X-X-X-X-X-X-X-6-0-X-X"},{"$f":"AM3&\"-\"&AN3&\"-\"&AO3&\"-\"&AP3&\"-\"&AQ3&\"-\"&AR3&\"-\"&AS3&\"-\"&AT3&\"-\"&AU3&\"-\"&AV3&\"-\"&AW3","v":"X-X-X-X-X-X-X-X-X-X-X"}]
["Ballach","Heinz Ballach (6-10-10-6-23-11-17-4-7-6-3)","Heinz Ballach (6-10-10-6-23-11-17-4-7-6-3)",3,"Heinz Ballach",2,76,11,12.035714285714286,6,10,10,6,0,0,0,4,7,6,3,0,0,1,0,0,0,7,0,8,8,0,0,0,0,9,0,0,null,6,10,10,6,23,11,17,4,7,6,3,23,24,1,16,15,16,7,14,8,8,11,21,22,13,9,12,14,null,7,2.5,2.5,6.5,-8.5,4,-0.5,11.5,10.5,11.5,15,-7,-7,14.5,-0.5,0.5,1.5,8,2.5,10.5,4,2,-5.5,-8.5,-0.5,1.5,1,-3,null,6,10,10,6,23,11,17,4,7,6,3,23,24,1,16,15,16,7,14,8,8,11,21,22,13,9,12,14,null,"6-10-10-6-23-11-17-4-7-6-3-23-24-1-16-15-16-7-14-8-8-11-21-22-13-9-12-14","6-10-10-6-0-0-0-4-7-6-3-0-0-1-0-0-0-7-0-8-8-0-0-0-0-9-0-0","6-10-10-6-23-11-17-4-7-6-3"]
["Bauer","Ralf Bauer (X-X-X-X-X-X-X-X-X-X-X)","Ralf Bauer (X-X-X-X-X-X-X-X-X-X-X)",4,"Ralf Bauer",72,-10,31,15,"X","X","X","X","X","X","X","X","X","X","X","X","X","X","X","X","X","X","X","X","X","X",0,7,0,4,0,"X",null,"X","X","X","X","X","X","X","X","X","X","X","X","X","X","X","X","X","X","X","X","X","X",29,7,24,4,11,"X",null,0,0,0,0,0,0,0,0,0,0,0,0,0,0,0,0,0,0,0,0,0,0,-13.5,6.5,-11.5,6.5,2,0,null,null,null,null,null,null,null,null,null,null,null,null,null,null,null,null,null,null,null,null,null,null,null,29,7,24,4,11,null,null,"X-X-X-X-X-X-X-X-X-X-X-X-X-X-X-X-X-X-X-X-X-X-29-7-24-4-11-X","X-X-X-X-X-X-X-X-X-X-X-X-X-X-X-X-X-X-X-X-X-X-0-7-0-4-0-X","X-X-X-X-X-X-X-X-X-X-X"]
["Beenen","Jordan Beenen (X-X-X-X-X-15-23-X-5-18-6)","Jordan Beenen (X-X-X-X-X-15-23-X-5-18-6)",5,"Jordan Beenen",22,17.5,23,13.4,"X","X","X","X","X",0,0,"X",5,0,6,"X","X","X","X","X","X","X","X","X","X","X","X","X","X","X","X","X",null,"X","X","X","X","X",15,23,"X",5,18,6,"X","X","X","X","X","X","X","X","X","X","X","X","X","X","X","X","X",null,0,0,0,0,0,0,-6.5,0,12.5,-0.5,12,0,0,0,0,0,0,0,0,0,0,0,0,0,0,0,0,0,null,null,null,null,null,null,15,23,null,5,18,6,null,null,null,null,null,null,null,null,null,null,null,null,null,null,null,null,null,null,"X-X-X-X-X-15-23-X-5-18-6-X-X-X-X-X-X-X-X-X-X-X-X-X-X-X-X-X","X-X-X-X-X-0-0-X-5-0-6-X-X-X-X-X-X-X-X-X-X-X-X-X-X-X-X-X","X-X-X-X-X-15-23-X-5-18-6"]
["Beenen","Marc Beenen (X-X-X-X-X-X-25-X-31-X-X)","Marc Beenen (X-X-X-X-X-X-25-X-31-X-X)",6,"Marc Beenen",98,-35.5,54,21,"X","X","X","X","X","X",0,"X",0,"X","X",0,1,6,"X","X","X",10,0,0,"X","X","X","X","X","X","X","X",null,"X","X","X","X","X","X",25,"X",31,"X","X",29,1,6,"X","X","X",10,30,36,"X","X","X","X","X","X","X","X",null,0,0,0,0,0,0,-8.5,0,-13.5,0,0,-13,16,9.5,0,0,0,5,-13.5,-17.5,0,0,0,0,0,0,0,0,null,null,null,null,null,null,null,25,null,31,null,null,29,1,6,null,null,null,10,30,36,null,null,null,null,null,null,null,null,null,"X-X-X-X-X-X-25-X-31-X-X-29-1-6-X-X-X-10-30-36-X-X-X-X-X-X-X-X","X-X-X-X-X-X-0-X-0-X-X-0-1-6-X-X-X-10-0-0-X-X-X-X-X-X-X-X","X-X-X-X-X-X-25-X-31-X-X"]
["Bergfried","Christian Bergfried (1-21-1-12-17-13-18-13-X-9-X)","Christian Bergfried (1-21-1-12-17-13-18-13-X-9-X)",7,"Christian Bergfried",14,24.5,8,11.666666666666666,1,0,1,0,0,0,0,0,"X",9,"X","X","X","X","X","X","X","X","X","X","X","X","X","X","X","X","X","X",null,1,21,1,12,17,13,18,13,"X",9,"X","X","X","X","X","X","X","X","X","X","X","X","X","X","X","X","X","X",null,12,-8.5,11.5,0.5,-2.5,2,-1.5,2.5,0,8.5,0,0,0,0,0,0,0,0,0,0,0,0,0,0,0,0,0,0,null,1,21,1,12,17,13,18,13,null,9,null,null,null,null,null,null,null,null,null,null,null,null,null,null,null,null,null,null,null,"1-21-1-12-17-13-18-13-X-9-X-X-X-X-X-X-X-X-X-X-X-X-X-X-X-X-X-X","1-0-1-0-0-0-0-0-X-9-X-X-X-X-X-X-X-X-X-X-X-X-X-X-X-X-X-X","1-21-1-12-17-13-18-13-X-9-X"]
["Bergfried","Familie Bergfried (X-X-X-X-X-X-X-X-X-X-X)","Familie Bergfried (X-X-X-X-X-X-X-X-X-X-X)",8,"Familie Bergfried",42,4.5,"",99,"X","X","X","X","X","X","X","X","X","X","X","X","X","X",0,"X","X","X","X","X","X","X","X","X","X","X","X","X",null,"X","X","X","X","X","X","X","X","X","X","X","X","X","X",11,"X","X","X","X","X","X","X","X","X","X","X","X","X",null,0,0,0,0,0,0,0,0,0,0,0,0,0,0,4.5,0,0,0,0,0,0,0,0,0,0,0,0,0,null,null,null,null,null,null,null,null,null,null,null,null,null,null,null,11,null,null,null,null,null,null,null,null,null,null,null,null,null,null,"X-X-X-X-X-X-X-X-X-X-X-X-X-X-11-X-X-X-X-X-X-X-X-X-X-X-X-X","X-X-X-X-X-X-X-X-X-X-X-X-X-X-0-X-X-X-X-X-X-X-X-X-X-X-X-X","X-X-X-X-X-X-X-X-X-X-X"]
["Bergfried","Hermann Bergfried (16-24-18-18-12-6-27-2-X-X-X)","Hermann Bergfried (16-24-18-18-12-6-27-2-X-X-X)",9,"Hermann Bergfried",95,-30,37,15.875,0,0,0,0,0,6,0,2,"X","X","X","X","X","X","X","X","X","X",10,0,5,0,0,0,0,10,"X","X",null,16,24,18,18,12,6,27,2,"X","X","X","X","X","X","X","X","X","X",10,30,5,15,25,20,16,10,"X","X",null,-3,-11.5,-5.5,-5.5,2.5,9,-10.5,13.5,0,0,0,0,0,0,0,0,0,0,6.5,-11.5,7,-2,-9.5,-6.5,-3.5,0.5,0,0,null,16,24,18,18,12,6,27,2,null,null,null,null,null,null,null,null,null,null,10,30,5,15,25,20,16,10,null,null,null,"16-24-18-18-12-6-27-2-X-X-X-X-X-X-X-X-X-X-10-30-5-15-25-20-16-10-X-X","0-0-0-0-0-6-0-2-X-X-X-X-X-X-X-X-X-X-10-0-5-0-0-0-0-10-X-X","16-24-18-18-12-6-27-2-X-X-X"]
["Berning","Hedwig Berning (19-5-24-10-21-12-8-15-24-12-33)","Hedwig Berning (19-5-24-10-21-12-8-15-24-12-33)",10,"Hedwig Berning",99,-37.5,45,17.722222222222221,0,5,0,10,0,0,8,0,0,0,0,4,2,0,"X",0,0,"X",0,0,"X","X","X","X","X","X","X","X",null,19,5,24,10,21,12,8,15,24,12,33,4,2,15,"X",31,34,"X",31,19,"X","X","X","X","X","X","X","X",null,-6,7.5,-11.5,2.5,-6.5,3,8.5,0.5,-6.5,5.5,-15,12,15,0.5,0,-15.5,-16.5,0,-14.5,-0.5,0,0,0,0,0,0,0,0,null,19,5,24,10,21,12,8,15,24,12,33,4,2,15,null,31,34,null,31,19,null,null,null,null,null,null,null,null,null,"19-5-24-10-21-12-8-15-24-12-33-4-2-15-X-31-34-X-31-19-X-X-X-X-X-X-X-X","0-5-0-10-0-0-8-0-0-0-0-4-2-0-X-0-0-X-0-0-X-X-X-X-X-X-X-X","19-5-24-10-21-12-8-15-24-12-33"]
["Bien","Jens Bien (X-X-X-X-X-X-X-X-X-X-X)","Jens Bien (X-X-X-X-X-X-X-X-X-X-X)",11,"Jens Bien",35,8.5,"",99,"X","X","X","X","X","X","X","X","X","X","X","X","X","X","X","X","X","X","X",10,"X","X","X","X","X","X","X","X",null,"X","X","X","X","X","X","X","X","X","X","X","X","X","X","X","X","X","X","X",10,"X","X","X","X","X","X","X","X",null,0,0,0,0,0,0,0,0,0,0,0,0,0,0,0,0,0,0,0,8.5,0,0,0,0,0,0,0,0,null,null,null,null,null,null,null,null,null,null,null,null,null,null,null,null,null,null,null,null,10,null,null,null,null,null,null,null,null,null,"X-X-X-X-X-X-X-X-X-X-X-X-X-X-X-X-X-X-X-10-X-X-X-X-X-X-X-X","X-X-X-X-X-X-X-X-X-X-X-X-X-X-X-X-X-X-X-10-X-X-X-X-X-X-X-X","X-X-X-X-X-X-X-X-X-X-X"]
["Biernath","Anna Biernath (X-X-X-X-X-X-X-X-X-X-X)","Anna Biernath (X-X-X-X-X-X-X-X-X-X-X)",12,"Anna Biernath",60,-6,"",99,"X","X","X","X","X","X","X","X","X","X","X","X","X","X",0,0,"X","X","X","X","X","X","X","X","X","X","X","X",null,"X","X","X","X","X","X","X","X","X","X","X","X","X","X",25,12,"X","X","X","X","X","X","X","X","X","X","X","X",null,0,0,0,0,0,0,0,0,0,0,0,0,0,0,-9.5,3.5,0,0,0,0,0,0,0,0,0,0,0,0,null,null,null,null,null,null,null,null,null,null,null,null,null,null,null,25,12,null,null,null,null,null,null,null,null,null,null,null,null,null,"X-X-X-X-X-X-X-X-X-X-X-X-X-X-25-12-X-X-X-X-X-X-X-X-X-X-X-X","X-X-X-X-X-X-X-X-X-X-X-X-X-X-0-0-X-X-X-X-X-X-X-X-X-X-X-X","X-X-X-X-X-X-X-X-X-X-X"]
["Biernath","Thomas Biernath (X-X-X-X-X-X-X-X-X-X-X)","Thomas Biernath (X-X-X-X-X-X-X-X-X-X-X)",13,"Thomas Biernath",33,9,28,14.2,"X","X","X","X","X","X","X","X","X","X","X","X","X","X",7,0,5,0,0,"X","X","X","X","X","X","X","X","X",null,"X","X","X","X","X","X","X","X","X","X","X","X","X","X",7,27,5,16,16,"X","X","X","X","X","X","X","X","X",null,0,0,0,0,0,0,0,0,0,0,0,0,0,0,8.5,-11.5,12.5,-1,0.5,0,0,0,0,0,0,0,0,0,null,null,null,null,null,null,null,null,null,null,null,null,null,null,null,7,27,5,16,16,null,null,null,null,null,null,null,null,null,null,"X-X-X-X-X-X-X-X-X-X-X-X-X-X-7-27-5-16-16-X-X-X-X-X-X-X-X-X","X-X-X-X-X-X-X-X-X-X-X-X-X-X-7-0-5-0-0-X-X-X-X-X-X-X-X-X","X-X-X-X-X-X-X-X-X-X-X"]
["Blessig","Heiko Blessig (X-X-X-X-X-X-X-X-X-X-X)","Heiko Blessig (X-X-X-X-X-X-X-X-X-X-X)",14,"Heiko Blessig",42,4.5,"",99,"X","X","X","X","X","X","X","X","X","X","X","X","X","X","X","X","X","X","X",3,0,"X","X","X","X","X","X","X",null,"X","X","X","X","X","X","X","X","X","X","X","X","X","X","X","X","X","X","X",3,23,"X","X","X","X","X","X","X",null,0,0,0,0,0,0,0,0,0,0,0,0,0,0,0,0,0,0,0,15.5,-11,0,0,0,0,0,0,0,null,null,null,null,null,null,null,null,null,null,null,null,null,null,null,null,null,null,null,null,3,23,null,null,null,null,null,null,null,null,"X-X-X-X-X-X-X-X-X-X-X-X-X-X-X-X-X-X-X-3-23-X-X-X-X-X-X-X","X-X-X-X-X-X-X-X-X-X-X-X-X-X-X-X-X-X-X-3-0-X-X-X-X-X-X-X","X-X-X-X-X-X-X-X-X-X-X"]
["Blume","Bodo Blume (13-14-14-8-24-3-1-1-32-16-29)","Bodo Blume (13-14-14-8-24-3-1-1-32-16-29)",15,"Bodo Blume",13,25,25,13.857142857142858,0,0,0,8,0,3,1,1,0,0,0,0,0,2,0,0,0,0,7,0,0,2,1,0,2,0,3,0,null,13,14,14,8,24,3,1,1,32,16,29,13,29,2,15,28,28,18,7,20,22,2,1,21,2,11,3,11,null,0,-1.5,-1.5,4.5,-9.5,12,15.5,14.5,-14.5,1.5,-11,3,-12,13.5,0.5,-12.5,-10.5,-3,9.5,-1.5,-10,11,14.5,-7.5,10.5,-0.5,10,0,null,13,14,14,8,24,3,1,1,32,16,29,13,29,2,15,28,28,18,7,20,22,2,1,21,2,11,3,11,null,"13-14-14-8-24-3-1-1-32-16-29-13-29-2-15-28-28-18-7-20-22-2-1-21-2-11-3-11","0-0-0-8-0-3-1-1-0-0-0-0-0-2-0-0-0-0-7-0-0-2-1-0-2-0-3-0","13-14-14-8-24-3-1-1-32-16-29"]
["Blume","Julian Blume (X-X-X-X-X-X-X-X-X-X-32)","Julian Blume (X-X-X-X-X-X-X-X-X-X-32)",16,"Julian Blume",81,-14,"",99,"X","X","X","X","X","X","X","X","X","X",0,"X","X","X","X","X","X","X","X","X","X","X","X","X","X","X","X","X",null,"X","X","X","X","X","X","X","X","X","X",32,"X","X","X","X","X","X","X","X","X","X","X","X","X","X","X","X","X",null,0,0,0,0,0,0,0,0,0,0,-14,0,0,0,0,0,0,0,0,0,0,0,0,0,0,0,0,0,null,null,null,null,null,null,null,null,null,null,null,32,null,null,null,null,null,null,null,null,null,null,null,null,null,null,null,null,null,null,"X-X-X-X-X-X-X-X-X-X-32-X-X-X-X-X-X-X-X-X-X-X-X-X-X-X-X-X","X-X-X-X-X-X-X-X-X-X-0-X-X-X-X-X-X-X-X-X-X-X-X-X-X-X-X-X","X-X-X-X-X-X-X-X-X-X-32"]
["Bode","Joachim Bode (X-X-X-X-X-X-X-X-X-X-X)","Joachim Bode (X-X-X-X-X-X-X-X-X-X-X)",17,"Joachim Bode",58,-5.5,"",99,"X","X","X","X","X","X","X","X","X","X","X","X","X","X","X","X","X","X","X","X","X","X","X","X",0,"X","X","X",null,"X","X","X","X","X","X","X","X","X","X","X","X","X","X","X","X","X","X","X","X","X","X","X","X",18,"X","X","X",null,0,0,0,0,0,0,0,0,0,0,0,0,0,0,0,0,0,0,0,0,0,0,0,0,-5.5,0,0,0,null,null,null,null,null,null,null,null,null,null,null,null,null,null,null,null,null,null,null,null,null,null,null,null,null,18,null,null,null,null,"X-X-X-X-X-X-X-X-X-X-X-X-X-X-X-X-X-X-X-X-X-X-X-X-18-X-X-X","X-X-X-X-X-X-X-X-X-X-X-X-X-X-X-X-X-X-X-X-X-X-X-X-0-X-X-X","X-X-X-X-X-X-X-X-X-X-X"]
["Borgmann","Rainer Borgmann (24-9-23-12-28-2-9-18-3-20-25)","Rainer Borgmann (24-9-23-12-28-2-9-18-3-20-25)",18,"Rainer Borgmann",72,-10,32,15.107142857142858,0,9,0,0,0,2,9,0,3,0,0,0,0,10,6,0,3,0,0,0,10,0,0,0,7,0,0,5,null,24,9,23,12,28,2,9,18,3,20,25,24,26,10,6,12,3,25,14,25,10,12,14,18,7,17,22,5,null,-11,3.5,-10.5,0.5,-13.5,13,7.5,-2.5,14.5,-2.5,-7,-8,-9,5.5,9.5,3.5,14.5,-10,2.5,-6.5,2,1,1.5,-4.5,5.5,-6.5,-9,6,null,24,9,23,12,28,2,9,18,3,20,25,24,26,10,6,12,3,25,14,25,10,12,14,18,7,17,22,5,null,"24-9-23-12-28-2-9-18-3-20-25-24-26-10-6-12-3-25-14-25-10-12-14-18-7-17-22-5","0-9-0-0-0-2-9-0-3-0-0-0-0-10-6-0-3-0-0-0-10-0-0-0-7-0-0-5","24-9-23-12-28-2-9-18-3-20-25"]
["Bruns","Cordula Bruns (X-X-X-X-X-X-X-X-X-X-X)","Cordula Bruns (X-X-X-X-X-X-X-X-X-X-X)",19,"Cordula Bruns",27,11.5,"",99,"X","X","X","X","X","X","X","X","X","X","X","X","X","X","X","X","X","X","X","X","X","X",4,"X","X","X","X","X",null,"X","X","X","X","X","X","X","X","X","X","X","X","X","X","X","X","X","X","X","X","X","X",4,"X","X","X","X","X",null,0,0,0,0,0,0,0,0,0,0,0,0,0,0,0,0,0,0,0,0,0,0,11.5,0,0,0,0,0,null,null,null,null,null,null,null,null,null,null,null,null,null,null,null,null,null,null,null,null,null,null,null,4,null,null,null,null,null,null,"X-X-X-X-X-X-X-X-X-X-X-X-X-X-X-X-X-X-X-X-X-X-4-X-X-X-X-X","X-X-X-X-X-X-X-X-X-X-X-X-X-X-X-X-X-X-X-X-X-X-4-X-X-X-X-X","X-X-X-X-X-X-X-X-X-X-X"]
["Brzank","Bettina Brzank (X-X-18-X-18-X-X-X-18-24-24)","Bettina Brzank (X-X-18-X-18-X-X-X-18-24-24)",20,"Bettina Brzank",95,-30,52,20.428571428571427,"X","X",0,"X",0,"X","X","X",0,0,0,0,0,"X","X","X","X","X","X","X","X","X","X","X","X","X","X","X",null,"X","X",18,"X",18,"X","X","X",18,24,24,27,14,"X","X","X","X","X","X","X","X","X","X","X","X","X","X","X",null,0,0,-5.5,0,-3.5,0,0,0,-0.5,-6.5,-6,-11,3,0,0,0,0,0,0,0,0,0,0,0,0,0,0,0,null,null,null,18,null,18,null,null,null,18,24,24,27,14,null,null,null,null,null,null,null,null,null,null,null,null,null,null,null,null,"X-X-18-X-18-X-X-X-18-24-24-27-14-X-X-X-X-X-X-X-X-X-X-X-X-X-X-X","X-X-0-X-0-X-X-X-0-0-0-0-0-X-X-X-X-X-X-X-X-X-X-X-X-X-X-X","X-X-18-X-18-X-X-X-18-24-24"]
["Brzank","Jürgen Brzank (X-12-X-11-X-4-26-25-8-30-15)","Jürgen Brzank (X-12-X-11-X-4-26-25-8-30-15)",21,"Jürgen Brzank",94,-25,41,16.714285714285715,"X",0,"X",0,"X",4,0,0,8,0,0,0,3,0,0,0,0,0,0,4,0,9,0,0,"X","X","X","X",null,"X",12,"X",11,"X",4,26,25,8,30,15,31,3,17,27,18,22,15,26,4,13,9,19,16,"X","X","X","X",null,0,0.5,0,1.5,0,11,-9.5,-9.5,9.5,-12.5,3,-15,14,-1.5,-11.5,-2.5,-4.5,0,-9.5,14.5,-1,4,-3.5,-2.5,0,0,0,0,null,null,12,null,11,null,4,26,25,8,30,15,31,3,17,27,18,22,15,26,4,13,9,19,16,null,null,null,null,null,"X-12-X-11-X-4-26-25-8-30-15-31-3-17-27-18-22-15-26-4-13-9-19-16-X-X-X-X","X-0-X-0-X-4-0-0-8-0-0-0-3-0-0-0-0-0-0-4-0-9-0-0-X-X-X-X","X-12-X-11-X-4-26-25-8-30-15"]
["Buerke","Oliver Buerke (X-X-X-19-X-X-X-X-X-X-X)","Oliver Buerke (X-X-X-19-X-X-X-X-X-X-X)",22,"Oliver Buerke",63,-6.5,"",99,{"$f":"IF(AND(CS23<>0,CS23<11),CS23,IF(CS23<>0,0,\"X\"))","v":"X"},"X","X",{"$f":"IF(AND(CV23<>0,CV23<11),CV23,IF(CV23<>0,0,\"X\"))","v":0},{"$f":"IF(AND(CW23<>0,CW23<11),CW23,IF(CW23<>0,0,\"X\"))","v":"X"},{"$f":"IF(AND(CX23<>0,CX23<11),CX23,IF(CX23<>0,0,\"X\"))","v":"X"},"X","X","X","X","X","X","X","X","X","X","X","X","X","X","X","X","X","X","X","X","X","X",null,"X","X","X",19,"X","X","X","X","X","X",{"$f":"IF(DC23<>0,DC23,\"X\")","v":"X"},"X","X","X","X","X","X","X","X","X","X","X","X","X","X","X","X","X",null,0,0,0,-6.5,0,0,0,0,0,0,0,0,0,0,0,0,0,0,0,0,0,0,0,0,0,0,0,0,null,null,null,null,19,null,null,null,null,null,null,null,null,null,null,null,null,null,null,null,null,null,null,null,null,null,null,null,null,null,"X-X-X-19-X-X-X-X-X-X-X-X-X-X-X-X-X-X-X-X-X-X-X-X-X-X-X-X","X-X-X-0-X-X-X-X-X-X-X-X-X-X-X-X-X-X-X-X-X-X-X-X-X-X-X-X","X-X-X-19-X-X-X-X-X-X-X"]
["Burger","Stefan Burger (14-17-15-22-25-29-31-29-15-29-2)","Stefan Burger (14-17-15-22-25-29-31-29-15-29-2)",23,"Stefan Burger",104,-67.5,43,17.222222222222221,0,0,0,0,0,{"$f":"IF(AND(CX24<>0,CX24<11),CX24,IF(CX24<>0,0,\"X\"))","v":0},{"$f":"IF(AND(CY24<>0,CY24<11),CY24,IF(CY24<>0,0,\"X\"))","v":0},{"$f":"IF(AND(CZ24<>0,CZ24<11),CZ24,IF(CZ24<>0,0,\"X\"))","v":0},{"$f":"IF(AND(DA24<>0,DA24<11),DA24,IF(DA24<>0,0,\"X\"))","v":0},{"$f":"IF(AND(DB24<>0,DB24<11),DB24,IF(DB24<>0,0,\"X\"))","v":0},2,7,5,0,"X",6,0,0,0,0,1,0,0,10,0,3,2,0,null,14,17,15,22,25,29,31,29,15,29,2,7,5,28,"X",6,31,27,23,26,1,13,16,10,21,3,2,18,null,-1,-4.5,-2.5,-9.5,-10.5,-14,-14.5,-13.5,2.5,-11.5,16,9,12,-12.5,0,9.5,-13.5,-12,-6.5,-7.5,11,0,-0.5,3.5,-8.5,7.5,11,-7,null,14,17,15,22,25,29,31,29,15,29,2,7,5,28,null,6,31,27,23,26,1,13,16,10,21,3,2,18,null,"14-17-15-22-25-29-31-29-15-29-2-7-5-28-X-6-31-27-23-26-1-13-16-10-21-3-2-18","0-0-0-0-0-0-0-0-0-0-2-7-5-0-X-6-0-0-0-0-1-0-0-10-0-3-2-0","14-17-15-22-25-29-31-29-15-29-2"]
["Dakovic","Dejn Dakovic (X-X-8-X-27-18-28-X-26-26-19)","Dejn Dakovic (X-X-8-X-27-18-28-X-26-26-19)",24,"Dejn Dakovic",101,-46.5,49,19.0625,"X","X",8,"X",0,0,0,"X",0,0,0,0,7,0,1,0,0,0,4,0,"X","X","X","X","X","X","X","X",null,"X","X",8,"X",27,18,28,"X",26,26,19,28,7,21,1,21,33,24,4,14,"X","X","X","X","X","X","X","X",null,0,0,4.5,0,-12.5,-3,-11.5,0,-8.5,-8.5,-1,-12,10,-5.5,14.5,-5.5,-15.5,-9,12.5,4.5,0,0,0,0,0,0,0,0,null,null,null,8,null,27,18,28,null,26,26,19,28,7,21,1,21,33,24,4,14,null,null,null,null,null,null,null,null,null,"X-X-8-X-27-18-28-X-26-26-19-28-7-21-1-21-33-24-4-14-X-X-X-X-X-X-X-X","X-X-8-X-0-0-0-X-0-0-0-0-7-0-1-0-0-0-4-0-X-X-X-X-X-X-X-X","X-X-8-X-27-18-28-X-26-26-19"]
["Dermit","Franko Dermit (X-X-X-X-X-X-X-X-27-33-22)","Franko Dermit (X-X-X-X-X-X-X-X-27-33-22)",25,"Franko Dermit",90,-21,51,20.166666666666668,"X","X","X","X","X","X","X","X",0,0,0,9,"X",0,0,"X","X","X","X","X","X","X","X","X","X","X","X","X",null,"X","X","X","X","X","X","X","X",27,33,22,9,"X",18,12,"X","X","X","X","X","X","X","X","X","X","X","X","X",null,0,0,0,0,0,0,0,0,-9.5,-15.5,-4,7,0,-2.5,3.5,0,0,0,0,0,0,0,0,0,0,0,0,0,null,null,null,null,null,null,null,null,null,27,33,22,9,null,18,12,null,null,null,null,null,null,null,null,null,null,null,null,null,null,"X-X-X-X-X-X-X-X-27-33-22-9-X-18-12-X-X-X-X-X-X-X-X-X-X-X-X-X","X-X-X-X-X-X-X-X-0-0-0-9-X-0-0-X-X-X-X-X-X-X-X-X-X-X-X-X","X-X-X-X-X-X-X-X-27-33-22"]
["Dieler","Arno Dieler (X-X-X-X-7-5-5-16-30-8-13)","Arno Dieler (X-X-X-X-7-5-5-16-30-8-13)",26,"Arno Dieler",12,25.5,19,13.125,"X","X","X","X",7,5,5,0,0,8,0,0,"X","X","X","X","X","X","X","X","X","X","X","X","X","X","X","X",null,"X","X","X","X",7,5,5,16,30,8,13,21,"X","X","X","X","X","X","X","X","X","X","X","X","X","X","X","X",null,0,0,0,0,7.5,10,11.5,-0.5,-12.5,9.5,5,-5,0,0,0,0,0,0,0,0,0,0,0,0,0,0,0,0,null,null,null,null,null,7,5,5,16,30,8,13,21,null,null,null,null,null,null,null,null,null,null,null,null,null,null,null,null,null,"X-X-X-X-7-5-5-16-30-8-13-21-X-X-X-X-X-X-X-X-X-X-X-X-X-X-X-X","X-X-X-X-7-5-5-0-0-8-0-0-X-X-X-X-X-X-X-X-X-X-X-X-X-X-X-X","X-X-X-X-7-5-5-16-30-8-13"]
["Ehmcke","Dieter Ehmcke (X-X-X-X-11-26-16-3-22-25-28)","Dieter Ehmcke (X-X-X-X-11-26-16-3-22-25-28)",27,"Dieter Ehmcke",6,53.5,17,12.875,"X","X","X","X",0,0,0,3,0,0,0,5,0,0,5,7,0,5,0,1,2,4,0,0,4,8,0,3,null,"X","X","X","X",11,26,16,3,22,25,28,5,11,19,5,7,27,5,23,1,2,4,18,12,4,8,24,3,null,0,0,0,0,3.5,-11,0.5,12.5,-4.5,-7.5,-10,11,6,-3.5,10.5,8.5,-9.5,10,-6.5,17.5,10,9,-2.5,1.5,8.5,2.5,-11,8,null,null,null,null,null,11,26,16,3,22,25,28,5,11,19,5,7,27,5,23,1,2,4,18,12,4,8,24,3,null,"X-X-X-X-11-26-16-3-22-25-28-5-11-19-5-7-27-5-23-1-2-4-18-12-4-8-24-3","X-X-X-X-0-0-0-3-0-0-0-5-0-0-5-7-0-5-0-1-2-4-0-0-4-8-0-3","X-X-X-X-11-26-16-3-22-25-28"]
["Bundesliga-Tipp 20221/2023","Angelika Fischer (X-X-X-X-26-X-32-26-25-X-26)","Angelika Fischer (X-X-X-X-26-X-32-26-25-X-26)",28,"Angelika Fischer",105,-117,57,22.222222222222221,"X","X","X","X",0,"X",0,0,0,"X",0,7,0,0,2,0,0,0,0,0,0,"X",0,1,"X","X",0,"X",null,"X","X","X","X",26,"X",32,26,25,"X",26,7,33,25,2,29,17,23,32,31,15,"X",27,1,"X","X",23,"X",null,0,0,0,0,-11.5,0,-15.5,-10.5,-7.5,0,-8,9,-16,-9.5,13.5,-13.5,0.5,-8,-15.5,-12.5,-3,0,-11.5,12.5,0,0,-10,0,null,null,null,null,null,26,null,32,26,25,null,26,7,33,25,2,29,17,23,32,31,15,null,27,1,null,null,23,null,null,"X-X-X-X-26-X-32-26-25-X-26-7-33-25-2-29-17-23-32-31-15-X-27-1-X-X-23-X","X-X-X-X-0-X-0-0-0-X-0-7-0-0-2-0-0-0-0-0-0-X-0-1-X-X-0-X","X-X-X-X-26-X-32-26-25-X-26"]
["Flöttmann","Ellen Flöttmann (10-2-6-9-5-19-7-19-23-10-7)",{"$f":"E30&\" (\"&DX30&\")\"","v":"Ellen Flöttmann (10-2-6-9-5-19-7-19-23-10-7)"},29,"Ellen Flöttmann",57,{"$f":"SUM(BP30:CQ30)","v":-5},35,{"$f":"IF(COUNT(AM30:BN30)>$I$1,SUM(AM30:BN30)/COUNT(AM30:BN30),99)","v":15.285714285714286},{"$f":"IF(AND(CS30<>0,CS30<11),CS30,IF(CS30<>0,0,\"X\"))","v":10},2,6,9,5,0,7,0,0,10,7,0,0,0,0,"X",9,0,"X","X","X","X",0,0,0,"X",0,"X",null,{"$f":"IF(CS30<>0,CS30,\"X\")","v":10},2,6,9,5,19,7,19,23,10,7,30,23,26,17,"X",9,21,"X","X","X","X",28,19,12,"X",19,"X",null,3,10.5,6.5,3.5,9.5,-4,9.5,-3.5,-5.5,7.5,11,-14,-6,-10.5,-1.5,0,8.5,-6,0,0,0,0,-12.5,-5.5,0.5,0,-6,0,null,10,2,6,9,5,19,7,19,23,10,7,30,23,26,17,null,9,21,null,null,null,null,28,19,12,null,19,null,null,{"$f":"AM30&\"-\"&AN30&\"-\"&AO30&\"-\"&AP30&\"-\"&AQ30&\"-\"&AR30&\"-\"&AS30&\"-\"&AT30&\"-\"&AU30&\"-\"&AV30&\"-\"&AW30&\"-\"&AX30&\"-\"&AY30&\"-\"&AZ30&\"-\"&BA30&\"-\"&BB30&\"-\"&BC30&\"-\"&BD30&\"-\"&BE30&\"-\"&BF30&\"-\"&BG30&\"-\"&BH30&\"-\"&BI30&\"-\"&BJ30&\"-\"&BK30&\"-\"&BL30&\"-\"&BM30&\"-\"&BN30","v":"10-2-6-9-5-19-7-19-23-10-7-30-23-26-17-X-9-21-X-X-X-X-28-19-12-X-19-X"},{"$f":"J30&\"-\"&K30&\"-\"&L30&\"-\"&M30&\"-\"&N30&\"-\"&O30&\"-\"&P30&\"-\"&Q30&\"-\"&R30&\"-\"&S30&\"-\"&T30&\"-\"&U30&\"-\"&V30&\"-\"&W30&\"-\"&X30&\"-\"&Y30&\"-\"&Z30&\"-\"&AA30&\"-\"&AB30&\"-\"&AC30&\"-\"&AD30&\"-\"&AE30&\"-\"&AF30&\"-\"&AG30&\"-\"&AH30&\"-\"&AI30&\"-\"&AJ30&\"-\"&AK30","v":"10-2-6-9-5-0-7-0-0-10-7-0-0-0-0-X-9-0-X-X-X-X-0-0-0-X-0-X"},{"$f":"AM30&\"-\"&AN30&\"-\"&AO30&\"-\"&AP30&\"-\"&AQ30&\"-\"&AR30&\"-\"&AS30&\"-\"&AT30&\"-\"&AU30&\"-\"&AV30&\"-\"&AW30","v":"10-2-6-9-5-19-7-19-23-10-7"}]
["Franke","Wilfried Franke (22-20-5-15-19-7-9-11-11-5-31)","Wilfried Franke (22-20-5-15-19-7-9-11-11-5-31)",30,"Wilfried Franke",15,24,26,13.892857142857142,0,0,5,0,0,7,9,0,0,5,0,9,0,8,0,0,1,0,0,9,7,0,5,0,0,5,0,0,null,22,20,5,15,19,7,9,11,11,5,31,9,12,8,18,24,1,19,20,9,7,25,5,23,20,5,18,11,null,-9,-7.5,7.5,-2.5,-4.5,8,7.5,4.5,6.5,12.5,-13,7,5,7.5,-2.5,-8.5,16.5,-4,-3.5,9.5,5,-12,10.5,-9.5,-7.5,5.5,-5,0,null,22,20,5,15,19,7,9,11,11,5,31,9,12,8,18,24,1,19,20,9,7,25,5,23,20,5,18,11,null,"22-20-5-15-19-7-9-11-11-5-31-9-12-8-18-24-1-19-20-9-7-25-5-23-20-5-18-11","0-0-5-0-0-7-9-0-0-5-0-9-0-8-0-0-1-0-0-9-7-0-5-0-0-5-0-0","22-20-5-15-19-7-9-11-11-5-31"]
["Fuchs","Barbara Fuchs (X-X-X-X-X-X-X-X-X-X-X)","Barbara Fuchs (X-X-X-X-X-X-X-X-X-X-X)",31,"Barbara Fuchs",75,-10.5,38,16.333333333333332,"X","X","X","X","X","X","X","X","X","X","X","X","X","X","X","X","X","X","X","X","X","X",0,"X",0,0,"X","X",null,"X","X","X","X","X","X","X","X","X","X","X","X","X","X","X","X","X","X","X","X","X","X",22,"X",14,13,"X","X",null,0,0,0,0,0,0,0,0,0,0,0,0,0,0,0,0,0,0,0,0,0,0,-6.5,0,-1.5,-2.5,0,0,null,null,null,null,null,null,null,null,null,null,null,null,null,null,null,null,null,null,null,null,null,null,null,22,null,14,13,null,null,null,"X-X-X-X-X-X-X-X-X-X-X-X-X-X-X-X-X-X-X-X-X-X-22-X-14-13-X-X","X-X-X-X-X-X-X-X-X-X-X-X-X-X-X-X-X-X-X-X-X-X-0-X-0-0-X-X","X-X-X-X-X-X-X-X-X-X-X"]
["Gallach","Dietmar Gallach (25-10-21-17-6-27-9-11-6-15-4)","Dietmar Gallach (25-10-21-17-6-27-9-11-6-15-4)",32,"Dietmar Gallach",7,44.5,15,12.625,0,10,0,0,6,0,9,0,6,0,4,0,8,4,"X",8,0,"X","X","X","X","X","X","X","X","X","X","X",null,25,10,21,17,6,27,9,11,6,15,4,17,8,4,"X",8,14,"X","X","X","X","X","X","X","X","X","X","X",null,-12,2.5,-8.5,-4.5,8.5,-12,7.5,4.5,11.5,2.5,14,-1,9,11.5,0,7.5,3.5,0,0,0,0,0,0,0,0,0,0,0,null,25,10,21,17,6,27,9,11,6,15,4,17,8,4,null,8,14,null,null,null,null,null,null,null,null,null,null,null,null,"25-10-21-17-6-27-9-11-6-15-4-17-8-4-X-8-14-X-X-X-X-X-X-X-X-X-X-X","0-10-0-0-6-0-9-0-6-0-4-0-8-4-X-8-0-X-X-X-X-X-X-X-X-X-X-X","25-10-21-17-6-27-9-11-6-15-4"]
["Gallach","Sabine Gallach (4-14-17-14-10-23-12-17-19-31-13)","Sabine Gallach (4-14-17-14-10-23-12-17-19-31-13)",33,"Sabine Gallach",{"$f":"RANK(G34,G$2:G$106,0)","v":100},-43.5,{"$f":"IF(I34<>99,RANK(I34,I$2:I$106,1),\"\")","v":46},18.055555555555557,4,0,0,0,10,0,0,0,0,0,0,0,0,0,"X",0,0,"X",0,0,"X","X","X","X","X","X","X","X",null,4,14,17,14,10,23,12,17,19,31,13,22,22,29,"X",25,23,"X",17,13,"X","X","X","X","X","X","X","X",null,{"$f":"IF(CS34>0,BP$107-CS34,0)","v":9},{"$f":"IF(CT34>0,BQ$107-CT34,0)","v":-1.5},{"$f":"IF(CU34>0,BR$107-CU34,0)","v":-4.5},{"$f":"IF(CV34>0,BS$107-CV34,0)","v":-1.5},{"$f":"IF(CW34>0,BT$107-CW34,0)","v":4.5},{"$f":"IF(CX34>0,BU$107-CX34,0)","v":-8},{"$f":"IF(CY34>0,BV$107-CY34,0)","v":4.5},{"$f":"IF(CZ34>0,BW$107-CZ34,0)","v":-1.5},{"$f":"IF(DA34>0,BX$107-DA34,0)","v":-1.5},{"$f":"IF(DB34>0,BY$107-DB34,0)","v":-13.5},{"$f":"IF(DC34>0,BZ$107-DC34,0)","v":5},{"$f":"IF(DD34>0,CA$107-DD34,0)","v":-6},{"$f":"IF(DE34>0,CB$107-DE34,0)","v":-5},{"$f":"IF(DF34>0,CC$107-DF34,0)","v":-13.5},{"$f":"IF(DG34>0,CD$107-DG34,0)","v":0},{"$f":"IF(DH34>0,CE$107-DH34,0)","v":-9.5},{"$f":"IF(DI34>0,CF$107-DI34,0)","v":-5.5},{"$f":"IF(DJ34>0,CG$107-DJ34,0)","v":0},{"$f":"IF(DK34>0,CH$107-DK34,0)","v":-0.5},{"$f":"IF(DL34>0,CI$107-DL34,0)","v":5.5},{"$f":"IF(DM34>0,CJ$107-DM34,0)","v":0},{"$f":"IF(DN34>0,CK$107-DN34,0)","v":0},{"$f":"IF(DO34>0,CL$107-DO34,0)","v":0},{"$f":"IF(DP34>0,CM$107-DP34,0)","v":0},{"$f":"IF(DQ34>0,CN$107-DQ34,0)","v":0},{"$f":"IF(DR34>0,CO$107-DR34,0)","v":0},{"$f":"IF(DS34>0,CP$107-DS34,0)","v":0},{"$f":"IF(DT34>0,CQ$107-DT34,0)","v":0},null,4,14,17,14,10,23,12,17,19,31,13,22,22,29,null,25,23,null,17,13,null,null,null,null,null,null,null,null,null,"4-14-17-14-10-23-12-17-19-31-13-22-22-29-X-25-23-X-17-13-X-X-X-X-X-X-X-X","4-0-0-0-10-0-0-0-0-0-0-0-0-0-X-0-0-X-0-0-X-X-X-X-X-X-X-X","4-14-17-14-10-23-12-17-19-31-13"]
["Germann","Helmut Germann (X-X-X-X-X-X-X-X-X-X-X)",{"$f":"E35&\" (\"&DX35&\")\"","v":"Helmut Germann (X-X-X-X-X-X-X-X-X-X-X)"},34,"Helmut Germann",10,{"$f":"SUM(BP35:CQ35)","v":41.5},6,{"$f":"IF(COUNT(AM35:BN35)>$I$1,SUM(AM35:BN35)/COUNT(AM35:BN35),99)","v":11.166666666666666},"X","X","X","X","X","X","X","X","X","X","X","X","X","X",0,0,7,1,0,0,9,7,7,8,8,0,"X","X",null,{"$f":"IF(CS35<>0,CS35,\"X\")","v":"X"},"X","X","X","X",{"$f":"IF(CX35<>0,CX35,\"X\")","v":"X"},{"$f":"IF(CY35<>0,CY35,\"X\")","v":"X"},{"$f":"IF(CZ35<>0,CZ35,\"X\")","v":"X"},{"$f":"IF(DA35<>0,DA35,\"X\")","v":"X"},{"$f":"IF(DB35<>0,DB35,\"X\")","v":"X"},"X","X","X","X",28,22,7,1,13,12,9,7,7,8,8,12,"X","X",null,0,0,0,0,0,0,0,0,0,0,0,0,0,0,-12.5,-6.5,10.5,14,3.5,6.5,3,6,8.5,5.5,4.5,-1.5,0,0,null,null,null,null,null,null,null,null,null,null,null,null,null,null,null,28,22,7,1,13,12,9,7,7,8,8,12,null,null,null,"X-X-X-X-X-X-X-X-X-X-X-X-X-X-28-22-7-1-13-12-9-7-7-8-8-12-X-X","X-X-X-X-X-X-X-X-X-X-X-X-X-X-0-0-7-1-0-0-9-7-7-8-8-0-X-X","X-X-X-X-X-X-X-X-X-X-X"]
["Gralla","Heinrich Gralla (12-4-9-3-2-25-4-10-12-2-19)","Heinrich Gralla (12-4-9-3-2-25-4-10-12-2-19)",35,"Heinrich Gralla",3,68,8,11.666666666666666,0,4,9,3,2,0,4,10,0,2,{"$f":"IF(AND(DC36<>0,DC36<11),DC36,IF(DC36<>0,0,\"X\"))","v":0},{"$f":"IF(AND(DD36<>0,DD36<11),DD36,IF(DD36<>0,0,\"X\"))","v":0},{"$f":"IF(AND(DE36<>0,DE36<11),DE36,IF(DE36<>0,0,\"X\"))","v":0},{"$f":"IF(AND(DF36<>0,DF36<11),DF36,IF(DF36<>0,0,\"X\"))","v":"X"},{"$f":"IF(AND(DG36<>0,DG36<11),DG36,IF(DG36<>0,0,\"X\"))","v":0},{"$f":"IF(AND(DH36<>0,DH36<11),DH36,IF(DH36<>0,0,\"X\"))","v":0},{"$f":"IF(AND(DI36<>0,DI36<11),DI36,IF(DI36<>0,0,\"X\"))","v":0},{"$f":"IF(AND(DJ36<>0,DJ36<11),DJ36,IF(DJ36<>0,0,\"X\"))","v":0},{"$f":"IF(AND(DK36<>0,DK36<11),DK36,IF(DK36<>0,0,\"X\"))","v":2},{"$f":"IF(AND(DL36<>0,DL36<11),DL36,IF(DL36<>0,0,\"X\"))","v":"X"},{"$f":"IF(AND(DM36<>0,DM36<11),DM36,IF(DM36<>0,0,\"X\"))","v":"X"},{"$f":"IF(AND(DN36<>0,DN36<11),DN36,IF(DN36<>0,0,\"X\"))","v":"X"},{"$f":"IF(AND(DO36<>0,DO36<11),DO36,IF(DO36<>0,0,\"X\"))","v":"X"},{"$f":"IF(AND(DP36<>0,DP36<11),DP36,IF(DP36<>0,0,\"X\"))","v":"X"},{"$f":"IF(AND(DQ36<>0,DQ36<11),DQ36,IF(DQ36<>0,0,\"X\"))","v":"X"},{"$f":"IF(AND(DR36<>0,DR36<11),DR36,IF(DR36<>0,0,\"X\"))","v":"X"},{"$f":"IF(AND(DS36<>0,DS36<11),DS36,IF(DS36<>0,0,\"X\"))","v":"X"},{"$f":"IF(AND(DT36<>0,DT36<11),DT36,IF(DT36<>0,0,\"X\"))","v":"X"},null,12,4,9,3,2,25,4,10,12,2,{"$f":"IF(DC36<>0,DC36,\"X\")","v":19},{"$f":"IF(DD36<>0,DD36,\"X\")","v":11},{"$f":"IF(DE36<>0,DE36,\"X\")","v":28},{"$f":"IF(DF36<>0,DF36,\"X\")","v":"X"},{"$f":"IF(DG36<>0,DG36,\"X\")","v":22},{"$f":"IF(DH36<>0,DH36,\"X\")","v":11},{"$f":"IF(DI36<>0,DI36,\"X\")","v":21},{"$f":"IF(DJ36<>0,DJ36,\"X\")","v":13},{"$f":"IF(DK36<>0,DK36,\"X\")","v":2},{"$f":"IF(DL36<>0,DL36,\"X\")","v":"X"},{"$f":"IF(DM36<>0,DM36,\"X\")","v":"X"},{"$f":"IF(DN36<>0,DN36,\"X\")","v":"X"},{"$f":"IF(DO36<>0,DO36,\"X\")","v":"X"},{"$f":"IF(DP36<>0,DP36,\"X\")","v":"X"},{"$f":"IF(DQ36<>0,DQ36,\"X\")","v":"X"},{"$f":"IF(DR36<>0,DR36,\"X\")","v":"X"},{"$f":"IF(DS36<>0,DS36,\"X\")","v":"X"},{"$f":"IF(DT36<>0,DT36,\"X\")","v":"X"},null,1,8.5,3.5,9.5,12.5,-10,12.5,5.5,5.5,15.5,-1,5,-11,0,-6.5,4.5,-3.5,2,14.5,0,0,0,0,0,0,0,0,0,null,12,4,9,3,2,25,4,10,12,2,19,11,28,null,22,11,21,13,2,null,null,null,null,null,null,null,null,null,null,"12-4-9-3-2-25-4-10-12-2-19-11-28-X-22-11-21-13-2-X-X-X-X-X-X-X-X-X","0-4-9-3-2-0-4-10-0-2-0-0-0-X-0-0-0-0-2-X-X-X-X-X-X-X-X-X","12-4-9-3-2-25-4-10-12-2-19"]
["Grosse","Michaela Grosse (X-X-X-X-X-X-X-30-X-X-X)","Michaela Grosse (X-X-X-X-X-X-X-30-X-X-X)",36,"Michaela Grosse",82,-14.5,"",99,"X","X","X","X","X","X","X",0,"X","X",{"$f":"IF(AND(DC37<>0,DC37<11),DC37,IF(DC37<>0,0,\"X\"))","v":"X"},"X","X","X","X","X","X","X","X","X","X","X","X","X","X","X","X","X",null,"X","X","X","X","X","X","X",30,"X","X",{"$f":"IF(DC37<>0,DC37,\"X\")","v":"X"},"X","X","X","X","X","X","X","X","X","X","X","X","X","X","X","X","X",null,0,0,0,0,0,0,0,-14.5,0,0,0,0,0,0,0,0,0,0,0,0,0,0,0,0,0,0,0,0,null,null,null,null,null,null,null,null,30,null,null,null,null,null,null,null,null,null,null,null,null,null,null,null,null,null,null,null,null,null,"X-X-X-X-X-X-X-30-X-X-X-X-X-X-X-X-X-X-X-X-X-X-X-X-X-X-X-X","X-X-X-X-X-X-X-0-X-X-X-X-X-X-X-X-X-X-X-X-X-X-X-X-X-X-X-X","X-X-X-X-X-X-X-30-X-X-X"]
["Heizmann","Christian Heizmann (X-X-X-X-X-X-X-X-X-X-X)","Christian Heizmann (X-X-X-X-X-X-X-X-X-X-X)",37,"Christian Heizmann",92,-22,"",99,"X","X","X","X","X","X","X","X","X","X","X","X","X","X","X","X","X","X","X","X","X","X","X",0,"X",0,"X","X",null,"X","X","X","X","X","X","X","X","X","X","X","X","X","X","X","X","X","X","X","X","X","X","X",26,"X",20,"X","X",null,0,0,0,0,0,0,0,0,0,0,0,0,0,0,0,0,0,0,0,0,0,0,0,-12.5,0,-9.5,0,0,null,null,null,null,null,null,null,null,null,null,null,null,null,null,null,null,null,null,null,null,null,null,null,null,26,null,20,null,null,null,"X-X-X-X-X-X-X-X-X-X-X-X-X-X-X-X-X-X-X-X-X-X-X-26-X-20-X-X","X-X-X-X-X-X-X-X-X-X-X-X-X-X-X-X-X-X-X-X-X-X-X-0-X-0-X-X","X-X-X-X-X-X-X-X-X-X-X"]
["Horn","Volker Horn (X-X-X-X-X-X-X-X-X-X-X)","Volker Horn (X-X-X-X-X-X-X-X-X-X-X)",38,"Volker Horn",78,-11,"",99,"X","X","X","X","X","X","X","X","X","X","X","X","X","X","X","X","X","X","X","X","X",0,"X","X","X","X","X","X",null,"X","X","X","X","X","X","X","X","X","X","X","X","X","X","X","X","X","X","X","X","X",24,"X","X","X","X","X","X",null,0,0,0,0,0,0,0,0,0,0,0,0,0,0,0,0,0,0,0,0,0,-11,0,0,0,0,0,0,null,null,null,null,null,null,null,null,null,null,null,null,null,null,null,null,null,null,null,null,null,null,24,null,null,null,null,null,null,null,"X-X-X-X-X-X-X-X-X-X-X-X-X-X-X-X-X-X-X-X-X-24-X-X-X-X-X-X","X-X-X-X-X-X-X-X-X-X-X-X-X-X-X-X-X-X-X-X-X-0-X-X-X-X-X-X","X-X-X-X-X-X-X-X-X-X-X"]
["Isernhagen","Holger Isernhagen (X-X-X-X-X-X-X-X-X-X-34)","Holger Isernhagen (X-X-X-X-X-X-X-X-X-X-34)",39,"Holger Isernhagen",54,-2,29,14.666666666666666,"X","X","X","X","X","X","X","X","X","X",0,"X","X","X","X","X","X","X","X","X","X","X","X","X","X","X",4,6,null,"X","X","X","X","X","X","X","X","X","X",34,"X","X","X","X","X","X","X","X","X","X","X","X","X","X","X",4,6,null,0,0,0,0,0,0,0,0,0,0,-16,0,0,0,0,0,0,0,0,0,0,0,0,0,0,0,9,5,null,null,null,null,null,null,null,null,null,null,null,34,null,null,null,null,null,null,null,null,null,null,null,null,null,null,null,4,6,null,"X-X-X-X-X-X-X-X-X-X-34-X-X-X-X-X-X-X-X-X-X-X-X-X-X-X-4-6","X-X-X-X-X-X-X-X-X-X-0-X-X-X-X-X-X-X-X-X-X-X-X-X-X-X-4-6","X-X-X-X-X-X-X-X-X-X-34"]
["Jacob","Heike Jacob (X-X-X-X-X-X-X-X-X-X-X)","Heike Jacob (X-X-X-X-X-X-X-X-X-X-X)",40,"Heike Jacob",93,-23.5,36,15.8,"X","X","X","X","X","X","X","X","X","X","X","X","X","X","X","X","X",3,"X",0,0,0,10,0,0,0,0,0,null,"X","X","X","X","X","X","X","X","X","X","X","X","X","X","X","X","X",3,"X",15,19,23,10,13,23,18,14,20,null,0,0,0,0,0,0,0,0,0,0,0,0,0,0,0,0,0,12,0,3.5,-7,-10,5.5,0.5,-10.5,-7.5,-1,-9,null,null,null,null,null,null,null,null,null,null,null,null,null,null,null,null,null,null,3,null,15,19,23,10,13,23,18,14,20,null,"X-X-X-X-X-X-X-X-X-X-X-X-X-X-X-X-X-3-X-15-19-23-10-13-23-18-14-20","X-X-X-X-X-X-X-X-X-X-X-X-X-X-X-X-X-3-X-0-0-0-10-0-0-0-0-0","X-X-X-X-X-X-X-X-X-X-X"]
["Kabot","Jürgen Kabot (X-X-X-X-X-X-X-X-X-X-X)","Jürgen Kabot (X-X-X-X-X-X-X-X-X-X-X)",41,"Jürgen Kabot",9,44,1,8.1666666666666661,"X","X","X","X","X","X","X","X","X","X","X","X","X","X","X","X",6,"X",5,5,0,3,0,"X","X","X","X","X",null,"X","X","X","X","X","X","X","X","X","X","X","X","X","X","X","X",6,"X",5,5,16,3,14,"X","X","X","X","X",null,0,0,0,0,0,0,0,0,0,0,0,0,0,0,0,0,11.5,0,11.5,13.5,-4,10,1.5,0,0,0,0,0,null,null,null,null,null,null,null,null,null,null,null,null,null,null,null,null,null,6,null,5,5,16,3,14,null,null,null,null,null,null,"X-X-X-X-X-X-X-X-X-X-X-X-X-X-X-X-6-X-5-5-16-3-14-X-X-X-X-X","X-X-X-X-X-X-X-X-X-X-X-X-X-X-X-X-6-X-5-5-0-3-0-X-X-X-X-X","X-X-X-X-X-X-X-X-X-X-X"]
["Kahlert","Birgit Kahlert (X-X-X-X-X-X-X-X-X-X-12)","Birgit Kahlert (X-X-X-X-X-X-X-X-X-X-12)",42,"Birgit Kahlert",85,-15,48,18.714285714285715,"X","X","X","X","X","X","X","X","X","X",0,0,0,0,"X",0,2,"X",0,"X","X","X","X","X","X","X","X","X",null,"X","X","X","X","X","X","X","X","X","X",12,26,19,24,"X",23,2,"X",25,"X","X","X","X","X","X","X","X","X",null,0,0,0,0,0,0,0,0,0,0,6,-10,-2,-8.5,0,-7.5,15.5,0,-8.5,0,0,0,0,0,0,0,0,0,null,null,null,null,null,null,null,null,null,null,null,12,26,19,24,null,23,2,null,25,null,null,null,null,null,null,null,null,null,null,"X-X-X-X-X-X-X-X-X-X-12-26-19-24-X-23-2-X-25-X-X-X-X-X-X-X-X-X","X-X-X-X-X-X-X-X-X-X-0-0-0-0-X-0-2-X-0-X-X-X-X-X-X-X-X-X","X-X-X-X-X-X-X-X-X-X-12"]
["Kail","Marina Kail (X-X-X-X-X-X-X-X-X-X-X)","Marina Kail (X-X-X-X-X-X-X-X-X-X-X)",43,"Marina Kail",87,-18,"",99,"X","X","X","X","X","X","X","X","X","X","X","X","X","X","X","X","X","X","X","X","X","X","X","X","X","X",0,0,null,"X","X","X","X","X","X","X","X","X","X","X","X","X","X","X","X","X","X","X","X","X","X","X","X","X","X",21,21,null,0,0,0,0,0,0,0,0,0,0,0,0,0,0,0,0,0,0,0,0,0,0,0,0,0,0,-8,-10,null,null,null,null,null,null,null,null,null,null,null,null,null,null,null,null,null,null,null,null,null,null,null,null,null,null,null,21,21,null,"X-X-X-X-X-X-X-X-X-X-X-X-X-X-X-X-X-X-X-X-X-X-X-X-X-X-21-21","X-X-X-X-X-X-X-X-X-X-X-X-X-X-X-X-X-X-X-X-X-X-X-X-X-X-0-0","X-X-X-X-X-X-X-X-X-X-X"]
["Kaltenegger","Katrin Kaltenegger (X-X-X-X-X-X-X-X-X-X-X)","Katrin Kaltenegger (X-X-X-X-X-X-X-X-X-X-X)",44,"Katrin Kaltenegger",65,-7,"",99,"X","X","X","X","X","X","X","X","X","X","X","X","X","X","X","X","X","X","X","X",0,"X","X","X","X","X","X","X",null,"X","X","X","X","X","X","X","X","X","X","X","X","X","X","X","X","X","X","X","X",19,"X","X","X","X","X","X","X",null,0,0,0,0,0,0,0,0,0,0,0,0,0,0,0,0,0,0,0,0,-7,0,0,0,0,0,0,0,null,null,null,null,null,null,null,null,null,null,null,null,null,null,null,null,null,null,null,null,null,19,null,null,null,null,null,null,null,null,"X-X-X-X-X-X-X-X-X-X-X-X-X-X-X-X-X-X-X-X-19-X-X-X-X-X-X-X","X-X-X-X-X-X-X-X-X-X-X-X-X-X-X-X-X-X-X-X-0-X-X-X-X-X-X-X","X-X-X-X-X-X-X-X-X-X-X"]
["Kirch","Simone Kirch (X-X-X-X-X-X-X-X-X-X-X)","Simone Kirch (X-X-X-X-X-X-X-X-X-X-X)",45,"Simone Kirch",70,-8.5,"",99,"X","X","X","X","X","X","X","X","X","X","X","X","X","X","X","X",0,"X","X","X","X","X","X","X","X","X","X","X",null,"X","X","X","X","X","X","X","X","X","X","X","X","X","X","X","X",26,"X","X","X","X","X","X","X","X","X","X","X",null,0,0,0,0,0,0,0,0,0,0,0,0,0,0,0,0,-8.5,0,0,0,0,0,0,0,0,0,0,0,null,null,null,null,null,null,null,null,null,null,null,null,null,null,null,null,null,26,null,null,null,null,null,null,null,null,null,null,null,null,"X-X-X-X-X-X-X-X-X-X-X-X-X-X-X-X-26-X-X-X-X-X-X-X-X-X-X-X","X-X-X-X-X-X-X-X-X-X-X-X-X-X-X-X-0-X-X-X-X-X-X-X-X-X-X-X","X-X-X-X-X-X-X-X-X-X-X"]
["Klein","Eileen Klein (23-8-13-5-4-9-6-20-9-4-8)","Eileen Klein (23-8-13-5-4-9-6-20-9-4-8)",46,"Eileen Klein",1,94.5,4,10.65,0,8,0,5,4,9,6,0,9,4,8,0,0,3,2,2,10,0,"X",0,0,"X","X","X","X","X","X","X",null,23,8,13,5,4,9,6,20,9,4,8,20,16,3,2,2,10,13,"X",20,18,"X","X","X","X","X","X","X",null,-10,4.5,-0.5,7.5,10.5,6,10.5,-4.5,8.5,13.5,10,-4,1,12.5,13.5,13.5,7.5,2,0,-1.5,-6,0,0,0,0,0,0,0,null,23,8,13,5,4,9,6,20,9,4,8,20,16,3,2,2,10,13,null,20,18,null,null,null,null,null,null,null,null,"23-8-13-5-4-9-6-20-9-4-8-20-16-3-2-2-10-13-X-20-18-X-X-X-X-X-X-X","0-8-0-5-4-9-6-0-9-4-8-0-0-3-2-2-10-0-X-0-0-X-X-X-X-X-X-X","23-8-13-5-4-9-6-20-9-4-8"]
["Kneis","Werner Kneis (X-X-X-X-X-X-21-X-16-X-X)","Werner Kneis (X-X-X-X-X-X-21-X-16-X-X)",47,"Werner Kneis",20,21,19,13.125,"X","X","X","X","X","X",0,"X",0,"X","X","X","X","X","X","X","X",0,7,6,"X",5,0,2,"X","X","X","X",null,"X","X","X","X","X","X",21,"X",16,"X","X","X","X","X","X","X","X",22,7,6,"X",5,26,2,"X","X","X","X",null,0,0,0,0,0,0,-4.5,0,1.5,0,0,0,0,0,0,0,0,-7,9.5,12.5,0,8,-10.5,11.5,0,0,0,0,null,null,null,null,null,null,null,21,null,16,null,null,null,null,null,null,null,null,22,7,6,null,5,26,2,null,null,null,null,null,"X-X-X-X-X-X-21-X-16-X-X-X-X-X-X-X-X-22-7-6-X-5-26-2-X-X-X-X","X-X-X-X-X-X-0-X-0-X-X-X-X-X-X-X-X-0-7-6-X-5-0-2-X-X-X-X","X-X-X-X-X-X-21-X-16-X-X"]
["Köhler","Wolfgang Köhler (X-X-X-X-X-X-X-X-X-X-X)","Wolfgang Köhler (X-X-X-X-X-X-X-X-X-X-X)",48,"Wolfgang Köhler",88,-18.5,"",99,"X","X","X","X","X","X","X","X","X","X","X","X","X","X","X","X","X","X","X","X","X",0,"X",0,"X","X","X","X",null,"X","X","X","X","X","X","X","X","X","X","X","X","X","X","X","X","X","X","X","X","X",20,"X",25,"X","X","X","X",null,0,0,0,0,0,0,0,0,0,0,0,0,0,0,0,0,0,0,0,0,0,-7,0,-11.5,0,0,0,0,null,null,null,null,null,null,null,null,null,null,null,null,null,null,null,null,null,null,null,null,null,null,20,null,25,null,null,null,null,null,"X-X-X-X-X-X-X-X-X-X-X-X-X-X-X-X-X-X-X-X-X-20-X-25-X-X-X-X","X-X-X-X-X-X-X-X-X-X-X-X-X-X-X-X-X-X-X-X-X-0-X-0-X-X-X-X","X-X-X-X-X-X-X-X-X-X-X"]
["Kohlt","Alexander Kohlt (X-X-X-X-X-X-X-X-X-X-X)","Alexander Kohlt (X-X-X-X-X-X-X-X-X-X-X)",49,"Alexander Kohlt",56,-3,"",99,"X","X","X","X","X","X","X","X","X","X","X",0,0,"X","X","X","X","X","X","X","X","X","X","X","X","X","X","X",null,"X","X","X","X","X","X","X","X","X","X","X",18,18,"X","X","X","X","X","X","X","X","X","X","X","X","X","X","X",null,0,0,0,0,0,0,0,0,0,0,0,-2,-1,0,0,0,0,0,0,0,0,0,0,0,0,0,0,0,null,null,null,null,null,null,null,null,null,null,null,null,18,18,null,null,null,null,null,null,null,null,null,null,null,null,null,null,null,null,"X-X-X-X-X-X-X-X-X-X-X-18-18-X-X-X-X-X-X-X-X-X-X-X-X-X-X-X","X-X-X-X-X-X-X-X-X-X-X-0-0-X-X-X-X-X-X-X-X-X-X-X-X-X-X-X","X-X-X-X-X-X-X-X-X-X-X"]
["Kohout","Andre Kohout (X-X-X-X-X-X-X-X-X-X-X)","Andre Kohout (X-X-X-X-X-X-X-X-X-X-X)",50,"Andre Kohout",65,-7,"",99,"X","X","X","X","X","X","X","X","X","X","X","X","X","X","X","X","X","X","X","X","X","X","X","X","X","X",0,"X",null,"X","X","X","X","X","X","X","X","X","X","X","X","X","X","X","X","X","X","X","X","X","X","X","X","X","X",20,"X",null,0,0,0,0,0,0,0,0,0,0,0,0,0,0,0,0,0,0,0,0,0,0,0,0,0,0,-7,0,null,null,null,null,null,null,null,null,null,null,null,null,null,null,null,null,null,null,null,null,null,null,null,null,null,null,null,20,null,null,"X-X-X-X-X-X-X-X-X-X-X-X-X-X-X-X-X-X-X-X-X-X-X-X-X-X-20-X","X-X-X-X-X-X-X-X-X-X-X-X-X-X-X-X-X-X-X-X-X-X-X-X-X-X-0-X","X-X-X-X-X-X-X-X-X-X-X"]
["Kopietz","Daniela Kopietz (X-X-X-X-X-X-X-X-X-X-X)","Daniela Kopietz (X-X-X-X-X-X-X-X-X-X-X)",51,"Daniela Kopietz",75,-10.5,"",99,"X","X","X","X","X","X","X","X","X","X","X","X","X","X","X","X","X","X",0,"X","X","X","X","X","X","X","X","X",null,"X","X","X","X","X","X","X","X","X","X","X","X","X","X","X","X","X","X",27,"X","X","X","X","X","X","X","X","X",null,0,0,0,0,0,0,0,0,0,0,0,0,0,0,0,0,0,0,-10.5,0,0,0,0,0,0,0,0,0,null,null,null,null,null,null,null,null,null,null,null,null,null,null,null,null,null,null,null,27,null,null,null,null,null,null,null,null,null,null,"X-X-X-X-X-X-X-X-X-X-X-X-X-X-X-X-X-X-27-X-X-X-X-X-X-X-X-X","X-X-X-X-X-X-X-X-X-X-X-X-X-X-X-X-X-X-0-X-X-X-X-X-X-X-X-X","X-X-X-X-X-X-X-X-X-X-X"]
["Krauß","Roland Krauß (X-X-X-X-X-X-X-X-X-X-X)","Roland Krauß (X-X-X-X-X-X-X-X-X-X-X)",52,"Roland Krauß",67,-7.5,"",99,"X","X","X","X","X","X","X","X","X","X","X","X","X","X","X","X","X","X","X","X","X",0,0,"X","X","X","X","X",null,"X","X","X","X","X","X","X","X","X","X","X","X","X","X","X","X","X","X","X","X","X",16,20,"X","X","X","X","X",null,0,0,0,0,0,0,0,0,0,0,0,0,0,0,0,0,0,0,0,0,0,-3,-4.5,0,0,0,0,0,null,null,null,null,null,null,null,null,null,null,null,null,null,null,null,null,null,null,null,null,null,null,16,20,null,null,null,null,null,null,"X-X-X-X-X-X-X-X-X-X-X-X-X-X-X-X-X-X-X-X-X-16-20-X-X-X-X-X","X-X-X-X-X-X-X-X-X-X-X-X-X-X-X-X-X-X-X-X-X-0-0-X-X-X-X-X","X-X-X-X-X-X-X-X-X-X-X"]
["Kruse","Herbert Kruse (X-X-X-X-X-X-X-X-X-X-X)","Herbert Kruse (X-X-X-X-X-X-X-X-X-X-X)",53,"Herbert Kruse",54,-2,"",99,"X","X","X","X","X","X","X","X","X","X","X","X","X","X","X","X","X","X","X","X","X","X","X","X","X","X","X",0,null,"X","X","X","X","X","X","X","X","X","X","X","X","X","X","X","X","X","X","X","X","X","X","X","X","X","X","X",13,null,0,0,0,0,0,0,0,0,0,0,0,0,0,0,0,0,0,0,0,0,0,0,0,0,0,0,0,-2,null,null,null,null,null,null,null,null,null,null,null,null,null,null,null,null,null,null,null,null,null,null,null,null,null,null,null,null,13,null,"X-X-X-X-X-X-X-X-X-X-X-X-X-X-X-X-X-X-X-X-X-X-X-X-X-X-X-13","X-X-X-X-X-X-X-X-X-X-X-X-X-X-X-X-X-X-X-X-X-X-X-X-X-X-X-0","X-X-X-X-X-X-X-X-X-X-X"]
["Kuhnhenne","Beate Kuhnhenne (X-X-X-X-X-X-X-X-X-X-X)","Beate Kuhnhenne (X-X-X-X-X-X-X-X-X-X-X)",54,"Beate Kuhnhenne",71,-9.5,"",99,"X","X","X","X","X","X","X","X","X","X","X","X","X","X","X","X","X","X","X",0,"X","X","X","X","X","X","X","X",null,"X","X","X","X","X","X","X","X","X","X","X","X","X","X","X","X","X","X","X",28,"X","X","X","X","X","X","X","X",null,0,0,0,0,0,0,0,0,0,0,0,0,0,0,0,0,0,0,0,-9.5,0,0,0,0,0,0,0,0,null,null,null,null,null,null,null,null,null,null,null,null,null,null,null,null,null,null,null,null,28,null,null,null,null,null,null,null,null,null,"X-X-X-X-X-X-X-X-X-X-X-X-X-X-X-X-X-X-X-28-X-X-X-X-X-X-X-X","X-X-X-X-X-X-X-X-X-X-X-X-X-X-X-X-X-X-X-0-X-X-X-X-X-X-X-X","X-X-X-X-X-X-X-X-X-X-X"]
["Kundel","Jochen Kundel (X-X-X-X-X-X-X-X-X-X-X)","Jochen Kundel (X-X-X-X-X-X-X-X-X-X-X)",55,"Jochen Kundel",33,9,"",99,{"$f":"IF(AND(CS56<>0,CS56<11),CS56,IF(CS56<>0,0,\"X\"))","v":"X"},"X","X",{"$f":"IF(AND(CV56<>0,CV56<11),CV56,IF(CV56<>0,0,\"X\"))","v":"X"},{"$f":"IF(AND(CW56<>0,CW56<11),CW56,IF(CW56<>0,0,\"X\"))","v":"X"},"X","X","X","X","X","X","X","X","X","X","X","X","X","X","X","X","X","X","X","X","X","X",2,null,"X","X","X","X","X","X","X","X","X","X","X","X","X","X","X","X","X","X","X","X","X","X","X","X","X","X","X",2,null,0,0,0,0,0,0,0,0,0,0,0,0,0,0,0,0,0,0,0,0,0,0,0,0,0,0,0,9,null,null,null,null,null,null,null,null,null,null,null,null,null,null,null,null,null,null,null,null,null,null,null,null,null,null,null,null,2,null,"X-X-X-X-X-X-X-X-X-X-X-X-X-X-X-X-X-X-X-X-X-X-X-X-X-X-X-2","X-X-X-X-X-X-X-X-X-X-X-X-X-X-X-X-X-X-X-X-X-X-X-X-X-X-X-2","X-X-X-X-X-X-X-X-X-X-X"]
["Luce","Sven Luce (X-X-X-X-X-X-X-X-X-X-X)","Sven Luce (X-X-X-X-X-X-X-X-X-X-X)",56,"Sven Luce",15,24,2,8.6666666666666661,"X","X","X","X","X","X","X","X","X","X","X","X","X","X","X","X","X",6,3,0,"X","X","X","X","X","X","X","X",null,"X","X","X","X","X","X","X","X","X","X","X","X","X","X","X","X","X",6,3,17,"X","X","X","X","X","X","X","X",null,0,0,0,0,0,0,0,0,0,0,0,0,0,0,0,0,0,9,13.5,1.5,0,0,0,0,0,0,0,0,null,null,null,null,null,null,null,null,null,null,null,null,null,null,null,null,null,null,6,3,17,null,null,null,null,null,null,null,null,null,"X-X-X-X-X-X-X-X-X-X-X-X-X-X-X-X-X-6-3-17-X-X-X-X-X-X-X-X","X-X-X-X-X-X-X-X-X-X-X-X-X-X-X-X-X-6-3-0-X-X-X-X-X-X-X-X","X-X-X-X-X-X-X-X-X-X-X"]
["Lümkemann","Egon Lümkemann (15-7-11-16-8-16-2-23-2-12-17)","Egon Lümkemann (15-7-11-16-8-16-2-23-2-12-17)",57,"Egon Lümkemann",5,64,13,12.4,0,7,0,0,8,0,2,0,2,0,0,0,0,0,0,2,0,0,1,0,"X","X","X","X","X","X","X","X",null,15,7,11,16,8,16,2,23,2,12,17,12,17,14,14,2,13,11,1,35,"X","X","X","X","X","X","X","X",null,-2,5.5,1.5,-3.5,6.5,-1,14.5,-7.5,15.5,5.5,1,4,0,1.5,1.5,13.5,4.5,4,15.5,-16.5,0,0,0,0,0,0,0,0,null,15,7,11,16,8,16,2,23,2,12,17,12,17,14,14,2,13,11,1,35,null,null,null,null,null,null,null,null,null,"15-7-11-16-8-16-2-23-2-12-17-12-17-14-14-2-13-11-1-35-X-X-X-X-X-X-X-X","0-7-0-0-8-0-2-0-2-0-0-0-0-0-0-2-0-0-1-0-X-X-X-X-X-X-X-X","15-7-11-16-8-16-2-23-2-12-17"]
["Lüning","Christoph Lüning (X-X-X-X-X-X-X-21-X-7-9)","Christoph Lüning (X-X-X-X-X-X-X-21-X-7-9)",58,"Christoph Lüning",11,29.5,15,12.625,"X","X","X","X","X","X","X",0,"X",7,9,0,0,0,2,4,"X","X","X","X","X","X","X","X","X","X","X","X",null,"X","X","X","X","X","X","X",21,"X",7,9,13,25,20,2,4,"X","X","X","X","X","X","X","X","X","X","X","X",null,0,0,0,0,0,0,0,-5.5,0,10.5,9,3,-8,-4.5,13.5,11.5,0,0,0,0,0,0,0,0,0,0,0,0,null,null,null,null,null,null,null,null,21,null,7,9,13,25,20,2,4,null,null,null,null,null,null,null,null,null,null,null,null,null,"X-X-X-X-X-X-X-21-X-7-9-13-25-20-2-4-X-X-X-X-X-X-X-X-X-X-X-X","X-X-X-X-X-X-X-0-X-7-9-0-0-0-2-4-X-X-X-X-X-X-X-X-X-X-X-X","X-X-X-X-X-X-X-21-X-7-9"]
["Mader","Frank Mader (9-12-3-21-20-10-3-27-19-19-1)","Frank Mader (9-12-3-21-20-10-3-27-19-19-1)",59,"Frank Mader",60,-6,33,15.115384615384615,9,0,3,0,0,10,3,0,0,0,1,6,0,0,0,0,0,"X",0,2,0,0,0,5,8,0,7,"X",null,9,12,3,21,20,10,3,27,19,19,1,6,21,27,30,19,32,"X",28,2,11,21,17,5,8,15,7,"X",null,4,0.5,9.5,-8.5,-5.5,5,13.5,-11.5,-1.5,-1.5,17,10,-4,-11.5,-14.5,-3.5,-14.5,0,-11.5,16.5,1,-8,-1.5,8.5,4.5,-4.5,6,0,null,9,12,3,21,20,10,3,27,19,19,1,6,21,27,30,19,32,null,28,2,11,21,17,5,8,15,7,null,null,"9-12-3-21-20-10-3-27-19-19-1-6-21-27-30-19-32-X-28-2-11-21-17-5-8-15-7-X","9-0-3-0-0-10-3-0-0-0-1-6-0-0-0-0-0-X-0-2-0-0-0-5-8-0-7-X","9-12-3-21-20-10-3-27-19-19-1"]
["Meesker","Anita Meesker (3-19-2-23-9-14-X-X-X-X-X)","Anita Meesker (3-19-2-23-9-14-X-X-X-X-X)",60,"Anita Meesker",31,10,8,11.666666666666666,3,0,2,0,9,{"$f":"IF(AND(CX61<>0,CX61<11),CX61,IF(CX61<>0,0,\"X\"))","v":0},{"$f":"IF(AND(CY61<>0,CY61<11),CY61,IF(CY61<>0,0,\"X\"))","v":"X"},{"$f":"IF(AND(CZ61<>0,CZ61<11),CZ61,IF(CZ61<>0,0,\"X\"))","v":"X"},"X","X","X","X","X","X","X","X","X","X","X","X","X","X","X","X","X","X","X","X",null,3,19,2,23,9,14,"X","X","X","X",{"$f":"IF(DC61<>0,DC61,\"X\")","v":"X"},"X","X","X","X","X","X","X","X","X","X","X","X","X","X","X","X","X",null,10,-6.5,10.5,-10.5,5.5,1,0,0,0,0,0,0,0,0,0,0,0,0,0,0,0,0,0,0,0,0,0,0,null,3,19,2,23,9,14,null,null,null,null,null,null,null,null,null,null,null,null,null,null,null,null,null,null,null,null,null,null,null,"3-19-2-23-9-14-X-X-X-X-X-X-X-X-X-X-X-X-X-X-X-X-X-X-X-X-X-X","3-0-2-0-9-0-X-X-X-X-X-X-X-X-X-X-X-X-X-X-X-X-X-X-X-X-X-X","3-19-2-23-9-14-X-X-X-X-X"]
["Möllers","Paul Möllers (X-X-X-X-X-X-X-X-X-X-X)","Paul Möllers (X-X-X-X-X-X-X-X-X-X-X)",61,"Paul Möllers",29,11,"",99,"X","X","X","X","X","X","X",{"$f":"IF(AND(CZ62<>0,CZ62<11),CZ62,IF(CZ62<>0,0,\"X\"))","v":"X"},{"$f":"IF(AND(DA62<>0,DA62<11),DA62,IF(DA62<>0,0,\"X\"))","v":"X"},{"$f":"IF(AND(DB62<>0,DB62<11),DB62,IF(DB62<>0,0,\"X\"))","v":"X"},"X","X","X","X","X","X","X","X","X","X","X","X","X","X","X","X",6,7,null,"X","X","X","X","X","X","X","X","X","X","X","X","X","X","X","X","X","X","X","X","X","X","X","X","X","X",6,7,null,0,0,0,0,0,0,0,0,0,0,0,0,0,0,0,0,0,0,0,0,0,0,0,0,0,0,7,4,null,null,null,null,null,null,null,null,null,null,null,null,null,null,null,null,null,null,null,null,null,null,null,null,null,null,null,6,7,null,"X-X-X-X-X-X-X-X-X-X-X-X-X-X-X-X-X-X-X-X-X-X-X-X-X-X-6-7","X-X-X-X-X-X-X-X-X-X-X-X-X-X-X-X-X-X-X-X-X-X-X-X-X-X-6-7","X-X-X-X-X-X-X-X-X-X-X"]
["München","Walter aus München (X-X-X-X-X-X-X-X-X-X-X)","Walter aus München (X-X-X-X-X-X-X-X-X-X-X)",62,"Walter aus München",39,7,"",99,"X","X","X","X","X","X","X","X","X","X","X","X","X","X","X","X","X","X","X","X","X","X","X","X","X","X","X",4,null,"X","X","X","X","X","X","X","X","X","X","X","X","X","X","X","X","X","X","X","X","X","X","X","X","X","X","X",4,null,0,0,0,0,0,0,0,0,0,0,0,0,0,0,0,0,0,0,0,0,0,0,0,0,0,0,0,7,null,null,null,null,null,null,null,null,null,null,null,null,null,null,null,null,null,null,null,null,null,null,null,null,null,null,null,null,4,null,"X-X-X-X-X-X-X-X-X-X-X-X-X-X-X-X-X-X-X-X-X-X-X-X-X-X-X-4","X-X-X-X-X-X-X-X-X-X-X-X-X-X-X-X-X-X-X-X-X-X-X-X-X-X-X-4","X-X-X-X-X-X-X-X-X-X-X"]
["Nedanovski","Aleksanar Nedanovski (X-X-X-X-X-17-28-X-16-10-X)","Aleksanar Nedanovski (X-X-X-X-X-17-28-X-16-10-X)",63,"Aleksanar Nedanovski",50,1.5,39,16.399999999999999,"X","X","X","X","X",0,0,"X",0,10,"X",0,0,7,"X","X","X","X",0,0,"X","X",0,"X","X","X","X","X",null,"X","X","X","X","X",17,28,"X",16,10,"X",19,15,7,"X","X","X","X",12,16,"X","X",24,"X","X","X","X","X",null,0,0,0,0,0,-2,-11.5,0,1.5,7.5,0,-3,2,8.5,0,0,0,0,4.5,2.5,0,0,-8.5,0,0,0,0,0,null,null,null,null,null,null,17,28,null,16,10,null,19,15,7,null,null,null,null,12,16,null,null,24,null,null,null,null,null,null,"X-X-X-X-X-17-28-X-16-10-X-19-15-7-X-X-X-X-12-16-X-X-24-X-X-X-X-X","X-X-X-X-X-0-0-X-0-10-X-0-0-7-X-X-X-X-0-0-X-X-0-X-X-X-X-X","X-X-X-X-X-17-28-X-16-10-X"]
["Nielsen","Dirk Nielsen (X-X-X-X-X-X-X-5-1-1-23)","Dirk Nielsen (X-X-X-X-X-X-X-5-1-1-23)",64,"Dirk Nielsen",18,22,24,13.5,"X","X","X","X","X","X","X",5,1,1,0,"X",0,"X",0,"X","X","X","X",0,0,10,8,9,"X",6,"X","X",null,"X","X","X","X","X","X","X",5,1,1,23,"X",27,"X",26,"X","X","X","X",32,14,10,8,9,"X",6,"X","X",null,0,0,0,0,0,0,0,10.5,16.5,16.5,-5,0,-10,0,-10.5,0,0,0,0,-13.5,-2,3,7.5,4.5,0,4.5,0,0,null,null,null,null,null,null,null,null,5,1,1,23,null,27,null,26,null,null,null,null,32,14,10,8,9,null,6,null,null,null,"X-X-X-X-X-X-X-5-1-1-23-X-27-X-26-X-X-X-X-32-14-10-8-9-X-6-X-X","X-X-X-X-X-X-X-5-1-1-0-X-0-X-0-X-X-X-X-0-0-10-8-9-X-6-X-X","X-X-X-X-X-X-X-5-1-1-23"]
["Nitschke","Dirk Nitschke (X-X-X-X-X-X-X-X-X-X-X)","Dirk Nitschke (X-X-X-X-X-X-X-X-X-X-X)",65,"Dirk Nitschke",{"$f":"RANK(G66,G$2:G$106,0)","v":20},21,{"$f":"IF(I66<>99,RANK(I66,I$2:I$106,1),\"\")","v":13},12.4,"X","X","X","X","X","X","X","X","X","X","X","X","X","X","X",9,0,7,0,10,"X","X","X","X","X","X","X","X",null,"X","X","X","X","X","X","X","X","X","X","X","X","X","X","X",9,18,7,18,10,"X","X","X","X","X","X","X","X",null,{"$f":"IF(CS66>0,BP$107-CS66,0)","v":0},{"$f":"IF(CT66>0,BQ$107-CT66,0)","v":0},{"$f":"IF(CU66>0,BR$107-CU66,0)","v":0},{"$f":"IF(CV66>0,BS$107-CV66,0)","v":0},{"$f":"IF(CW66>0,BT$107-CW66,0)","v":0},{"$f":"IF(CX66>0,BU$107-CX66,0)","v":0},{"$f":"IF(CY66>0,BV$107-CY66,0)","v":0},{"$f":"IF(CZ66>0,BW$107-CZ66,0)","v":0},{"$f":"IF(DA66>0,BX$107-DA66,0)","v":0},{"$f":"IF(DB66>0,BY$107-DB66,0)","v":0},{"$f":"IF(DC66>0,BZ$107-DC66,0)","v":0},{"$f":"IF(DD66>0,CA$107-DD66,0)","v":0},{"$f":"IF(DE66>0,CB$107-DE66,0)","v":0},{"$f":"IF(DF66>0,CC$107-DF66,0)","v":0},{"$f":"IF(DG66>0,CD$107-DG66,0)","v":0},{"$f":"IF(DH66>0,CE$107-DH66,0)","v":6.5},{"$f":"IF(DI66>0,CF$107-DI66,0)","v":-0.5},{"$f":"IF(DJ66>0,CG$107-DJ66,0)","v":8},{"$f":"IF(DK66>0,CH$107-DK66,0)","v":-1.5},{"$f":"IF(DL66>0,CI$107-DL66,0)","v":8.5},{"$f":"IF(DM66>0,CJ$107-DM66,0)","v":0},{"$f":"IF(DN66>0,CK$107-DN66,0)","v":0},{"$f":"IF(DO66>0,CL$107-DO66,0)","v":0},{"$f":"IF(DP66>0,CM$107-DP66,0)","v":0},{"$f":"IF(DQ66>0,CN$107-DQ66,0)","v":0},{"$f":"IF(DR66>0,CO$107-DR66,0)","v":0},{"$f":"IF(DS66>0,CP$107-DS66,0)","v":0},{"$f":"IF(DT66>0,CQ$107-DT66,0)","v":0},null,null,null,null,null,null,null,null,null,null,null,null,null,null,null,null,9,18,7,18,10,null,null,null,null,null,null,null,null,null,"X-X-X-X-X-X-X-X-X-X-X-X-X-X-X-9-18-7-18-10-X-X-X-X-X-X-X-X","X-X-X-X-X-X-X-X-X-X-X-X-X-X-X-9-0-7-0-10-X-X-X-X-X-X-X-X","X-X-X-X-X-X-X-X-X-X-X"]
["Obermaier","Uschi Obermaier (X-X-X-X-X-X-X-X-X-X-X)",{"$f":"E67&\" (\"&DX67&\")\"","v":"Uschi Obermaier (X-X-X-X-X-X-X-X-X-X-X)"},66,"Uschi Obermaier",63,{"$f":"SUM(BP67:CQ67)","v":-6.5},"",{"$f":"IF(COUNT(AM67:BN67)>$I$1,SUM(AM67:BN67)/COUNT(AM67:BN67),99)","v":99},"X","X","X","X","X","X","X","X","X","X","X","X","X","X","X","X","X","X","X","X","X",0,0,"X","X","X","X","X",null,{"$f":"IF(CS67<>0,CS67,\"X\")","v":"X"},"X","X","X","X",{"$f":"IF(CX67<>0,CX67,\"X\")","v":"X"},{"$f":"IF(CY67<>0,CY67,\"X\")","v":"X"},{"$f":"IF(CZ67<>0,CZ67,\"X\")","v":"X"},{"$f":"IF(DA67<>0,DA67,\"X\")","v":"X"},{"$f":"IF(DB67<>0,DB67,\"X\")","v":"X"},"X","X","X","X","X","X","X","X","X","X","X",22,13,"X","X","X","X","X",null,0,0,0,0,0,0,0,0,0,0,0,0,0,0,0,0,0,0,0,0,0,-9,2.5,0,0,0,0,0,null,null,null,null,null,null,null,null,null,null,null,null,null,null,null,null,null,null,null,null,null,null,22,13,null,null,null,null,null,null,"X-X-X-X-X-X-X-X-X-X-X-X-X-X-X-X-X-X-X-X-X-22-13-X-X-X-X-X","X-X-X-X-X-X-X-X-X-X-X-X-X-X-X-X-X-X-X-X-X-0-0-X-X-X-X-X","X-X-X-X-X-X-X-X-X-X-X"]
["Pawlik","Martin Pawlik (X-X-X-X-X-X-X-X-X-X-X)","Martin Pawlik (X-X-X-X-X-X-X-X-X-X-X)",67,"Martin Pawlik",91,-21.5,"",99,"X","X","X","X","X","X","X","X","X","X","X","X","X","X","X","X",0,0,"X","X","X","X","X","X","X","X","X","X",null,"X","X","X","X","X","X","X","X","X","X","X","X","X","X","X","X",25,29,"X","X","X","X","X","X","X","X","X","X",null,0,0,0,0,0,0,0,0,0,0,0,0,0,0,0,0,-7.5,-14,0,0,0,0,0,0,0,0,0,0,null,null,null,null,null,null,null,null,null,null,null,null,null,null,null,null,null,25,29,null,null,null,null,null,null,null,null,null,null,null,{"$f":"AM68&\"-\"&AN68&\"-\"&AO68&\"-\"&AP68&\"-\"&AQ68&\"-\"&AR68&\"-\"&AS68&\"-\"&AT68&\"-\"&AU68&\"-\"&AV68&\"-\"&AW68&\"-\"&AX68&\"-\"&AY68&\"-\"&AZ68&\"-\"&BA68&\"-\"&BB68&\"-\"&BC68&\"-\"&BD68&\"-\"&BE68&\"-\"&BF68&\"-\"&BG68&\"-\"&BH68&\"-\"&BI68&\"-\"&BJ68&\"-\"&BK68&\"-\"&BL68&\"-\"&BM68&\"-\"&BN68","v":"X-X-X-X-X-X-X-X-X-X-X-X-X-X-X-X-25-29-X-X-X-X-X-X-X-X-X-X"},{"$f":"J68&\"-\"&K68&\"-\"&L68&\"-\"&M68&\"-\"&N68&\"-\"&O68&\"-\"&P68&\"-\"&Q68&\"-\"&R68&\"-\"&S68&\"-\"&T68&\"-\"&U68&\"-\"&V68&\"-\"&W68&\"-\"&X68&\"-\"&Y68&\"-\"&Z68&\"-\"&AA68&\"-\"&AB68&\"-\"&AC68&\"-\"&AD68&\"-\"&AE68&\"-\"&AF68&\"-\"&AG68&\"-\"&AH68&\"-\"&AI68&\"-\"&AJ68&\"-\"&AK68","v":"X-X-X-X-X-X-X-X-X-X-X-X-X-X-X-X-0-0-X-X-X-X-X-X-X-X-X-X"},{"$f":"AM68&\"-\"&AN68&\"-\"&AO68&\"-\"&AP68&\"-\"&AQ68&\"-\"&AR68&\"-\"&AS68&\"-\"&AT68&\"-\"&AU68&\"-\"&AV68&\"-\"&AW68","v":"X-X-X-X-X-X-X-X-X-X-X"}]
["Paul","Siggi Paul (X-X-X-X-X-X-X-X-X-X-X)","Siggi Paul (X-X-X-X-X-X-X-X-X-X-X)",68,"Siggi Paul",68,-8,"",99,"X","X","X","X","X","X","X","X","X","X","X","X","X","X","X","X","X","X","X","X","X","X","X","X","X","X","X",0,null,"X","X","X","X","X","X","X","X","X","X","X","X","X","X","X","X","X","X","X","X","X","X","X","X","X","X","X",19,null,0,0,0,0,0,0,0,0,0,0,0,0,0,0,0,0,0,0,0,0,0,0,0,0,0,0,0,-8,null,null,null,null,null,null,null,null,null,null,null,null,null,null,null,null,null,null,null,null,null,null,null,null,null,null,null,null,19,null,"X-X-X-X-X-X-X-X-X-X-X-X-X-X-X-X-X-X-X-X-X-X-X-X-X-X-X-19","X-X-X-X-X-X-X-X-X-X-X-X-X-X-X-X-X-X-X-X-X-X-X-X-X-X-X-0","X-X-X-X-X-X-X-X-X-X-X"]
["Perrone","Thomas Perrone (X-X-X-X-X-X-X-X-X-X-X)","Thomas Perrone (X-X-X-X-X-X-X-X-X-X-X)",69,"Thomas Perrone",23,16,7,11.5,"X","X","X","X","X","X","X","X","X","X",{"$f":"IF(AND(DC70<>0,DC70<11),DC70,IF(DC70<>0,0,\"X\"))","v":"X"},{"$f":"IF(AND(DD70<>0,DD70<11),DD70,IF(DD70<>0,0,\"X\"))","v":"X"},{"$f":"IF(AND(DE70<>0,DE70<11),DE70,IF(DE70<>0,0,\"X\"))","v":"X"},{"$f":"IF(AND(DF70<>0,DF70<11),DF70,IF(DF70<>0,0,\"X\"))","v":"X"},{"$f":"IF(AND(DG70<>0,DG70<11),DG70,IF(DG70<>0,0,\"X\"))","v":"X"},{"$f":"IF(AND(DH70<>0,DH70<11),DH70,IF(DH70<>0,0,\"X\"))","v":"X"},{"$f":"IF(AND(DI70<>0,DI70<11),DI70,IF(DI70<>0,0,\"X\"))","v":"X"},{"$f":"IF(AND(DJ70<>0,DJ70<11),DJ70,IF(DJ70<>0,0,\"X\"))","v":"X"},{"$f":"IF(AND(DK70<>0,DK70<11),DK70,IF(DK70<>0,0,\"X\"))","v":"X"},{"$f":"IF(AND(DL70<>0,DL70<11),DL70,IF(DL70<>0,0,\"X\"))","v":0},{"$f":"IF(AND(DM70<>0,DM70<11),DM70,IF(DM70<>0,0,\"X\"))","v":0},{"$f":"IF(AND(DN70<>0,DN70<11),DN70,IF(DN70<>0,0,\"X\"))","v":1},{"$f":"IF(AND(DO70<>0,DO70<11),DO70,IF(DO70<>0,0,\"X\"))","v":0},{"$f":"IF(AND(DP70<>0,DP70<11),DP70,IF(DP70<>0,0,\"X\"))","v":6},{"$f":"IF(AND(DQ70<>0,DQ70<11),DQ70,IF(DQ70<>0,0,\"X\"))","v":0},{"$f":"IF(AND(DR70<>0,DR70<11),DR70,IF(DR70<>0,0,\"X\"))","v":"X"},{"$f":"IF(AND(DS70<>0,DS70<11),DS70,IF(DS70<>0,0,\"X\"))","v":"X"},{"$f":"IF(AND(DT70<>0,DT70<11),DT70,IF(DT70<>0,0,\"X\"))","v":"X"},null,"X","X","X","X","X","X","X","X","X","X",{"$f":"IF(DC70<>0,DC70,\"X\")","v":"X"},{"$f":"IF(DD70<>0,DD70,\"X\")","v":"X"},{"$f":"IF(DE70<>0,DE70,\"X\")","v":"X"},{"$f":"IF(DF70<>0,DF70,\"X\")","v":"X"},{"$f":"IF(DG70<>0,DG70,\"X\")","v":"X"},{"$f":"IF(DH70<>0,DH70,\"X\")","v":"X"},{"$f":"IF(DI70<>0,DI70,\"X\")","v":"X"},{"$f":"IF(DJ70<>0,DJ70,\"X\")","v":"X"},{"$f":"IF(DK70<>0,DK70,\"X\")","v":"X"},{"$f":"IF(DL70<>0,DL70,\"X\")","v":23},{"$f":"IF(DM70<>0,DM70,\"X\")","v":12},{"$f":"IF(DN70<>0,DN70,\"X\")","v":1},{"$f":"IF(DO70<>0,DO70,\"X\")","v":12},{"$f":"IF(DP70<>0,DP70,\"X\")","v":6},{"$f":"IF(DQ70<>0,DQ70,\"X\")","v":15},{"$f":"IF(DR70<>0,DR70,\"X\")","v":"X"},{"$f":"IF(DS70<>0,DS70,\"X\")","v":"X"},{"$f":"IF(DT70<>0,DT70,\"X\")","v":"X"},null,0,0,0,0,0,0,0,0,0,0,0,0,0,0,0,0,0,0,0,-4.5,0,12,3.5,7.5,-2.5,0,0,0,null,null,null,null,null,null,null,null,null,null,null,null,null,null,null,null,null,null,null,null,23,12,1,12,6,15,null,null,null,null,"X-X-X-X-X-X-X-X-X-X-X-X-X-X-X-X-X-X-X-23-12-1-12-6-15-X-X-X","X-X-X-X-X-X-X-X-X-X-X-X-X-X-X-X-X-X-X-0-0-1-0-6-0-X-X-X","X-X-X-X-X-X-X-X-X-X-X"]
["Rauscher","Wolfgang Rauscher (X-X-X-X-X-X-X-X-X-X-X)","Wolfgang Rauscher (X-X-X-X-X-X-X-X-X-X-X)",70,"Wolfgang Rauscher",53,-1.5,"",99,"X","X","X","X","X","X","X","X","X","X","X","X","X","X","X","X","X","X","X",0,"X","X","X","X","X","X","X","X",null,"X","X","X","X","X","X","X","X","X","X","X","X","X","X","X","X","X","X","X",20,"X","X","X","X","X","X","X","X",null,0,0,0,0,0,0,0,0,0,0,0,0,0,0,0,0,0,0,0,-1.5,0,0,0,0,0,0,0,0,null,null,null,null,null,null,null,null,null,null,null,null,null,null,null,null,null,null,null,null,20,null,null,null,null,null,null,null,null,null,"X-X-X-X-X-X-X-X-X-X-X-X-X-X-X-X-X-X-X-20-X-X-X-X-X-X-X-X","X-X-X-X-X-X-X-X-X-X-X-X-X-X-X-X-X-X-X-0-X-X-X-X-X-X-X-X","X-X-X-X-X-X-X-X-X-X-X"]
["Rebenok","Olga Rebenok (X-X-X-X-X-X-X-X-X-X-30)","Olga Rebenok (X-X-X-X-X-X-X-X-X-X-30)",71,"Olga Rebenok",52,-1,40,16.666666666666668,"X","X","X","X","X","X","X","X","X","X",0,"X","X",0,9,"X","X","X","X","X","X","X","X","X","X","X","X","X",null,"X","X","X","X","X","X","X","X","X","X",30,"X","X",11,9,"X","X","X","X","X","X","X","X","X","X","X","X","X",null,0,0,0,0,0,0,0,0,0,0,-12,0,0,4.5,6.5,0,0,0,0,0,0,0,0,0,0,0,0,0,null,null,null,null,null,null,null,null,null,null,null,30,null,null,11,9,null,null,null,null,null,null,null,null,null,null,null,null,null,null,"X-X-X-X-X-X-X-X-X-X-30-X-X-11-9-X-X-X-X-X-X-X-X-X-X-X-X-X","X-X-X-X-X-X-X-X-X-X-0-X-X-0-9-X-X-X-X-X-X-X-X-X-X-X-X-X","X-X-X-X-X-X-X-X-X-X-30"]
["Riemer","Gerold Riemer (X-X-X-X-X-X-X-X-X-X-X)","Gerold Riemer (X-X-X-X-X-X-X-X-X-X-X)",72,"Gerold Riemer",24,13,3,9.75,"X","X","X","X","X","X","X","X","X","X","X","X","X","X","X","X","X","X","X","X","X","X",0,4,10,2,"X","X",null,"X","X","X","X","X","X","X","X","X","X","X","X","X","X","X","X","X","X","X","X","X","X",23,4,10,2,"X","X",null,0,0,0,0,0,0,0,0,0,0,0,0,0,0,0,0,0,0,0,0,0,0,-7.5,9.5,2.5,8.5,0,0,null,null,null,null,null,null,null,null,null,null,null,null,null,null,null,null,null,null,null,null,null,null,null,23,4,10,2,null,null,null,"X-X-X-X-X-X-X-X-X-X-X-X-X-X-X-X-X-X-X-X-X-X-23-4-10-2-X-X","X-X-X-X-X-X-X-X-X-X-X-X-X-X-X-X-X-X-X-X-X-X-0-4-10-2-X-X","X-X-X-X-X-X-X-X-X-X-X"]
["Röder","Silvia Röder (2-X-X-X-X-X-X-X-X-X-X)","Silvia Röder (2-X-X-X-X-X-X-X-X-X-X)",73,"Silvia Röder",68,-8,44,17.25,2,"X","X","X","X","X","X","X","X","X","X","X","X","X","X",9,0,0,"X","X","X","X","X","X","X","X","X","X",null,2,"X","X","X","X","X","X","X","X","X","X","X","X","X","X",9,30,28,"X","X","X","X","X","X","X","X","X","X",null,11,0,0,0,0,0,0,0,0,0,0,0,0,0,0,6.5,-12.5,-13,0,0,0,0,0,0,0,0,0,0,null,2,null,null,null,null,null,null,null,null,null,null,null,null,null,null,9,30,28,null,null,null,null,null,null,null,null,null,null,null,"2-X-X-X-X-X-X-X-X-X-X-X-X-X-X-9-30-28-X-X-X-X-X-X-X-X-X-X","2-X-X-X-X-X-X-X-X-X-X-X-X-X-X-9-0-0-X-X-X-X-X-X-X-X-X-X","2-X-X-X-X-X-X-X-X-X-X"]
["Rothemeyer","Andreas Rothemeyer (X-X-X-X-X-X-X-X-X-X-X)","Andreas Rothemeyer (X-X-X-X-X-X-X-X-X-X-X)",74,"Andreas Rothemeyer",39,7,"",99,"X","X","X","X","X","X","X","X","X","X","X","X",10,"X","X","X","X","X","X","X","X","X","X","X","X","X","X","X",null,"X","X","X","X","X","X","X","X","X","X","X","X",10,"X","X","X","X","X","X","X","X","X","X","X","X","X","X","X",null,0,0,0,0,0,0,0,0,0,0,0,0,7,0,0,0,0,0,0,0,0,0,0,0,0,0,0,0,null,null,null,null,null,null,null,null,null,null,null,null,null,10,null,null,null,null,null,null,null,null,null,null,null,null,null,null,null,null,"X-X-X-X-X-X-X-X-X-X-X-X-10-X-X-X-X-X-X-X-X-X-X-X-X-X-X-X","X-X-X-X-X-X-X-X-X-X-X-X-10-X-X-X-X-X-X-X-X-X-X-X-X-X-X-X","X-X-X-X-X-X-X-X-X-X-X"]
["Ruwwe","Siegbert Ruwwe (20-23-22-24-22-21-14-23-13-34-X)","Siegbert Ruwwe (20-23-22-24-22-21-14-23-13-34-X)",75,"Siegbert Ruwwe",103,-65.5,53,20.90909090909091,0,0,0,0,0,0,0,0,0,0,"X","X","X","X","X","X",0,"X","X","X","X","X","X","X","X","X","X","X",null,20,23,22,24,22,21,14,23,13,34,"X","X","X","X","X","X",14,"X","X","X","X","X","X","X","X","X","X","X",null,-7,-10.5,-9.5,-11.5,-7.5,-6,2.5,-7.5,4.5,-16.5,0,0,0,0,0,0,3.5,0,0,0,0,0,0,0,0,0,0,0,null,20,23,22,24,22,21,14,23,13,34,null,null,null,null,null,null,14,null,null,null,null,null,null,null,null,null,null,null,null,"20-23-22-24-22-21-14-23-13-34-X-X-X-X-X-X-14-X-X-X-X-X-X-X-X-X-X-X","0-0-0-0-0-0-0-0-0-0-X-X-X-X-X-X-0-X-X-X-X-X-X-X-X-X-X-X","20-23-22-24-22-21-14-23-13-34-X"]
["Schmidt","Patrick Schmidt (18-14-20-1-16-8-15-7-28-28-11)","Patrick Schmidt (18-14-20-1-16-8-15-7-28-28-11)",76,"Patrick Schmidt",47,2.5,34,15.25,0,0,0,1,0,8,0,7,0,0,0,1,0,9,"X",0,0,"X","X","X","X","X","X","X","X","X","X","X",null,18,14,20,1,16,8,15,7,28,28,11,1,31,9,"X",17,20,"X","X","X","X","X","X","X","X","X","X","X",null,-5,-1.5,-7.5,11.5,-1.5,7,1.5,8.5,-10.5,-10.5,7,15,-14,6.5,0,-1.5,-2.5,0,0,0,0,0,0,0,0,0,0,0,null,18,14,20,1,16,8,15,7,28,28,11,1,31,9,null,17,20,null,null,null,null,null,null,null,null,null,null,null,null,"18-14-20-1-16-8-15-7-28-28-11-1-31-9-X-17-20-X-X-X-X-X-X-X-X-X-X-X","0-0-0-1-0-8-0-7-0-0-0-1-0-9-X-0-0-X-X-X-X-X-X-X-X-X-X-X","18-14-20-1-16-8-15-7-28-28-11"]
["Schmidt","Michael Schmidt (X-X-X-X-X-X-X-X-X-X-X)","Michael Schmidt (X-X-X-X-X-X-X-X-X-X-X)",77,"Michael Schmidt",35,8.5,5,10.75,"X","X","X","X","X","X","X","X","X","X","X","X","X","X","X","X","X","X","X","X",5,0,6,"X","X","X","X",0,null,"X","X","X","X","X","X","X","X","X","X","X","X","X","X","X","X","X","X","X","X",5,17,6,"X","X","X","X",15,null,0,0,0,0,0,0,0,0,0,0,0,0,0,0,0,0,0,0,0,0,7,-4,9.5,0,0,0,0,-4,null,null,null,null,null,null,null,null,null,null,null,null,null,null,null,null,null,null,null,null,null,5,17,6,null,null,null,null,15,null,"X-X-X-X-X-X-X-X-X-X-X-X-X-X-X-X-X-X-X-X-5-17-6-X-X-X-X-15","X-X-X-X-X-X-X-X-X-X-X-X-X-X-X-X-X-X-X-X-5-0-6-X-X-X-X-0","X-X-X-X-X-X-X-X-X-X-X"]
["Schürmann","Bodo Schürmann (X-X-X-X-X-X-X-X-X-X-X)","Bodo Schürmann (X-X-X-X-X-X-X-X-X-X-X)",78,"Bodo Schürmann",18,22,"",99,"X","X","X","X","X","X","X","X","X","X","X","X","X","X","X","X","X","X","X","X","X","X","X","X","X","X",1,1,null,"X","X","X","X","X","X","X","X","X","X","X","X","X","X","X","X","X","X","X","X","X","X","X","X","X","X",1,1,null,0,0,0,0,0,0,0,0,0,0,0,0,0,0,0,0,0,0,0,0,0,0,0,0,0,0,12,10,null,null,null,null,null,null,null,null,null,null,null,null,null,null,null,null,null,null,null,null,null,null,null,null,null,null,null,1,1,null,"X-X-X-X-X-X-X-X-X-X-X-X-X-X-X-X-X-X-X-X-X-X-X-X-X-X-1-1","X-X-X-X-X-X-X-X-X-X-X-X-X-X-X-X-X-X-X-X-X-X-X-X-X-X-1-1","X-X-X-X-X-X-X-X-X-X-X"]
["Simsek","Orhan Simsek (X-X-X-X-X-X-X-X-X-X-X)","Orhan Simsek (X-X-X-X-X-X-X-X-X-X-X)",79,"Orhan Simsek",51,0,"",99,"X","X","X","X","X","X","X","X","X","X","X","X","X","X","X","X","X","X","X","X","X","X","X","X","X","X","X","X",null,"X","X","X","X","X","X","X","X","X","X","X","X","X","X","X","X","X","X","X","X","X","X","X","X","X","X","X","X",null,0,0,0,0,0,0,0,0,0,0,0,0,0,0,0,0,0,0,0,0,0,0,0,0,0,0,0,0,null,null,null,null,null,null,null,null,null,null,null,null,null,null,null,null,null,null,null,null,null,null,null,null,null,null,null,null,null,null,"X-X-X-X-X-X-X-X-X-X-X-X-X-X-X-X-X-X-X-X-X-X-X-X-X-X-X-X","X-X-X-X-X-X-X-X-X-X-X-X-X-X-X-X-X-X-X-X-X-X-X-X-X-X-X-X","X-X-X-X-X-X-X-X-X-X-X"]
["Spengler","Ludwig Spengler (21-1-X-X-X-X-30-8-10-27-X)","Ludwig Spengler (21-1-X-X-X-X-30-8-10-27-X)",80,"Ludwig Spengler",72,-10,42,16.857142857142858,0,1,"X","X","X","X",0,8,10,0,"X","X","X","X",0,"X","X","X","X","X","X","X","X","X","X","X","X","X",null,21,1,"X","X","X","X",30,8,10,27,"X","X","X","X",21,"X","X","X","X","X","X","X","X","X","X","X","X","X",null,-8,11.5,0,0,0,0,-13.5,7.5,7.5,-9.5,0,0,0,0,-5.5,0,0,0,0,0,0,0,0,0,0,0,0,0,null,21,1,null,null,null,null,30,8,10,27,null,null,null,null,21,null,null,null,null,null,null,null,null,null,null,null,null,null,null,"21-1-X-X-X-X-30-8-10-27-X-X-X-X-21-X-X-X-X-X-X-X-X-X-X-X-X-X","0-1-X-X-X-X-0-8-10-0-X-X-X-X-0-X-X-X-X-X-X-X-X-X-X-X-X-X","21-1-X-X-X-X-30-8-10-27-X"]
["Spichtinger","Regine Spichtinger (X-X-X-X-X-X-X-X-X-X-X)","Regine Spichtinger (X-X-X-X-X-X-X-X-X-X-X)",81,"Regine Spichtinger",80,-12.5,"",99,"X","X","X","X","X","X","X","X","X","X","X","X","X","X","X","X","X","X",0,"X","X","X","X","X","X","X","X","X",null,"X","X","X","X","X","X","X","X","X","X","X","X","X","X","X","X","X","X",29,"X","X","X","X","X","X","X","X","X",null,0,0,0,0,0,0,0,0,0,0,0,0,0,0,0,0,0,0,-12.5,0,0,0,0,0,0,0,0,0,null,null,null,null,null,null,null,null,null,null,null,null,null,null,null,null,null,null,null,29,null,null,null,null,null,null,null,null,null,null,"X-X-X-X-X-X-X-X-X-X-X-X-X-X-X-X-X-X-29-X-X-X-X-X-X-X-X-X","X-X-X-X-X-X-X-X-X-X-X-X-X-X-X-X-X-X-0-X-X-X-X-X-X-X-X-X","X-X-X-X-X-X-X-X-X-X-X"]
["Spielmann","Mike Spielmann (X-X-X-X-X-X-X-X-4-X-X)","Mike Spielmann (X-X-X-X-X-X-X-X-4-X-X)",82,"Mike Spielmann",27,11.5,21,13.333333333333334,"X","X","X","X","X","X","X","X",4,"X","X","X","X",0,"X","X","X","X","X",0,"X","X","X","X","X","X","X","X",null,"X","X","X","X","X","X","X","X",4,"X","X","X","X",12,"X","X","X","X","X",24,"X","X","X","X","X","X","X","X",null,0,0,0,0,0,0,0,0,13.5,0,0,0,0,3.5,0,0,0,0,0,-5.5,0,0,0,0,0,0,0,0,null,null,null,null,null,null,null,null,null,4,null,null,null,null,12,null,null,null,null,null,24,null,null,null,null,null,null,null,null,null,"X-X-X-X-X-X-X-X-4-X-X-X-X-12-X-X-X-X-X-24-X-X-X-X-X-X-X-X","X-X-X-X-X-X-X-X-4-X-X-X-X-0-X-X-X-X-X-0-X-X-X-X-X-X-X-X","X-X-X-X-X-X-X-X-4-X-X"]
["Spielmann","Sabine Spielmann (X-X-X-X-X-X-X-21-X-23-X)","Sabine Spielmann (X-X-X-X-X-X-X-21-X-23-X)",83,"Sabine Spielmann",82,-14.5,54,21,"X","X","X","X","X","X","X",0,"X",0,"X","X","X","X",0,"X","X","X","X","X","X","X","X","X","X","X","X","X",null,"X","X","X","X","X","X","X",21,"X",23,"X","X","X","X",19,"X","X","X","X","X","X","X","X","X","X","X","X","X",null,0,0,0,0,0,0,0,-5.5,0,-5.5,0,0,0,0,-3.5,0,0,0,0,0,0,0,0,0,0,0,0,0,null,null,null,null,null,null,null,null,21,null,23,null,null,null,null,19,null,null,null,null,null,null,null,null,null,null,null,null,null,null,"X-X-X-X-X-X-X-21-X-23-X-X-X-X-19-X-X-X-X-X-X-X-X-X-X-X-X-X","X-X-X-X-X-X-X-0-X-0-X-X-X-X-0-X-X-X-X-X-X-X-X-X-X-X-X-X","X-X-X-X-X-X-X-21-X-23-X"]
["Standfuß","Martin Standfuß (X-X-X-X-X-X-X-X-X-X-X)","Martin Standfuß (X-X-X-X-X-X-X-X-X-X-X)",84,"Martin Standfuß",31,10,21,13.333333333333334,"X","X","X","X","X","X","X","X","X","X","X","X","X","X","X","X","X",0,6,0,"X","X","X","X","X","X","X","X",null,"X","X","X","X","X","X","X","X","X","X","X","X","X","X","X","X","X",16,6,18,"X","X","X","X","X","X","X","X",null,0,0,0,0,0,0,0,0,0,0,0,0,0,0,0,0,0,-1,10.5,0.5,0,0,0,0,0,0,0,0,null,null,null,null,null,null,null,null,null,null,null,null,null,null,null,null,null,null,16,6,18,null,null,null,null,null,null,null,null,null,"X-X-X-X-X-X-X-X-X-X-X-X-X-X-X-X-X-16-6-18-X-X-X-X-X-X-X-X","X-X-X-X-X-X-X-X-X-X-X-X-X-X-X-X-X-0-6-0-X-X-X-X-X-X-X-X","X-X-X-X-X-X-X-X-X-X-X"]
["Steinbach-Möllers","Beatrix Steinbach-Möllers (X-X-X-X-X-X-X-X-X-X-X)","Beatrix Steinbach-Möllers (X-X-X-X-X-X-X-X-X-X-X)",85,"Beatrix Steinbach-Möllers",44,4,"",99,"X","X","X","X","X","X","X","X","X","X","X","X","X","X","X","X","X","X","X","X","X","X","X","X","X","X",9,"X",null,"X","X","X","X","X","X","X","X","X","X","X","X","X","X","X","X","X","X","X","X","X","X","X","X","X","X",9,"X",null,0,0,0,0,0,0,0,0,0,0,0,0,0,0,0,0,0,0,0,0,0,0,0,0,0,0,4,0,null,null,null,null,null,null,null,null,null,null,null,null,null,null,null,null,null,null,null,null,null,null,null,null,null,null,null,9,null,null,"X-X-X-X-X-X-X-X-X-X-X-X-X-X-X-X-X-X-X-X-X-X-X-X-X-X-9-X","X-X-X-X-X-X-X-X-X-X-X-X-X-X-X-X-X-X-X-X-X-X-X-X-X-X-9-X","X-X-X-X-X-X-X-X-X-X-X"]
["Steinfurth","Neo Steinfurth (8-X-X-X-X-X-X-X-X-X-X)","Neo Steinfurth (8-X-X-X-X-X-X-X-X-X-X)",86,"Neo Steinfurth",41,5,"",99,{"$f":"IF(AND(CS87<>0,CS87<11),CS87,IF(CS87<>0,0,\"X\"))","v":8},{"$f":"IF(AND(CT87<>0,CT87<11),CT87,IF(CT87<>0,0,\"X\"))","v":"X"},{"$f":"IF(AND(CU87<>0,CU87<11),CU87,IF(CU87<>0,0,\"X\"))","v":"X"},{"$f":"IF(AND(CV87<>0,CV87<11),CV87,IF(CV87<>0,0,\"X\"))","v":"X"},{"$f":"IF(AND(CW87<>0,CW87<11),CW87,IF(CW87<>0,0,\"X\"))","v":"X"},{"$f":"IF(AND(CX87<>0,CX87<11),CX87,IF(CX87<>0,0,\"X\"))","v":"X"},{"$f":"IF(AND(CY87<>0,CY87<11),CY87,IF(CY87<>0,0,\"X\"))","v":"X"},{"$f":"IF(AND(CZ87<>0,CZ87<11),CZ87,IF(CZ87<>0,0,\"X\"))","v":"X"},{"$f":"IF(AND(DA87<>0,DA87<11),DA87,IF(DA87<>0,0,\"X\"))","v":"X"},{"$f":"IF(AND(DB87<>0,DB87<11),DB87,IF(DB87<>0,0,\"X\"))","v":"X"},{"$f":"IF(AND(DC87<>0,DC87<11),DC87,IF(DC87<>0,0,\"X\"))","v":"X"},{"$f":"IF(AND(DD87<>0,DD87<11),DD87,IF(DD87<>0,0,\"X\"))","v":"X"},{"$f":"IF(AND(DE87<>0,DE87<11),DE87,IF(DE87<>0,0,\"X\"))","v":"X"},{"$f":"IF(AND(DF87<>0,DF87<11),DF87,IF(DF87<>0,0,\"X\"))","v":"X"},{"$f":"IF(AND(DG87<>0,DG87<11),DG87,IF(DG87<>0,0,\"X\"))","v":"X"},{"$f":"IF(AND(DH87<>0,DH87<11),DH87,IF(DH87<>0,0,\"X\"))","v":"X"},{"$f":"IF(AND(DI87<>0,DI87<11),DI87,IF(DI87<>0,0,\"X\"))","v":"X"},{"$f":"IF(AND(DJ87<>0,DJ87<11),DJ87,IF(DJ87<>0,0,\"X\"))","v":"X"},{"$f":"IF(AND(DK87<>0,DK87<11),DK87,IF(DK87<>0,0,\"X\"))","v":"X"},{"$f":"IF(AND(DL87<>0,DL87<11),DL87,IF(DL87<>0,0,\"X\"))","v":"X"},{"$f":"IF(AND(DM87<>0,DM87<11),DM87,IF(DM87<>0,0,\"X\"))","v":"X"},{"$f":"IF(AND(DN87<>0,DN87<11),DN87,IF(DN87<>0,0,\"X\"))","v":"X"},{"$f":"IF(AND(DO87<>0,DO87<11),DO87,IF(DO87<>0,0,\"X\"))","v":"X"},{"$f":"IF(AND(DP87<>0,DP87<11),DP87,IF(DP87<>0,0,\"X\"))","v":"X"},{"$f":"IF(AND(DQ87<>0,DQ87<11),DQ87,IF(DQ87<>0,0,\"X\"))","v":"X"},{"$f":"IF(AND(DR87<>0,DR87<11),DR87,IF(DR87<>0,0,\"X\"))","v":"X"},{"$f":"IF(AND(DS87<>0,DS87<11),DS87,IF(DS87<>0,0,\"X\"))","v":"X"},{"$f":"IF(AND(DT87<>0,DT87<11),DT87,IF(DT87<>0,0,\"X\"))","v":"X"},null,{"$f":"IF(CS87<>0,CS87,\"X\")","v":8},{"$f":"IF(CT87<>0,CT87,\"X\")","v":"X"},{"$f":"IF(CU87<>0,CU87,\"X\")","v":"X"},{"$f":"IF(CV87<>0,CV87,\"X\")","v":"X"},{"$f":"IF(CW87<>0,CW87,\"X\")","v":"X"},{"$f":"IF(CX87<>0,CX87,\"X\")","v":"X"},{"$f":"IF(CY87<>0,CY87,\"X\")","v":"X"},{"$f":"IF(CZ87<>0,CZ87,\"X\")","v":"X"},{"$f":"IF(DA87<>0,DA87,\"X\")","v":"X"},{"$f":"IF(DB87<>0,DB87,\"X\")","v":"X"},{"$f":"IF(DC87<>0,DC87,\"X\")","v":"X"},{"$f":"IF(DD87<>0,DD87,\"X\")","v":"X"},{"$f":"IF(DE87<>0,DE87,\"X\")","v":"X"},{"$f":"IF(DF87<>0,DF87,\"X\")","v":"X"},{"$f":"IF(DG87<>0,DG87,\"X\")","v":"X"},{"$f":"IF(DH87<>0,DH87,\"X\")","v":"X"},{"$f":"IF(DI87<>0,DI87,\"X\")","v":"X"},{"$f":"IF(DJ87<>0,DJ87,\"X\")","v":"X"},{"$f":"IF(DK87<>0,DK87,\"X\")","v":"X"},{"$f":"IF(DL87<>0,DL87,\"X\")","v":"X"},{"$f":"IF(DM87<>0,DM87,\"X\")","v":"X"},{"$f":"IF(DN87<>0,DN87,\"X\")","v":"X"},{"$f":"IF(DO87<>0,DO87,\"X\")","v":"X"},{"$f":"IF(DP87<>0,DP87,\"X\")","v":"X"},{"$f":"IF(DQ87<>0,DQ87,\"X\")","v":"X"},{"$f":"IF(DR87<>0,DR87,\"X\")","v":"X"},{"$f":"IF(DS87<>0,DS87,\"X\")","v":"X"},{"$f":"IF(DT87<>0,DT87,\"X\")","v":"X"},null,5,0,0,0,0,0,0,0,0,0,0,0,0,0,0,0,0,0,0,0,0,0,0,0,0,0,0,0,null,8,null,null,null,null,null,null,null,null,null,null,null,null,null,null,null,null,null,null,null,null,null,null,null,null,null,null,null,null,{"$f":"AM87&\"-\"&AN87&\"-\"&AO87&\"-\"&AP87&\"-\"&AQ87&\"-\"&AR87&\"-\"&AS87&\"-\"&AT87&\"-\"&AU87&\"-\"&AV87&\"-\"&AW87&\"-\"&AX87&\"-\"&AY87&\"-\"&AZ87&\"-\"&BA87&\"-\"&BB87&\"-\"&BC87&\"-\"&BD87&\"-\"&BE87&\"-\"&BF87&\"-\"&BG87&\"-\"&BH87&\"-\"&BI87&\"-\"&BJ87&\"-\"&BK87&\"-\"&BL87&\"-\"&BM87&\"-\"&BN87","v":"8-X-X-X-X-X-X-X-X-X-X-X-X-X-X-X-X-X-X-X-X-X-X-X-X-X-X-X"},{"$f":"J87&\"-\"&K87&\"-\"&L87&\"-\"&M87&\"-\"&N87&\"-\"&O87&\"-\"&P87&\"-\"&Q87&\"-\"&R87&\"-\"&S87&\"-\"&T87&\"-\"&U87&\"-\"&V87&\"-\"&W87&\"-\"&X87&\"-\"&Y87&\"-\"&Z87&\"-\"&AA87&\"-\"&AB87&\"-\"&AC87&\"-\"&AD87&\"-\"&AE87&\"-\"&AF87&\"-\"&AG87&\"-\"&AH87&\"-\"&AI87&\"-\"&AJ87&\"-\"&AK87","v":"8-X-X-X-X-X-X-X-X-X-X-X-X-X-X-X-X-X-X-X-X-X-X-X-X-X-X-X"},{"$f":"AM87&\"-\"&AN87&\"-\"&AO87&\"-\"&AP87&\"-\"&AQ87&\"-\"&AR87&\"-\"&AS87&\"-\"&AT87&\"-\"&AU87&\"-\"&AV87&\"-\"&AW87","v":"8-X-X-X-X-X-X-X-X-X-X"}]
["Strunk","Hans-Dieter Strunk (X-X-X-X-X-X-X-X-X-X-X)","Hans-Dieter Strunk (X-X-X-X-X-X-X-X-X-X-X)",87,"Hans-Dieter Strunk",37,8,"",99,"X","X","X","X","X","X","X","X","X","X","X","X","X","X","X","X","X","X","X","X","X","X","X","X","X","X",5,"X",null,"X","X","X","X","X","X","X","X","X","X","X","X","X","X","X","X","X","X","X","X","X","X","X","X","X","X",5,"X",null,0,0,0,0,0,0,0,0,0,0,0,0,0,0,0,0,0,0,0,0,0,0,0,0,0,0,8,0,null,null,null,null,null,null,null,null,null,null,null,null,null,null,null,null,null,null,null,null,null,null,null,null,null,null,null,5,null,null,"X-X-X-X-X-X-X-X-X-X-X-X-X-X-X-X-X-X-X-X-X-X-X-X-X-X-5-X","X-X-X-X-X-X-X-X-X-X-X-X-X-X-X-X-X-X-X-X-X-X-X-X-X-X-5-X","X-X-X-X-X-X-X-X-X-X-X"]
["Tillack","Andrea Tillack (X-X-X-X-X-X-X-X-X-X-X)","Andrea Tillack (X-X-X-X-X-X-X-X-X-X-X)",88,"Andrea Tillack",82,-14.5,"",99,{"$f":"IF(AND(CS89<>0,CS89<11),CS89,IF(CS89<>0,0,\"X\"))","v":"X"},"X","X",{"$f":"IF(AND(CV89<>0,CV89<11),CV89,IF(CV89<>0,0,\"X\"))","v":"X"},{"$f":"IF(AND(CW89<>0,CW89<11),CW89,IF(CW89<>0,0,\"X\"))","v":"X"},"X","X","X","X","X","X","X","X","X","X","X","X","X","X","X","X","X",0,"X","X","X","X","X",null,"X","X","X","X","X","X","X","X","X","X","X","X","X","X","X","X","X","X","X","X","X","X",30,"X","X","X","X","X",null,0,0,0,0,0,0,0,0,0,0,0,0,0,0,0,0,0,0,0,0,0,0,-14.5,0,0,0,0,0,null,null,null,null,null,null,null,null,null,null,null,null,null,null,null,null,null,null,null,null,null,null,null,30,null,null,null,null,null,null,"X-X-X-X-X-X-X-X-X-X-X-X-X-X-X-X-X-X-X-X-X-X-30-X-X-X-X-X","X-X-X-X-X-X-X-X-X-X-X-X-X-X-X-X-X-X-X-X-X-X-0-X-X-X-X-X","X-X-X-X-X-X-X-X-X-X-X"]
["Tischel","Gregor Tischel (6-18-12-7-1-1-13-5-14-17-19)","Gregor Tischel (6-18-12-7-1-1-13-5-14-17-19)",89,"Gregor Tischel",3,68,12,12.321428571428571,6,0,0,7,1,1,0,5,0,0,0,0,0,5,0,0,0,0,9,0,0,8,3,0,0,1,10,8,null,6,18,12,7,1,1,13,5,14,17,19,25,13,5,13,14,29,11,9,34,17,8,3,15,17,1,10,8,null,7,-5.5,0.5,5.5,13.5,14,3.5,10.5,3.5,0.5,-1,-9,4,10.5,2.5,1.5,-11.5,4,7.5,-15.5,-5,5,12.5,-1.5,-4.5,9.5,3,3,null,6,18,12,7,1,1,13,5,14,17,19,25,13,5,13,14,29,11,9,34,17,8,3,15,17,1,10,8,null,"6-18-12-7-1-1-13-5-14-17-19-25-13-5-13-14-29-11-9-34-17-8-3-15-17-1-10-8","6-0-0-7-1-1-0-5-0-0-0-0-0-5-0-0-0-0-9-0-0-8-3-0-0-1-10-8","6-18-12-7-1-1-13-5-14-17-19"]
["Tischel","Marcus Tischel (17-3-16-4-3-28-24-13-21-14-26)","Marcus Tischel (17-3-16-4-3-28-24-13-21-14-26)",90,"Marcus Tischel",7,44.5,18,13.074074074074074,0,3,0,4,3,0,0,0,0,0,0,0,0,"X",9,0,0,2,0,0,4,0,2,3,3,0,0,9,null,17,3,16,4,3,28,24,13,21,14,26,16,20,"X",9,20,11,2,11,27,4,18,2,3,3,16,13,9,null,-4,9.5,-3.5,8.5,11.5,-13,-7.5,2.5,-3.5,3.5,-8,0,-3,0,6.5,-4.5,6.5,13,5.5,-8.5,8,-5,13.5,10.5,9.5,-5.5,0,2,null,17,3,16,4,3,28,24,13,21,14,26,16,20,null,9,20,11,2,11,27,4,18,2,3,3,16,13,9,null,"17-3-16-4-3-28-24-13-21-14-26-16-20-X-9-20-11-2-11-27-4-18-2-3-3-16-13-9","0-3-0-4-3-0-0-0-0-0-0-0-0-X-9-0-0-2-0-0-4-0-2-3-3-0-0-9","17-3-16-4-3-28-24-13-21-14-26"]
["Wagenlechner","Elfriede Wagenlechner (X-X-X-X-X-X-X-X-X-32-35)","Elfriede Wagenlechner (X-X-X-X-X-X-X-X-X-32-35)",91,"Elfriede Wagenlechner",97,-32,56,22.166666666666668,"X","X","X","X","X","X","X","X","X",0,0,"X",9,"X",8,0,0,"X","X","X","X","X","X","X","X","X","X","X",null,"X","X","X","X","X","X","X","X","X",32,35,"X",9,"X",8,30,19,"X","X","X","X","X","X","X","X","X","X","X",null,0,0,0,0,0,0,0,0,0,-14.5,-17,0,8,0,7.5,-14.5,-1.5,0,0,0,0,0,0,0,0,0,0,0,null,null,null,null,null,null,null,null,null,null,32,35,null,9,null,8,30,19,null,null,null,null,null,null,null,null,null,null,null,null,"X-X-X-X-X-X-X-X-X-32-35-X-9-X-8-30-19-X-X-X-X-X-X-X-X-X-X-X","X-X-X-X-X-X-X-X-X-0-0-X-9-X-8-0-0-X-X-X-X-X-X-X-X-X-X-X","X-X-X-X-X-X-X-X-X-32-35"]
["Wagner","Wolfgang Wagner (X-X-X-X-X-X-X-X-X-X-X)","Wolfgang Wagner (X-X-X-X-X-X-X-X-X-X-X)",92,"Wolfgang Wagner",26,12.5,"",99,"X","X","X","X","X","X","X","X","X","X","X","X","X","X","X","X","X","X","X","X","X","X","X","X",5,"X",8,"X",null,"X","X","X","X","X","X","X","X","X","X","X","X","X","X","X","X","X","X","X","X","X","X","X","X",5,"X",8,"X",null,0,0,0,0,0,0,0,0,0,0,0,0,0,0,0,0,0,0,0,0,0,0,0,0,7.5,0,5,0,null,null,null,null,null,null,null,null,null,null,null,null,null,null,null,null,null,null,null,null,null,null,null,null,null,5,null,8,null,null,"X-X-X-X-X-X-X-X-X-X-X-X-X-X-X-X-X-X-X-X-X-X-X-X-5-X-8-X","X-X-X-X-X-X-X-X-X-X-X-X-X-X-X-X-X-X-X-X-X-X-X-X-5-X-8-X","X-X-X-X-X-X-X-X-X-X-X"]
["Wähling","Andreas Wähling (11-22-7-2-14-23-20-9-34-3-15)","Andreas Wähling (11-22-7-2-14-23-20-9-34-3-15)",93,"Andreas Wähling",15,24,26,13.892857142857142,0,0,7,2,0,0,0,9,0,3,0,3,4,0,0,1,7,0,0,0,3,0,0,0,1,0,0,10,null,11,22,7,2,14,23,20,9,34,3,15,3,4,22,24,1,7,26,19,33,3,14,11,17,1,19,15,10,null,2,-9.5,5.5,10.5,0.5,-8,-3.5,6.5,-16.5,14.5,3,13,13,-6.5,-8.5,14.5,10.5,-11,-2.5,-14.5,9,-1,4.5,-3.5,11.5,-8.5,-2,1,null,11,22,7,2,14,23,20,9,34,3,15,3,4,22,24,1,7,26,19,33,3,14,11,17,1,19,15,10,null,"11-22-7-2-14-23-20-9-34-3-15-3-4-22-24-1-7-26-19-33-3-14-11-17-1-19-15-10","0-0-7-2-0-0-0-9-0-3-0-3-4-0-0-1-7-0-0-0-3-0-0-0-1-0-0-10","11-22-7-2-14-23-20-9-34-3-15"]
["Wähling","Bernhard Wähling (5-6-4-20-15-22-22-28-33-21-10)","Bernhard Wähling (5-6-4-20-15-22-22-28-33-21-10)",94,"Bernhard Wähling",37,8,30,14.72,5,6,4,0,0,0,0,0,0,0,10,2,6,0,0,5,4,0,0,7,0,6,"X",0,0,"X",0,"X",null,5,6,4,20,15,22,22,28,33,21,10,2,6,16,23,5,4,20,21,7,21,6,"X",13,22,"X",16,"X",null,8,6.5,8.5,-7.5,-0.5,-7,-5.5,-12.5,-15.5,-3.5,8,14,11,-0.5,-7.5,10.5,13.5,-5,-4.5,11.5,-9,7,0,0.5,-9.5,0,-3,0,null,5,6,4,20,15,22,22,28,33,21,10,2,6,16,23,5,4,20,21,7,21,6,null,13,22,null,16,null,null,"5-6-4-20-15-22-22-28-33-21-10-2-6-16-23-5-4-20-21-7-21-6-X-13-22-X-16-X","5-6-4-0-0-0-0-0-0-0-10-2-6-0-0-5-4-0-0-7-0-6-X-0-0-X-0-X","5-6-4-20-15-22-22-28-33-21-10"]
["Wähling","Claudia Wähling (X-X-X-X-X-X-X-X-X-X-X)","Claudia Wähling (X-X-X-X-X-X-X-X-X-X-X)",95,"Claudia Wähling",89,-19,47,18.5,"X","X","X","X","X","X","X","X","X","X","X","X","X",0,0,"X","X","X","X","X","X","X","X","X","X","X",0,0,null,"X","X","X","X","X","X","X","X","X","X","X","X","X",22,19,"X","X","X","X","X","X","X","X","X","X","X",17,16,null,0,0,0,0,0,0,0,0,0,0,0,0,0,-6.5,-3.5,0,0,0,0,0,0,0,0,0,0,0,-4,-5,null,null,null,null,null,null,null,null,null,null,null,null,null,null,22,19,null,null,null,null,null,null,null,null,null,null,null,17,16,null,"X-X-X-X-X-X-X-X-X-X-X-X-X-22-19-X-X-X-X-X-X-X-X-X-X-X-17-16","X-X-X-X-X-X-X-X-X-X-X-X-X-0-0-X-X-X-X-X-X-X-X-X-X-X-0-0","X-X-X-X-X-X-X-X-X-X-X"]
["Wähling","Svenja Wähling (X-X-X-X-X-X-X-X-X-X-X)","Svenja Wähling (X-X-X-X-X-X-X-X-X-X-X)",96,"Svenja Wähling",47,2.5,"",99,"X","X","X","X","X","X","X","X","X","X","X","X","X",0,"X","X","X","X","X","X","X","X","X","X","X","X","X","X",null,"X","X","X","X","X","X","X","X","X","X","X","X","X",13,"X","X","X","X","X","X","X","X","X","X","X","X","X","X",null,0,0,0,0,0,0,0,0,0,0,0,0,0,2.5,0,0,0,0,0,0,0,0,0,0,0,0,0,0,null,null,null,null,null,null,null,null,null,null,null,null,null,null,13,null,null,null,null,null,null,null,null,null,null,null,null,null,null,null,"X-X-X-X-X-X-X-X-X-X-X-X-X-13-X-X-X-X-X-X-X-X-X-X-X-X-X-X","X-X-X-X-X-X-X-X-X-X-X-X-X-0-X-X-X-X-X-X-X-X-X-X-X-X-X-X","X-X-X-X-X-X-X-X-X-X-X"]
["Wallburg","Stephan Wallburg (X-X-X-X-X-X-X-X-X-X-X)","Stephan Wallburg (X-X-X-X-X-X-X-X-X-X-X)",97,"Stephan Wallburg",{"$f":"RANK(G98,G$2:G$106,0)","v":58},-5.5,{"$f":"IF(I98<>99,RANK(I98,I$2:I$106,1),\"\")","v":""},99,"X","X","X","X","X","X","X","X","X","X","X","X","X","X","X","X",0,"X","X","X","X","X","X","X","X","X","X","X",null,"X","X","X","X","X","X","X","X","X","X",{"$f":"IF(DC98<>0,DC98,\"X\")","v":"X"},{"$f":"IF(DD98<>0,DD98,\"X\")","v":"X"},{"$f":"IF(DE98<>0,DE98,\"X\")","v":"X"},{"$f":"IF(DF98<>0,DF98,\"X\")","v":"X"},{"$f":"IF(DG98<>0,DG98,\"X\")","v":"X"},{"$f":"IF(DH98<>0,DH98,\"X\")","v":"X"},{"$f":"IF(DI98<>0,DI98,\"X\")","v":23},{"$f":"IF(DJ98<>0,DJ98,\"X\")","v":"X"},{"$f":"IF(DK98<>0,DK98,\"X\")","v":"X"}," ",{"$f":"IF(DM98<>0,DM98,\"X\")","v":"X"},{"$f":"IF(DN98<>0,DN98,\"X\")","v":"X"},{"$f":"IF(DO98<>0,DO98,\"X\")","v":"X"},{"$f":"IF(DP98<>0,DP98,\"X\")","v":"X"},{"$f":"IF(DQ98<>0,DQ98,\"X\")","v":"X"},{"$f":"IF(DR98<>0,DR98,\"X\")","v":"X"},{"$f":"IF(DS98<>0,DS98,\"X\")","v":"X"},{"$f":"IF(DT98<>0,DT98,\"X\")","v":"X"},null,0,0,0,0,0,0,0,0,0,0,0,0,0,0,0,0,-5.5,0,0,0,0,0,0,0,0,0,0,0,null,null,null,null,null,null,null,null,null,null,null,null,null,null,null,null,null,23,null,null,null,null,null,null,null,null,null,null,null,null,"X-X-X-X-X-X-X-X-X-X-X-X-X-X-X-X-23-X-X- -X-X-X-X-X-X-X-X","X-X-X-X-X-X-X-X-X-X-X-X-X-X-X-X-0-X-X-X-X-X-X-X-X-X-X-X","X-X-X-X-X-X-X-X-X-X-X"]
["Weigelt","StB Weigelt (X-X-X-X-X-X-X-X-X-X-X)","StB Weigelt (X-X-X-X-X-X-X-X-X-X-X)",98,"StB Weigelt",79,{"$f":"SUM(BP99:CQ99)","v":-12},"",{"$f":"IF(COUNT(AM99:BN99)>$I$1,SUM(AM99:BN99)/COUNT(AM99:BN99),99)","v":99},"X","X","X","X","X","X","X","X","X","X","X","X","X","X","X","X","X","X","X","X","X","X","X","X","X","X",0,"X",null,"X","X","X","X","X","X","X","X","X","X","X","X","X","X","X","X","X","X","X",{"$f":"IF(DL99<>0,DL99,\"X\")","v":"X"},"X","X","X","X","X","X",25,"X",null,0,0,0,0,0,0,0,0,0,0,0,0,0,0,0,0,0,0,0,0,0,0,0,0,0,0,-12,0,null,null,null,null,null,null,null,null,null,null,null,null,null,null,null,null,null,null,null,null,null,null,null,null,null,null,null,25,null,null,"X-X-X-X-X-X-X-X-X-X-X-X-X-X-X-X-X-X-X-X-X-X-X-X-X-X-25-X","X-X-X-X-X-X-X-X-X-X-X-X-X-X-X-X-X-X-X-X-X-X-X-X-X-X-0-X","X-X-X-X-X-X-X-X-X-X-X"]
["Werner","Jutta Werner (X-X-X-X-X-X-X-X-X-X-5)",{"$f":"E100&\" (\"&DX100&\")\"","v":"Jutta Werner (X-X-X-X-X-X-X-X-X-X-5)"},99,"Jutta Werner",24,13,"",99,"X","X","X","X","X","X","X","X","X","X",5,"X","X","X","X","X","X","X","X","X","X","X","X","X","X","X","X","X",null,{"$f":"IF(CS100<>0,CS100,\"X\")","v":"X"},"X","X","X","X",{"$f":"IF(CX100<>0,CX100,\"X\")","v":"X"},{"$f":"IF(CY100<>0,CY100,\"X\")","v":"X"},{"$f":"IF(CZ100<>0,CZ100,\"X\")","v":"X"},{"$f":"IF(DA100<>0,DA100,\"X\")","v":"X"},{"$f":"IF(DB100<>0,DB100,\"X\")","v":"X"},5,"X","X","X","X","X","X","X","X","X","X","X","X","X","X","X","X","X",null,0,0,0,0,0,0,0,0,0,0,13,0,0,0,0,0,0,0,0,0,0,0,0,0,0,0,0,0,null,null,null,null,null,null,null,null,null,null,null,5,null,null,null,null,null,null,null,null,null,null,null,null,null,null,null,null,null,null,"X-X-X-X-X-X-X-X-X-X-5-X-X-X-X-X-X-X-X-X-X-X-X-X-X-X-X-X","X-X-X-X-X-X-X-X-X-X-5-X-X-X-X-X-X-X-X-X-X-X-X-X-X-X-X-X","X-X-X-X-X-X-X-X-X-X-5"]
["Werner","Karsten Werner (X-X-X-X-X-X-X-X-X-X-X)","Karsten Werner (X-X-X-X-X-X-X-X-X-X-X)",100,"Karsten Werner",60,-6,"",99,"X","X","X","X","X","X","X","X","X","X","X","X","X","X","X","X","X","X","X","X","X","X","X","X","X","X","X",0,null,"X","X","X","X","X","X","X","X","X","X","X","X","X","X","X","X","X","X","X","X","X","X","X","X","X","X","X",17,null,0,0,0,0,0,0,0,0,0,0,0,0,0,0,0,0,0,0,0,0,0,0,0,0,0,0,0,-6,null,null,null,null,null,null,null,null,null,null,null,null,null,null,null,null,null,null,null,null,null,null,null,null,null,null,null,null,17,null,"X-X-X-X-X-X-X-X-X-X-X-X-X-X-X-X-X-X-X-X-X-X-X-X-X-X-X-17","X-X-X-X-X-X-X-X-X-X-X-X-X-X-X-X-X-X-X-X-X-X-X-X-X-X-X-0","X-X-X-X-X-X-X-X-X-X-X"]
["Winkhart","Norbert Winkhart (X-X-X-X-X-X-X-X-X-X-X)","Norbert Winkhart (X-X-X-X-X-X-X-X-X-X-X)",101,"Norbert Winkhart",45,3.5,"",99,"X","X","X","X","X","X","X","X","X","X","X","X","X","X","X","X","X","X","X","X","X","X","X","X","X",7,"X","X",null,"X","X","X","X","X","X","X","X","X","X","X","X","X","X","X","X","X","X","X","X","X","X","X","X","X",7,"X","X",null,{"$f":"IF(CS102>0,BP$107-CS102,0)","v":0},0,0,0,0,0,0,{"$f":"IF(CZ102>0,BW$107-CZ102,0)","v":0},{"$f":"IF(DA102>0,BX$107-DA102,0)","v":0},{"$f":"IF(DB102>0,BY$107-DB102,0)","v":0},0,0,0,0,0,0,0,0,0,{"$f":"IF(DL102>0,CI$107-DL102,0)","v":0},0,0,0,0,0,3.5,0,0,null,null,null,null,null,null,null,null,null,null,null,null,null,null,null,null,null,null,null,null,null,null,null,null,null,null,7,null,null,null,"X-X-X-X-X-X-X-X-X-X-X-X-X-X-X-X-X-X-X-X-X-X-X-X-X-7-X-X","X-X-X-X-X-X-X-X-X-X-X-X-X-X-X-X-X-X-X-X-X-X-X-X-X-7-X-X","X-X-X-X-X-X-X-X-X-X-X"]
["Zavornik","Robert Zavornik (X-X-X-X-13-20-19-X-29-22-17)","Robert Zavornik (X-X-X-X-13-20-19-X-29-22-17)",102,"Robert Zavornik",102,-62.5,50,19.105263157894736,"X","X","X","X",0,0,0,"X",0,0,0,0,0,0,0,0,0,7,0,0,"X",0,9,0,0,"X","X","X",null,"X","X","X","X",13,20,19,"X",29,22,17,13,30,30,29,15,11,7,22,29,"X",18,9,11,19,"X","X","X",null,0,0,0,0,1.5,-5,-2.5,0,-11.5,-4.5,1,3,-13,-14.5,-13.5,0.5,6.5,8,-5.5,-10.5,0,-5,6.5,2.5,-6.5,0,0,0,null,null,null,null,null,13,20,19,null,29,22,17,13,30,30,29,15,11,7,22,29,null,18,9,11,19,null,null,null,null,"X-X-X-X-13-20-19-X-29-22-17-13-30-30-29-15-11-7-22-29-X-18-9-11-19-X-X-X","X-X-X-X-0-0-0-X-0-0-0-0-0-0-0-0-0-7-0-0-X-0-9-0-0-X-X-X","X-X-X-X-13-20-19-X-29-22-17"]
["Zinkant","Alexander Zinkant (X-X-X-X-X-X-X-X-X-X-X)","Alexander Zinkant (X-X-X-X-X-X-X-X-X-X-X)",103,"Alexander Zinkant",85,-15,"",99,"X","X","X","X","X","X","X","X","X","X","X","X",0,"X","X","X","X","X","X","X","X","X","X","X","X","X","X","X",null,"X","X","X","X","X","X","X","X","X","X","X","X",32,"X","X","X","X","X","X","X","X","X","X","X","X","X","X","X",null,0,0,0,0,0,0,0,0,0,0,0,0,-15,0,0,0,0,0,0,0,0,0,0,0,0,0,0,0,null,null,null,null,null,null,null,null,null,null,null,null,null,32,null,null,null,null,null,null,null,null,null,null,null,null,null,null,null,null,"X-X-X-X-X-X-X-X-X-X-X-X-32-X-X-X-X-X-X-X-X-X-X-X-X-X-X-X","X-X-X-X-X-X-X-X-X-X-X-X-0-X-X-X-X-X-X-X-X-X-X-X-X-X-X-X","X-X-X-X-X-X-X-X-X-X-X"]
["Zoske","Manfred Zoske (X-X-X-X-X-X-X-X-X-X-X)","Manfred Zoske (X-X-X-X-X-X-X-X-X-X-X)",104,"Manfred Zoske",29,11,"",99,"X","X","X","X","X","X","X","X","X","X","X","X","X","X","X","X","X",4,"X","X","X","X","X","X","X","X","X","X",null,"X","X","X","X","X","X","X","X","X","X","X","X","X","X","X","X","X",4,"X","X","X","X","X","X","X","X","X","X",null,0,0,0,0,0,0,0,0,0,0,0,0,0,0,0,0,0,11,0,0,0,0,0,0,0,0,0,0,null,null,null,null,null,null,null,null,null,null,null,null,null,null,null,null,null,null,4,null,null,null,null,null,null,null,null,null,null,null,"X-X-X-X-X-X-X-X-X-X-X-X-X-X-X-X-X-4-X-X-X-X-X-X-X-X-X-X","X-X-X-X-X-X-X-X-X-X-X-X-X-X-X-X-X-4-X-X-X-X-X-X-X-X-X-X","X-X-X-X-X-X-X-X-X-X-X"]
["Zweck","Hermann Zweck (X-X-X-X-X-X-X-X-X-X-X)","Hermann Zweck (X-X-X-X-X-X-X-X-X-X-X)",105,"Hermann Zweck",75,-10.5,"",99,"X","X","X","X","X","X","X","X","X","X","X","X","X","X","X","X","X","X","X","X","X","X","X",0,"X","X","X","X",null,"X","X","X","X","X","X","X","X","X","X","X","X","X","X","X","X","X","X","X","X","X","X","X",24,"X","X","X","X",null,0,0,0,0,0,0,0,0,0,0,0,0,0,0,0,0,0,0,0,0,0,0,0,-10.5,0,0,0,0,null,null,null,null,null,null,null,null,null,null,null,null,null,null,null,null,null,null,null,null,null,null,null,null,24,null,null,null,null,null,"X-X-X-X-X-X-X-X-X-X-X-X-X-X-X-X-X-X-X-X-X-X-X-24-X-X-X-X","X-X-X-X-X-X-X-X-X-X-X-X-X-X-X-X-X-X-X-X-X-X-X-0-X-X-X-X","X-X-X-X-X-X-X-X-X-X-X"]
[null,null,null,null,null,null,null,null,null,null,null,null,null,null,null,null,null,null,null,null,null,null,null,null,null,null,null,null,null,null,null,null,null,null,null,null,null,null,null,null,null,null,null,null,null,null,null,null,null,null,null,null,null,null,null,null,null,null,null,null,null,null,null,null,null,null,null,{"$f":"CS107/2+0.5","v":13},12.5,12.5,12.5,14.5,15,16.5,15.5,17.5,17.5,18,16,17,15.5,15.5,15.5,17.5,15,16.5,18.5,12,13,15.5,13.5,12.5,10.5,13,11,null,{"$f":"COUNT(CS2:CS106)","v":25},24,24,24,28,29,32,30,34,34,35,31,33,30,30,30,34,29,32,36,23,25,30,26,24,20,25,21]
[null,null,null,null,null,null,null,null,null,null,null,null,null,null,null,null,null,null,null,null,null,112,{"$f":"V108-1","v":111},110,109,108,107,106,105,104,103,102,101,100,99,98,97,96,{"$f":"AK108-1","v":96},{"$f":"AL108-1","v":95},94,{"$f":"AO108-1","v":93},92,91,90,89,88,87,86]
[null,null,null,null,null,1,null,null,null,null,null,null,null,null,null,null,null,null,null,null,null,{"$f":"IF(VLOOKUP($F109,$D$1:$DT$106,V$108,FALSE)>0,VLOOKUP($F109,$D$1:$DT$106,V$108,FALSE),#N/A)","v":"0405"},"0506","0607","07/08","08/09","09/10","10/11","11/12","12/13","13/14","14/15","15/16","16/17","17/18","18/19","19/20","20/21","20/21","21/22","22/23"]
[null,null,null,null,{"$f":"IFERROR(VLOOKUP($F110,$D$2:$DT$106,2,FALSE),\"\")","v":"Ellen Flöttmann"},29,null,null,null,null,null,null,null,null,null,null,null,null,null,null,null,{"$f":"IF(VLOOKUP($F110,$D$2:$DT$106,V$108,FALSE)>0,VLOOKUP($F110,$D$2:$DT$106,V$108,FALSE),#N/A)","v":{"$error":"#N/A"}},{"$f":"IF(VLOOKUP($F110,$D$2:$DT$106,W$108,FALSE)>0,VLOOKUP($F110,$D$2:$DT$106,W$108,FALSE),#N/A)","v":21},9,{"$error":"#N/A"},17,26,23,30,7,10,23,19,7,19,5,9,6,6,2,10]
[null,null,null,null,{"$f":"IFERROR(VLOOKUP($F111,$D$2:$DT$106,2,FALSE),\"\")","v":"Wilfried Franke"},30,null,null,null,null,null,null,null,null,null,null,null,null,null,null,null,{"$f":"IF(VLOOKUP($F111,$D$2:$DT$106,V$108,FALSE)>0,VLOOKUP($F111,$D$2:$DT$106,V$108,FALSE),#N/A)","v":20},19,1,24,18,8,12,9,31,5,11,11,9,7,19,15,5,5,20,22]
[null,null,null,null,{"$f":"IFERROR(VLOOKUP($F112,$D$2:$DT$106,2,FALSE),\"\")","v":"Sabine Gallach"},33,null,null,null,null,null,null,null,null,null,null,null,null,null,null,null,{"$f":"IF(VLOOKUP($F112,$D$2:$DT$106,V$108,FALSE)>0,VLOOKUP($F112,$D$2:$DT$106,V$108,FALSE),#N/A)","v":17},{"$error":"#N/A"},23,25,{"$error":"#N/A"},29,22,22,13,31,19,17,12,23,10,14,17,17,14,4]
[null,null,null,null,{"$f":"IFERROR(VLOOKUP($F113,$D$2:$DT$106,2,FALSE),\"\")","v":"Dietmar Gallach"},32,null,null,null,null,null,null,null,null,null,null,null,null,null,null,null,{"$f":"IF(VLOOKUP($F113,$D$2:$DT$106,V$108,FALSE)>0,VLOOKUP($F113,$D$2:$DT$106,V$108,FALSE),#N/A)","v":{"$error":"#N/A"}},{"$error":"#N/A"},14,8,{"$error":"#N/A"},4,8,17,4,15,6,11,9,27,6,17,21,21,10,25]

{"sheet":"Platz","index":8,"n_rows":29,"n_cols":35,"rows_kept":29,"cut":false,"hidden":false,"merged":[[2,1,2,17],[2,18,2,34]]}
[null,1,15,2,16]
[null,{"$f":"IF(COUNT('1. Liga'!$A$5:'1. Liga'!$A$443)>=1,1,0)","v":1},{"$f":"IF(COUNT('1. Liga'!$A$5:'1. Liga'!$A$443)>=2,2,0)","v":2},{"$f":"IF(COUNT('1. Liga'!$A$5:'1. Liga'!$A$443)>=3,3,0)","v":3},{"$f":"IF(COUNT('1. Liga'!$A$5:'1. Liga'!$A$443)>=4,4,0)","v":4},{"$f":"IF(COUNT('1. Liga'!$A$5:'1. Liga'!$A$443)>=5,5,0)","v":5},{"$f":"IF(COUNT('1. Liga'!$A$5:'1. Liga'!$A$443)>=6,6,0)","v":6},{"$f":"IF(COUNT('1. Liga'!$A$5:'1. Liga'!$A$443)>=7,7,0)","v":7},{"$f":"IF(COUNT('1. Liga'!$A$5:'1. Liga'!$A$443)>=8,8,0)","v":8},{"$f":"IF(COUNT('1. Liga'!$A$5:'1. Liga'!$A$443)>=9,9,0)","v":9},{"$f":"IF(COUNT('1. Liga'!$A$5:'1. Liga'!$A$443)>=10,10,0)","v":10},{"$f":"IF(COUNT('1. Liga'!$A$5:'1. Liga'!$A$443)>=11,11,0)","v":11},{"$f":"IF(COUNT('1. Liga'!$A$5:'1. Liga'!$A$443)>=12,12,0)","v":12},{"$f":"IF(COUNT('1. Liga'!$A$5:'1. Liga'!$A$443)>=13,13,0)","v":13},{"$f":"IF(COUNT('1. Liga'!$A$5:'1. Liga'!$A$443)>=14,14,0)","v":14},{"$f":"IF(COUNT('1. Liga'!$A$5:'1. Liga'!$A$443)>=15,15,0)","v":15},{"$f":"IF(COUNT('1. Liga'!$A$5:'1. Liga'!$A$443)>=16,16,0)","v":16},{"$f":"IF(COUNT('1. Liga'!$A$5:'1. Liga'!$A$443)>=17,17,0)","v":17},{"$f":"IF(COUNT('1. Liga'!$A$5:'1. Liga'!$A$443)>=18,18,0)","v":18},{"$f":"IF(COUNT('1. Liga'!$A$5:'1. Liga'!$A$443)>=19,19,0)","v":19},{"$f":"IF(COUNT('1. Liga'!$A$5:'1. Liga'!$A$443)>=20,20,0)","v":20},{"$f":"IF(COUNT('1. Liga'!$A$5:'1. Liga'!$A$443)>=21,21,0)","v":21},{"$f":"IF(COUNT('1. Liga'!$A$5:'1. Liga'!$A$443)>=22,22,0)","v":22},{"$f":"IF(COUNT('1. Liga'!$A$5:'1. Liga'!$A$443)>=23,23,0)","v":23},{"$f":"IF(COUNT('1. Liga'!$A$5:'1. Liga'!$A$443)>=24,24,0)","v":24},{"$f":"IF(COUNT('1. Liga'!$A$5:'1. Liga'!$A$443)>=25,25,0)","v":25},{"$f":"IF(COUNT('1. Liga'!$A$5:'1. Liga'!$A$443)>=26,26,0)","v":26},{"$f":"IF(COUNT('1. Liga'!$A$5:'1. Liga'!$A$443)>=27,27,0)","v":27},{"$f":"IF(COUNT('1. Liga'!$A$5:'1. Liga'!$A$443)>=28,28,0)","v":28},{"$f":"IF(COUNT('1. Liga'!$A$5:'1. Liga'!$A$443)>=29,29,0)","v":29},{"$f":"IF(COUNT('1. Liga'!$A$5:'1. Liga'!$A$443)>=30,30,0)","v":30},{"$f":"IF(COUNT('1. Liga'!$A$5:'1. Liga'!$A$443)>=31,31,0)","v":31},{"$f":"IF(COUNT('1. Liga'!$A$5:'1. Liga'!$A$443)>=32,32,0)","v":32},{"$f":"IF(COUNT('1. Liga'!$A$5:'1. Liga'!$A$443)>=33,33,0)","v":33},{"$f":"IF(COUNT('1. Liga'!$A$5:'1. Liga'!$A$443)>=34,34,0)","v":34}]
[null,"Hinrunde",null,null,null,null,null,null,null,null,null,null,null,null,null,null,null,null,"Rückrunde"]
[{"$f":"'1. Liga'!C6","v":"SV Werder Bremen"},{"$f":"IF(B$2<>0,'1. Liga'!$R$16,0)","v":17},{"$f":"IF(C$2<>0,'1. Liga'!$R$29,0)","v":18},{"$f":"IF(D$2<>0,'1. Liga'!$R$42,0)","v":11},{"$f":"IF(E$2<>0,'1. Liga'!$R$55,0)","v":12},{"$f":"IF(F$2<>0,'1. Liga'!$R$68,0)","v":11},{"$f":"IF(G$2<>0,'1. Liga'!$R$81,0)","v":12},{"$f":"IF(H$2<>0,'1. Liga'!$R$94,0)","v":14},{"$f":"IF(I$2<>0,'1. Liga'!$R$107,0)","v":14},{"$f":"IF(J$2<>0,'1. Liga'!$R$120,0)","v":12},{"$f":"IF(K$2<>0,'1. Liga'!$R$133,0)","v":12},{"$f":"IF(L$2<>0,'1. Liga'!$R$146,0)","v":12},{"$f":"IF(M$2<>0,'1. Liga'!$R$159,0)","v":12},{"$f":"IF(N$2<>0,'1. Liga'!$R$172,0)","v":13},{"$f":"IF(O$2<>0,'1. Liga'!$R$185,0)","v":12},{"$f":"IF(P$2<>0,'1. Liga'!$R$198,0)","v":14},{"$f":"IF(Q$2<>0,'1. Liga'!$R$211,0)","v":13},{"$f":"IF(R$2<>0,'1. Liga'!$R$224,0)","v":13},{"$f":"IF(S$2<>0,'1. Liga'!$R$237,0)","v":13},{"$f":"IF(T$2<>0,'1. Liga'!$R$250,0)","v":9},{"$f":"IF(U$2<>0,'1. Liga'!$R$263,0)","v":9},{"$f":"IF(V$2<>0,'1. Liga'!$R$276,0)","v":10},{"$f":"IF(W$2<>0,'1. Liga'!$R$289,0)","v":7},{"$f":"IF(X$2<>0,'1. Liga'!$R$302,0)","v":8},{"$f":"IF(Y$2<>0,'1. Liga'!$R$315,0)","v":8},{"$f":"IF(Z$2<>0,'1. Liga'!$R$328,0)","v":10},{"$f":"IF(AA$2<>0,'1. Liga'!$R$341,0)","v":10},{"$f":"IF(AB$2<>0,'1. Liga'!$R$354,0)","v":10},{"$f":"IF(AC$2<>0,'1. Liga'!$R$367,0)","v":12},{"$f":"IF(AD$2<>0,'1. Liga'!$R$380,0)","v":12},{"$f":"IF(AE$2<>0,'1. Liga'!$R$393,0)","v":11},{"$f":"IF(AF$2<>0,'1. Liga'!$R$406,0)","v":11},{"$f":"IF(AG$2<>0,'1. Liga'!$R$419,0)","v":11},{"$f":"IF(AH$2<>0,'1. Liga'!$R$432,0)","v":11},{"$f":"IF(AI$2<>0,'1. Liga'!$R$445,0)","v":9}]
[{"$f":"'1. Liga'!E6","v":"FC Bayern München"},{"$f":"IF(B$2<>0,'1. Liga'!$S$16,0)","v":2},{"$f":"IF(C$2<>0,'1. Liga'!$S$29,0)","v":2},{"$f":"IF(D$2<>0,'1. Liga'!$S$42,0)","v":2},{"$f":"IF(E$2<>0,'1. Liga'!$S$55,0)","v":2},{"$f":"IF(F$2<>0,'1. Liga'!$S$68,0)","v":1},{"$f":"IF(G$2<>0,'1. Liga'!$S$81,0)","v":3},{"$f":"IF(H$2<>0,'1. Liga'!$S$94,0)","v":3},{"$f":"IF(I$2<>0,'1. Liga'!$S$107,0)","v":3},{"$f":"IF(J$2<>0,'1. Liga'!$S$120,0)","v":2},{"$f":"IF(K$2<>0,'1. Liga'!$S$133,0)","v":2},{"$f":"IF(L$2<>0,'1. Liga'!$S$146,0)","v":2},{"$f":"IF(M$2<>0,'1. Liga'!$S$159,0)","v":2},{"$f":"IF(N$2<>0,'1. Liga'!$S$172,0)","v":1},{"$f":"IF(O$2<>0,'1. Liga'!$S$185,0)","v":2},{"$f":"IF(P$2<>0,'1. Liga'!$S$198,0)","v":2},{"$f":"IF(Q$2<>0,'1. Liga'!$S$211,0)","v":2},{"$f":"IF(R$2<>0,'1. Liga'!$S$224,0)","v":2},{"$f":"IF(S$2<>0,'1. Liga'!$S$237,0)","v":2},{"$f":"IF(T$2<>0,'1. Liga'!$S$250,0)","v":2},{"$f":"IF(U$2<>0,'1. Liga'!$S$263,0)","v":2},{"$f":"IF(V$2<>0,'1. Liga'!$S$276,0)","v":2},{"$f":"IF(W$2<>0,'1. Liga'!$S$289,0)","v":2},{"$f":"IF(X$2<>0,'1. Liga'!$S$302,0)","v":2},{"$f":"IF(Y$2<>0,'1. Liga'!$S$315,0)","v":2},{"$f":"IF(Z$2<>0,'1. Liga'!$S$328,0)","v":2},{"$f":"IF(AA$2<>0,'1. Liga'!$S$341,0)","v":2},{"$f":"IF(AB$2<>0,'1. Liga'!$S$354,0)","v":2},{"$f":"IF(AC$2<>0,'1. Liga'!$S$367,0)","v":2},{"$f":"IF(AD$2<>0,'1. Liga'!$S$380,0)","v":2},{"$f":"IF(AE$2<>0,'1. Liga'!$S$393,0)","v":2},{"$f":"IF(AF$2<>0,'1. Liga'!$S$406,0)","v":2},{"$f":"IF(AG$2<>0,'1. Liga'!$S$419,0)","v":2},{"$f":"IF(AH$2<>0,'1. Liga'!$S$432,0)","v":2},{"$f":"IF(AI$2<>0,'1. Liga'!$S$445,0)","v":3}]
[{"$f":"'1. Liga'!C7","v":"VfB Stuttgart"},{"$f":"IF(B$2<>0,'1. Liga'!$T$16,0)","v":1},{"$f":"IF(C$2<>0,'1. Liga'!$T$29,0)","v":9},{"$f":"IF(D$2<>0,'1. Liga'!$T$42,0)","v":3},{"$f":"IF(E$2<>0,'1. Liga'!$T$55,0)","v":4},{"$f":"IF(F$2<>0,'1. Liga'!$T$68,0)","v":3},{"$f":"IF(G$2<>0,'1. Liga'!$T$81,0)","v":2},{"$f":"IF(H$2<>0,'1. Liga'!$T$94,0)","v":2},{"$f":"IF(I$2<>0,'1. Liga'!$T$107,0)","v":2},{"$f":"IF(J$2<>0,'1. Liga'!$T$120,0)","v":3},{"$f":"IF(K$2<>0,'1. Liga'!$T$133,0)","v":3},{"$f":"IF(L$2<>0,'1. Liga'!$T$146,0)","v":3},{"$f":"IF(M$2<>0,'1. Liga'!$T$159,0)","v":3},{"$f":"IF(N$2<>0,'1. Liga'!$T$172,0)","v":3},{"$f":"IF(O$2<>0,'1. Liga'!$T$185,0)","v":3},{"$f":"IF(P$2<>0,'1. Liga'!$T$198,0)","v":4},{"$f":"IF(Q$2<>0,'1. Liga'!$T$211,0)","v":3},{"$f":"IF(R$2<>0,'1. Liga'!$T$224,0)","v":3},{"$f":"IF(S$2<>0,'1. Liga'!$T$237,0)","v":3},{"$f":"IF(T$2<>0,'1. Liga'!$T$250,0)","v":3},{"$f":"IF(U$2<>0,'1. Liga'!$T$263,0)","v":3},{"$f":"IF(V$2<>0,'1. Liga'!$T$276,0)","v":3},{"$f":"IF(W$2<>0,'1. Liga'!$T$289,0)","v":3},{"$f":"IF(X$2<>0,'1. Liga'!$T$302,0)","v":3},{"$f":"IF(Y$2<>0,'1. Liga'!$T$315,0)","v":3},{"$f":"IF(Z$2<>0,'1. Liga'!$T$328,0)","v":3},{"$f":"IF(AA$2<>0,'1. Liga'!$T$341,0)","v":3},{"$f":"IF(AB$2<>0,'1. Liga'!$T$354,0)","v":3},{"$f":"IF(AC$2<>0,'1. Liga'!$T$367,0)","v":3},{"$f":"IF(AD$2<>0,'1. Liga'!$T$380,0)","v":3},{"$f":"IF(AE$2<>0,'1. Liga'!$T$393,0)","v":3},{"$f":"IF(AF$2<>0,'1. Liga'!$T$406,0)","v":3},{"$f":"IF(AG$2<>0,'1. Liga'!$T$419,0)","v":3},{"$f":"IF(AH$2<>0,'1. Liga'!$T$432,0)","v":3},{"$f":"IF(AI$2<>0,'1. Liga'!$T$445,0)","v":2}]
[{"$f":"'1. Liga'!E7","v":"VfL Bochum 1848"},{"$f":"IF(B$2<>0,'1. Liga'!$U$16,0)","v":18},{"$f":"IF(C$2<>0,'1. Liga'!$U$29,0)","v":14},{"$f":"IF(D$2<>0,'1. Liga'!$U$42,0)","v":13},{"$f":"IF(E$2<>0,'1. Liga'!$U$55,0)","v":13},{"$f":"IF(F$2<>0,'1. Liga'!$U$68,0)","v":14},{"$f":"IF(G$2<>0,'1. Liga'!$U$81,0)","v":16},{"$f":"IF(H$2<>0,'1. Liga'!$U$94,0)","v":16},{"$f":"IF(I$2<>0,'1. Liga'!$U$107,0)","v":17},{"$f":"IF(J$2<>0,'1. Liga'!$U$120,0)","v":16},{"$f":"IF(K$2<>0,'1. Liga'!$U$133,0)","v":14},{"$f":"IF(L$2<>0,'1. Liga'!$U$146,0)","v":14},{"$f":"IF(M$2<>0,'1. Liga'!$U$159,0)","v":14},{"$f":"IF(N$2<>0,'1. Liga'!$U$172,0)","v":12},{"$f":"IF(O$2<>0,'1. Liga'!$U$185,0)","v":14},{"$f":"IF(P$2<>0,'1. Liga'!$U$198,0)","v":13},{"$f":"IF(Q$2<>0,'1. Liga'!$U$211,0)","v":14},{"$f":"IF(R$2<>0,'1. Liga'!$U$224,0)","v":14},{"$f":"IF(S$2<>0,'1. Liga'!$U$237,0)","v":14},{"$f":"IF(T$2<>0,'1. Liga'!$U$250,0)","v":14},{"$f":"IF(U$2<>0,'1. Liga'!$U$263,0)","v":14},{"$f":"IF(V$2<>0,'1. Liga'!$U$276,0)","v":14},{"$f":"IF(W$2<>0,'1. Liga'!$U$289,0)","v":11},{"$f":"IF(X$2<>0,'1. Liga'!$U$302,0)","v":15},{"$f":"IF(Y$2<>0,'1. Liga'!$U$315,0)","v":15},{"$f":"IF(Z$2<>0,'1. Liga'!$U$328,0)","v":15},{"$f":"IF(AA$2<>0,'1. Liga'!$U$341,0)","v":15},{"$f":"IF(AB$2<>0,'1. Liga'!$U$354,0)","v":15},{"$f":"IF(AC$2<>0,'1. Liga'!$U$367,0)","v":15},{"$f":"IF(AD$2<>0,'1. Liga'!$U$380,0)","v":15},{"$f":"IF(AE$2<>0,'1. Liga'!$U$393,0)","v":16},{"$f":"IF(AF$2<>0,'1. Liga'!$U$406,0)","v":15},{"$f":"IF(AG$2<>0,'1. Liga'!$U$419,0)","v":14},{"$f":"IF(AH$2<>0,'1. Liga'!$U$432,0)","v":14},{"$f":"IF(AI$2<>0,'1. Liga'!$U$445,0)","v":16}]
[{"$f":"'1. Liga'!C8","v":"Borussia Dortmund"},{"$f":"IF(B$2<>0,'1. Liga'!$V$16,0)","v":7},{"$f":"IF(C$2<>0,'1. Liga'!$V$29,0)","v":6},{"$f":"IF(D$2<>0,'1. Liga'!$V$42,0)","v":9},{"$f":"IF(E$2<>0,'1. Liga'!$V$55,0)","v":7},{"$f":"IF(F$2<>0,'1. Liga'!$V$68,0)","v":6},{"$f":"IF(G$2<>0,'1. Liga'!$V$81,0)","v":4},{"$f":"IF(H$2<>0,'1. Liga'!$V$94,0)","v":4},{"$f":"IF(I$2<>0,'1. Liga'!$V$107,0)","v":4},{"$f":"IF(J$2<>0,'1. Liga'!$V$120,0)","v":4},{"$f":"IF(K$2<>0,'1. Liga'!$V$133,0)","v":4},{"$f":"IF(L$2<>0,'1. Liga'!$V$146,0)","v":5},{"$f":"IF(M$2<>0,'1. Liga'!$V$159,0)","v":4},{"$f":"IF(N$2<>0,'1. Liga'!$V$172,0)","v":5},{"$f":"IF(O$2<>0,'1. Liga'!$V$185,0)","v":5},{"$f":"IF(P$2<>0,'1. Liga'!$V$198,0)","v":5},{"$f":"IF(Q$2<>0,'1. Liga'!$V$211,0)","v":5},{"$f":"IF(R$2<>0,'1. Liga'!$V$224,0)","v":5},{"$f":"IF(S$2<>0,'1. Liga'!$V$237,0)","v":5},{"$f":"IF(T$2<>0,'1. Liga'!$V$250,0)","v":4},{"$f":"IF(U$2<>0,'1. Liga'!$V$263,0)","v":4},{"$f":"IF(V$2<>0,'1. Liga'!$V$276,0)","v":4},{"$f":"IF(W$2<>0,'1. Liga'!$V$289,0)","v":4},{"$f":"IF(X$2<>0,'1. Liga'!$V$302,0)","v":4},{"$f":"IF(Y$2<>0,'1. Liga'!$V$315,0)","v":4},{"$f":"IF(Z$2<>0,'1. Liga'!$V$328,0)","v":4},{"$f":"IF(AA$2<>0,'1. Liga'!$V$341,0)","v":4},{"$f":"IF(AB$2<>0,'1. Liga'!$V$354,0)","v":4},{"$f":"IF(AC$2<>0,'1. Liga'!$V$367,0)","v":5},{"$f":"IF(AD$2<>0,'1. Liga'!$V$380,0)","v":5},{"$f":"IF(AE$2<>0,'1. Liga'!$V$393,0)","v":5},{"$f":"IF(AF$2<>0,'1. Liga'!$V$406,0)","v":5},{"$f":"IF(AG$2<>0,'1. Liga'!$V$419,0)","v":5},{"$f":"IF(AH$2<>0,'1. Liga'!$V$432,0)","v":5},{"$f":"IF(AI$2<>0,'1. Liga'!$V$445,0)","v":5}]
[{"$f":"'1. Liga'!E8","v":"1. FC Köln"},{"$f":"IF(B$2<>0,'1. Liga'!$W$16,0)","v":13},{"$f":"IF(C$2<>0,'1. Liga'!$W$29,0)","v":15},{"$f":"IF(D$2<>0,'1. Liga'!$W$42,0)","v":14},{"$f":"IF(E$2<>0,'1. Liga'!$W$55,0)","v":16},{"$f":"IF(F$2<>0,'1. Liga'!$W$68,0)","v":16},{"$f":"IF(G$2<>0,'1. Liga'!$W$81,0)","v":17},{"$f":"IF(H$2<>0,'1. Liga'!$W$94,0)","v":18},{"$f":"IF(I$2<>0,'1. Liga'!$W$107,0)","v":16},{"$f":"IF(J$2<>0,'1. Liga'!$W$120,0)","v":17},{"$f":"IF(K$2<>0,'1. Liga'!$W$133,0)","v":18},{"$f":"IF(L$2<>0,'1. Liga'!$W$146,0)","v":17},{"$f":"IF(M$2<>0,'1. Liga'!$W$159,0)","v":18},{"$f":"IF(N$2<>0,'1. Liga'!$W$172,0)","v":15},{"$f":"IF(O$2<>0,'1. Liga'!$W$185,0)","v":16},{"$f":"IF(P$2<>0,'1. Liga'!$W$198,0)","v":15},{"$f":"IF(Q$2<>0,'1. Liga'!$W$211,0)","v":17},{"$f":"IF(R$2<>0,'1. Liga'!$W$224,0)","v":17},{"$f":"IF(S$2<>0,'1. Liga'!$W$237,0)","v":17},{"$f":"IF(T$2<>0,'1. Liga'!$W$250,0)","v":17},{"$f":"IF(U$2<>0,'1. Liga'!$W$263,0)","v":16},{"$f":"IF(V$2<>0,'1. Liga'!$W$276,0)","v":16},{"$f":"IF(W$2<>0,'1. Liga'!$W$289,0)","v":16},{"$f":"IF(X$2<>0,'1. Liga'!$W$302,0)","v":16},{"$f":"IF(Y$2<>0,'1. Liga'!$W$315,0)","v":16},{"$f":"IF(Z$2<>0,'1. Liga'!$W$328,0)","v":16},{"$f":"IF(AA$2<>0,'1. Liga'!$W$341,0)","v":17},{"$f":"IF(AB$2<>0,'1. Liga'!$W$354,0)","v":17},{"$f":"IF(AC$2<>0,'1. Liga'!$W$367,0)","v":17},{"$f":"IF(AD$2<>0,'1. Liga'!$W$380,0)","v":17},{"$f":"IF(AE$2<>0,'1. Liga'!$W$393,0)","v":17},{"$f":"IF(AF$2<>0,'1. Liga'!$W$406,0)","v":17},{"$f":"IF(AG$2<>0,'1. Liga'!$W$419,0)","v":17},{"$f":"IF(AH$2<>0,'1. Liga'!$W$432,0)","v":17},{"$f":"IF(AI$2<>0,'1. Liga'!$W$445,0)","v":17}]
[{"$f":"'1. Liga'!C9","v":"Eintracht Frankfurt"},{"$f":"IF(B$2<>0,'1. Liga'!$X$16,0)","v":7},{"$f":"IF(C$2<>0,'1. Liga'!$X$29,0)","v":6},{"$f":"IF(D$2<>0,'1. Liga'!$X$42,0)","v":10},{"$f":"IF(E$2<>0,'1. Liga'!$X$55,0)","v":9},{"$f":"IF(F$2<>0,'1. Liga'!$X$68,0)","v":8},{"$f":"IF(G$2<>0,'1. Liga'!$X$81,0)","v":9},{"$f":"IF(H$2<>0,'1. Liga'!$X$94,0)","v":8},{"$f":"IF(I$2<>0,'1. Liga'!$X$107,0)","v":7},{"$f":"IF(J$2<>0,'1. Liga'!$X$120,0)","v":7},{"$f":"IF(K$2<>0,'1. Liga'!$X$133,0)","v":7},{"$f":"IF(L$2<>0,'1. Liga'!$X$146,0)","v":7},{"$f":"IF(M$2<>0,'1. Liga'!$X$159,0)","v":7},{"$f":"IF(N$2<>0,'1. Liga'!$X$172,0)","v":7},{"$f":"IF(O$2<>0,'1. Liga'!$X$185,0)","v":7},{"$f":"IF(P$2<>0,'1. Liga'!$X$198,0)","v":8},{"$f":"IF(Q$2<>0,'1. Liga'!$X$211,0)","v":6},{"$f":"IF(R$2<>0,'1. Liga'!$X$224,0)","v":6},{"$f":"IF(S$2<>0,'1. Liga'!$X$237,0)","v":6},{"$f":"IF(T$2<>0,'1. Liga'!$X$250,0)","v":6},{"$f":"IF(U$2<>0,'1. Liga'!$X$263,0)","v":6},{"$f":"IF(V$2<>0,'1. Liga'!$X$276,0)","v":6},{"$f":"IF(W$2<>0,'1. Liga'!$X$289,0)","v":6},{"$f":"IF(X$2<>0,'1. Liga'!$X$302,0)","v":6},{"$f":"IF(Y$2<>0,'1. Liga'!$X$315,0)","v":6},{"$f":"IF(Z$2<>0,'1. Liga'!$X$328,0)","v":6},{"$f":"IF(AA$2<>0,'1. Liga'!$X$341,0)","v":6},{"$f":"IF(AB$2<>0,'1. Liga'!$X$354,0)","v":6},{"$f":"IF(AC$2<>0,'1. Liga'!$X$367,0)","v":6},{"$f":"IF(AD$2<>0,'1. Liga'!$X$380,0)","v":6},{"$f":"IF(AE$2<>0,'1. Liga'!$X$393,0)","v":6},{"$f":"IF(AF$2<>0,'1. Liga'!$X$406,0)","v":6},{"$f":"IF(AG$2<>0,'1. Liga'!$X$419,0)","v":6},{"$f":"IF(AH$2<>0,'1. Liga'!$X$432,0)","v":6},{"$f":"IF(AI$2<>0,'1. Liga'!$X$445,0)","v":6}]
[{"$f":"'1. Liga'!E9","v":"SV Darmstadt 98"},{"$f":"IF(B$2<>0,'1. Liga'!$Y$16,0)","v":13},{"$f":"IF(C$2<>0,'1. Liga'!$Y$29,0)","v":17},{"$f":"IF(D$2<>0,'1. Liga'!$Y$42,0)","v":18},{"$f":"IF(E$2<>0,'1. Liga'!$Y$55,0)","v":17},{"$f":"IF(F$2<>0,'1. Liga'!$Y$68,0)","v":17},{"$f":"IF(G$2<>0,'1. Liga'!$Y$81,0)","v":15},{"$f":"IF(H$2<>0,'1. Liga'!$Y$94,0)","v":11},{"$f":"IF(I$2<>0,'1. Liga'!$Y$107,0)","v":12},{"$f":"IF(J$2<>0,'1. Liga'!$Y$120,0)","v":14},{"$f":"IF(K$2<>0,'1. Liga'!$Y$133,0)","v":15},{"$f":"IF(L$2<>0,'1. Liga'!$Y$146,0)","v":15},{"$f":"IF(M$2<>0,'1. Liga'!$Y$159,0)","v":15},{"$f":"IF(N$2<>0,'1. Liga'!$Y$172,0)","v":16},{"$f":"IF(O$2<>0,'1. Liga'!$Y$185,0)","v":18},{"$f":"IF(P$2<>0,'1. Liga'!$Y$198,0)","v":18},{"$f":"IF(Q$2<>0,'1. Liga'!$Y$211,0)","v":18},{"$f":"IF(R$2<>0,'1. Liga'!$Y$224,0)","v":18},{"$f":"IF(S$2<>0,'1. Liga'!$Y$237,0)","v":18},{"$f":"IF(T$2<>0,'1. Liga'!$Y$250,0)","v":18},{"$f":"IF(U$2<>0,'1. Liga'!$Y$263,0)","v":18},{"$f":"IF(V$2<>0,'1. Liga'!$Y$276,0)","v":18},{"$f":"IF(W$2<>0,'1. Liga'!$Y$289,0)","v":18},{"$f":"IF(X$2<>0,'1. Liga'!$Y$302,0)","v":18},{"$f":"IF(Y$2<>0,'1. Liga'!$Y$315,0)","v":18},{"$f":"IF(Z$2<>0,'1. Liga'!$Y$328,0)","v":18},{"$f":"IF(AA$2<>0,'1. Liga'!$Y$341,0)","v":18},{"$f":"IF(AB$2<>0,'1. Liga'!$Y$354,0)","v":18},{"$f":"IF(AC$2<>0,'1. Liga'!$Y$367,0)","v":18},{"$f":"IF(AD$2<>0,'1. Liga'!$Y$380,0)","v":18},{"$f":"IF(AE$2<>0,'1. Liga'!$Y$393,0)","v":18},{"$f":"IF(AF$2<>0,'1. Liga'!$Y$406,0)","v":18},{"$f":"IF(AG$2<>0,'1. Liga'!$Y$419,0)","v":18},{"$f":"IF(AH$2<>0,'1. Liga'!$Y$432,0)","v":18},{"$f":"IF(AI$2<>0,'1. Liga'!$Y$445,0)","v":18}]
[{"$f":"'1. Liga'!C10","v":"Bayer 04 Leverkusen"},{"$f":"IF(B$2<>0,'1. Liga'!$Z$16,0)","v":5},{"$f":"IF(C$2<>0,'1. Liga'!$Z$29,0)","v":3},{"$f":"IF(D$2<>0,'1. Liga'!$Z$42,0)","v":1},{"$f":"IF(E$2<>0,'1. Liga'!$Z$55,0)","v":1},{"$f":"IF(F$2<>0,'1. Liga'!$Z$68,0)","v":2},{"$f":"IF(G$2<>0,'1. Liga'!$Z$81,0)","v":1},{"$f":"IF(H$2<>0,'1. Liga'!$Z$94,0)","v":1},{"$f":"IF(I$2<>0,'1. Liga'!$Z$107,0)","v":1},{"$f":"IF(J$2<>0,'1. Liga'!$Z$120,0)","v":1},{"$f":"IF(K$2<>0,'1. Liga'!$Z$133,0)","v":1},{"$f":"IF(L$2<>0,'1. Liga'!$Z$146,0)","v":1},{"$f":"IF(M$2<>0,'1. Liga'!$Z$159,0)","v":1},{"$f":"IF(N$2<>0,'1. Liga'!$Z$172,0)","v":2},{"$f":"IF(O$2<>0,'1. Liga'!$Z$185,0)","v":1},{"$f":"IF(P$2<>0,'1. Liga'!$Z$198,0)","v":1},{"$f":"IF(Q$2<>0,'1. Liga'!$Z$211,0)","v":1},{"$f":"IF(R$2<>0,'1. Liga'!$Z$224,0)","v":1},{"$f":"IF(S$2<>0,'1. Liga'!$Z$237,0)","v":1},{"$f":"IF(T$2<>0,'1. Liga'!$Z$250,0)","v":1},{"$f":"IF(U$2<>0,'1. Liga'!$Z$263,0)","v":1},{"$f":"IF(V$2<>0,'1. Liga'!$Z$276,0)","v":1},{"$f":"IF(W$2<>0,'1. Liga'!$Z$289,0)","v":1},{"$f":"IF(X$2<>0,'1. Liga'!$Z$302,0)","v":1},{"$f":"IF(Y$2<>0,'1. Liga'!$Z$315,0)","v":1},{"$f":"IF(Z$2<>0,'1. Liga'!$Z$328,0)","v":1},{"$f":"IF(AA$2<>0,'1. Liga'!$Z$341,0)","v":1},{"$f":"IF(AB$2<>0,'1. Liga'!$Z$354,0)","v":1},{"$f":"IF(AC$2<>0,'1. Liga'!$Z$367,0)","v":1},{"$f":"IF(AD$2<>0,'1. Liga'!$Z$380,0)","v":1},{"$f":"IF(AE$2<>0,'1. Liga'!$Z$393,0)","v":1},{"$f":"IF(AF$2<>0,'1. Liga'!$Z$406,0)","v":1},{"$f":"IF(AG$2<>0,'1. Liga'!$Z$419,0)","v":1},{"$f":"IF(AH$2<>0,'1. Liga'!$Z$432,0)","v":1},{"$f":"IF(AI$2<>0,'1. Liga'!$Z$445,0)","v":1}]
[{"$f":"'1. Liga'!E10","v":"RB Leipzig"},{"$f":"IF(B$2<>0,'1. Liga'!$AA$16,0)","v":11},{"$f":"IF(C$2<>0,'1. Liga'!$AA$29,0)","v":8},{"$f":"IF(D$2<>0,'1. Liga'!$AA$42,0)","v":4},{"$f":"IF(E$2<>0,'1. Liga'!$AA$55,0)","v":3},{"$f":"IF(F$2<>0,'1. Liga'!$AA$68,0)","v":4},{"$f":"IF(G$2<>0,'1. Liga'!$AA$81,0)","v":5},{"$f":"IF(H$2<>0,'1. Liga'!$AA$94,0)","v":6},{"$f":"IF(I$2<>0,'1. Liga'!$AA$107,0)","v":5},{"$f":"IF(J$2<>0,'1. Liga'!$AA$120,0)","v":5},{"$f":"IF(K$2<>0,'1. Liga'!$AA$133,0)","v":5},{"$f":"IF(L$2<>0,'1. Liga'!$AA$146,0)","v":4},{"$f":"IF(M$2<>0,'1. Liga'!$AA$159,0)","v":5},{"$f":"IF(N$2<>0,'1. Liga'!$AA$172,0)","v":4},{"$f":"IF(O$2<>0,'1. Liga'!$AA$185,0)","v":4},{"$f":"IF(P$2<>0,'1. Liga'!$AA$198,0)","v":3},{"$f":"IF(Q$2<>0,'1. Liga'!$AA$211,0)","v":4},{"$f":"IF(R$2<>0,'1. Liga'!$AA$224,0)","v":4},{"$f":"IF(S$2<>0,'1. Liga'!$AA$237,0)","v":4},{"$f":"IF(T$2<>0,'1. Liga'!$AA$250,0)","v":5},{"$f":"IF(U$2<>0,'1. Liga'!$AA$263,0)","v":5},{"$f":"IF(V$2<>0,'1. Liga'!$AA$276,0)","v":5},{"$f":"IF(W$2<>0,'1. Liga'!$AA$289,0)","v":5},{"$f":"IF(X$2<>0,'1. Liga'!$AA$302,0)","v":5},{"$f":"IF(Y$2<>0,'1. Liga'!$AA$315,0)","v":5},{"$f":"IF(Z$2<>0,'1. Liga'!$AA$328,0)","v":5},{"$f":"IF(AA$2<>0,'1. Liga'!$AA$341,0)","v":5},{"$f":"IF(AB$2<>0,'1. Liga'!$AA$354,0)","v":5},{"$f":"IF(AC$2<>0,'1. Liga'!$AA$367,0)","v":4},{"$f":"IF(AD$2<>0,'1. Liga'!$AA$380,0)","v":4},{"$f":"IF(AE$2<>0,'1. Liga'!$AA$393,0)","v":4},{"$f":"IF(AF$2<>0,'1. Liga'!$AA$406,0)","v":4},{"$f":"IF(AG$2<>0,'1. Liga'!$AA$419,0)","v":4},{"$f":"IF(AH$2<>0,'1. Liga'!$AA$432,0)","v":4},{"$f":"IF(AI$2<>0,'1. Liga'!$AA$445,0)","v":4}]
[{"$f":"'1. Liga'!C11","v":"VfL Wolfsburg"},{"$f":"IF(B$2<>0,'1. Liga'!$AB$16,0)","v":4},{"$f":"IF(C$2<>0,'1. Liga'!$AB$29,0)","v":4},{"$f":"IF(D$2<>0,'1. Liga'!$AB$42,0)","v":7},{"$f":"IF(E$2<>0,'1. Liga'!$AB$55,0)","v":6},{"$f":"IF(F$2<>0,'1. Liga'!$AB$68,0)","v":7},{"$f":"IF(G$2<>0,'1. Liga'!$AB$81,0)","v":7},{"$f":"IF(H$2<>0,'1. Liga'!$AB$94,0)","v":7},{"$f":"IF(I$2<>0,'1. Liga'!$AB$107,0)","v":9},{"$f":"IF(J$2<>0,'1. Liga'!$AB$120,0)","v":9},{"$f":"IF(K$2<>0,'1. Liga'!$AB$133,0)","v":9},{"$f":"IF(L$2<>0,'1. Liga'!$AB$146,0)","v":11},{"$f":"IF(M$2<>0,'1. Liga'!$AB$159,0)","v":8},{"$f":"IF(N$2<>0,'1. Liga'!$AB$172,0)","v":11},{"$f":"IF(O$2<>0,'1. Liga'!$AB$185,0)","v":11},{"$f":"IF(P$2<>0,'1. Liga'!$AB$198,0)","v":9},{"$f":"IF(Q$2<>0,'1. Liga'!$AB$211,0)","v":10},{"$f":"IF(R$2<>0,'1. Liga'!$AB$224,0)","v":11},{"$f":"IF(S$2<>0,'1. Liga'!$AB$237,0)","v":11},{"$f":"IF(T$2<>0,'1. Liga'!$AB$250,0)","v":11},{"$f":"IF(U$2<>0,'1. Liga'!$AB$263,0)","v":11},{"$f":"IF(V$2<>0,'1. Liga'!$AB$276,0)","v":12},{"$f":"IF(W$2<>0,'1. Liga'!$AB$289,0)","v":12},{"$f":"IF(X$2<>0,'1. Liga'!$AB$302,0)","v":13},{"$f":"IF(Y$2<>0,'1. Liga'!$AB$315,0)","v":13},{"$f":"IF(Z$2<>0,'1. Liga'!$AB$328,0)","v":13},{"$f":"IF(AA$2<>0,'1. Liga'!$AB$341,0)","v":14},{"$f":"IF(AB$2<>0,'1. Liga'!$AB$354,0)","v":14},{"$f":"IF(AC$2<>0,'1. Liga'!$AB$367,0)","v":14},{"$f":"IF(AD$2<>0,'1. Liga'!$AB$380,0)","v":14},{"$f":"IF(AE$2<>0,'1. Liga'!$AB$393,0)","v":13},{"$f":"IF(AF$2<>0,'1. Liga'!$AB$406,0)","v":12},{"$f":"IF(AG$2<>0,'1. Liga'!$AB$419,0)","v":12},{"$f":"IF(AH$2<>0,'1. Liga'!$AB$432,0)","v":12},{"$f":"IF(AI$2<>0,'1. Liga'!$AB$445,0)","v":12}]
[{"$f":"'1. Liga'!E11","v":"1. FC Heidenheim 1846"},{"$f":"IF(B$2<>0,'1. Liga'!$AC$16,0)","v":15},{"$f":"IF(C$2<>0,'1. Liga'!$AC$29,0)","v":16},{"$f":"IF(D$2<>0,'1. Liga'!$AC$42,0)","v":15},{"$f":"IF(E$2<>0,'1. Liga'!$AC$55,0)","v":11},{"$f":"IF(F$2<>0,'1. Liga'!$AC$68,0)","v":13},{"$f":"IF(G$2<>0,'1. Liga'!$AC$81,0)","v":10},{"$f":"IF(H$2<>0,'1. Liga'!$AC$94,0)","v":10},{"$f":"IF(I$2<>0,'1. Liga'!$AC$107,0)","v":11},{"$f":"IF(J$2<>0,'1. Liga'!$AC$120,0)","v":13},{"$f":"IF(K$2<>0,'1. Liga'!$AC$133,0)","v":13},{"$f":"IF(L$2<>0,'1. Liga'!$AC$146,0)","v":13},{"$f":"IF(M$2<>0,'1. Liga'!$AC$159,0)","v":13},{"$f":"IF(N$2<>0,'1. Liga'!$AC$172,0)","v":14},{"$f":"IF(O$2<>0,'1. Liga'!$AC$185,0)","v":13},{"$f":"IF(P$2<>0,'1. Liga'!$AC$198,0)","v":12},{"$f":"IF(Q$2<>0,'1. Liga'!$AC$211,0)","v":9},{"$f":"IF(R$2<>0,'1. Liga'!$AC$224,0)","v":9},{"$f":"IF(S$2<>0,'1. Liga'!$AC$237,0)","v":9},{"$f":"IF(T$2<>0,'1. Liga'!$AC$250,0)","v":10},{"$f":"IF(U$2<>0,'1. Liga'!$AC$263,0)","v":10},{"$f":"IF(V$2<>0,'1. Liga'!$AC$276,0)","v":9},{"$f":"IF(W$2<>0,'1. Liga'!$AC$289,0)","v":10},{"$f":"IF(X$2<>0,'1. Liga'!$AC$302,0)","v":10},{"$f":"IF(Y$2<>0,'1. Liga'!$AC$315,0)","v":11},{"$f":"IF(Z$2<>0,'1. Liga'!$AC$328,0)","v":11},{"$f":"IF(AA$2<>0,'1. Liga'!$AC$341,0)","v":11},{"$f":"IF(AB$2<>0,'1. Liga'!$AC$354,0)","v":11},{"$f":"IF(AC$2<>0,'1. Liga'!$AC$367,0)","v":10},{"$f":"IF(AD$2<>0,'1. Liga'!$AC$380,0)","v":10},{"$f":"IF(AE$2<>0,'1. Liga'!$AC$393,0)","v":10},{"$f":"IF(AF$2<>0,'1. Liga'!$AC$406,0)","v":10},{"$f":"IF(AG$2<>0,'1. Liga'!$AC$419,0)","v":10},{"$f":"IF(AH$2<>0,'1. Liga'!$AC$432,0)","v":9},{"$f":"IF(AI$2<>0,'1. Liga'!$AC$445,0)","v":8}]
[{"$f":"'1. Liga'!C12","v":"1. FC Union Berlin"},{"$f":"IF(B$2<>0,'1. Liga'!$AD$16,0)","v":3},{"$f":"IF(C$2<>0,'1. Liga'!$AD$29,0)","v":1},{"$f":"IF(D$2<>0,'1. Liga'!$AD$42,0)","v":5},{"$f":"IF(E$2<>0,'1. Liga'!$AD$55,0)","v":8},{"$f":"IF(F$2<>0,'1. Liga'!$AD$68,0)","v":10},{"$f":"IF(G$2<>0,'1. Liga'!$AD$81,0)","v":11},{"$f":"IF(H$2<>0,'1. Liga'!$AD$94,0)","v":13},{"$f":"IF(I$2<>0,'1. Liga'!$AD$107,0)","v":15},{"$f":"IF(J$2<>0,'1. Liga'!$AD$120,0)","v":15},{"$f":"IF(K$2<>0,'1. Liga'!$AD$133,0)","v":16},{"$f":"IF(L$2<>0,'1. Liga'!$AD$146,0)","v":18},{"$f":"IF(M$2<>0,'1. Liga'!$AD$159,0)","v":17},{"$f":"IF(N$2<>0,'1. Liga'!$AD$172,0)","v":18},{"$f":"IF(O$2<>0,'1. Liga'!$AD$185,0)","v":15},{"$f":"IF(P$2<>0,'1. Liga'!$AD$198,0)","v":16},{"$f":"IF(Q$2<>0,'1. Liga'!$AD$211,0)","v":15},{"$f":"IF(R$2<>0,'1. Liga'!$AD$224,0)","v":15},{"$f":"IF(S$2<>0,'1. Liga'!$AD$237,0)","v":15},{"$f":"IF(T$2<>0,'1. Liga'!$AD$250,0)","v":15},{"$f":"IF(U$2<>0,'1. Liga'!$AD$263,0)","v":15},{"$f":"IF(V$2<>0,'1. Liga'!$AD$276,0)","v":15},{"$f":"IF(W$2<>0,'1. Liga'!$AD$289,0)","v":13},{"$f":"IF(X$2<>0,'1. Liga'!$AD$302,0)","v":14},{"$f":"IF(Y$2<>0,'1. Liga'!$AD$315,0)","v":14},{"$f":"IF(Z$2<>0,'1. Liga'!$AD$328,0)","v":14},{"$f":"IF(AA$2<>0,'1. Liga'!$AD$341,0)","v":13},{"$f":"IF(AB$2<>0,'1. Liga'!$AD$354,0)","v":12},{"$f":"IF(AC$2<>0,'1. Liga'!$AD$367,0)","v":13},{"$f":"IF(AD$2<>0,'1. Liga'!$AD$380,0)","v":13},{"$f":"IF(AE$2<>0,'1. Liga'!$AD$393,0)","v":14},{"$f":"IF(AF$2<>0,'1. Liga'!$AD$406,0)","v":14},{"$f":"IF(AG$2<>0,'1. Liga'!$AD$419,0)","v":15},{"$f":"IF(AH$2<>0,'1. Liga'!$AD$432,0)","v":16},{"$f":"IF(AI$2<>0,'1. Liga'!$AD$445,0)","v":15}]
[{"$f":"'1. Liga'!E12","v":"1. FSV Mainz 05"},{"$f":"IF(B$2<>0,'1. Liga'!$AE$16,0)","v":16},{"$f":"IF(C$2<>0,'1. Liga'!$AE$29,0)","v":13},{"$f":"IF(D$2<>0,'1. Liga'!$AE$42,0)","v":17},{"$f":"IF(E$2<>0,'1. Liga'!$AE$55,0)","v":18},{"$f":"IF(F$2<>0,'1. Liga'!$AE$68,0)","v":18},{"$f":"IF(G$2<>0,'1. Liga'!$AE$81,0)","v":18},{"$f":"IF(H$2<>0,'1. Liga'!$AE$94,0)","v":17},{"$f":"IF(I$2<>0,'1. Liga'!$AE$107,0)","v":18},{"$f":"IF(J$2<>0,'1. Liga'!$AE$120,0)","v":18},{"$f":"IF(K$2<>0,'1. Liga'!$AE$133,0)","v":17},{"$f":"IF(L$2<>0,'1. Liga'!$AE$146,0)","v":16},{"$f":"IF(M$2<>0,'1. Liga'!$AE$159,0)","v":16},{"$f":"IF(N$2<>0,'1. Liga'!$AE$172,0)","v":17},{"$f":"IF(O$2<>0,'1. Liga'!$AE$185,0)","v":17},{"$f":"IF(P$2<>0,'1. Liga'!$AE$198,0)","v":17},{"$f":"IF(Q$2<>0,'1. Liga'!$AE$211,0)","v":16},{"$f":"IF(R$2<>0,'1. Liga'!$AE$224,0)","v":16},{"$f":"IF(S$2<>0,'1. Liga'!$AE$237,0)","v":16},{"$f":"IF(T$2<>0,'1. Liga'!$AE$250,0)","v":16},{"$f":"IF(U$2<>0,'1. Liga'!$AE$263,0)","v":17},{"$f":"IF(V$2<>0,'1. Liga'!$AE$276,0)","v":17},{"$f":"IF(W$2<>0,'1. Liga'!$AE$289,0)","v":17},{"$f":"IF(X$2<>0,'1. Liga'!$AE$302,0)","v":17},{"$f":"IF(Y$2<>0,'1. Liga'!$AE$315,0)","v":17},{"$f":"IF(Z$2<>0,'1. Liga'!$AE$328,0)","v":17},{"$f":"IF(AA$2<>0,'1. Liga'!$AE$341,0)","v":16},{"$f":"IF(AB$2<>0,'1. Liga'!$AE$354,0)","v":16},{"$f":"IF(AC$2<>0,'1. Liga'!$AE$367,0)","v":16},{"$f":"IF(AD$2<>0,'1. Liga'!$AE$380,0)","v":16},{"$f":"IF(AE$2<>0,'1. Liga'!$AE$393,0)","v":15},{"$f":"IF(AF$2<>0,'1. Liga'!$AE$406,0)","v":16},{"$f":"IF(AG$2<>0,'1. Liga'!$AE$419,0)","v":16},{"$f":"IF(AH$2<>0,'1. Liga'!$AE$432,0)","v":15},{"$f":"IF(AI$2<>0,'1. Liga'!$AE$445,0)","v":13}]
[{"$f":"'1. Liga'!C13","v":"FC Augsburg"},{"$f":"IF(B$2<>0,'1. Liga'!$AF$16,0)","v":9},{"$f":"IF(C$2<>0,'1. Liga'!$AF$29,0)","v":11},{"$f":"IF(D$2<>0,'1. Liga'!$AF$42,0)","v":12},{"$f":"IF(E$2<>0,'1. Liga'!$AF$55,0)","v":15},{"$f":"IF(F$2<>0,'1. Liga'!$AF$68,0)","v":12},{"$f":"IF(G$2<>0,'1. Liga'!$AF$81,0)","v":14},{"$f":"IF(H$2<>0,'1. Liga'!$AF$94,0)","v":15},{"$f":"IF(I$2<>0,'1. Liga'!$AF$107,0)","v":10},{"$f":"IF(J$2<>0,'1. Liga'!$AF$120,0)","v":10},{"$f":"IF(K$2<>0,'1. Liga'!$AF$133,0)","v":10},{"$f":"IF(L$2<>0,'1. Liga'!$AF$146,0)","v":10},{"$f":"IF(M$2<>0,'1. Liga'!$AF$159,0)","v":10},{"$f":"IF(N$2<>0,'1. Liga'!$AF$172,0)","v":9},{"$f":"IF(O$2<>0,'1. Liga'!$AF$185,0)","v":9},{"$f":"IF(P$2<>0,'1. Liga'!$AF$198,0)","v":10},{"$f":"IF(Q$2<>0,'1. Liga'!$AF$211,0)","v":11},{"$f":"IF(R$2<>0,'1. Liga'!$AF$224,0)","v":12},{"$f":"IF(S$2<>0,'1. Liga'!$AF$237,0)","v":10},{"$f":"IF(T$2<>0,'1. Liga'!$AF$250,0)","v":13},{"$f":"IF(U$2<>0,'1. Liga'!$AF$263,0)","v":12},{"$f":"IF(V$2<>0,'1. Liga'!$AF$276,0)","v":11},{"$f":"IF(W$2<>0,'1. Liga'!$AF$289,0)","v":14},{"$f":"IF(X$2<>0,'1. Liga'!$AF$302,0)","v":11},{"$f":"IF(Y$2<>0,'1. Liga'!$AF$315,0)","v":10},{"$f":"IF(Z$2<>0,'1. Liga'!$AF$328,0)","v":9},{"$f":"IF(AA$2<>0,'1. Liga'!$AF$341,0)","v":7},{"$f":"IF(AB$2<>0,'1. Liga'!$AF$354,0)","v":7},{"$f":"IF(AC$2<>0,'1. Liga'!$AF$367,0)","v":7},{"$f":"IF(AD$2<>0,'1. Liga'!$AF$380,0)","v":7},{"$f":"IF(AE$2<>0,'1. Liga'!$AF$393,0)","v":8},{"$f":"IF(AF$2<>0,'1. Liga'!$AF$406,0)","v":8},{"$f":"IF(AG$2<>0,'1. Liga'!$AF$419,0)","v":9},{"$f":"IF(AH$2<>0,'1. Liga'!$AF$432,0)","v":10},{"$f":"IF(AI$2<>0,'1. Liga'!$AF$445,0)","v":11}]
[{"$f":"'1. Liga'!E13","v":"Borussia Mönchengladbach"},{"$f":"IF(B$2<>0,'1. Liga'!$AG$16,0)","v":9},{"$f":"IF(C$2<>0,'1. Liga'!$AG$29,0)","v":12},{"$f":"IF(D$2<>0,'1. Liga'!$AG$42,0)","v":16},{"$f":"IF(E$2<>0,'1. Liga'!$AG$55,0)","v":14},{"$f":"IF(F$2<>0,'1. Liga'!$AG$68,0)","v":15},{"$f":"IF(G$2<>0,'1. Liga'!$AG$81,0)","v":13},{"$f":"IF(H$2<>0,'1. Liga'!$AG$94,0)","v":12},{"$f":"IF(I$2<>0,'1. Liga'!$AG$107,0)","v":13},{"$f":"IF(J$2<>0,'1. Liga'!$AG$120,0)","v":11},{"$f":"IF(K$2<>0,'1. Liga'!$AG$133,0)","v":11},{"$f":"IF(L$2<>0,'1. Liga'!$AG$146,0)","v":9},{"$f":"IF(M$2<>0,'1. Liga'!$AG$159,0)","v":11},{"$f":"IF(N$2<>0,'1. Liga'!$AG$172,0)","v":10},{"$f":"IF(O$2<>0,'1. Liga'!$AG$185,0)","v":10},{"$f":"IF(P$2<>0,'1. Liga'!$AG$198,0)","v":11},{"$f":"IF(Q$2<>0,'1. Liga'!$AG$211,0)","v":12},{"$f":"IF(R$2<>0,'1. Liga'!$AG$224,0)","v":10},{"$f":"IF(S$2<>0,'1. Liga'!$AG$237,0)","v":12},{"$f":"IF(T$2<>0,'1. Liga'!$AG$250,0)","v":12},{"$f":"IF(U$2<>0,'1. Liga'!$AG$263,0)","v":13},{"$f":"IF(V$2<>0,'1. Liga'!$AG$276,0)","v":13},{"$f":"IF(W$2<>0,'1. Liga'!$AG$289,0)","v":15},{"$f":"IF(X$2<>0,'1. Liga'!$AG$302,0)","v":12},{"$f":"IF(Y$2<>0,'1. Liga'!$AG$315,0)","v":12},{"$f":"IF(Z$2<>0,'1. Liga'!$AG$328,0)","v":12},{"$f":"IF(AA$2<>0,'1. Liga'!$AG$341,0)","v":12},{"$f":"IF(AB$2<>0,'1. Liga'!$AG$354,0)","v":13},{"$f":"IF(AC$2<>0,'1. Liga'!$AG$367,0)","v":11},{"$f":"IF(AD$2<>0,'1. Liga'!$AG$380,0)","v":11},{"$f":"IF(AE$2<>0,'1. Liga'!$AG$393,0)","v":12},{"$f":"IF(AF$2<>0,'1. Liga'!$AG$406,0)","v":13},{"$f":"IF(AG$2<>0,'1. Liga'!$AG$419,0)","v":13},{"$f":"IF(AH$2<>0,'1. Liga'!$AG$432,0)","v":13},{"$f":"IF(AI$2<>0,'1. Liga'!$AG$445,0)","v":14}]
[{"$f":"'1. Liga'!C14","v":"TSG Hoffenheim"},{"$f":"IF(B$2<>0,'1. Liga'!$AH$16,0)","v":12},{"$f":"IF(C$2<>0,'1. Liga'!$AH$29,0)","v":10},{"$f":"IF(D$2<>0,'1. Liga'!$AH$42,0)","v":6},{"$f":"IF(E$2<>0,'1. Liga'!$AH$55,0)","v":5},{"$f":"IF(F$2<>0,'1. Liga'!$AH$68,0)","v":5},{"$f":"IF(G$2<>0,'1. Liga'!$AH$81,0)","v":6},{"$f":"IF(H$2<>0,'1. Liga'!$AH$94,0)","v":5},{"$f":"IF(I$2<>0,'1. Liga'!$AH$107,0)","v":6},{"$f":"IF(J$2<>0,'1. Liga'!$AH$120,0)","v":6},{"$f":"IF(K$2<>0,'1. Liga'!$AH$133,0)","v":6},{"$f":"IF(L$2<>0,'1. Liga'!$AH$146,0)","v":6},{"$f":"IF(M$2<>0,'1. Liga'!$AH$159,0)","v":6},{"$f":"IF(N$2<>0,'1. Liga'!$AH$172,0)","v":6},{"$f":"IF(O$2<>0,'1. Liga'!$AH$185,0)","v":6},{"$f":"IF(P$2<>0,'1. Liga'!$AH$198,0)","v":7},{"$f":"IF(Q$2<>0,'1. Liga'!$AH$211,0)","v":7},{"$f":"IF(R$2<>0,'1. Liga'!$AH$224,0)","v":8},{"$f":"IF(S$2<>0,'1. Liga'!$AH$237,0)","v":8},{"$f":"IF(T$2<>0,'1. Liga'!$AH$250,0)","v":8},{"$f":"IF(U$2<>0,'1. Liga'!$AH$263,0)","v":8},{"$f":"IF(V$2<>0,'1. Liga'!$AH$276,0)","v":8},{"$f":"IF(W$2<>0,'1. Liga'!$AH$289,0)","v":9},{"$f":"IF(X$2<>0,'1. Liga'!$AH$302,0)","v":7},{"$f":"IF(Y$2<>0,'1. Liga'!$AH$315,0)","v":7},{"$f":"IF(Z$2<>0,'1. Liga'!$AH$328,0)","v":7},{"$f":"IF(AA$2<>0,'1. Liga'!$AH$341,0)","v":8},{"$f":"IF(AB$2<>0,'1. Liga'!$AH$354,0)","v":9},{"$f":"IF(AC$2<>0,'1. Liga'!$AH$367,0)","v":8},{"$f":"IF(AD$2<>0,'1. Liga'!$AH$380,0)","v":9},{"$f":"IF(AE$2<>0,'1. Liga'!$AH$393,0)","v":9},{"$f":"IF(AF$2<>0,'1. Liga'!$AH$406,0)","v":9},{"$f":"IF(AG$2<>0,'1. Liga'!$AH$419,0)","v":8},{"$f":"IF(AH$2<>0,'1. Liga'!$AH$432,0)","v":7},{"$f":"IF(AI$2<>0,'1. Liga'!$AH$445,0)","v":7}]
[{"$f":"'1. Liga'!E14","v":"Sport-Club Freiburg"},{"$f":"IF(B$2<>0,'1. Liga'!$AI$16,0)","v":6},{"$f":"IF(C$2<>0,'1. Liga'!$AI$29,0)","v":5},{"$f":"IF(D$2<>0,'1. Liga'!$AI$42,0)","v":8},{"$f":"IF(E$2<>0,'1. Liga'!$AI$55,0)","v":10},{"$f":"IF(F$2<>0,'1. Liga'!$AI$68,0)","v":9},{"$f":"IF(G$2<>0,'1. Liga'!$AI$81,0)","v":8},{"$f":"IF(H$2<>0,'1. Liga'!$AI$94,0)","v":9},{"$f":"IF(I$2<>0,'1. Liga'!$AI$107,0)","v":8},{"$f":"IF(J$2<>0,'1. Liga'!$AI$120,0)","v":8},{"$f":"IF(K$2<>0,'1. Liga'!$AI$133,0)","v":8},{"$f":"IF(L$2<>0,'1. Liga'!$AI$146,0)","v":8},{"$f":"IF(M$2<>0,'1. Liga'!$AI$159,0)","v":9},{"$f":"IF(N$2<>0,'1. Liga'!$AI$172,0)","v":8},{"$f":"IF(O$2<>0,'1. Liga'!$AI$185,0)","v":8},{"$f":"IF(P$2<>0,'1. Liga'!$AI$198,0)","v":6},{"$f":"IF(Q$2<>0,'1. Liga'!$AI$211,0)","v":8},{"$f":"IF(R$2<>0,'1. Liga'!$AI$224,0)","v":7},{"$f":"IF(S$2<>0,'1. Liga'!$AI$237,0)","v":7},{"$f":"IF(T$2<>0,'1. Liga'!$AI$250,0)","v":7},{"$f":"IF(U$2<>0,'1. Liga'!$AI$263,0)","v":7},{"$f":"IF(V$2<>0,'1. Liga'!$AI$276,0)","v":7},{"$f":"IF(W$2<>0,'1. Liga'!$AI$289,0)","v":8},{"$f":"IF(X$2<>0,'1. Liga'!$AI$302,0)","v":9},{"$f":"IF(Y$2<>0,'1. Liga'!$AI$315,0)","v":9},{"$f":"IF(Z$2<>0,'1. Liga'!$AI$328,0)","v":8},{"$f":"IF(AA$2<>0,'1. Liga'!$AI$341,0)","v":9},{"$f":"IF(AB$2<>0,'1. Liga'!$AI$354,0)","v":8},{"$f":"IF(AC$2<>0,'1. Liga'!$AI$367,0)","v":9},{"$f":"IF(AD$2<>0,'1. Liga'!$AI$380,0)","v":8},{"$f":"IF(AE$2<>0,'1. Liga'!$AI$393,0)","v":7},{"$f":"IF(AF$2<>0,'1. Liga'!$AI$406,0)","v":7},{"$f":"IF(AG$2<>0,'1. Liga'!$AI$419,0)","v":7},{"$f":"IF(AH$2<>0,'1. Liga'!$AI$432,0)","v":8},{"$f":"IF(AI$2<>0,'1. Liga'!$AI$445,0)","v":10}]
[null,20,20,20,20,20,20,20,20,20,20,20,20,20,20,20,20,20,20,20,20,20,20,20,20,20,20,20,20,20,20,20,20,20,20]
[{"$f":"IF($B$1<17,IF($B$1<9,IF($B$1<5,IF($B$1<3,IF($B$1=1,A4,A5),IF($B$1=3,A6,A7)),IF($B$1<7,IF($B$1=5,A8,A9),IF($B$1=7,A10,A11))),IF($B$1<13,IF($B$1<11,IF($B$1=9,A12,A13),IF($B$1=11,A14,A15)),IF($B$1<15,IF($B$1=13,A16,A17),IF($B$1=15,A18,A19)))),IF($B$1<25,IF($B$1<21,IF($B$1<19,IF($B$1=17,A20,A21),IF($B$1=19,A22,A23)),IF($B$1<23,IF($B$1=21,A24,A25),IF($B$1=23,A26,A27))),IF($B$1<29,IF($B$1<27,IF($B$1=25,A28,A29),IF($B$1=27,A30,A31)),IF($B$1<31,IF($B$1=29,A32,A33),IF($B$1=31,A34,A35)))))","v":"SV Werder Bremen"},{"$f":"IF($B$1<17,IF($B$1<9,IF($B$1<5,IF($B$1<3,IF($B$1=1,B4,B5),IF($B$1=3,B6,B7)),IF($B$1<7,IF($B$1=5,B8,B9),IF($B$1=7,B10,B11))),IF($B$1<13,IF($B$1<11,IF($B$1=9,B12,B13),IF($B$1=11,B14,B15)),IF($B$1<15,IF($B$1=13,B16,B17),IF($B$1=15,B18,B19)))),IF($B$1<25,IF($B$1<21,IF($B$1<19,IF($B$1=17,B10,B21),IF($B$1=19,B22,B23)),IF($B$1<23,IF($B$1=21,B24,B25),IF($B$1=23,B26,B27))),IF($B$1<29,IF($B$1<27,IF($B$1=25,B28,B29),IF($B$1=27,B30,B31)),IF($B$1<31,IF($B$1=29,B32,B33),IF($B$1=31,B34,B35)))))","v":17},18,11,12,11,12,14,14,12,12,12,12,13,12,14,13,13,13,9,9,10,7,8,8,10,10,10,12,12,11,11,11,11,9]
[{"$f":"IF($C$1<17,IF($C$1<9,IF($C$1<5,IF($C$1<3,IF($C$1=1,A4,A5),IF($C$1=3,A6,A7)),IF($C$1<7,IF($C$1=5,A8,A9),IF($C$1=7,A10,A11))),IF($C$1<13,IF($C$1<11,IF($C$1=9,A12,A13),IF($C$1=11,A14,A15)),IF($C$1<15,IF($C$1=13,A16,A17),IF($C$1=15,A18,A19)))),IF($C$1<25,IF($C$1<21,IF($C$1<19,IF($C$1=17,A20,A21),IF($C$1=19,A22,A23)),IF($C$1<23,IF($C$1=21,A24,A25),IF($C$1=23,A26,A27))),IF($C$1<29,IF($C$1<27,IF($C$1=25,A28,A29),IF($C$1=27,A30,A31)),IF($C$1<31,IF($C$1=29,A32,A33),IF($C$1=31,A34,A35)))))","v":"FC Augsburg"},{"$f":"IF($C$1<17,IF($C$1<9,IF($C$1<5,IF($C$1<3,IF($C$1=1,B4,B5),IF($C$1=3,B6,B7)),IF($C$1<7,IF($C$1=5,B8,B9),IF($C$1=7,B10,B11))),IF($C$1<13,IF($C$1<11,IF($C$1=9,B12,B13),IF($C$1=11,B14,B15)),IF($C$1<15,IF($C$1=13,B16,B17),IF($C$1=15,B18,B19)))),IF($C$1<25,IF($C$1<21,IF($C$1<19,IF($C$1=17,B10,B21),IF($C$1=19,B22,B23)),IF($C$1<23,IF($C$1=21,B24,B25),IF($C$1=23,B26,B27))),IF($C$1<29,IF($C$1<27,IF($C$1=25,B28,B29),IF($C$1=27,B30,B31)),IF($C$1<31,IF($C$1=29,B32,B33),IF($C$1=31,B34,B35)))))","v":9},11,12,15,12,14,15,10,10,10,10,10,9,9,10,11,12,10,13,12,11,14,11,10,9,7,7,7,7,8,8,9,10,11]
[{"$f":"IF($D$1<17,IF($D$1<9,IF($D$1<5,IF($D$1<3,IF($D$1=1,A4,A5),IF($D$1=3,A6,A7)),IF($D$1<7,IF($D$1=5,A8,A9),IF($D$1=7,A10,A11))),IF($D$1<13,IF($D$1<11,IF($D$1=9,A12,A13),IF($D$1=11,A14,A15)),IF($D$1<15,IF($D$1=13,A16,A17),IF($D$1=15,A18,A19)))),IF($D$1<25,IF($D$1<21,IF($D$1<19,IF($D$1=17,A20,A21),IF($D$1=19,A22,A23)),IF($D$1<23,IF($D$1=21,A24,A25),IF($D$1=23,A26,A27))),IF($D$1<29,IF($D$1<27,IF($D$1=25,A28,A29),IF($D$1=27,A30,A31)),IF($D$1<31,IF($D$1=29,A32,A33),IF($D$1=31,A34,A35)))))","v":"FC Bayern München"},{"$f":"IF($D$1<17,IF($D$1<9,IF($D$1<5,IF($D$1<3,IF($D$1=1,B4,B5),IF($D$1=3,B6,B7)),IF($D$1<7,IF($D$1=5,B8,B9),IF($D$1=7,B10,B11))),IF($D$1<13,IF($D$1<11,IF($D$1=9,B12,B13),IF($D$1=11,B14,B15)),IF($D$1<15,IF($D$1=13,B16,B17),IF($D$1=15,B18,B19)))),IF($D$1<25,IF($D$1<21,IF($D$1<19,IF($D$1=17,B10,B21),IF($D$1=19,B22,B23)),IF($D$1<23,IF($D$1=21,B24,B25),IF($D$1=23,B26,B27))),IF($D$1<29,IF($D$1<27,IF($D$1=25,B28,B29),IF($D$1=27,B30,B31)),IF($D$1<31,IF($D$1=29,B32,B33),IF($D$1=31,B34,B35)))))","v":2},2,2,2,1,3,3,3,2,2,2,2,1,2,2,2,2,2,2,2,2,2,2,2,2,2,2,2,2,2,2,2,2,3]
[{"$f":"IF($E$1<17,IF($E$1<9,IF($E$1<5,IF($E$1<3,IF($E$1=1,A4,A5),IF($E$1=3,A6,A7)),IF($E$1<7,IF($E$1=5,A8,A9),IF($E$1=7,A10,A11))),IF($E$1<13,IF($E$1<11,IF($E$1=9,A12,A13),IF($E$1=11,A14,A15)),IF($E$1<15,IF($E$1=13,A16,A17),IF($E$1=15,A18,A19)))),IF($E$1<25,IF($E$1<21,IF($E$1<19,IF($E$1=17,A20,A21),IF($E$1=19,A22,A23)),IF($E$1<23,IF($E$1=21,A24,A25),IF($E$1=23,A26,A27))),IF($E$1<29,IF($E$1<27,IF($E$1=25,A28,A29),IF($E$1=27,A30,A31)),IF($E$1<31,IF($E$1=29,A32,A33),IF($E$1=31,A34,A35)))))","v":"Borussia Mönchengladbach"},{"$f":"IF($E$1<17,IF($E$1<9,IF($E$1<5,IF($E$1<3,IF($E$1=1,B4,B5),IF($E$1=3,B6,B7)),IF($E$1<7,IF($E$1=5,B8,B9),IF($E$1=7,B10,B11))),IF($E$1<13,IF($E$1<11,IF($E$1=9,B12,B13),IF($E$1=11,B14,B15)),IF($E$1<15,IF($E$1=13,B16,B17),IF($E$1=15,B18,B19)))),IF($E$1<25,IF($E$1<21,IF($E$1<19,IF($E$1=17,B10,B21),IF($E$1=19,B22,B23)),IF($E$1<23,IF($E$1=21,B24,B25),IF($E$1=23,B26,B27))),IF($E$1<29,IF($E$1<27,IF($E$1=25,B28,B29),IF($E$1=27,B30,B31)),IF($E$1<31,IF($E$1=29,B32,B33),IF($E$1=31,B34,B35)))))","v":9},12,16,14,15,13,12,13,11,11,9,11,10,10,11,12,10,12,12,13,13,15,12,12,12,12,13,11,11,12,13,13,13,14]
[]
[]
["Bundesliga-Tipp 20221/2023"]

{"sheet":"Abschluss","index":9,"n_rows":676,"n_cols":47,"rows_kept":676,"cut":false,"hidden":false,"merged":[[74,24,75,24],[74,25,75,27],[74,29,74,32],[74,33,75,33],[74,34,75,36],[74,38,74,41],[74,42,75,42],[74,43,75,45],[72,1,72,23],[73,1,73,23],[74,1,75,1],[74,2,75,2],[74,3,75,3],[74,4,75,4],[74,6,75,6],[74,7,75,9],[74,10,75,10],[74,11,74,14],[74,15,75,15],[74,16,75,18],[74,20,74,23],[98,33,99,33],[98,34,99,36],[98,38,98,41],[98,42,99,42],[98,43,99,45],[98,15,99,15],[98,16,99,18],[98,20,98,23],[98,24,99,24],[98,25,99,27],[98,29,98,32],[96,1,96,23],[97,1,97,23],[98,1,99,1],[98,2,99,2],[98,3,99,3],[98,4,99,4],[98,6,99,6],[98,7,99,9],[98,10,99,10],[98,11,98,14],[171,43,172,45],[171,15,172,15],[171,16,172,18],[171,20,171,23],[171,24,172,24],[171,25,172,27],[169,1,169,23],[170,1,170,23],[171,1,172,1],[171,2,172,2],[171,3,172,3],[171,4,172,4],[171,6,172,6],[171,7,172,9],[171,10,172,10],[171,11,171,14],[171,33,172,33],[171,34,172,36],[171,38,171,41],[171,42,172,42],[244,1,244,23],[245,1,245,23],[246,1,247,1],[246,2,247,2],[246,42,247,42],[219,1,219,23],[220,1,220,23],[221,1,222,1],[196,43,197,45],[196,15,197,15],[196,16,197,18],[196,20,196,23],[196,24,197,24],[196,33,197,33],[196,34,197,36],[196,38,196,41],[196,42,197,42],[246,43,247,45],[246,16,247,18],[246,20,246,23],[246,24,247,24],[246,25,247,27],[246,29,246,32],[246,33,247,33],[194,1,194,23],[195,1,195,23],[196,1,197,1],[196,2,197,2],[196,3,197,3],[196,4,197,4],[196,6,197,6],[196,7,197,9],[171,29,171,32],[246,3,247,3],[246,4,247,4],[246,6,247,6],[246,7,247,9],[246,10,247,10],[246,11,246,14],[246,15,247,15],[246,34,247,36],[246,38,246,41],[271,29,271,32],[271,33,272,33],[271,34,272,36],[271,38,271,41],[271,42,272,42],[271,43,272,45],[271,11,271,14],[271,15,272,15],[271,16,272,18],[271,20,271,23],[271,24,272,24],[271,25,272,27],[343,1,343,23],[320,1,321,1],[320,11,320,14],[269,1,269,23],[270,1,270,23],[271,1,272,1],[271,2,272,2],[271,3,272,3],[319,1,319,23],[271,4,272,4],[271,6,272,6],[271,7,272,9],[271,10,272,10],[294,1,294,23],[295,1,295,23],[296,15,297,15],[296,16,297,18],[296,20,296,23],[296,11,296,14],[296,10,297,10],[320,16,321,18],[318,1,318,23],[296,1,297,1],[296,2,297,2],[344,1,345,1],[344,2,345,2],[344,3,345,3],[344,4,345,4],[344,6,345,6],[367,1,367,23],[344,7,345,9],[344,10,345,10],[344,11,344,14],[344,15,345,15],[344,20,344,23],[366,1,366,23],[368,7,369,9],[368,10,369,10],[368,11,368,14],[368,6,369,6],[392,15,393,15],[391,1,391,23],[392,4,393,4],[392,16,393,18],[368,4,369,4],[392,2,393,2],[392,1,393,1],[368,15,369,15],[392,20,392,23],[368,16,369,18],[368,1,369,1],[392,10,393,10],[392,11,392,14],[392,3,393,3],[392,6,393,6],[392,7,393,9],[368,20,368,23],[368,2,369,2],[368,3,369,3],[632,10,633,10],[608,11,608,14],[628,1,628,23],[632,3,633,3],[608,4,609,4],[608,10,609,10],[608,15,609,15],[584,10,585,10],[390,1,390,23],[416,20,416,23],[440,4,441,4],[440,15,441,15],[440,16,441,18],[416,1,417,1],[416,2,417,2],[416,3,417,3],[416,4,417,4],[416,6,417,6],[416,15,417,15],[416,11,416,14],[440,20,440,23],[440,3,441,3],[440,6,441,6],[440,10,441,10],[608,2,609,2],[414,1,414,23],[415,1,415,23],[535,1,535,23],[512,1,513,1],[536,10,537,10],[534,1,534,23],[416,7,417,9],[488,3,489,3],[486,1,486,23],[488,1,489,1],[464,6,465,6],[440,1,441,1],[488,6,489,6],[488,7,489,9],[464,11,464,14],[464,20,464,23],[438,1,438,23],[439,1,439,23],[464,1,465,1],[416,16,417,18],[416,10,417,10],[464,15,465,15],[512,3,513,3],[463,1,463,23],[464,16,465,18],[464,4,465,4],[462,1,462,23],[604,1,604,23],[607,1,607,23],[584,2,585,2],[440,7,441,9],[440,2,441,2],[536,3,537,3],[584,1,585,1],[584,3,585,3],[583,1,583,23],[584,11,584,14],[488,15,489,15],[488,16,489,18],[580,1,580,23],[560,6,561,6],[560,10,561,10],[560,11,560,14],[560,20,560,23],[556,1,556,23],[536,11,536,14],[536,20,536,23],[676,1,676,23],[656,3,657,3],[656,4,657,4],[656,6,657,6],[656,7,657,9],[656,15,657,15],[656,1,657,1],[656,10,657,10],[656,16,657,18],[656,11,656,14],[558,1,558,23],[440,11,440,14],[536,1,537,1],[560,2,561,2],[488,4,489,4],[342,1,342,23],[320,7,321,9],[487,1,487,23],[464,10,465,10],[464,3,465,3],[536,6,537,6],[512,15,513,15],[464,7,465,9],[512,2,513,2],[512,7,513,9],[512,4,513,4],[512,6,513,6],[536,2,537,2],[536,4,537,4],[488,11,488,14],[488,20,488,23],[512,11,512,14],[464,2,465,2],[511,1,511,23],[296,3,297,3],[296,4,297,4],[296,6,297,6],[296,7,297,9],[320,2,321,2],[320,3,321,3],[320,4,321,4],[320,6,321,6],[320,10,321,10],[392,43,393,45],[320,15,321,15],[320,20,320,23],[488,24,489,24],[488,25,489,27],[368,38,368,41],[368,34,369,36],[320,42,321,42],[344,43,345,45],[392,42,393,42],[320,38,320,41],[368,43,369,45],[320,43,321,45],[416,24,417,24],[416,25,417,27],[416,33,417,33],[416,34,417,36],[416,42,417,42],[416,43,417,45],[416,38,416,41],[320,33,321,33],[344,16,345,18],[344,25,345,27],[344,29,344,32],[296,25,297,27],[320,25,321,27],[416,29,416,32],[320,24,321,24],[344,34,345,36],[344,38,344,41],[344,42,345,42],[392,33,393,33],[392,24,393,24],[392,29,392,32],[296,38,296,41],[296,42,297,42],[296,34,297,36],[296,33,297,33],[344,33,345,33],[368,24,369,24],[344,24,345,24],[368,25,369,27],[368,29,368,32],[368,33,369,33],[296,24,297,24],[464,38,464,41],[464,24,465,24],[440,38,440,41],[464,33,465,33],[464,29,464,32],[440,29,440,32],[464,34,465,36],[464,25,465,27],[320,29,320,32],[536,7,537,9],[488,2,489,2],[488,10,489,10],[510,1,510,23],[512,16,513,18],[584,25,585,27],[584,20,584,23],[296,43,297,45],[392,38,392,41],[320,34,321,36],[392,34,393,36],[368,42,369,42],[392,25,393,27],[296,29,296,32],[512,20,512,23],[512,10,513,10],[464,42,465,42],[464,43,465,45],[440,24,441,24],[440,25,441,27],[440,33,441,33],[440,34,441,36],[440,42,441,42],[440,43,441,45],[608,20,608,23],[512,24,513,24],[512,25,513,27],[560,15,561,15],[560,16,561,18],[560,24,561,24],[560,25,561,27],[536,15,537,15],[584,15,585,15],[584,16,585,18],[584,24,585,24],[536,16,537,18],[536,24,537,24],[559,1,559,23],[560,1,561,1],[536,25,537,27],[608,1,609,1],[560,4,561,4],[560,3,561,3],[584,4,585,4],[584,7,585,9],[560,7,561,9],[532,1,532,23],[584,6,585,6],[656,25,657,27],[632,15,633,15],[632,16,633,18],[632,24,633,24],[632,25,633,27],[608,24,609,24],[608,25,609,27],[656,20,656,23],[652,1,652,23],[656,2,657,2],[656,24,657,24],[655,1,655,23],[632,2,633,2],[631,1,631,23],[632,6,633,6],[632,7,633,9],[632,11,632,14],[632,20,632,23],[608,16,609,18],[608,3,609,3],[608,6,609,6],[608,7,609,9],[632,1,633,1],[632,4,633,4],[221,2,222,2],[221,3,222,3],[221,4,222,4],[221,6,222,6],[221,7,222,9],[221,10,222,10],[221,11,221,14],[221,33,222,33],[221,34,222,36],[221,38,221,41],[221,42,222,42],[196,10,197,10],[196,11,196,14],[196,25,197,27],[196,29,196,32],[221,25,222,27],[221,29,221,32],[221,43,222,45],[221,15,222,15],[221,16,222,18],[221,20,221,23],[221,24,222,24],[122,29,122,32],[122,33,123,33],[122,34,123,36],[122,38,122,41],[122,42,123,42],[122,43,123,45],[122,24,123,24],[122,25,123,27],[146,33,147,33],[146,34,147,36],[146,38,146,41],[146,42,147,42],[146,43,147,45],[146,20,146,23],[146,24,147,24],[146,25,147,27],[146,29,146,32],[144,1,144,23],[145,1,145,23],[146,1,147,1],[146,2,147,2],[146,16,147,18],[146,3,147,3],[146,4,147,4],[146,6,147,6],[146,7,147,9],[146,10,147,10],[146,15,147,15],[146,11,146,14],[120,1,120,23],[121,1,121,23],[122,1,123,1],[122,2,123,2],[122,3,123,3],[122,4,123,4],[122,6,123,6],[122,7,123,9],[122,10,123,10],[122,15,123,15],[122,16,123,18],[122,20,122,23],[122,11,122,14],[24,1,24,23],[25,1,25,23],[26,1,27,1],[26,2,27,2],[26,3,27,3],[26,4,27,4],[26,6,27,6],[26,7,27,9],[26,10,27,10],[26,11,26,14],[26,15,27,15],[26,16,27,18],[26,20,26,23],[26,24,27,24],[26,25,27,27],[26,29,26,32],[26,33,27,33],[26,34,27,36],[26,38,26,41],[26,42,27,42],[26,43,27,45],[48,1,48,23],[50,24,51,24],[50,25,51,27],[50,29,50,32],[50,33,51,33],[50,34,51,36],[50,38,50,41],[50,42,51,42],[50,43,51,45],[49,1,49,23],[50,1,51,1],[50,2,51,2],[50,3,51,3],[50,4,51,4],[50,6,51,6],[50,7,51,9],[50,10,51,10],[50,11,50,14],[50,15,51,15],[50,16,51,18],[50,20,50,23],[2,43,3,45],[0,1,0,23],[1,1,1,23],[2,16,3,18],[2,20,2,23],[2,24,3,24],[2,25,3,27],[2,29,2,32],[2,33,3,33],[2,34,3,36],[2,38,2,41],[2,42,3,42],[2,1,3,1],[2,2,3,2],[2,3,3,3],[2,4,3,4],[2,6,3,6],[2,7,3,9],[2,10,3,10],[2,11,2,14],[2,15,3,15]]}
[null,"1.Bundesliga (1.BL)"]
[null," -  2022/23  - "]
[null," ","Mannschaft","Sieg","Remis","Nieder-"," ","Tore",null,null,"Punkte","Heim",null,null,null," ","Tore",null,null,null,"Auswärts",null,null,null," ","Tore",null,null,null,"Hinrunde",null,null,null," ","Tore",null,null,null,"Rückrunde",null,null,null," ","Tore"]
[null,null,null,null,null,"lagen",null,null,null,null,null,"Platz","g","u","n",null,null,null,null,"Pkt.","Platz","g","u","n",null,null,null,null,"Pkt.","Platz","g","u","n",null,null,null,null,"Pkt.","Platz","g","u","n",null,null,null,null,"Pkt."]
[null,1,"Bayern München (M)",21,8,5,null,92,null,38,71,4,11,5,1,null,53,null,17,38,1,10,3,4,null,39,null,21,33,1,10,6,1,null,51,null,15,36,2,11,2,4,null,41,null,23,35]
[null,2,"Borussia Dortmund",22,5,7,null,83,null,44,71,1,14,2,1,null,55,null,17,44,2,8,3,6,null,28,null,27,27,5,10,1,6,null,31,null,25,31,1,12,4,1,null,52,null,19,40]
[null,3,"RB Leipzig (P)",20,6,8,null,64,null,41,66,2,13,2,2,null,38,null,18,41,3,7,4,6,null,26,null,23,25,3,9,5,3,null,37,null,23,32,3,11,1,5,null,27,null,18,34]
[null,4,"1. FC Union Berlin",18,8,8,null,51,null,38,62,3,11,6,0,null,30,null,11,39,7,7,2,8,null,21,null,27,23,2,10,3,4,null,29,null,22,33,4,8,5,4,null,22,null,16,29]
[null,5,"SC Freiburg",17,8,9,null,51,null,44,59,5,10,4,3,null,28,null,13,34,4,7,4,6,null,23,null,31,25,6,9,4,4,null,26,null,24,31,5,8,4,5,null,25,null,20,28]
[null,6,"Bayer Leverkusen",14,8,12,null,57,null,49,50,8,8,3,6,null,38,null,26,27,6,6,5,6,null,19,null,23,23,8,7,3,7,null,30,null,28,24,6,7,5,5,null,27,null,21,26]
[null,7,"Eintracht Frankfurt",13,11,10,null,58,null,52,50,7,9,5,3,null,35,null,18,32,11,4,6,7,null,23,null,34,18,4,9,4,4,null,36,null,25,31,12,4,7,6,null,22,null,27,19]
[null,8,"VfL Wolfsburg",13,10,11,null,57,null,48,49,10,6,7,4,null,34,null,25,25,5,7,3,7,null,23,null,23,24,7,8,5,4,null,35,null,20,29,11,5,5,7,null,22,null,28,20]
[null,9,"1. FSV Mainz 05",12,10,12,null,54,null,55,46,11,6,6,5,null,31,null,25,24,8,6,4,7,null,23,null,30,22,12,5,5,7,null,21,null,27,20,7,7,5,5,null,33,null,28,26]
[null,10,"Bor. Mönchengladbach",11,10,13,null,52,null,55,43,6,10,3,4,null,33,null,18,33,16,1,7,9,null,19,null,37,10,9,6,4,7,null,30,null,28,22,10,5,6,6,null,22,null,27,21]
[null,11,"1. FC Köln",10,12,12,null,49,null,54,42,12,6,5,6,null,28,null,20,23,10,4,7,6,null,21,null,34,19,10,5,6,6,null,29,null,31,21,9,5,6,6,null,20,null,23,21]
[null,12,"1899 Hoffenheim",10,6,18,null,48,null,57,36,13,7,2,8,null,28,null,29,23,12,3,4,10,null,20,null,28,13,13,5,4,8,null,25,null,27,19,15,5,2,10,null,23,null,30,17]
[null,13,"Werder Bremen (N)",10,6,18,null,51,null,64,36,18,5,2,10,null,26,null,28,17,9,5,4,8,null,25,null,36,19,11,6,3,8,null,27,null,36,21,17,4,3,10,null,24,null,28,15]
[null,14,"VfL Bochum",10,5,19,null,40,null,72,35,9,8,2,7,null,28,null,32,26,17,2,3,12,null,12,null,40,9,16,5,1,11,null,17,null,39,16,13,5,4,8,null,23,null,33,19]
[null,15,"FC Augsburg",9,7,18,null,42,null,63,34,14,6,4,7,null,16,null,24,22,13,3,3,11,null,26,null,39,12,14,5,3,9,null,22,null,30,18,16,4,4,9,null,20,null,33,16]
[null,16,"VfB Stuttgart",7,12,15,null,45,null,57,33,15,5,6,6,null,23,null,22,21,14,2,6,9,null,22,null,35,12,15,3,7,7,null,21,null,30,16,14,4,5,8,null,24,null,27,17]
[null,17,"FC Schalke 04 (N)",7,10,17,null,35,null,71,31,17,5,5,7,null,23,null,36,20,15,2,5,10,null,12,null,35,11,18,2,3,12,null,14,null,41,9,8,5,7,5,null,21,null,30,22]
[null,18,"Hertha BSC",7,8,19,null,42,null,69,29,16,5,6,6,null,24,null,27,21,18,2,2,13,null,18,null,42,8,17,3,5,9,null,20,null,30,14,18,4,3,10,null,22,null,39,15]
[]
[]
[null,"1.Bundesliga (1.BL)"]
[null," -  2021/22  - "]
[null," ","Mannschaft","Sieg","Remis","Nieder-"," ","Tore",null,null,"Punkte","Heim",null,null,null," ","Tore",null,null,null,"Auswärts",null,null,null," ","Tore",null,null,null,"Hinrunde",null,null,null," ","Tore",null,null,null,"Rückrunde",null,null,null," ","Tore"]
[null,null,null,null,null,"lagen",null,null,null,null,null,"Platz","g","u","n",null,null,null,null,"Pkt.","Platz","g","u","n",null,null,null,null,"Pkt.","Platz","g","u","n",null,null,null,null,"Pkt.","Platz","g","u","n",null,null,null,null,"Pkt."]
[null,1,"Bayern München (M) ",24,5,5,null,97,null,37,77,1,13,2,2,null,48,null,15,41,1,11,3,3,null,49,null,22,36,1,14,1,2,null,56,null,16,43,4,10,4,3,null,41,null,21,34]
[null,2,"Borussia Dortmund (P) ",22,3,9,null,85,null,52,69,2,13,0,4,null,52,null,28,24,3,9,3,5,null,33,null,24,30,2,11,1,5,null,41,null,26,34,3,11,2,4,null,44,null,26,35]
[null,3,"Bayer 04 Leverkusen ",19,7,8,null,80,null,47,64,6,10,2,5,null,39,null,23,16,2,9,5,3,null,41,null,24,32,4,8,4,5,null,40,null,28,28,2,11,3,3,null,40,null,19,36]
[null,4,"RB Leipzig ",17,7,10,null,72,null,37,58,3,11,2,4,null,43,null,17,26,5,6,5,6,null,29,null,20,23,10,6,4,7,null,30,null,22,22,1,11,3,3,null,42,null,15,36]
[null,5,"1. FC Union Berlin ",16,9,9,null,50,null,44,57,5,10,5,2,null,25,null,17,8,7,6,4,7,null,25,null,27,22,7,7,6,4,null,23,null,21,27,5,9,3,5,null,27,null,23,30]
[null,6,"SC Freiburg ",15,10,9,null,58,null,46,55,8,8,5,4,null,32,null,25,7,4,7,5,5,null,26,null,21,26,3,8,5,4,null,28,null,16,29,8,7,5,5,null,30,null,30,26]
[null,7,"1. FC Köln ",14,10,10,null,52,null,49,52,7,9,4,4,null,27,null,21,6,8,5,6,6,null,25,null,28,21,8,6,7,4,null,27,null,27,25,6,8,3,6,null,25,null,22,27]
[null,8,"1. FSV Mainz 05 ",13,7,14,null,50,null,45,46,4,10,5,2,null,33,null,11,22,17,3,2,12,null,17,null,34,11,9,7,3,7,null,25,null,17,24,10,6,4,7,null,25,null,28,22]
[null,9,"TSG Hoffenheim ",13,7,14,null,58,null,60,46,9,8,4,5,null,34,null,24,10,9,5,3,9,null,24,null,36,18,5,8,4,5,null,35,null,26,28,13,5,3,9,null,23,null,34,18]
[null,10,"Bor. Mönchengladbach ",12,9,13,null,54,null,61,45,10,8,4,5,null,33,null,27,6,11,4,5,8,null,21,null,34,17,14,5,4,8,null,22,null,32,19,7,7,5,5,null,32,null,29,26]
[null,11,"Eintracht Frankfurt ",10,12,12,null,45,null,49,42,16,4,7,6,null,20,null,22,-2,6,6,5,6,null,25,null,27,23,6,7,6,4,null,37,null,34,27,15,3,6,8,null,18,null,25,15]
[null,12,"VfL Wolfsburg ",12,6,16,null,43,null,54,42,13,7,3,7,null,25,null,21,4,10,5,3,9,null,18,null,33,18,13,6,2,9,null,17,null,29,20,9,6,4,7,null,26,null,25,22]
[null,13,"VfL Bochum (N) ",12,6,16,null,38,null,52,42,11,8,4,5,null,21,null,17,4,12,4,2,11,null,17,null,35,14,12,6,2,9,null,16,null,26,20,11,6,4,7,null,22,null,26,22]
[null,14,"FC Augsburg ",10,8,16,null,39,null,56,38,12,7,4,6,null,25,null,26,-1,13,3,4,10,null,14,null,30,13,15,4,6,7,null,17,null,26,18,12,6,2,9,null,22,null,30,20]
[null,15,"VfB Stuttgart ",7,12,15,null,41,null,59,33,14,6,4,7,null,28,null,32,-4,16,1,8,8,null,13,null,27,11,16,4,5,8,null,22,null,31,17,14,3,7,7,null,19,null,28,16]
[null,16,"Hertha BSC ",9,6,19,null,37,null,71,33,15,6,3,8,null,24,null,33,-9,15,3,3,11,null,13,null,38,12,11,6,3,8,null,20,null,35,21,18,3,3,11,null,17,null,36,12]
[null,17,"Arminia Bielefeld ",5,13,16,null,27,null,53,28,17,2,10,5,null,15,null,23,-8,14,3,3,11,null,12,null,30,12,17,3,7,7,null,14,null,22,16,17,2,6,9,null,13,null,31,12]
[null,18,"SpVgg Greuther Fürth (N) ",3,9,22,null,28,null,82,18,18,3,5,9,null,15,null,33,-18,18,0,4,13,null,13,null,49,4,18,0,4,13,null,13,null,49,4,16,2,7,8,null,15,null,33,13]
[]
[]
[null,"1.Bundesliga (1.BL)"]
[null," -  2020/21  - "]
[null," ","Mannschaft","Sieg","Remis","Nieder-"," ","Tore",null,null,"Punkte","Heim",null,null,null," ","Tore",null,null,null,"Auswärts",null,null,null," ","Tore",null,null,null,"Hinrunde",null,null,null," ","Tore",null,null,null,"Rückrunde",null,null,null," ","Tore"]
[null,null,null,null,null,"lagen",null,null,null,null,null,"Platz","g","u","n",null,null,null,null,"Pkt.","Platz","g","u","n",null,null,null,null,"Pkt.","Platz","g","u","n",null,null,null,null,"Pkt.","Platz","g","u","n",null,null,null,null,"Pkt."]
["Bundesliga-Tipp 20221/2023",1,"Bayern München (M, P) ",24,6,4,null,99,null,44,78,1,13,4,0,null,64,null,21,43,1,11,2,4,null,35,null,23,35,1,12,3,2,null,49,null,25,39,1,12,3,2,null,50,null,19,39]
[null,2,"RB Leipzig ",19,8,7,null,60,null,32,65,3,11,4,2,null,29,null,13,16,3,8,4,5,null,31,null,19,28,2,10,5,2,null,29,null,14,35,6,9,3,5,null,31,null,18,30]
[null,3,"Borussia Dortmund ",20,4,10,null,75,null,46,64,4,11,2,4,null,40,null,20,20,2,9,2,6,null,35,null,26,29,4,9,2,6,null,33,null,22,29,2,11,2,4,null,42,null,24,35]
[null,4,"VfL Wolfsburg ",17,10,7,null,61,null,37,61,5,10,4,3,null,32,null,16,16,4,7,6,4,null,29,null,21,27,5,7,8,2,null,26,null,19,29,4,10,2,5,null,35,null,18,32]
[null,5,"Eintracht Frankfurt ",16,12,6,null,69,null,53,60,2,10,7,0,null,37,null,20,17,7,6,5,6,null,32,null,33,23,8,6,9,2,null,30,null,26,27,3,10,3,4,null,39,null,27,33]
[null,6,"Bayer 04 Leverkusen ",14,10,10,null,53,null,39,52,7,8,5,4,null,34,null,22,12,6,6,5,6,null,19,null,17,23,3,9,5,3,null,32,null,17,32,12,5,5,7,null,21,null,22,20]
[null,7,"1. FC Union Berlin ",12,14,8,null,50,null,43,50,6,8,8,1,null,32,null,18,14,11,4,6,7,null,18,null,25,18,6,7,7,3,null,32,null,21,28,9,5,7,5,null,18,null,22,22]
[null,8,"Bor. Mönchengladbach ",13,10,11,null,64,null,56,49,8,8,4,5,null,32,null,19,13,9,5,6,6,null,32,null,37,21,7,7,7,3,null,31,null,26,28,10,6,3,8,null,33,null,30,21]
[null,9,"VfB Stuttgart (N) ",12,9,13,null,56,null,55,45,12,5,6,6,null,27,null,26,1,5,7,3,7,null,29,null,29,24,10,5,7,5,null,32,null,27,22,8,7,2,8,null,24,null,28,23]
[null,10,"SC Freiburg ",12,9,13,null,52,null,52,45,9,7,6,4,null,33,null,23,10,12,5,3,9,null,19,null,29,18,9,6,6,5,null,31,null,28,24,11,6,3,8,null,21,null,24,21]
[null,11,"TSG Hoffenheim ",11,10,13,null,52,null,54,43,10,8,3,6,null,32,null,24,8,14,3,7,7,null,20,null,30,16,11,5,4,8,null,25,null,30,19,7,6,6,5,null,27,null,24,24]
[null,12,"1. FSV Mainz 05 ",10,9,15,null,39,null,56,39,15,4,4,9,null,16,null,26,-10,8,6,5,6,null,23,null,30,23,17,1,4,12,null,15,null,36,7,5,9,5,3,null,24,null,20,32]
[null,13,"FC Augsburg ",10,6,18,null,36,null,54,36,11,6,4,7,null,21,null,25,-4,17,4,2,11,null,15,null,29,14,12,5,4,8,null,17,null,26,19,16,5,2,10,null,19,null,28,17]
[null,14,"Hertha BSC ",8,11,15,null,41,null,52,35,13,5,5,7,null,21,null,26,-5,15,3,6,8,null,20,null,26,15,14,4,5,8,null,23,null,28,17,13,4,6,7,null,18,null,24,18]
[null,15,"Arminia Bielefeld (N) ",9,8,17,null,26,null,52,35,14,6,2,9,null,13,null,23,-10,16,3,6,8,null,13,null,29,15,15,5,2,10,null,13,null,24,17,15,4,6,7,null,13,null,28,18]
[null,16,"1. FC Köln ",8,9,17,null,34,null,60,33,16,3,5,9,null,20,null,31,-11,10,5,4,8,null,14,null,29,19,16,3,6,8,null,15,null,28,15,14,5,3,9,null,19,null,32,18]
[null,17,"Werder Bremen ",7,10,17,null,36,null,57,31,17,3,5,9,null,16,null,28,-12,13,4,5,8,null,20,null,29,17,13,4,6,7,null,19,null,25,18,17,3,4,10,null,17,null,32,13]
[null,18,"FC Schalke 04 ",3,7,24,null,25,null,86,16,18,3,3,11,null,14,null,34,-20,18,0,4,13,null,11,null,52,4,18,0,4,13,null,11,null,52,4,18,2,3,12,null,11,null,42,9]
[]
[]
[null,"1.Bundesliga (1.BL)"]
[null," -  2019/20  - "]
[null," ","Mannschaft","Sieg","Remis","Nieder-"," ","Tore",null,null,"Punkte","Heim",null,null,null," ","Tore",null,null,null,"Auswärts",null,null,null," ","Tore",null,null,null,"Hinrunde",null,null,null," ","Tore",null,null,null,"Rückrunde",null,null,null," ","Tore"]
[null,null,null,null,null,"lagen",null,null,null,null,null,"Platz","g","u","n",null,null,null,null,"Pkt.","Platz","g","u","n",null,null,null,null,"Pkt.","Platz","g","u","n",null,null,null,null,"Pkt.","Platz","g","u","n",null,null,null,null,"Pkt."]
[null,1,"Bayern München (M, P) ",26,4,4,null,100,null,32,82,1,13,2,2,null,53,null,15,41,1,13,2,2,null,47,null,17,41,3,10,3,4,null,46,null,22,33,1,16,1,0,null,54,null,10,49]
[null,2,"Borussia Dortmund ",21,6,7,null,84,null,41,69,3,11,3,3,null,46,null,17,36,3,10,3,4,null,38,null,24,33,4,8,6,3,null,41,null,24,30,2,13,0,4,null,43,null,17,39]
[null,3,"RB Leipzig ",18,12,4,null,81,null,37,66,5,7,8,2,null,38,null,21,29,2,11,4,2,null,43,null,16,37,1,11,4,2,null,48,null,20,37,5,7,8,2,null,33,null,17,29]
[null,4,"Bor. Mönchengladbach ",20,5,9,null,66,null,40,65,2,12,2,3,null,40,null,21,38,7,8,3,6,null,26,null,19,27,2,11,2,4,null,33,null,18,35,4,9,3,5,null,33,null,22,30]
[null,5,"Bayer 04 Leverkusen ",19,6,9,null,61,null,44,63,4,9,4,4,null,32,null,22,31,4,10,2,5,null,29,null,22,32,6,8,4,5,null,23,null,21,28,3,11,2,4,null,38,null,23,35]
[null,6,"TSG Hoffenheim ",15,7,12,null,53,null,53,52,11,7,1,9,null,26,null,37,22,5,8,6,3,null,27,null,16,30,7,8,3,6,null,25,null,28,27,7,7,4,6,null,28,null,25,25]
[null,7,"VfL Wolfsburg ",13,10,11,null,48,null,46,49,14,4,7,6,null,19,null,23,19,6,9,3,5,null,29,null,23,30,9,6,6,5,null,18,null,18,24,8,7,4,6,null,30,null,28,25]
[null,8,"SC Freiburg ",13,9,12,null,48,null,47,48,6,9,2,6,null,23,null,17,29,11,4,7,6,null,25,null,30,19,8,7,5,5,null,27,null,23,26,9,6,4,7,null,21,null,24,22]
[null,9,"Eintracht Frankfurt ",13,6,15,null,59,null,60,45,7,8,4,5,null,36,null,27,28,12,5,2,10,null,23,null,33,17,13,5,3,9,null,27,null,29,18,6,8,3,6,null,32,null,31,27]
[null,10,"Hertha BSC ",11,8,15,null,48,null,59,41,12,6,3,8,null,23,null,32,21,9,5,5,7,null,25,null,27,20,12,5,4,8,null,22,null,29,19,10,6,4,7,null,26,null,30,22]
[null,11,"1. FC Union Berlin (N) ",12,5,17,null,41,null,58,41,8,8,3,6,null,24,null,20,27,16,4,2,11,null,17,null,38,14,11,6,2,9,null,20,null,24,20,11,6,3,8,null,21,null,34,21]
[null,12,"FC Schalke 04 ",9,12,13,null,38,null,58,39,10,5,7,5,null,20,null,27,22,13,4,5,8,null,18,null,31,17,5,8,6,3,null,29,null,21,30,17,1,6,10,null,9,null,37,9]
[null,13,"1. FSV Mainz 05 ",11,4,19,null,44,null,65,37,16,5,2,10,null,18,null,29,17,10,6,2,9,null,26,null,36,20,14,6,0,11,null,25,null,39,18,13,5,4,8,null,19,null,26,19]
[null,14,"1. FC Köln (N) ",10,6,18,null,51,null,69,36,9,6,4,7,null,28,null,27,22,15,4,2,11,null,23,null,42,14,15,5,2,10,null,19,null,32,17,12,5,4,8,null,32,null,37,19]
[null,15,"FC Augsburg ",9,9,16,null,45,null,63,36,13,5,5,7,null,28,null,29,20,14,4,4,9,null,17,null,34,16,10,6,5,6,null,28,null,31,23,16,3,4,10,null,17,null,32,13]
[null,16,"Werder Bremen ",8,7,19,null,42,null,69,31,17,2,3,12,null,15,null,36,9,8,6,4,7,null,27,null,33,22,17,3,5,9,null,23,null,41,14,14,5,2,10,null,19,null,28,17]
[null,17,"Fortuna Düsseldorf ",6,12,16,null,36,null,67,30,15,4,6,7,null,18,null,28,18,18,2,6,9,null,18,null,39,12,16,4,3,10,null,18,null,36,15,15,2,9,6,null,18,null,31,15]
[null,18,"SC Paderborn 07 (N) ",4,8,22,null,37,null,74,20,18,2,2,13,null,21,null,46,8,17,2,6,9,null,16,null,28,12,18,3,3,11,null,20,null,36,12,18,1,5,11,null,17,null,38,8]
[]
[]
[null,"1.Bundesliga (1.BL)"]
[null," -  2018/19  - "]
[null," ","Mannschaft","Sieg","Remis","Nieder-"," ","Tore",null,null,"Punkte","Heim",null,null,null," ","Tore",null,null,null,"Auswärts",null,null,null," ","Tore",null,null,null,"Hinrunde",null,null,null," ","Tore",null,null,null,"Rückrunde",null,null,null," ","Tore"]
[null,null,null,null,null,"lagen",null,null,null,null,null,"Platz","g","u","n",null,null,null,null,"Pkt.","Platz","g","u","n",null,null,null,null,"Pkt.","Platz","g","u","n",null,null,null,null,"Pkt.","Platz","g","u","n",null,null,null,null,"Pkt."]
[null,1,"Bayern München (M) ",24,6,4,null,88,null,32,78,2,13,3,1,null,49,null,14,42,1,11,3,3,null,39,null,18,36,2,11,3,3,null,36,null,18,36,1,13,3,1,null,52,null,14,42]
[null,2,"Borussia Dortmund ",23,7,4,null,81,null,44,76,1,14,2,1,null,52,null,25,44,2,9,5,3,null,29,null,19,32,1,13,3,1,null,44,null,18,42,4,10,4,3,null,37,null,26,34]
[null,3,"RB Leipzig ",19,9,6,null,63,null,29,66,3,10,6,1,null,34,null,9,36,3,9,3,5,null,29,null,20,30,4,9,4,4,null,31,null,17,31,2,10,5,2,null,32,null,12,35]
[null,4,"Bayer 04 Leverkusen ",18,4,12,null,69,null,52,58,8,9,2,6,null,32,null,25,29,4,9,2,6,null,37,null,27,29,9,7,3,7,null,26,null,29,24,3,11,1,5,null,43,null,23,34]
[null,5,"Bor. Mönchengladbach ",16,7,11,null,55,null,42,55,5,9,3,5,null,31,null,22,30,8,7,4,6,null,24,null,20,25,3,10,3,4,null,36,null,18,33,10,6,4,7,null,19,null,24,22]
[null,6,"VfL Wolfsburg ",16,7,11,null,62,null,50,55,6,8,5,4,null,36,null,23,29,6,8,2,7,null,26,null,27,26,5,8,4,5,null,27,null,22,28,6,8,3,6,null,35,null,28,27]
[null,7,"Eintracht Frankfurt (P) ",15,9,10,null,60,null,48,54,9,8,4,5,null,32,null,21,28,5,7,5,5,null,28,null,27,26,6,8,3,6,null,34,null,23,27,7,7,6,4,null,26,null,25,27]
[null,8,"Werder Bremen ",14,11,9,null,58,null,49,53,4,8,6,3,null,35,null,26,30,9,6,5,6,null,23,null,23,23,10,6,4,7,null,28,null,29,22,5,8,7,2,null,30,null,20,31]
[null,9,"TSG Hoffenheim ",13,12,9,null,70,null,52,51,11,7,5,5,null,28,null,20,26,7,6,7,4,null,42,null,32,25,7,6,7,4,null,32,null,23,25,8,7,5,5,null,38,null,29,26]
[null,10,"Fortuna Düsseldorf (N) ",13,5,16,null,49,null,65,44,10,9,0,8,null,27,null,28,27,12,4,5,8,null,22,null,37,17,14,5,3,9,null,19,null,33,18,9,8,2,7,null,30,null,32,26]
[null,11,"Hertha BSC ",11,10,13,null,49,null,57,43,13,6,6,5,null,26,null,27,24,10,5,4,8,null,23,null,30,19,8,6,6,5,null,26,null,27,24,12,5,4,8,null,23,null,30,19]
[null,12,"1. FSV Mainz 05 ",12,7,15,null,46,null,57,43,7,8,5,4,null,31,null,22,29,13,4,2,11,null,15,null,35,14,12,5,6,6,null,17,null,22,21,11,7,1,9,null,29,null,35,22]
[null,13,"SC Freiburg ",8,12,14,null,46,null,61,36,12,6,7,4,null,32,null,27,25,15,2,5,10,null,14,null,34,11,11,5,6,6,null,21,null,25,21,14,3,6,8,null,25,null,36,15]
[null,14,"FC Schalke 04 ",8,9,17,null,37,null,55,33,18,4,3,10,null,16,null,28,15,11,4,6,7,null,21,null,27,18,13,5,3,9,null,20,null,24,18,15,3,6,8,null,17,null,31,15]
[null,15,"FC Augsburg ",8,8,18,null,51,null,71,32,15,5,4,8,null,34,null,33,19,14,3,4,10,null,17,null,38,13,15,3,6,8,null,25,null,29,15,13,5,2,10,null,26,null,42,17]
[null,16,"VfB Stuttgart ",7,7,20,null,32,null,70,28,14,6,4,7,null,22,null,27,22,16,1,3,13,null,10,null,43,6,16,4,2,11,null,12,null,35,14,16,3,5,9,null,20,null,35,14]
[null,17,"Hannover 96 ",5,6,23,null,31,null,71,21,17,5,1,11,null,15,null,26,16,17,0,5,12,null,16,null,45,5,17,2,5,10,null,17,null,35,11,17,3,1,13,null,14,null,36,10]
[null,18,"1. FC Nürnberg (N) ",3,10,21,null,26,null,68,19,16,3,7,7,null,16,null,22,16,18,0,3,14,null,10,null,46,3,18,2,5,10,null,14,null,38,11,18,1,5,11,null,12,null,30,8]
[]
[]
[null,"1.Bundesliga (1.BL)"]
[null," -  2017/18  - "]
[null," ","Mannschaft","Sieg","Remis","Nieder-"," ","Tore",null,null,"Punkte","Heim",null,null,null," ","Tore",null,null,null,"Auswärts",null,null,null," ","Tore",null,null,null,"Hinrunde",null,null,null," ","Tore",null,null,null,"Rückrunde",null,null,null," ","Tore"]
[null,null,null,null,null,"lagen",null,null,null,null,null,"Platz","g","u","n",null,null,null,null,"Pkt.","Platz","g","u","n",null,null,null,null,"Pkt.","Platz","g","u","n",null,null,null,null,"Pkt.","Platz","g","u","n",null,null,null,null,"Pkt."]
[null,1,"Bayern München (M)",27,3,4,null,92,null,28,84,1,14,2,1,null,56,null,15,44,1,13,1,3,null,36,null,13,40,1,13,2,2,null,37,null,11,41,1,14,1,2,null,55,null,17,43]
[null,2,"FC Schalke 04",18,9,7,null,53,null,37,63,3,10,5,2,null,27,null,15,35,2,8,4,5,null,26,null,22,28,2,8,6,3,null,28,null,21,30,3,10,3,4,null,25,null,16,33]
[null,3,"TSG Hoffenheim",15,10,9,null,66,null,48,55,2,11,4,2,null,38,null,16,37,9,4,6,7,null,28,null,32,18,7,7,5,5,null,27,null,22,26,4,8,5,4,null,39,null,26,29]
[null,4,"Borussia Dortmund (P)",15,10,9,null,54,null,47,55,5,9,4,4,null,40,null,21,31,4,6,6,5,null,24,null,26,24,3,8,4,5,null,39,null,24,28,7,7,6,4,null,25,null,23,27]
[null,5,"Bayer 04 Leverkusen",15,10,9,null,58,null,44,55,8,8,5,4,null,29,null,19,29,3,7,5,5,null,29,null,25,26,4,7,7,3,null,34,null,23,28,6,8,3,6,null,24,null,21,27]
[null,6,"RB Leipzig",15,8,11,null,57,null,53,53,6,9,4,4,null,34,null,26,31,5,6,4,7,null,23,null,27,22,5,8,4,5,null,27,null,25,28,8,7,4,6,null,30,null,28,25]
[null,7,"VfB Stuttgart (N)",15,6,13,null,36,null,36,51,4,10,4,3,null,18,null,9,34,11,5,2,10,null,18,null,27,17,14,5,2,10,null,13,null,21,17,2,10,4,3,null,23,null,15,34]
[null,8,"Eintracht Frankfurt",14,7,13,null,45,null,45,49,9,8,4,5,null,26,null,19,28,7,6,3,8,null,19,null,26,21,8,7,5,5,null,20,null,18,26,9,7,2,8,null,25,null,27,23]
[null,9,"Bor. Mönchengladbach",13,8,13,null,47,null,52,47,7,9,4,4,null,28,null,20,31,13,4,4,9,null,19,null,32,16,6,8,4,5,null,27,null,28,28,10,5,4,8,null,20,null,24,19]
[null,10,"Hertha BSC",10,13,11,null,43,null,46,43,16,5,7,5,null,23,null,27,22,6,5,6,6,null,20,null,19,21,10,6,6,5,null,26,null,25,24,11,4,7,6,null,17,null,21,19]
[null,11,"Werder Bremen",10,12,12,null,37,null,40,42,12,6,7,4,null,20,null,17,25,10,4,5,8,null,17,null,23,17,16,3,6,8,null,13,null,20,15,5,7,6,4,null,24,null,20,27]
[null,12,"FC Augsburg",10,11,13,null,43,null,46,41,14,6,4,7,null,24,null,24,22,8,4,7,6,null,19,null,22,19,9,6,6,5,null,27,null,23,24,13,4,5,8,null,16,null,23,17]
[null,13,"Hannover 96 (N)",10,9,15,null,44,null,54,39,10,8,3,6,null,28,null,25,27,14,2,6,9,null,16,null,29,12,11,6,5,6,null,24,null,26,23,15,4,4,9,null,20,null,28,16]
[null,14,"1. FSV Mainz 05",9,9,16,null,38,null,52,36,13,7,3,7,null,22,null,21,24,15,2,6,9,null,16,null,31,12,15,4,5,8,null,19,null,28,17,12,5,4,8,null,19,null,24,19]
[null,15,"SC Freiburg",8,12,14,null,32,null,56,36,11,7,6,4,null,17,null,17,27,17,1,6,10,null,15,null,39,9,13,4,7,6,null,17,null,31,19,14,4,5,8,null,15,null,25,17]
[null,16,"VfL Wolfsburg",6,15,13,null,36,null,48,33,17,3,8,6,null,23,null,25,17,12,3,7,7,null,13,null,23,16,12,3,10,4,null,21,null,21,19,18,3,5,9,null,15,null,27,14]
[null,17,"Hamburger SV",8,7,19,null,29,null,53,31,15,6,4,7,null,17,null,19,22,16,2,3,12,null,12,null,34,9,17,4,3,10,null,15,null,25,15,17,4,4,9,null,14,null,28,16]
[null,18,"1. FC Köln",5,7,22,null,35,null,70,22,18,3,5,9,null,20,null,30,14,18,2,2,13,null,15,null,40,8,18,1,3,13,null,10,null,32,6,16,4,4,9,null,25,null,38,16]
[]
[]
[null,"1.Bundesliga (1.BL)"]
[null," -  2016/17  - "]
[null," ","Mannschaft","Sieg","Remis","Nieder-"," ","Tore",null,null,"Punkte","Heim",null,null,null," ","Tore",null,null,null,"Auswärts",null,null,null," ","Tore",null,null,null,"Hinrunde",null,null,null," ","Tore",null,null,null,"Rückrunde",null,null,null," ","Tore"]
[null,null,null,null,null,"lagen",null,null,null,null,null,"Platz","g","u","n",null,null,null,null,"Pkt.","Platz","g","u","n",null,null,null,null,"Pkt.","Platz","g","u","n",null,null,null,null,"Pkt.","Platz","g","u","n",null,null,null,null,"Pkt."]
[null,1,"Bayern München (M, P)",25,7,2,null,89,null,22,82,1,13,4,0,null,55,null,9,43,1,12,3,2,null,34,null,13,39,1,13,3,1,null,40,null,10,42,1,12,4,1,null,49,null,12,40]
[null,2,"RB Leipzig (N)",20,7,7,null,66,null,39,67,4,12,2,3,null,35,null,16,38,2,8,5,4,null,31,null,23,29,2,12,3,2,null,34,null,15,39,5,8,4,5,null,32,null,24,28]
[null,3,"Borussia Dortmund",18,10,6,null,72,null,40,64,2,13,4,0,null,41,null,12,43,4,5,6,6,null,31,null,28,21,4,8,6,3,null,37,null,20,30,2,10,4,3,null,35,null,20,34]
[null,4,"TSG Hoffenheim",16,14,4,null,64,null,37,62,3,11,6,0,null,35,null,14,39,3,5,8,4,null,29,null,23,23,3,7,10,0,null,30,null,17,31,3,9,4,4,null,34,null,20,31]
[null,5,"1. FC Köln",12,13,9,null,51,null,42,49,6,9,6,2,null,29,null,17,33,10,3,7,7,null,22,null,25,16,7,6,8,3,null,21,null,15,26,9,6,5,6,null,30,null,27,23]
[null,6,"Hertha BSC",15,4,15,null,43,null,47,49,5,12,1,4,null,28,null,19,37,15,3,3,11,null,15,null,28,12,5,9,3,5,null,25,null,19,30,13,6,1,10,null,18,null,28,19]
[null,7,"SC Freiburg (N)",14,6,14,null,42,null,60,48,7,10,2,5,null,23,null,24,32,11,4,4,9,null,19,null,36,16,9,7,2,8,null,22,null,29,23,8,7,4,6,null,20,null,31,25]
[null,8,"Werder Bremen",13,6,15,null,61,null,64,45,13,8,1,8,null,28,null,24,25,6,5,5,7,null,33,null,40,20,15,4,4,9,null,21,null,36,16,4,9,2,6,null,40,null,28,29]
[null,9,"Bor. Mönchengladbach",12,9,13,null,45,null,49,45,11,7,5,5,null,26,null,18,26,8,5,4,8,null,19,null,31,19,14,4,5,8,null,15,null,25,17,6,8,4,5,null,30,null,24,28]
[null,10,"FC Schalke 04",11,10,13,null,45,null,40,43,8,8,5,4,null,29,null,15,29,13,3,5,9,null,16,null,25,14,10,6,3,8,null,21,null,19,21,10,5,7,5,null,24,null,21,22]
[null,11,"Eintracht Frankfurt",11,9,14,null,36,null,43,42,9,7,7,3,null,24,null,18,28,14,4,2,11,null,12,null,25,14,6,8,5,4,null,22,null,15,29,18,3,4,10,null,14,null,28,13]
[null,12,"Bayer 04 Leverkusen",11,8,15,null,53,null,55,41,14,5,6,6,null,27,null,28,21,5,6,2,9,null,26,null,27,20,8,7,3,7,null,26,null,25,24,15,4,5,8,null,27,null,30,17]
[null,13,"FC Augsburg",9,11,14,null,35,null,51,38,15,5,6,6,null,22,null,25,21,9,4,5,8,null,13,null,26,17,13,4,6,7,null,13,null,19,18,12,5,5,7,null,22,null,32,20]
[null,14,"Hamburger SV",10,8,16,null,33,null,61,38,10,8,4,5,null,21,null,25,28,17,2,4,11,null,12,null,36,10,16,3,4,10,null,14,null,32,13,7,7,4,6,null,19,null,29,25]
[null,15,"1. FSV Mainz 05",10,7,17,null,44,null,55,37,12,7,4,6,null,30,null,26,25,16,3,3,11,null,14,null,29,12,11,6,3,8,null,26,null,30,21,16,4,4,9,null,18,null,25,16]
[null,16,"VfL Wolfsburg",10,7,17,null,34,null,52,37,17,5,3,9,null,15,null,25,18,7,5,4,8,null,19,null,27,19,12,5,4,8,null,16,null,24,19,14,5,3,9,null,18,null,28,18]
[null,17,"FC Ingolstadt 04",8,8,18,null,36,null,57,32,18,4,5,8,null,21,null,30,17,12,4,3,10,null,15,null,27,15,17,3,3,11,null,14,null,28,12,11,5,5,7,null,22,null,29,20]
[null,18,"SV Darmstadt 98",7,4,23,null,28,null,63,25,16,6,3,8,null,18,null,25,21,18,1,1,15,null,10,null,38,4,18,2,3,12,null,11,null,30,9,17,5,1,11,null,17,null,33,16]
[]
[]
[]
[null,"1.Bundesliga (1.BL)"]
[null," -  2015/16  - "]
[null," ","Mannschaft","Sieg","Remis","Nieder-"," ","Tore",null,null,"Punkte","Heim",null,null,null," ","Tore",null,null,null,"Auswärts",null,null,null," ","Tore",null,null,null,"Hinrunde",null,null,null," ","Tore",null,null,null,"Rückrunde",null,null,null," ","Tore"]
[null,null,null,null,null,"lagen",null,null,null,null,null,"Platz","g","u","n",null,null,null,null,"Pkt.","Platz","g","u","n",null,null,null,null,"Pkt.","Platz","g","u","n",null,null,null,null,"Pkt.","Platz","g","u","n",null,null,null,null,"Pkt."]
[null,1,"Bayern München (M)",28,4,2,null,80,null,17,88,1,15,1,1,null,51,null,8,46,1,13,3,1,null,29,null,9,42,1,15,1,1,null,46,null,8,46,1,13,3,1,null,34,null,9,42]
[null,2,"Borussia Dortmund",24,6,4,null,82,null,34,78,2,14,3,0,null,49,null,14,45,2,10,3,4,null,33,null,20,33,2,12,2,3,null,47,null,23,38,2,12,4,1,null,35,null,11,40]
[null,3,"Bayer 04 Leverkusen",18,6,10,null,56,null,40,60,4,10,3,4,null,31,null,17,33,3,8,3,6,null,25,null,23,27,5,8,3,6,null,25,null,20,27,3,10,3,4,null,31,null,20,33]
[null,4,"Bor. Mönchengladbach",17,4,13,null,67,null,50,55,3,13,1,3,null,42,null,18,40,12,4,3,10,null,25,null,32,15,4,9,2,6,null,34,null,30,29,4,8,2,7,null,33,null,20,26]
[null,5,"FC Schalke 04",15,7,12,null,51,null,49,52,7,8,5,4,null,28,null,24,29,6,7,2,8,null,23,null,25,23,6,8,3,6,null,23,null,23,27,6,7,4,6,null,28,null,26,25]
[null,6,"1. FSV Mainz 05",14,8,12,null,46,null,42,50,8,8,4,5,null,23,null,18,28,8,6,4,7,null,23,null,24,22,8,7,3,7,null,23,null,23,24,5,7,5,5,null,23,null,19,26]
[null,7,"Hertha BSC",14,8,12,null,42,null,42,50,6,9,5,3,null,24,null,15,32,10,5,3,9,null,18,null,27,18,3,10,2,5,null,26,null,18,32,16,4,6,7,null,16,null,24,18]
[null,8,"VfL Wolfsburg (P)",12,9,13,null,47,null,49,45,5,9,5,3,null,32,null,17,32,17,3,4,10,null,15,null,32,13,7,7,5,5,null,26,null,21,26,14,5,4,8,null,21,null,28,19]
[null,9,"1. FC Köln",10,13,11,null,38,null,42,43,12,5,5,7,null,16,null,18,20,7,5,8,4,null,22,null,24,23,9,6,6,5,null,18,null,21,24,11,4,7,6,null,20,null,21,19]
[null,10,"Hamburger SV",11,8,15,null,40,null,46,41,14,5,4,8,null,20,null,23,19,9,6,4,7,null,20,null,23,22,10,6,4,7,null,19,null,23,22,12,5,4,8,null,21,null,23,19]
[null,11,"FC Ingolstadt 04 (N)",10,10,14,null,33,null,42,40,9,7,5,5,null,22,null,18,26,13,3,5,9,null,11,null,24,14,11,5,5,7,null,11,null,18,20,9,5,5,7,null,22,null,24,20]
[null,12,"FC Augsburg",9,11,14,null,42,null,52,38,16,3,6,8,null,18,null,27,15,5,6,5,6,null,24,null,25,23,12,5,4,8,null,21,null,26,19,13,4,7,6,null,21,null,26,19]
[null,13,"Werder Bremen",10,8,16,null,50,null,65,38,13,5,5,7,null,27,null,30,20,11,5,3,9,null,23,null,35,18,16,4,3,10,null,17,null,32,15,8,6,5,6,null,33,null,33,23]
[null,14,"SV Darmstadt 98 (N)",9,11,14,null,38,null,53,38,17,2,6,9,null,15,null,29,12,4,7,5,5,null,23,null,24,26,13,4,6,7,null,17,null,26,18,10,5,5,7,null,21,null,27,20]
[null,15,"TSG Hoffenheim",9,10,15,null,39,null,54,37,11,6,6,5,null,22,null,25,24,15,3,4,10,null,17,null,29,13,18,2,7,8,null,17,null,25,13,7,7,3,7,null,22,null,29,24]
[null,16,"Eintracht Frankfurt",9,9,16,null,34,null,52,36,10,6,6,5,null,22,null,24,24,18,3,3,11,null,12,null,28,12,14,4,5,8,null,21,null,28,17,15,5,4,8,null,13,null,24,19]
[null,17,"VfB Stuttgart",9,6,19,null,50,null,75,33,15,6,1,10,null,22,null,32,19,14,3,5,9,null,28,null,43,14,15,4,3,10,null,22,null,37,15,17,5,3,9,null,28,null,38,18]
[null,18,"Hannover 96",7,4,23,null,31,null,62,25,18,4,0,13,null,15,null,30,12,16,3,4,10,null,16,null,32,13,17,4,2,11,null,18,null,29,14,18,3,2,12,null,13,null,33,11]
[]
[]
[]
[null,"1.Bundesliga (1.BL)"]
[null," -  2014/15  - "]
[null," ","Mannschaft","Sieg","Remis","Nieder-"," ","Tore",null,null,"Punkte","Heim",null,null,null," ","Tore",null,null,null,"Auswärts",null,null,null," ","Tore",null,null,null,"Hinrunde",null,null,null," ","Tore",null,null,null,"Rückrunde",null,null,null," ","Tore"]
[null,null,null,null,null,"lagen",null,null,null,null,null,"Platz","g","u","n",null,null,null,null,"Pkt.","Platz","g","u","n",null,null,null,null,"Pkt.","Platz","g","u","n",null,null,null,null,"Pkt.","Platz","g","u","n",null,null,null,null,"Pkt."]
[null,1,"Bayern München (M, P)",25,4,5,null,80,null,18,79,1,14,1,2,null,46,null,7,43,1,11,3,3,null,34,null,11,36,1,14,3,0,null,41,null,4,45,3,11,1,5,null,39,null,14,34]
[null,2,"VfL Wolfsburg",20,9,5,null,72,null,38,69,2,13,4,0,null,38,null,13,43,3,7,5,5,null,34,null,25,26,2,10,4,3,null,33,null,17,34,2,10,5,2,null,39,null,21,35]
[null,3,"Bor. Mönchengladbach",19,9,6,null,53,null,26,66,3,12,3,2,null,32,null,14,39,2,7,6,4,null,21,null,12,27,4,7,6,4,null,25,null,16,27,1,12,3,2,null,28,null,10,39]
[null,4,"Bayer 04 Leverkusen",17,10,7,null,62,null,37,61,4,10,6,1,null,39,null,15,36,4,7,4,6,null,23,null,22,25,3,7,7,3,null,28,null,20,28,4,10,3,4,null,34,null,17,33]
[null,5,"FC Augsburg",15,4,15,null,43,null,43,49,7,9,4,4,null,28,null,21,31,6,6,0,11,null,15,null,22,18,6,9,0,8,null,22,null,21,27,8,6,4,7,null,21,null,22,22]
[null,6,"FC Schalke 04",13,9,12,null,42,null,40,48,5,10,5,2,null,26,null,14,35,13,3,4,10,null,16,null,26,13,5,8,3,6,null,28,null,21,27,10,5,6,6,null,14,null,19,21]
[null,7,"Borussia Dortmund",13,7,14,null,47,null,42,46,8,9,3,5,null,26,null,15,30,8,4,4,9,null,21,null,27,16,17,4,3,10,null,18,null,26,15,5,9,4,4,null,29,null,16,31]
[null,8,"TSG Hoffenheim",12,8,14,null,49,null,55,44,9,9,3,5,null,31,null,26,30,12,3,5,9,null,18,null,29,14,7,7,5,5,null,29,null,25,26,14,5,3,9,null,20,null,30,18]
[null,9,"Eintracht Frankfurt",11,10,13,null,56,null,62,43,6,9,5,3,null,36,null,26,32,18,2,5,10,null,20,null,36,11,9,6,5,6,null,34,null,34,23,11,5,5,7,null,22,null,28,20]
[null,10,"Werder Bremen",11,10,13,null,50,null,65,43,10,8,4,5,null,25,null,24,28,11,3,6,8,null,25,null,41,15,16,4,5,8,null,26,null,39,17,6,7,5,5,null,24,null,26,26]
[null,11,"1. FSV Mainz 05",9,13,12,null,45,null,47,40,11,6,6,5,null,27,null,19,24,9,3,7,7,null,18,null,28,16,12,3,9,5,null,19,null,23,18,7,6,4,7,null,26,null,24,22]
[null,12,"1. FC Köln (N)",9,13,12,null,34,null,40,40,15,4,9,4,null,18,null,17,21,5,5,4,8,null,16,null,23,19,11,5,4,8,null,17,null,23,19,9,4,9,4,null,17,null,17,21]
[null,13,"Hannover 96",9,10,15,null,40,null,56,37,13,6,4,7,null,21,null,25,22,10,3,6,8,null,19,null,31,15,8,7,3,7,null,21,null,26,24,17,2,7,8,null,19,null,30,13]
[null,14,"VfB Stuttgart",9,9,16,null,42,null,60,36,17,5,4,8,null,18,null,28,19,7,4,5,8,null,24,null,32,17,15,4,5,8,null,20,null,32,17,13,5,4,8,null,22,null,28,19]
[null,15,"Hertha BSC",9,8,17,null,36,null,52,35,14,6,4,7,null,17,null,22,22,15,3,4,10,null,19,null,30,13,13,5,3,9,null,24,null,35,18,16,4,5,8,null,12,null,17,17]
[null,16,"Hamburger SV",9,8,17,null,25,null,50,35,12,6,5,6,null,16,null,18,23,17,3,3,11,null,9,null,32,12,14,4,5,8,null,9,null,19,17,15,5,3,9,null,16,null,31,18]
[null,17,"SC Freiburg",7,13,14,null,36,null,47,34,16,5,6,6,null,21,null,22,21,14,2,7,8,null,15,null,25,13,18,2,9,6,null,17,null,25,15,12,5,4,8,null,19,null,22,19]
[null,18,"SC Paderborn 07 (N)",7,10,17,null,31,null,65,31,18,4,6,7,null,21,null,31,18,16,3,4,10,null,10,null,34,13,10,4,7,6,null,21,null,26,19,18,3,3,11,null,10,null,39,12]
[]
[]
[]
[null,"1.Bundesliga (1.BL)"]
[null," -  2013/14  - "]
[null," ","Mannschaft","Sieg","Remis","Nieder-"," ","Tore",null,null,"Punkte","Heim",null,null,null," ","Tore",null,null,null,"Auswärts",null,null,null," ","Tore",null,null,null,"Hinrunde",null,null,null," ","Tore",null,null,null,"Rückrunde",null,null,null," ","Tore"]
[null,null,null,null,null,"lagen",null,null,null,null,null,"Platz","g","u","n",null,null,null,null,"Pkt.","Platz","g","u","n",null,null,null,null,"Pkt.","Platz","g","u","n",null,null,null,null,"Pkt.","Platz","g","u","n",null,null,null,null,"Pkt."]
[null,1,"Bayern München (M, P)",29,3,2,null,94,null,23,71,1,15,1,1,null,48,null,15,33,1,14,2,1,null,46,null,8,38,1,15,2,0,null,44,null,9,35,1,14,1,2,null,50,null,14,36]
[null,2,"Borussia Dortmund",22,5,7,null,80,null,38,42,5,11,2,4,null,41,null,19,22,2,11,3,3,null,39,null,19,20,4,10,2,5,null,38,null,20,18,2,12,3,2,null,42,null,18,24]
[null,3,"FC Schalke 04",19,7,8,null,63,null,43,20,2,12,2,3,null,37,null,16,21,4,7,5,5,null,26,null,27,-1,7,8,4,5,null,32,null,28,4,3,11,3,3,null,31,null,15,16]
[null,4,"Bayer 04 Leverkusen",19,4,11,null,60,null,41,19,6,10,3,4,null,35,null,22,13,3,9,1,7,null,25,null,19,6,2,12,1,4,null,32,null,16,16,8,7,3,7,null,28,null,25,3]
[null,5,"VfL Wolfsburg",18,6,10,null,63,null,50,13,4,11,3,3,null,37,null,22,15,5,7,3,7,null,26,null,28,-2,5,9,3,5,null,28,null,19,9,4,9,3,5,null,35,null,31,4]
[null,6,"Bor. Mönchengladbach",16,7,11,null,59,null,43,16,3,11,3,3,null,38,null,17,21,9,5,4,8,null,21,null,26,-5,3,10,3,4,null,35,null,19,16,10,6,4,7,null,24,null,24,0]
[null,7,"1. FSV Mainz 05",16,5,13,null,52,null,54,-2,7,10,3,4,null,28,null,17,11,8,6,2,9,null,24,null,37,-13,9,7,3,7,null,25,null,31,-6,5,9,2,6,null,27,null,23,4]
[null,8,"FC Augsburg",15,7,12,null,47,null,47,0,8,9,3,5,null,27,null,22,5,6,6,4,7,null,20,null,25,-5,8,7,3,7,null,21,null,25,-4,6,8,4,5,null,26,null,22,4]
[null,9,"1899 Hoffenheim",11,11,12,null,72,null,70,2,10,7,6,4,null,43,null,31,12,10,4,5,8,null,29,null,39,-10,12,4,6,7,null,36,null,38,-2,7,7,5,5,null,36,null,32,4]
[null,10,"Hannover 96",12,6,16,null,46,null,59,-13,9,8,5,4,null,27,null,25,2,15,4,1,12,null,19,null,34,-15,13,5,3,9,null,23,null,31,-8,9,7,3,7,null,23,null,28,-5]
[null,11,"Hertha BSC (N)",11,8,15,null,40,null,48,-8,13,6,3,8,null,20,null,24,-4,7,5,5,7,null,20,null,24,-4,6,8,4,5,null,27,null,20,7,17,3,4,10,null,13,null,28,-15]
[null,12,"Werder Bremen",10,9,15,null,42,null,66,-24,11,6,6,5,null,21,null,30,-9,12,4,3,10,null,21,null,36,-15,11,5,4,8,null,22,null,37,-15,13,5,5,7,null,20,null,29,-9]
[null,13,"Eintracht Frankfurt",9,9,16,null,40,null,57,-17,14,5,5,7,null,22,null,24,-2,11,4,4,9,null,18,null,33,-15,15,3,6,8,null,20,null,29,-9,12,6,3,8,null,20,null,28,-8]
[null,14,"SC Freiburg",9,9,16,null,43,null,61,-18,12,6,4,7,null,25,null,30,-5,13,3,5,9,null,18,null,31,-13,16,3,5,9,null,16,null,31,-15,11,6,4,7,null,27,null,30,-3]
[null,15,"VfB Stuttgart",8,8,18,null,49,null,62,-13,15,5,4,8,null,28,null,28,0,14,3,4,10,null,21,null,34,-13,10,5,4,8,null,30,null,33,-3,16,3,4,10,null,19,null,29,-10]
[null,16,"Hamburger SV",7,6,21,null,51,null,75,-24,17,5,3,9,null,24,null,34,-10,17,2,3,12,null,27,null,41,-14,14,4,4,9,null,33,null,38,-5,18,3,2,12,null,18,null,37,-19]
[null,17,"1. FC Nürnberg",5,11,18,null,37,null,70,-33,18,3,5,9,null,16,null,32,-16,16,2,6,9,null,21,null,38,-17,17,0,11,6,null,17,null,33,-16,14,5,0,12,null,20,null,37,-17]
[null,18,"Eintracht Braunschweig (N)",6,7,21,null,29,null,60,-31,16,5,3,9,null,18,null,24,-6,18,1,4,12,null,11,null,36,-25,18,3,2,12,null,10,null,32,-22,15,3,5,9,null,19,null,28,-9]
[]
[]
[]
[null,"1.Bundesliga (1.BL)"]
[null," -  2012/13  - "]
[null," ","Mannschaft","Sieg","Remis","Nieder-"," ","Tore",null,null,"Punkte","Heim",null,null,null," ","Tore",null,null,null,"Auswärts",null,null,null," ","Tore",null,null,null,"Hinrunde",null,null,null," ","Tore",null,null,null,"Rückrunde",null,null,null," ","Tore"]
[null,null,null,null,null,"lagen",null,null,null,null,null,"Platz","g","u","n",null,null,null,null,"Pkt.","Platz","g","u","n",null,null,null,null,"Pkt.","Platz","g","u","n",null,null,null,null,"Pkt.","Platz","g","u","n",null,null,null,null,"Pkt."]
[null,1,"Bayern München",29,4,1,null,98,null,18,91,1,14,2,1,null,56,null,11,44,1,15,2,0,null,42,null,7,47,1,13,3,1,null,44,null,7,42,1,16,1,0,null,54,null,11,49]
[null,2,"Borussia Dortmund (M, P)",19,9,6,null,81,null,42,66,3,10,3,4,null,40,null,19,33,2,9,6,2,null,41,null,23,33,3,8,6,3,null,35,null,20,30,2,11,3,3,null,46,null,22,36]
[null,3,"Bayer 04 Leverkusen",19,8,7,null,65,null,39,65,2,12,3,2,null,36,null,15,39,3,7,5,5,null,29,null,24,26,2,10,3,4,null,33,null,22,33,3,9,5,3,null,32,null,17,32]
[null,4,"FC Schalke 04",16,7,11,null,58,null,50,55,4,10,3,4,null,35,null,22,33,7,6,4,7,null,23,null,28,22,7,7,4,6,null,27,null,25,25,4,9,3,5,null,31,null,25,30]
[null,5,"SC Freiburg",14,9,11,null,45,null,40,51,8,8,4,5,null,25,null,18,28,6,6,5,6,null,20,null,22,23,5,7,5,5,null,24,null,18,26,5,7,4,6,null,21,null,22,25]
[null,6,"Eintracht Frankfurt (N)",14,9,11,null,49,null,46,51,6,9,4,4,null,32,null,23,31,9,5,5,7,null,17,null,23,20,4,9,3,5,null,33,null,27,30,12,5,6,6,null,16,null,19,21]
[null,7,"Hamburger SV",14,6,14,null,42,null,53,48,11,8,2,7,null,18,null,18,26,8,6,4,7,null,24,null,35,22,10,7,3,7,null,18,null,21,24,9,7,3,7,null,24,null,32,24]
[null,8,"Borussia M'gladbach",12,11,11,null,45,null,49,47,7,8,5,4,null,27,null,20,29,10,4,6,7,null,18,null,29,18,8,6,7,4,null,25,null,26,25,11,6,4,7,null,20,null,23,22]
[null,9,"Hannover 96",13,6,15,null,60,null,62,45,5,9,5,3,null,34,null,23,32,15,4,1,12,null,26,null,39,13,11,7,2,8,null,32,null,31,23,10,6,4,7,null,28,null,31,22]
[null,10,"1. FC Nürnberg",11,11,12,null,39,null,47,44,9,7,6,4,null,24,null,19,27,12,4,5,8,null,15,null,28,17,14,5,5,7,null,17,null,22,20,8,6,6,5,null,22,null,25,24]
[null,11,"VfL Wolfsburg",10,13,11,null,47,null,52,43,17,3,8,6,null,21,null,30,17,4,7,5,5,null,26,null,22,26,15,5,4,8,null,17,null,27,19,6,5,9,3,null,30,null,25,24]
[null,12,"VfB Stuttgart",12,7,15,null,37,null,55,43,15,5,4,8,null,20,null,28,19,5,7,3,7,null,17,null,27,24,9,7,4,6,null,21,null,28,25,14,5,3,9,null,16,null,27,18]
[null,13,"1. FSV Mainz 05",10,12,12,null,42,null,44,42,10,7,5,5,null,22,null,19,26,13,3,7,7,null,20,null,25,16,6,8,2,7,null,24,null,21,26,15,2,10,5,null,18,null,23,16]
[null,14,"Werder Bremen",8,10,16,null,50,null,66,34,14,5,5,7,null,23,null,30,20,14,3,5,9,null,27,null,36,14,12,6,4,7,null,28,null,29,22,16,2,6,9,null,22,null,37,12]
[null,15,"FC Augsburg",8,9,17,null,33,null,51,33,13,5,5,7,null,19,null,22,20,16,3,4,10,null,14,null,29,13,17,1,6,10,null,12,null,29,9,7,7,3,7,null,21,null,22,24]
[null,16,"1899 Hoffenheim",8,7,19,null,42,null,67,31,16,5,4,8,null,21,null,30,19,17,3,3,11,null,21,null,37,12,16,3,3,11,null,23,null,41,12,13,5,4,8,null,19,null,26,19]
[null,17,"Fortuna Düsseldorf (N)",7,9,18,null,39,null,57,30,12,5,6,6,null,24,null,28,21,18,2,3,12,null,15,null,29,9,13,5,6,6,null,20,null,22,21,18,2,3,12,null,19,null,35,9]
[null,18,"SpVgg Greuther Fürth (N)",4,9,21,null,26,null,60,21,18,0,4,13,null,10,null,36,4,11,4,5,8,null,16,null,24,17,18,1,6,10,null,11,null,28,9,17,3,3,11,null,15,null,32,12]
[]
[]
[]
[null,"1.Bundesliga (1.BL)"]
[null," -  2011/12  - "]
[null," ","Mannschaft","Sieg","Remis","Nieder-"," ","Tore",null,null,"Punkte","Heim",null,null,null," ","Tore",null,null,null,"Auswärts",null,null,null," ","Tore",null,null,null,"Hinrunde",null,null,null," ","Tore",null,null,null,"Rückrunde",null,null,null," ","Tore"]
[null,null,null,null,null,"lagen",null,null,null,null,null,"Platz","g","u","n",null,null,null,null,"Pkt.","Platz","g","u","n",null,null,null,null,"Pkt.","Platz","g","u","n",null,null,null,null,"Pkt.","Platz","g","u","n",null,null,null,null,"Pkt."]
[null,1,"Borussia Dortmund (M)",25,6,3,null,80,null,25,81,1,14,2,1,null,44,null,12,44,1,11,4,2,null,36,null,13,37,2,10,4,3,null,35,null,12,34,1,15,2,0,null,45,null,13,47]
[null,2,"Bayern München",23,4,7,null,77,null,22,73,2,14,1,2,null,49,null,6,43,2,9,3,5,null,28,null,16,30,1,12,1,4,null,43,null,10,37,2,11,3,3,null,34,null,12,36]
[null,3,"FC Schalke 04 (P)",20,4,10,null,74,null,44,64,3,13,1,3,null,47,null,14,40,5,7,3,7,null,27,null,30,24,3,11,1,5,null,38,null,22,34,4,9,3,5,null,36,null,22,30]
[null,4,"Borussia M'gladbach",17,9,8,null,49,null,24,60,5,9,7,1,null,29,null,10,34,3,8,2,7,null,20,null,14,26,4,10,3,4,null,25,null,11,33,6,7,6,4,null,24,null,13,27]
[null,5,"Bayer 04 Leverkusen",15,9,10,null,52,null,44,54,9,8,4,5,null,28,null,24,28,4,7,5,5,null,24,null,20,26,6,7,5,5,null,22,null,22,26,5,8,4,5,null,30,null,22,28]
[null,6,"VfB Stuttgart",15,8,11,null,63,null,46,53,6,10,3,4,null,36,null,17,33,6,5,5,7,null,27,null,29,20,8,6,4,7,null,23,null,20,22,3,9,4,4,null,40,null,26,31]
[null,7,"Hannover 96",12,12,10,null,41,null,45,48,4,10,7,0,null,31,null,17,37,17,2,5,10,null,10,null,28,11,7,5,8,4,null,20,null,24,23,8,7,4,6,null,21,null,21,25]
[null,8,"VfL Wolfsburg",13,5,16,null,47,null,60,44,7,10,2,5,null,29,null,22,32,16,3,3,11,null,18,null,38,12,12,6,2,9,null,23,null,34,20,10,7,3,7,null,24,null,26,24]
[null,9,"Werder Bremen",11,9,14,null,49,null,58,42,8,8,4,5,null,31,null,23,28,13,3,5,9,null,18,null,35,14,5,9,2,6,null,30,null,31,29,15,2,7,8,null,19,null,27,13]
[null,10,"1. FC Nürnberg",12,6,16,null,38,null,49,42,13,6,4,7,null,22,null,25,22,7,6,2,9,null,16,null,24,20,15,5,3,9,null,17,null,28,18,9,7,3,7,null,21,null,21,24]
[null,11,"1899 Hoffenheim",10,11,13,null,41,null,47,41,14,4,9,4,null,21,null,17,21,8,6,2,9,null,20,null,30,20,9,6,4,7,null,19,null,19,22,13,4,7,6,null,22,null,28,19]
[null,12,"SC Freiburg",10,10,14,null,45,null,61,40,11,6,6,5,null,24,null,20,24,11,4,4,9,null,21,null,41,16,18,3,4,10,null,21,null,39,13,7,7,6,4,null,24,null,22,27]
[null,13,"1. FSV Mainz 05",9,12,13,null,47,null,51,39,12,7,3,7,null,27,null,26,24,12,2,9,6,null,20,null,25,15,14,4,6,7,null,22,null,29,18,12,5,6,6,null,25,null,22,21]
[null,14,"FC Augsburg (N)",8,14,12,null,36,null,49,38,10,6,7,4,null,20,null,19,25,14,2,7,8,null,16,null,30,13,17,3,6,8,null,15,null,28,15,11,5,8,4,null,21,null,21,23]
[null,15,"Hamburger SV",8,12,14,null,35,null,57,36,16,3,7,7,null,19,null,29,16,9,5,5,7,null,16,null,28,20,13,4,7,6,null,21,null,27,19,14,4,5,8,null,14,null,30,17]
[null,16,"Hertha BSC (N)",7,10,17,null,38,null,64,31,17,4,3,10,null,19,null,29,15,10,3,7,7,null,19,null,35,16,11,4,8,5,null,24,null,26,20,16,3,2,12,null,14,null,38,11]
[null,17,"1. FC Köln",8,6,20,null,39,null,75,30,15,5,4,8,null,20,null,29,19,18,3,2,12,null,19,null,46,11,10,6,3,8,null,27,null,35,21,17,2,3,12,null,12,null,40,9]
[null,18,"1. FC Kaiserslautern",4,11,19,null,24,null,54,23,18,2,5,10,null,12,null,28,11,15,2,6,9,null,12,null,26,12,16,3,7,7,null,13,null,21,16,18,1,4,12,null,11,null,33,7]
[]
[]
[]
[null,"1.Bundesliga (1.BL)"]
[null," -  2010/11  - "]
[null," ","Mannschaft","Sieg","Remis","Nieder-"," ","Tore",null,null,"Punkte","Heim",null,null,null," ","Tore",null,null,null,"Auswärts",null,null,null," ","Tore",null,null,null,"Hinrunde",null,null,null," ","Tore",null,null,null,"Rückrunde",null,null,null," ","Tore"]
[null,null,null,null,null,"lagen",null,null,null,null,null,"Platz","g","u","n",null,null,null,null,"Pkt.","Platz","g","u","n",null,null,null,null,"Pkt.","Platz","g","u","n",null,null,null,null,"Pkt.","Platz","g","u","n",null,null,null,null,"Pkt."]
[null,1,"Borussia Dortmund",23,6,5,null,67,null,22,75,2,12,4,1,null,35,null,8,40,2,11,2,4,null,32,null,14,35,1,14,1,2,null,39,null,10,43,3,9,5,3,null,28,null,12,32]
[null,2,"Bayer Leverkusen",20,8,6,null,64,null,44,68,5,9,5,3,null,33,null,24,32,1,11,3,3,null,31,null,20,36,3,9,6,2,null,35,null,25,33,2,11,2,4,null,29,null,19,35]
[null,3,"Bayern München (M, P)",19,8,7,null,81,null,40,65,1,13,2,2,null,48,null,13,41,4,6,6,5,null,33,null,27,24,5,8,5,4,null,31,null,20,29,1,11,3,3,null,50,null,20,36]
[null,4,"Hannover 96",19,3,12,null,49,null,45,60,3,12,1,4,null,32,null,17,37,5,7,2,8,null,17,null,28,23,4,10,1,6,null,25,null,27,31,5,9,2,6,null,24,null,18,29]
[null,5,"1. FSV Mainz 05",18,4,12,null,52,null,39,58,8,8,2,7,null,22,null,16,26,3,10,2,5,null,30,null,23,32,2,11,0,6,null,30,null,19,33,9,7,4,6,null,22,null,20,25]
[null,6,"1. FC Nürnberg",13,8,13,null,47,null,45,47,6,9,2,6,null,28,null,19,29,9,4,6,7,null,19,null,26,18,11,6,4,7,null,22,null,28,22,8,7,4,6,null,25,null,17,25]
[null,7,"1. FC Kaiserslautern (N)",13,7,14,null,48,null,51,46,11,6,6,5,null,25,null,19,24,6,7,1,9,null,23,null,32,22,12,6,3,8,null,27,null,27,21,10,7,4,6,null,21,null,24,25]
[null,8,"Hamburger SV",12,9,13,null,46,null,52,45,9,7,5,5,null,29,null,24,26,8,5,4,8,null,17,null,28,19,9,7,3,7,null,27,null,28,24,12,5,6,6,null,19,null,24,21]
[null,9,"SC Freiburg",13,5,16,null,41,null,50,44,10,8,2,7,null,24,null,24,26,10,5,3,9,null,17,null,26,18,6,9,1,7,null,25,null,25,28,16,4,4,9,null,16,null,25,16]
[null,10,"1. FC Köln",13,5,16,null,47,null,62,44,4,11,2,4,null,30,null,21,35,18,2,3,12,null,17,null,41,9,16,4,3,10,null,18,null,33,15,6,9,2,6,null,29,null,29,29]
[null,11,"1899 Hoffenheim",11,10,13,null,50,null,50,43,7,7,5,5,null,28,null,21,26,13,4,5,8,null,22,null,29,17,8,6,7,4,null,32,null,22,25,15,5,3,9,null,18,null,28,18]
[null,12,"VfB Stuttgart",12,6,16,null,60,null,59,42,14,7,2,8,null,33,null,27,23,7,5,4,8,null,27,null,32,19,17,3,3,11,null,32,null,35,12,4,9,3,5,null,28,null,24,30]
[null,13,"Werder Bremen",10,11,13,null,47,null,61,41,13,6,6,5,null,26,null,23,24,14,4,5,8,null,21,null,38,17,14,5,4,8,null,23,null,35,19,11,5,7,5,null,24,null,26,22]
[null,14,"FC Schalke 04",11,7,16,null,38,null,44,40,12,7,3,7,null,24,null,18,24,15,4,4,9,null,14,null,26,16,10,6,4,7,null,25,null,24,22,14,5,3,9,null,13,null,20,18]
[null,15,"VfL Wolfsburg",9,11,14,null,43,null,48,38,15,5,6,6,null,27,null,26,21,12,4,5,8,null,16,null,22,17,13,4,7,6,null,24,null,25,19,13,5,4,8,null,19,null,23,19]
[null,16,"Borussia M'gladbach",10,6,18,null,48,null,65,36,17,5,3,9,null,26,null,31,18,11,5,3,9,null,22,null,34,18,18,2,4,11,null,26,null,47,10,7,8,2,7,null,22,null,18,26]
[null,17,"Eintracht Frankfurt",9,7,18,null,31,null,49,34,16,5,4,8,null,13,null,24,19,16,4,3,10,null,18,null,25,15,7,8,2,7,null,24,null,21,26,18,1,5,11,null,21,null,42,8]
[null,18,"FC St. Pauli (N)",8,5,21,null,35,null,68,29,18,4,3,10,null,21,null,35,15,17,4,2,11,null,14,null,33,14,15,5,2,10,null,16,null,30,17,17,3,3,11,null,19,null,38,12]
[]
[]
[null,"1.Bundesliga (1.BL)"]
[null," -  2009/10  - "]
[null," ","Mannschaft","Sieg","Remis","Nieder-"," ","Tore",null,null,"Punkte","Heim",null,null,null," ","Tore",null,null,null,"Auswärts",null,null,null," ","Tore",null,null,null,"Hinrunde",null,null,null," ","Tore",null,null,null,"Rückrunde",null,null,null," ","Tore"]
[null,null,null,null,null,"lagen",null,null,null,null,null,"Platz","g","u","n",null,null,null,null,"Pkt.","Platz","g","u","n",null,null,null,null,"Pkt.","Platz","g","u","n",null,null,null,null,"Pkt.","Platz","g","u","n",null,null,null,null,"Pkt."]
[null,1,"Bayern München",20,10,4,null,72,":",31,70,1,12,4,1,null,39,":",13,40,2,8,6,3,null,33,":",18,30,3,9,6,2,null,34,":",15,33,2,11,4,2,null,38,":",16,37]
[null,2,"FC Schalke 04",19,8,7,null,53,":",31,65,3,11,2,4,null,29,":",15,35,3,8,6,3,null,24,":",16,30,2,10,4,3,null,26,":",13,34,4,9,4,4,null,27,":",18,31]
[null,3,"Werder Bremen (P)",17,10,7,null,71,":",40,61,6,8,6,3,null,34,":",21,30,1,9,4,4,null,37,":",19,31,6,7,7,3,null,32,":",16,28,3,10,3,4,null,39,":",24,33]
[null,4,"Bayer Leverkusen",15,14,5,null,65,":",38,59,2,11,5,1,null,37,":",14,38,9,4,9,4,null,28,":",24,21,1,9,8,0,null,35,":",13,35,7,6,6,5,null,30,":",25,24]
[null,5,"Borussia Dortmund",16,9,9,null,54,":",42,57,4,10,4,3,null,29,":",14,34,7,6,5,6,null,25,":",28,23,5,8,6,3,null,23,":",17,30,5,8,3,6,null,31,":",25,27]
[null,6,"VfB Stuttgart",15,10,9,null,51,":",41,55,8,8,5,4,null,28,":",21,29,5,7,5,5,null,23,":",20,26,15,3,7,7,null,16,":",23,16,1,12,3,2,null,35,":",18,39]
[null,7,"Hamburger SV",13,13,8,null,56,":",41,52,7,8,6,3,null,25,":",12,30,8,5,7,5,null,31,":",29,22,4,8,7,2,null,34,":",19,31,10,5,6,6,null,22,":",22,21]
[null,8,"VfL Wolfsburg (M)",14,8,12,null,64,":",58,50,11,7,2,8,null,39,":",39,23,4,7,6,4,null,25,":",19,27,8,6,6,5,null,32,":",32,24,6,8,2,7,null,32,":",26,26]
[null,9,"1. FSV Mainz 05 (N)",12,11,11,null,36,":",42,47,5,9,6,2,null,22,":",14,33,15,3,5,9,null,14,":",28,14,9,6,6,5,null,21,":",22,24,8,6,5,6,null,15,":",20,23]
[null,10,"Eintracht Frankfurt",12,10,12,null,47,":",54,46,10,7,5,5,null,25,":",26,26,11,5,5,7,null,22,":",28,20,10,6,6,5,null,22,":",24,24,9,6,4,7,null,25,":",30,22]
[null,11,"1899 Hoffenheim",11,9,14,null,44,":",42,42,12,5,6,6,null,26,":",20,21,10,6,3,8,null,18,":",22,21,7,7,4,6,null,27,":",17,25,15,4,5,8,null,17,":",25,17]
[null,12,"Borussia M'gladbach",10,9,15,null,43,":",60,39,9,8,5,4,null,25,":",22,29,18,2,4,11,null,18,":",38,10,11,6,3,8,null,24,":",29,21,14,4,6,7,null,19,":",31,18]
[null,13,"1. FC Köln",9,11,14,null,33,":",42,38,16,3,6,8,null,18,":",29,15,6,6,5,6,null,15,":",13,23,12,4,6,7,null,10,":",15,18,11,5,5,7,null,23,":",27,20]
[null,14,"SC Freiburg (N)",9,8,17,null,35,":",59,35,15,5,4,8,null,14,":",26,19,12,4,4,9,null,21,":",33,16,13,5,3,9,null,19,":",33,18,16,4,5,8,null,16,":",26,17]
[null,15,"Hannover 96",9,6,19,null,43,":",67,33,14,5,4,8,null,27,":",33,19,16,4,2,11,null,16,":",34,14,14,4,5,8,null,21,":",27,17,17,5,1,11,null,22,":",40,16]
[null,16,"1. FC Nürnberg (N)",8,7,19,null,32,":",58,31,13,5,4,8,null,18,":",23,19,17,3,3,11,null,14,":",35,12,17,3,3,11,null,12,":",32,12,12,5,4,8,null,20,":",26,19]
[null,17,"VfL Bochum",6,10,18,null,33,":",64,28,17,2,6,9,null,18,":",35,12,13,4,4,9,null,15,":",29,16,16,4,4,9,null,18,":",33,16,18,2,6,9,null,15,":",31,12]
[null,18,"Hertha BSC",5,9,20,null,34,":",56,24,18,1,6,10,null,10,":",26,9,14,4,3,10,null,24,":",30,15,18,1,3,13,null,13,":",39,6,13,4,6,7,null,21,":",17,18]
[]
[]
[null,"1.Bundesliga (1.BL)"]
[null," -  2008/09  - "]
[null," ","Mannschaft","Sieg","Remis","Nieder-"," ","Tore",null,null,"Punkte","Heim",null,null,null," ","Tore",null,null,null,"Auswärts",null,null,null," ","Tore",null,null,null,"Hinrunde",null,null,null," ","Tore",null,null,null,"Rückrunde",null,null,null," ","Tore"]
[null,null,null,null,null,"lagen",null,null,null,null,null,"Platz","g","u","n",null,null,null,null,"Pkt.","Platz","g","u","n",null,null,null,null,"Pkt.","Platz","g","u","n",null,null,null,null,"Pkt.","Platz","g","u","n",null,null,null,null,"Pkt."]
[null,1,"VfL Wolfsburg",21,6,7,null,80,":",41,69,1,16,1,0,null,51,":",13,49,8,5,5,7,null,29,":",28,20,9,7,5,5,null,35,":",25,26,1,14,1,2,null,45,":",16,43]
[null,2,"Bayern München",20,7,7,null,71,":",42,67,5,12,2,3,null,45,":",23,38,1,8,5,4,null,26,":",19,29,2,10,5,2,null,39,":",24,35,3,10,2,5,null,32,":",18,32]
[null,3,"VfB Stuttgart",19,7,8,null,63,":",43,64,3,12,3,2,null,34,":",14,39,4,7,4,6,null,29,":",29,25,10,7,4,6,null,26,":",23,25,2,12,3,2,null,37,":",20,39]
[null,4,"Hertha BSC",19,6,9,null,48,":",41,63,4,12,3,2,null,29,":",14,39,5,7,3,7,null,19,":",27,24,3,10,3,4,null,27,":",20,33,5,9,3,5,null,21,":",21,30]
[null,5,"Hamburger SV",19,4,11,null,49,":",47,61,2,13,2,2,null,27,":",13,41,10,6,2,9,null,22,":",34,20,4,10,3,4,null,26,":",24,33,6,9,1,7,null,23,":",23,28]
[null,6,"Borussia Dortmund",15,14,5,null,60,":",37,59,7,8,9,0,null,34,":",11,33,3,7,5,5,null,26,":",26,26,6,7,8,2,null,27,":",19,29,4,8,6,3,null,33,":",18,30]
[null,7,"1899 Hoffenheim",15,10,9,null,63,":",49,55,8,9,5,3,null,30,":",18,32,6,6,5,6,null,33,":",31,23,1,11,2,4,null,42,":",23,35,10,4,8,5,null,21,":",26,20]
[null,8,"FC Schalke 04",14,8,12,null,47,":",35,50,10,9,3,5,null,26,":",15,30,9,5,5,7,null,21,":",20,20,7,7,6,4,null,24,":",16,27,7,7,2,8,null,23,":",19,23]
[null,9,"Bayer Leverkusen",14,7,13,null,59,":",46,49,11,6,5,6,null,31,":",22,23,2,8,2,7,null,28,":",24,26,5,10,2,5,null,36,":",21,32,13,4,5,8,null,23,":",25,17]
[null,10,"Werder Bremen",12,9,13,null,64,":",50,45,6,10,4,3,null,43,":",22,34,15,2,5,10,null,21,":",28,11,8,7,5,5,null,39,":",28,26,12,5,4,8,null,25,":",22,19]
[null,11,"Hannover 96",10,10,14,null,49,":",69,40,9,8,7,2,null,31,":",25,31,18,2,3,12,null,18,":",44,9,13,4,5,8,null,20,":",32,17,8,6,5,6,null,29,":",37,23]
[null,12,"1. FC Köln",11,6,17,null,35,":",50,39,17,4,5,8,null,14,":",25,17,7,7,1,9,null,21,":",25,22,11,7,1,9,null,19,":",25,22,14,4,5,8,null,16,":",25,17]
[null,13,"Eintracht Frankfurt",8,9,17,null,39,":",60,33,12,5,4,8,null,26,":",29,19,12,3,5,9,null,13,":",31,14,12,5,4,8,null,23,":",29,19,17,3,5,9,null,16,":",31,14]
[null,14,"VfL Bochum",7,11,16,null,39,":",55,32,15,5,4,8,null,23,":",28,19,13,2,7,8,null,16,":",27,13,17,1,8,8,null,19,":",30,11,9,6,3,8,null,20,":",25,21]
[null,15,"Borussia M'gladbach",8,7,19,null,39,":",62,31,13,5,4,8,null,23,":",27,19,14,3,3,11,null,16,":",35,12,18,3,2,12,null,18,":",35,11,11,5,5,7,null,21,":",27,20]
[null,16,"Energie Cottbus",8,6,20,null,30,":",57,30,16,6,1,10,null,19,":",27,19,16,2,5,10,null,11,":",30,11,16,3,4,10,null,12,":",29,13,15,5,2,10,null,18,":",28,17]
[null,17,"Karlsruher SC",8,5,21,null,30,":",54,29,14,5,4,8,null,18,":",22,19,17,3,1,13,null,12,":",32,10,15,4,1,12,null,15,":",32,13,16,4,4,9,null,15,":",22,16]
[null,18,"Arminia Bielefeld",4,16,14,null,29,":",56,28,18,2,8,7,null,16,":",26,14,11,2,8,7,null,13,":",30,14,14,2,8,7,null,15,":",27,14,18,2,8,7,null,14,":",29,14]
[]
[]
[null,"1.Bundesliga (1.BL)"]
[null," -  2007/08  - "]
[null," ","Mannschaft","Sieg","Remis","Nieder-"," ","Tore",null,null,"Punkte","Heim",null,null,null," ","Tore",null,null,null,"Auswärts",null,null,null," ","Tore",null,null,null,"Hinrunde",null,null,null," ","Tore",null,null,null,"Rückrunde",null,null,null," ","Tore"]
[null,null,null,null,null,"lagen",null,null,null,null,null,"Platz","g","u","n",null,null,null,null,"Pkt.","Platz","g","u","n",null,null,null,null,"Pkt.","Platz","g","u","n",null,null,null,null,"Pkt.","Platz","g","u","n",null,null,null,null,"Pkt."]
[null,1,"Bayern München ",22,10,2,null,68,":",21,76,1,12,5,0,null,41,":",8,41,1,10,5,2,null,27,":",13,35,1,10,6,1,null,31,":",8,36,1,12,4,1,null,37,":",13,40]
[null,2,"Werder Bremen ",20,6,8,null,75,":",45,66,2,13,0,4,null,48,":",19,39,4,7,6,4,null,27,":",26,27,2,11,3,3,null,42,":",24,36,4,9,3,5,null,33,":",21,30]
[null,3,"FC Schalke 04 ",18,10,6,null,55,":",32,64,4,10,4,3,null,29,":",13,34,2,8,6,3,null,26,":",19,30,5,7,8,2,null,26,":",17,29,2,11,2,4,null,29,":",15,35]
[null,4,"Hamburger SV ",14,12,8,null,47,":",26,54,5,9,5,3,null,30,":",11,32,5,5,7,5,null,17,":",15,22,3,9,5,3,null,24,":",13,32,8,5,7,5,null,23,":",13,22]
[null,5,"VfL Wolfsburg ",15,9,10,null,58,":",46,54,10,7,6,4,null,28,":",17,27,3,8,3,6,null,30,":",29,27,11,5,5,7,null,30,":",30,20,3,10,4,3,null,28,":",16,34]
[null,6,"VfB Stuttgart ",16,4,14,null,57,":",57,52,3,12,2,3,null,39,":",19,38,14,4,2,11,null,18,":",38,14,8,8,1,8,null,24,":",25,25,5,8,3,6,null,33,":",32,27]
[null,7,"Bayer Leverkusen ",15,6,13,null,57,":",40,51,6,9,4,4,null,32,":",13,31,6,6,2,9,null,25,":",27,20,4,9,3,5,null,32,":",16,30,11,6,3,8,null,25,":",24,21]
[null,8,"Hannover 96 ",13,10,11,null,54,":",56,49,8,8,5,4,null,32,":",27,29,7,5,5,7,null,22,":",29,20,7,8,3,6,null,27,":",28,27,9,5,7,5,null,27,":",28,22]
[null,9,"Eintracht Frankfurt ",12,10,12,null,43,":",50,46,9,8,4,5,null,24,":",24,28,9,4,6,7,null,19,":",26,18,9,5,8,4,null,19,":",23,23,7,7,2,8,null,24,":",27,23]
[null,10,"Hertha BSC ",12,8,14,null,39,":",44,44,7,9,3,5,null,21,":",18,30,12,3,5,9,null,18,":",26,14,12,6,2,9,null,19,":",24,20,6,6,6,5,null,20,":",20,24]
[null,11,"Karlsruher SC ",11,10,13,null,38,":",53,43,15,6,6,5,null,23,":",22,24,8,5,4,8,null,15,":",31,19,6,8,4,5,null,19,":",21,28,17,3,6,8,null,19,":",32,15]
[null,12,"VfL Bochum ",10,11,13,null,48,":",54,41,14,5,9,3,null,32,":",28,24,11,5,2,10,null,16,":",26,17,13,5,4,8,null,25,":",27,19,10,5,7,5,null,23,":",27,22]
[null,13,"Borussia Dortmund ",10,10,14,null,50,":",62,40,11,7,5,5,null,29,":",24,26,13,3,5,9,null,21,":",38,14,10,6,3,8,null,26,":",30,21,13,4,7,6,null,24,":",32,19]
[null,14,"Energie Cottbus ",9,9,16,null,35,":",56,36,12,8,2,7,null,25,":",20,26,16,1,7,9,null,10,":",36,10,17,3,6,8,null,17,":",27,15,12,6,3,8,null,18,":",29,21]
[null,15,"Arminia Bielefeld ",8,10,16,null,35,":",60,34,13,7,4,6,null,21,":",18,25,18,1,6,10,null,14,":",42,9,14,5,3,9,null,19,":",38,18,14,3,7,7,null,16,":",22,16]
[null,16,"1. FC Nürnberg ",7,10,17,null,35,":",51,31,16,5,7,5,null,21,":",18,22,17,2,3,12,null,14,":",33,9,16,4,3,10,null,21,":",28,15,16,3,7,7,null,14,":",23,16]
[null,17,"Hansa Rostock ",8,6,20,null,30,":",52,30,17,5,4,8,null,17,":",21,19,15,3,2,12,null,13,":",31,11,15,5,2,10,null,16,":",26,17,18,3,4,10,null,14,":",26,13]
[null,18,"MSV Duisburg ",8,5,21,null,36,":",55,29,18,3,3,11,null,19,":",29,12,10,5,2,10,null,17,":",26,17,18,4,1,12,null,14,":",26,13,15,4,4,9,null,22,":",29,16]
[]
[]
[null,"1.Bundesliga (1.BL)"]
[null," -  2006/07  - "]
[null," ","Mannschaft","Sieg","Remis","Nieder-"," ","Tore",null,null,"Punkte","Heim",null,null,null,null,null,null,null,null,"Auswärts",null,null,null,null,null,null,null,null,"Hinrunde",null,null,null,null,null,null,null,null,"Rückrunde"]
[null,null,null,null,null,"lagen",null,null,null,null,null,"Platz","g","u","n",null,null,null,null,"Pkt.","Platz","g","u","n",null,null,null,null,"Pkt.","Platz","g","u","n",null,null,null,null,"Pkt.","Platz","g","u","n",null,null,null,null,"Pkt."]
[null,1,"VfB Stuttgart",21,7,6,null,61,":",37,70,2,12,3,2,null,null,null,null,39,2,9,4,4,null,null,null,null,31,4,9,5,3,null,null,null,null,32,1,12,2,3,null,null,null,null,38]
[null,2,"FC Schalke 04",21,5,8,null,53,":",32,68,1,13,2,2,null,null,null,null,41,3,8,3,6,null,null,null,null,27,2,11,3,3,null,null,null,null,36,3,10,2,5,null,null,null,null,32]
[null,3,"Werder Bremen",20,6,8,null,76,":",40,66,4,11,1,5,null,null,null,null,34,1,9,5,3,null,null,null,null,32,1,11,3,3,null,null,null,null,36,4,9,3,5,null,null,null,null,30]
[null,4,"Bayern München",18,6,10,null,55,":",40,60,3,11,4,2,null,null,null,null,37,7,7,2,8,null,null,null,null,23,3,10,3,4,null,null,null,null,33,6,8,3,6,null,null,null,null,27]
[null,5,"Bayer Leverkusen",15,6,13,null,54,":",49,51,7,8,3,6,null,null,null,null,27,5,7,3,7,null,null,null,null,24,6,7,4,6,null,null,null,null,25,7,8,2,7,null,null,null,null,26]
[null,6,"1. FC Nürnberg",11,15,8,null,43,":",32,48,5,8,7,2,null,null,null,null,31,12,3,8,6,null,null,null,null,17,7,4,11,2,null,null,null,null,23,8,7,4,6,null,null,null,null,25]
[null,7,"Hamburger SV",10,15,9,null,43,":",37,45,15,4,9,4,null,null,null,null,21,4,6,6,5,null,null,null,null,24,17,1,10,6,null,null,null,null,13,2,9,5,3,null,null,null,null,32]
[null,8,"VfL Bochum",13,6,15,null,49,":",50,45,12,7,1,9,null,null,null,null,22,6,6,5,6,null,null,null,null,23,14,5,3,9,null,null,null,null,18,5,8,3,6,null,null,null,null,27]
[null,9,"Borussia Dortmund",12,8,14,null,41,":",43,44,9,6,6,5,null,null,null,null,24,10,6,2,9,null,null,null,null,20,9,5,7,5,null,null,null,null,22,12,7,1,9,null,null,null,null,22]
[null,10,"Hertha BSC",12,8,14,null,50,":",55,44,8,8,3,6,null,null,null,null,27,13,4,5,8,null,null,null,null,17,5,7,6,4,null,null,null,null,27,16,5,2,10,null,null,null,null,17]
[null,11,"Hannover 96",12,8,14,null,41,":",50,44,14,5,6,6,null,null,null,null,21,8,7,2,8,null,null,null,null,23,11,5,5,7,null,null,null,null,20,9,7,3,7,null,null,null,null,24]
[null,12,"Arminia Bielefeld",11,9,14,null,47,":",49,42,6,8,4,5,null,null,null,null,28,15,3,5,9,null,null,null,null,14,8,5,7,5,null,null,null,null,22,null,6,2,9,null,null,null,null,20]
[null,13,"Energie Cottbus",11,8,15,null,38,":",49,41,11,6,5,6,null,null,null,null,23,11,5,3,9,null,null,null,null,18,15,4,5,8,null,null,null,null,17,10,7,3,7,null,null,null,null,24]
[null,14,"Eintracht Frankfurt",9,13,12,null,46,":",58,40,17,5,5,7,null,null,null,null,20,9,4,8,5,null,null,null,null,20,10,4,8,5,null,null,null,null,20,13,5,5,7,null,null,null,null,20]
[null,15,"VfL Wolfsburg",8,13,13,null,37,":",45,37,10,6,6,5,null,null,null,null,24,16,2,7,8,null,null,null,null,13,12,4,7,6,null,null,null,null,19,15,4,6,7,null,null,null,null,18]
[null,16,"1. FSV Mainz 05",8,10,16,null,34,":",57,34,13,6,4,7,null,null,null,null,22,17,2,6,9,null,null,null,null,12,18,1,8,8,null,null,null,null,11,11,7,2,8,null,null,null,null,23]
[null,17,"Alemannia Aachen",9,7,18,null,46,":",70,34,18,5,4,8,null,null,null,null,19,14,4,3,10,null,null,null,null,15,13,5,4,8,null,null,null,null,19,17,4,3,10,null,null,null,null,15]
[null,18,"Borussia M'gladbach",6,8,20,null,23,":",44,26,16,5,6,6,null,null,null,null,21,18,1,2,14,null,null,null,null,5,16,4,3,10,null,null,null,null,15,18,2,5,10,null,null,null,null,11]
[]
[]
[null,"1.Bundesliga (1.BL)"]
[null," -  2005/06  - "]
[null," ","Mannschaft","Sieg","Remis","Nieder-"," ","Tore",null,null,"Punkte","Heim",null,null,null,null,null,null,null,null,"Auswärts",null,null,null,null,null,null,null,null,"Hinrunde",null,null,null,null,null,null,null,null,"Rückrunde"]
[null,null,null,null,null,"lagen",null,null,null,null,null,"Platz","g","u","n",null,null,null,null,null,"Platz","g","u","n",null,null,null,null,null,"Platz","g","u","n",null,null,null,null,null,"Platz","g","u","n"]
[null,1,"Bayern München",22,9,3,null,67,null,32,75,1,14,2,1,null,null,null,null,null,3,8,7,2,null,null,null,null,null,1,14,2,1,null,null,null,null,null,3,8,7,2]
[null,2,"Werder Bremen",21,7,6,null,79,null,37,70,2,12,3,2,null,null,null,null,null,2,9,4,4,null,null,null,null,null,3,11,3,3,null,null,null,null,null,1,10,4,3]
[null,3,"Hamburger SV",21,5,8,null,53,null,30,68,4,10,2,5,null,null,null,null,null,1,11,3,3,null,null,null,null,null,2,11,5,1,null,null,null,null,null,6,10,0,7]
[null,4,"FC Schalke 04",16,13,5,null,47,null,31,61,3,10,6,1,null,null,null,null,null,5,6,7,4,null,null,null,null,null,4,8,7,2,null,null,null,null,null,5,8,6,3]
[null,5,"Bayer Leverkusen",14,10,10,null,64,null,49,52,9,7,6,4,null,null,null,null,null,4,7,4,6,null,null,null,null,null,12,4,7,6,null,null,null,null,null,2,10,3,4]
[null,6,"Hertha BSC",12,12,10,null,52,null,48,48,7,8,5,4,null,null,null,null,null,7,4,7,6,null,null,null,null,null,5,7,5,5,null,null,null,null,null,8,5,7,5]
[null,7,"Borussia Dortmund",11,13,10,null,45,null,42,46,8,8,4,5,null,null,null,null,null,8,3,9,5,null,null,null,null,null,9,5,6,6,null,null,null,null,null,7,6,7,4]
[null,8,"1. FC Nürnberg",12,8,14,null,49,null,51,44,6,9,3,5,null,null,null,null,null,11,3,5,9,null,null,null,null,null,15,3,5,9,null,null,null,null,null,4,9,3,5]
[null,9,"VfB Stuttgart",9,16,9,null,37,null,39,43,13,5,7,5,null,null,null,null,null,6,4,9,4,null,null,null,null,null,6,5,10,2,null,null,null,null,null,11,4,6,7]
[null,10,"Borussia M'gladbach",10,12,12,null,42,null,50,42,5,8,7,2,null,null,null,null,null,16,2,5,10,null,null,null,null,null,7,6,7,4,null,null,null,null,null,14,4,5,8]
[null,11,"1. FSV Mainz 05",9,11,14,null,46,null,47,38,11,6,7,4,null,null,null,null,null,12,3,4,10,null,null,null,null,null,14,4,4,9,null,null,null,null,null,9,5,7,5]
[null,12,"Hannover 96",7,17,10,null,43,null,47,38,14,4,9,4,null,null,null,null,null,9,3,8,6,null,null,null,null,null,8,4,9,4,null,null,null,null,null,13,3,8,6]
[null,13,"Arminia Bielefeld",10,7,17,null,32,null,47,37,10,8,2,7,null,null,null,null,null,17,2,5,10,null,null,null,null,null,11,5,5,7,null,null,null,null,null,15,5,2,10]
[null,14,"Eintracht Frankfurt",9,9,16,null,42,null,51,36,15,5,5,7,null,null,null,null,null,10,4,4,9,null,null,null,null,null,10,6,3,8,null,null,null,null,null,17,3,6,8]
[null,15,"VfL Wolfsburg",7,13,14,null,33,null,55,34,12,4,10,3,null,null,null,null,null,14,3,3,11,null,null,null,null,null,13,4,6,7,null,null,null,null,null,16,3,7,7]
[null,16,"1. FC Kaiserslautern",8,9,17,null,47,null,71,33,16,5,5,7,null,null,null,null,null,13,3,4,10,null,null,null,null,null,18,3,3,11,null,null,null,null,null,10,5,6,6]
[null,17,"1. FC Köln",7,9,18,null,49,null,71,30,17,5,4,8,null,null,null,null,null,15,2,5,10,null,null,null,null,null,16,3,3,11,null,null,null,null,null,12,4,6,7]
[null,18,"MSV Duisburg",5,12,17,null,34,null,63,27,18,3,9,5,null,null,null,null,null,18,2,3,12,null,null,null,null,null,17,2,6,9,null,null,null,null,null,18,3,6,8]
[]
[]
[null,"1.Bundesliga (1.BL)"]
[null," -  2004/05  - "]
[null," ","Mannschaft","Sieg","Remis","Nieder-"," ","Tore",null,null,"Punkte","Heim",null,null,null,null,null,null,null,null,"Auswärts",null,null,null,null,null,null,null,null,"Hinrunde",null,null,null,null,null,null,null,null,"Rückrunde"]
[null,null,null,null,null,"lagen",null,null,null,null,null,"Platz","g","u","n",null,null,null,null,null,"Platz","g","u","n",null,null,null,null,null,"Platz","g","u","n",null,null,null,null,null,"Platz","g","u","n"]
[null,1,"Bayern München",24,5,5,null,75,null,33,77,1,14,2,1,null,null,null,null,null,1,10,3,4,null,null,null,null,null,1,10,4,3,null,null,null,null,null,1,14,1,2]
[null,2,"FC Schalke 04",20,3,11,null,56,null,46,63,4,11,2,4,null,null,null,null,null,3,9,1,7,null,null,null,null,null,2,11,1,5,null,null,null,null,null,6,9,2,6]
[null,3,"Werder Bremen",18,5,11,null,68,null,37,59,6,9,4,4,null,null,null,null,null,2,9,1,7,null,null,null,null,null,5,8,4,5,null,null,null,null,null,4,10,1,6]
[null,4,"Hertha BSC",15,13,6,null,59,null,31,58,5,8,8,1,null,null,null,null,null,4,7,5,5,null,null,null,null,null,6,7,7,3,null,null,null,null,null,5,8,6,3]
[null,5,"VfB Stuttgart",17,7,10,null,54,null,40,58,3,12,2,3,null,null,null,null,null,7,5,5,7,null,null,null,null,null,3,9,4,4,null,null,null,null,null,7,8,3,6]
[null,6,"Bayer Leverkusen",16,9,9,null,65,null,44,57,2,12,3,2,null,null,null,null,null,10,4,6,7,null,null,null,null,null,8,7,5,5,null,null,null,null,null,3,9,4,4]
[null,7,"Borussia Dortmund",15,10,9,null,47,null,44,55,9,8,5,4,null,null,null,null,null,5,7,5,5,null,null,null,null,null,14,4,6,7,null,null,null,null,null,2,11,4,2]
[null,8,"Hamburger SV",16,3,15,null,55,null,50,51,11,9,1,7,null,null,null,null,null,6,7,2,8,null,null,null,null,null,9,8,1,8,null,null,null,null,null,8,8,2,7]
[null,9,"VfL Wolfsburg",15,3,16,null,49,null,51,48,7,10,1,6,null,null,null,null,null,11,5,2,10,null,null,null,null,null,4,10,0,7,null,null,null,null,null,14,5,3,9]
[null,10,"Hannover 96",13,6,15,null,34,null,36,45,12,8,2,7,null,null,null,null,null,9,5,4,8,null,null,null,null,null,7,8,4,5,null,null,null,null,null,16,5,2,10]
[null,11,"FSV Mainz 05",12,7,15,null,50,null,55,43,8,9,3,5,null,null,null,null,null,14,3,4,10,null,null,null,null,null,11,6,4,7,null,null,null,null,null,9,6,3,8]
[null,12,"1. FC Kaiserslautern",12,6,16,null,43,null,52,42,13,8,2,7,null,null,null,null,null,12,4,4,9,null,null,null,null,null,13,6,3,8,null,null,null,null,null,10,6,3,8]
[null,13,"Arminia Bielefeld",11,7,16,null,37,null,49,40,14,7,3,7,null,null,null,null,null,13,4,4,9,null,null,null,null,null,10,7,3,7,null,null,null,null,null,17,4,4,9]
[null,14,"1. FC Nürnberg",10,8,16,null,55,null,63,38,16,4,6,7,null,null,null,null,null,8,6,2,9,null,null,null,null,null,12,5,6,6,null,null,null,null,null,15,5,2,10]
[null,15,"Bor. M'gladbach",8,12,14,null,35,null,51,36,10,8,5,4,null,null,null,null,null,17,0,7,10,null,null,null,null,null,15,4,5,8,null,null,null,null,null,12,4,7,6]
[null,16,"VfL Bochum",9,8,17,null,47,null,68,35,15,6,5,6,null,null,null,null,null,16,3,3,11,null,null,null,null,null,16,3,5,9,null,null,null,null,null,11,6,3,8]
[null,17,"Hansa Rostock",7,9,18,null,31,null,65,30,17,4,5,8,null,null,null,null,null,15,3,4,10,null,null,null,null,null,17,2,5,10,null,null,null,null,null,13,5,4,8]
[null,18,"SC Freiburg",3,9,22,null,30,null,75,18,18,2,6,9,null,null,null,null,null,18,1,3,13,null,null,null,null,null,18,2,5,10,null,null,null,null,null,18,1,4,12]
[]
[]
[null,"1.Bundesliga (1.BL)"]
[null," -  2003/04  - "]
[null," ","Mannschaft","Sieg","Remis","Nieder-"," ","Tore",null,null,"Punkte","Heim",null,null,null,null,null,null,null,null,"Auswärts",null,null,null,null,null,null,null,null,"Hinrunde",null,null,null,null,null,null,null,null,"Rückrunde"]
[null,null,null,null,null,"lagen",null,null,null,null,null,"Platz","g","u","n",null,null,null,null,null,"Platz","g","u","n",null,null,null,null,null,"Platz","g","u","n",null,null,null,null,null,"Platz","g","u","n"]
[null,1,"Werder Bremen",22,8,4,null,79,":",38,74,5,11,4,2,null,null,null,null,null,1,11,4,2,null,null,null,null,null,1,12,3,2,null,null,null,null,null,1,10,5,2]
[null,2,"Bayern München",20,8,6,null,70,":",39,68,1,13,3,1,null,null,null,null,null,4,7,5,5,null,null,null,null,null,2,10,5,2,null,null,null,null,null,2,10,3,4]
[null,3,"Bayer Leverkusen",19,8,7,null,73,":",39,65,4,12,1,4,null,null,null,null,null,3,7,7,3,null,null,null,null,null,3,10,5,2,null,null,null,null,null,3,9,3,5]
[null,4,"VfB Stuttgart",18,10,6,null,52,":",24,64,7,9,7,1,null,null,null,null,null,2,9,3,5,null,null,null,null,null,4,10,5,2,null,null,null,null,null,6,8,5,4]
[null,5,"VfL Bochum",15,11,8,null,57,":",39,56,3,11,5,1,null,null,null,null,null,6,4,6,7,null,null,null,null,null,5,7,5,5,null,null,null,null,null,4,8,6,3]
[null,6,"Borussia Dortmund",16,7,11,null,59,":",48,55,2,12,3,2,null,null,null,null,null,7,4,4,9,null,null,null,null,null,6,7,4,6,null,null,null,null,null,5,9,3,5]
[null,7,"FC Schalke 04",13,11,10,null,49,":",42,50,12,7,7,3,null,null,null,null,null,5,6,4,7,null,null,null,null,null,8,6,6,5,null,null,null,null,null,7,7,5,5]
[null,8,"Hamburger SV",14,7,13,null,47,":",60,49,6,11,3,3,null,null,null,null,null,12,3,4,10,null,null,null,null,null,9,6,5,6,null,null,null,null,null,9,8,2,7]
[null,9,"Hansa Rostock",12,8,14,null,55,":",54,44,10,10,1,6,null,null,null,null,null,11,2,7,8,null,null,null,null,null,12,5,4,8,null,null,null,null,null,10,7,4,6]
[null,10,"VfL Wolfsburg",13,3,18,null,56,":",61,42,8,11,1,5,null,null,null,null,null,16,2,2,13,null,null,null,null,null,7,8,1,8,null,null,null,null,null,15,5,2,10]
[null,11,"Borussia Mönchengladbach",10,9,15,null,40,":",49,39,13,7,6,4,null,null,null,null,null,13,3,3,11,null,null,null,null,null,13,5,4,8,null,null,null,null,null,12,5,5,7]
[null,12,"Hertha BSC Berlin",9,12,13,null,42,":",59,39,14,6,6,5,null,null,null,null,null,9,3,6,8,null,null,null,null,null,17,2,7,8,null,null,null,null,null,8,7,5,5]
[null,13,"FC Freiburg",10,8,16,null,42,":",67,38,9,10,3,4,null,null,null,null,null,17,0,5,12,null,null,null,null,null,10,6,3,8,null,null,null,null,null,16,4,5,8]
[null,14,"Hannover 96",9,10,15,null,49,":",63,37,15,5,7,5,null,null,null,null,null,8,4,3,10,null,null,null,null,null,11,5,5,7,null,null,null,null,null,14,4,5,8]
[null,15,"1. FC Kaiserslautern",11,6,17,null,39,":",62,36,11,8,5,4,null,null,null,null,null,15,3,1,13,null,null,null,null,null,15,5,3,9,null,null,null,null,null,11,6,3,8]
[null,16,"Eintracht Frankfurt",9,5,20,null,36,":",52,32,16,6,4,7,null,null,null,null,null,14,3,1,13,null,null,null,null,null,18,3,3,11,null,null,null,null,null,13,6,2,9]
[null,17,"1860 München",8,8,18,null,32,":",55,32,18,5,4,8,null,null,null,null,null,10,3,4,10,null,null,null,null,null,14,5,4,8,null,null,null,null,null,17,3,4,10]
[null,18,"1. FC Köln",6,5,23,null,32,":",57,23,17,6,2,9,null,null,null,null,null,18,0,3,14,null,null,null,null,null,16,3,4,10,null,null,null,null,null,18,3,1,13]
[]
[]
[null,"1.Bundesliga (1.BL)"]
[null," -  2002/03  - "]
[null," ","Mannschaft","Sieg","Remis","Nieder-"," ","Tore",null,null,"Punkte","Heim",null,null,null,null,null,null,null,null,"Auswärts"]
[null,null,null,null,null,"lagen"]
[null,"1 ","Bayern München",23,6,5,null,70,":",25,75,null,"13","3","1",null,null,null,null,null,null,10,3,4]
[null,"2 ","VfB Stuttgart",17,8,9,null,53,":",39,59,null,9,5,3,null,null,null,null,null,null,8,3,6]
[null,"3 ","Borussia Dortmund",15,13,6,null,51,":",27,58,null,10,6,1,null,null,null,null,null,null,5,7,5]
[null,"4 ","Hamburger SV",15,11,8,null,46,":",36,56,null,13,3,1,null,null,null,null,null,null,2,8,7]
[null,"5 ","Hertha BSC Berlin",16,6,12,null,52,":",43,54,null,10,4,3,null,null,null,null,null,null,6,2,9]
[null,"6 ","Werder Bremen",16,4,14,null,51,":",50,52,null,10,2,5,null,null,null,null,null,null,6,2,9]
[null,"7 ","FC Schalke 04",12,13,9,null,46,":",40,49,null,6,8,3,null,null,null,null,null,null,6,5,6]
[null,"8 ","VfL Wolfsburg",13,7,14,null,39,":",42,46,null,11,2,4,null,null,null,null,null,null,2,5,10]
[null,"9 ","VfL Bochum",12,9,13,null,55,":",56,45,null,6,5,6,null,null,null,null,null,null,6,4,7]
[null,"10 ","1860 München",12,9,13,null,44,":",52,45,null,6,5,6,null,null,null,null,null,null,6,4,7]
[null,"11 ","Hannover 96",12,7,15,null,47,":",57,43,null,4,6,7,null,null,null,null,null,null,8,1,8]
[null,"12 ","Bor. M'gladbach",11,9,14,null,43,":",45,42,null,10,5,2,null,null,null,null,null,null,1,4,12]
[null,"13 ","Hansa Rostock",11,8,15,null,35,":",41,41,null,6,5,6,null,null,null,null,null,null,5,3,9]
[null,"14 ","1. FC Kaiserslautern",10,10,14,null,40,":",42,40,null,9,3,5,null,null,null,null,null,null,1,7,9]
[null,"15 ","Bayer Leverkusen",11,7,16,null,47,":",56,40,null,6,3,8,null,null,null,null,null,null,5,4,8]
[null,"16 ","Arminia Bielefeld",8,12,14,null,35,":",46,36,null,7,5,5,null,null,null,null,null,null,1,7,9]
[null,"17 ","1. FC Nürnberg",8,6,20,null,33,":",60,30,null,4,4,9,null,null,null,null,null,null,4,2,11]
[null,"18 ","Energie Cottbus",7,9,18,null,34,":",64,30,null,4,3,10,null,null,null,null,null,null,3,6,8]
[]
[]
[null,"1.Bundesliga (1.BL)"]
[null," -  2001/02  - "]
[null," ","Mannschaft","Sieg","Remis","Nieder-"," ","Tore",null,null,"Punkte","Heim",null,null,null,null,null,null,null,null,"Auswärts"]
[null,null,null,null,null,"lagen"]
[null,"1 ","Bor. Dortmund","21 ","7 ","6 ",null,62,":","33 ","70 ",null,"12 ","3 ","2 ",null,null,null,null,null,null,"9 ","4 ","4 "]
[null,"2 ","Bayer Leverkusen","21 ","6 ","7 ",null,77,":","38 ","69 ",null,"14 ","1 ","2 ",null,null,null,null,null,null,"7 ","5 ","5 "]
[null,"3 ","Bayern München","20 ","8 ","6 ",null,65,":","25 ","68 ",null,"12 ","5 ","0 ",null,null,null,null,null,null,"8 ","3 ","6 "]
[null,"4 ","Hertha BSC","18 ","7 ","9 ",null,61,":","38 ","61 ",null,"13 ","2 ","2 ",null,null,null,null,null,null,"5 ","5 ","7 "]
[null,"5 ","FC Schalke 04","18 ","7 ","9 ",null,52,":","36 ","61 ",null,"13 ","2 ","2 ",null,null,null,null,null,null,"5 ","5 ","7 "]
[null,"6 ","Werder Bremen","17 ","5 ","12 ",null,54,":","43 ","56 ",null,"11 ","2 ","4 ",null,null,null,null,null,null,"6 ","3 ","8 "]
[null,"7 ","1. FC Kaiserslautern","17 ","5 ","12 ",null,62,":","53 ","56 ",null,"11 ","4 ","2 ",null,null,null,null,null,null,"6 ","1 ","10 "]
[null,"8 ","VfB Stuttgart","13 ","11 ","10 ",null,47,":","43 ","50 ",null,"8 ","5 ","4 ",null,null,null,null,null,null,"5 ","6 ","6 "]
[null,"9 ","1860 München","15 ","5 ","14 ",null,59,":","59 ","50 ",null,"8 ","3 ","6 ",null,null,null,null,null,null,"7 ","2 ","8 "]
[null,"10 ","VfL Wolfsburg","13 ","7 ","14 ",null,57,":","49 ","46 ",null,"9 ","3 ","5 ",null,null,null,null,null,null,"4 ","4 ","9 "]
[null,"11 ","Hamburger SV","10 ","10 ","14 ",null,51,":","57 ","40 ",null,"7 ","6 ","4 ",null,null,null,null,null,null,"3 ","4 ","10 "]
[null,"12 ","Bor. M'gladbach","9 ","12 ","13 ",null,41,":","53 ","39 ",null,"6 ","5 ","6 ",null,null,null,null,null,null,"3 ","7 ","7 "]
[null,"13 ","Energie Cottbus","9 ","8 ","17 ",null,36,":","60 ","35 ",null,"8 ","4 ","5 ",null,null,null,null,null,null,"1 ","4 ","12 "]
[null,"14 ","Hansa Rostock","9 ","7 ","18 ",null,35,":","54 ","34 ",null,"6 ","6 ","5 ",null,null,null,null,null,null,"3 ","1 ","13 "]
[null,"15 ","1. FC Nürnberg","10 ","4 ","20 ",null,34,":","57 ","34 ",null,"7 ","3 ","7 ",null,null,null,null,null,null,"3 ","1 ","13 "]
[null,"16 ","SC Freiburg","7 ","9 ","18 ",null,37,":","64 ","30 ",null,"6 ","5 ","6 ",null,null,null,null,null,null,"1 ","4 ","12 "]
[null,"17 ","1. FC Köln","7 ","8 ","19 ",null,26,":","61 ","29 ",null,"5 ","5 ","7 ",null,null,null,null,null,null,"2 ","3 ","12 "]
[null,"18 ","FC St. Pauli","4 ","10 ","20 ",null,37,":","70 ","22 ",null,"4 ","4 ","9 ",null,null,null,null,null,null,"0 ","6 ","11 "]
[]
[]
[null,"1.Bundesliga (1.BL)"]
[null," -  2000/01  - "]
[null," ","Mannschaft","Sieg","Remis","Nieder-"," ","Tore",null,null,"Punkte","Heim",null,null,null,null,null,null,null,null,"Auswärts"]
[null,null,null,null,null,"lagen"]
[null,"1 ","Bayern München","19 ","6 ","9 ",null,62,":","37 ","63 ",null,"12 ","1 ","4 ",null,null,null,null,null,null,"7 ","5 ","5 "]
[null,"2 ","FC Schalke 04","18 ","8 ","8 ",null,65,":","35 ","62 ",null,"12 ","4 ","1 ",null,null,null,null,null,null,"6 ","4 ","7 "]
[null,"3 ","Bor. Dortmund","16 ","10 ","8 ",null,62,":","42 ","58 ",null,"9 ","4 ","4 ",null,null,null,null,null,null,"7 ","6 ","4 "]
[null,"4 ","Bayer Leverkusen","17 ","6 ","11 ",null,54,":","40 ","57 ",null,"10 ","2 ","5 ",null,null,null,null,null,null,"7 ","4 ","6 "]
[null,"5 ","Hertha BSC","18 ","2 ","14 ",null,58,":","52 ","56 ",null,"11 ","2 ","4 ",null,null,null,null,null,null,"7 ","0 ","10 "]
[null,"6 ","SC Freiburg","15 ","10 ","9 ",null,54,":","37 ","55 ",null,"9 ","5 ","3 ",null,null,null,null,null,null,"6 ","5 ","6 "]
[null,"7 ","Werder Bremen","15 ","8 ","11 ",null,53,":","48 ","53 ",null,"10 ","4 ","3 ",null,null,null,null,null,null,"5 ","4 ","8 "]
[null,"8 ","1. FC Kaiserslautern","15 ","5 ","14 ",null,49,":","54 ","50 ",null,"8 ","3 ","6 ",null,null,null,null,null,null,"7 ","2 ","8 "]
[null,"9 ","VfL Wolfsburg","12 ","11 ","11 ",null,60,":","45 ","47 ",null,"8 ","6 ","3 ",null,null,null,null,null,null,"4 ","5 ","8 "]
[null,"10 ","1. FC Köln","12 ","10 ","12 ",null,59,":","52 ","46 ",null,"8 ","5 ","4 ",null,null,null,null,null,null,"4 ","5 ","8 "]
[null,"11 ","1860 München","12 ","8 ","14 ",null,43,":","55 ","44 ",null,"8 ","3 ","6 ",null,null,null,null,null,null,"4 ","5 ","8 "]
[null,"12 ","Hansa Rostock","12 ","7 ","15 ",null,34,":","47 ","43 ",null,"8 ","5 ","4 ",null,null,null,null,null,null,"4 ","2 ","11 "]
[null,"13 ","Hamburger SV","10 ","11 ","13 ",null,58,":","58 ","41 ",null,"8 ","6 ","3 ",null,null,null,null,null,null,"2 ","5 ","10 "]
[null,"14 ","Energie Cottbus","12 ","3 ","19 ",null,38,":","52 ","39 ",null,"10 ","1 ","6 ",null,null,null,null,null,null,"2 ","2 ","13 "]
[null,"15 ","VfB Stuttgart","9 ","11 ","14 ",null,42,":","49 ","38 ",null,"9 ","5 ","3 ",null,null,null,null,null,null,"0 ","6 ","11 "]
[null,"16 ","SpVgg Unterhaching","8 ","11 ","15 ",null,35,":","59 ","35 ",null,"7 ","6 ","4 ",null,null,null,null,null,null,"1 ","5 ","11 "]
[null,"17 ","Eintr. Frankfurt","10 ","5 ","19 ",null,41,":","68 ","35 ",null,"8 ","3 ","6 ",null,null,null,null,null,null,"2 ","2 ","13 "]
[null,"18 ","VfL Bochum","7 ","6 ","21 ",null,30,":","67 ","27 ",null,"5 ","4 ","8 ",null,null,null,null,null,null,"2 ","2 ","13 "]
[]
[]
[null,"1.Bundesliga (1.BL)"]
[null," -  1999/00  - "]
[null," ","Mannschaft","Sieg","Remis","Nieder-"," ","Tore",null,null,"Punkte","Heim",null,null,null,null,null,null,null,null,"Auswärts"]
[null,null,null,null,null,"lagen"]
[null,"1. ","Bayern München ",22,7,5,null,73,":","28 ",73,null,12,3,2,null,null,null,null,null,null,10,4,3]
[null,"2. ","Bayer Leverkusen ",21,10,3,null,74,":","36 ",73,null,13,4,0,null,null,null,null,null,null,8,6,3]
[null,"3. ","Hamburger SV ",16,11,7,null,63,":","39 ",59,null,11,4,2,null,null,null,null,null,null,5,7,5]
[null,"4. ","TSV 1860 München ",14,11,9,null,55,":","48 ",53,null,11,3,3,null,null,null,null,null,null,3,8,6]
[null,"5. ","1. FC Kaiserslautern ",15,5,14,null,54,":","59 ",50,null,8,3,6,null,null,null,null,null,null,7,2,8]
[null,"6. ","Hertha BSC Berlin ",13,11,10,null,39,":","46 ",50,null,8,7,2,null,null,null,null,null,null,5,4,8]
[null,"7. ","VfL Wolfsburg ",12,13,9,null,51,":","58 ",49,null,9,4,4,null,null,null,null,null,null,3,9,5]
[null,"8. ","VfB Stuttgart ",14,6,14,null,44,":","47 ",48,null,6,2,9,null,null,null,null,null,null,8,4,5]
[null,"9. ","SV Werder Bremen ",13,8,13,null,65,":","52 ",47,null,10,3,4,null,null,null,null,null,null,3,5,9]
[null,"10. ","SpVgg Unterhaching ",12,8,14,null,40,":","42 ",44,null,10,5,2,null,null,null,null,null,null,2,3,12]
[null,"11. ","Borussia Dortmund ",9,13,12,null,41,":","38 ",40,null,4,7,6,null,null,null,null,null,null,5,6,6]
[null,"12. ","SC Freiburg ",10,10,14,null,45,":","50 ",40,null,8,4,5,null,null,null,null,null,null,2,6,9]
[null,"13. ","Eintracht Frankfurt ",12,5,17,null,42,":","44 ",39,null,9,3,5,null,null,null,null,null,null,3,2,12]
[null,"14. ","FC Schalke 04 ",8,15,11,null,42,":","44 ",39,null,4,10,3,null,null,null,null,null,null,4,5,8]
[null,"15. ","Hansa Rostock ",8,14,12,null,44,":","60 ",38,null,7,7,3,null,null,null,null,null,null,1,7,9]
[null,"16. ","SSV Ulm 1846 ",9,8,17,null,36,":","62 ",35,null,7,4,6,null,null,null,null,null,null,2,4,11]
[null,"17. ","Arminia Bielefeld ",7,9,18,null,40,":","61 ",30,null,4,6,7,null,null,null,null,null,null,3,3,11]
[null,"18. ","MSV Duisburg ",4,10,20,null,37,":","71 ",22,null,2,8,7,null,null,null,null,null,null,2,2,13]
[]
[]
[]
[null," -  1998/99  - "]
[null,null,"Mannschaft","Sieg","Remis","Nieder-"," ","Tore",null,null,"Punkte","Heim",null,null,null,null,null,null,null,null,"Auswärts"]
[null,null,null,null,null,"lagen"]
[null,"1. ","Bayern München ",24,6,4,null,76,":","28 ",78,null,14,3,0,null,null,null,null,null,null,10,3,4]
[null,"2. ","Bayer Leverkusen ",17,12,5,null,61,":","30 ",63,null,9,6,2,null,null,null,null,null,null,8,6,3]
[null,"3. ","Hertha BSC Berlin ",18,8,8,null,59,":","32 ",62,null,14,1,2,null,null,null,null,null,null,4,7,6]
[null,"4. ","Borussia Dortmund ",16,9,9,null,48,":","34 ",57,null,14,2,1,null,null,null,null,null,null,2,7,8]
[null,"5. ","1. FC Kaiserslautern ",17,6,11,null,51,":","47 ",57,null,11,3,3,null,null,null,null,null,null,6,3,8]
[null,"6. ","VfL Wolfsburg ",15,10,9,null,54,":","49 ",55,null,10,5,2,null,null,null,null,null,null,5,5,7]
[null,"7. ","Hamburger SV ",13,11,10,null,47,":","46 ",50,null,9,5,3,null,null,null,null,null,null,4,6,7]
[null,"8. ","MSV Duisburg ",13,10,11,null,48,":","45 ",49,null,9,5,3,null,null,null,null,null,null,4,5,8]
[null,"9. ","TSV 1860 München ",11,8,15,null,49,":","56 ",41,null,7,4,6,null,null,null,null,null,null,4,4,9]
[null,"10. ","FC Schalke 04 ",10,11,13,null,41,":","54 ",41,null,5,6,6,null,null,null,null,null,null,5,5,7]
[null,"11. ","VfB Stuttgart ",9,12,13,null,41,":","48 ",39,null,8,5,4,null,null,null,null,null,null,1,7,9]
[null,"12. ","SC Freiburg ",10,9,15,null,36,":","44 ",39,null,5,6,6,null,null,null,null,null,null,5,3,9]
[null,"13. ","SV Werder Bremen ",10,8,16,null,41,":","47 ",38,null,4,6,7,null,null,null,null,null,null,6,2,9]
[null,"14. ","Hansa Rostock ",9,11,14,null,49,":","58 ",38,null,7,6,4,null,null,null,null,null,null,2,5,10]
[null,"15. ","Eintracht Frankfurt ",9,10,15,null,44,":","54 ",37,null,6,6,5,null,null,null,null,null,null,3,4,10]
[null,"16. ","1. FC Nürnberg ",7,16,11,null,40,":","50 ",37,null,3,11,3,null,null,null,null,null,null,4,5,8]
[null,"17. ","VfL Bochum ",7,8,19,null,40,":","65 ",29,null,5,3,9,null,null,null,null,null,null,2,5,10]
[null,"18. ","Bor. M'gladbach ",4,9,21,null,41,":","79 ",21,null,4,4,9,null,null,null,null,null,null,0,5,12]
[]
[]
[]
[null," -  1997/98  - "]
[null,null,"Mannschaft","Sieg","Remis","Nieder-"," ","Tore",null,null,"Punkte","Heim",null,null,null,null,null,null,null,null,"Auswärts"]
[null,null,null,null,null,"lagen"]
[null,"1. ","1. FC Kaiserslautern ",19,11,4,null,63,":","39 ",68,null,13,2,2,null,null,null,null,null,null,6,9,2]
[null,"2. ","Bayern München ",19,9,6,null,69,":","37 ",66,null,11,4,2,null,null,null,null,null,null,8,5,4]
[null,"3. ","Bayer Leverkusen ",14,13,7,null,66,":","39 ",55,null,9,7,1,null,null,null,null,null,null,5,6,6]
[null,"4. ","VfB Stuttgart ",14,10,10,null,55,":","49 ",52,null,10,5,2,null,null,null,null,null,null,4,5,8]
[null,"5. ","FC Schalke 04 ",13,13,8,null,38,":","32 ",52,null,10,5,2,null,null,null,null,null,null,3,8,6]
[null,"6. ","Hansa Rostock ",14,9,11,null,54,":","46 ",51,null,9,3,5,null,null,null,null,null,null,5,6,6]
[null,"7. ","SV Werder Bremen ",14,8,12,null,43,":","47 ",50,null,8,6,3,null,null,null,null,null,null,6,2,9]
[null,"8. ","MSV Duisburg ",11,11,12,null,43,":","44 ",44,null,6,6,5,null,null,null,null,null,null,5,5,7]
[null,"9. ","Hamburger SV ",11,11,12,null,38,":","46 ",44,null,6,5,6,null,null,null,null,null,null,5,6,6]
[null,"10. ","Borussia Dortmund ",11,10,13,null,57,":","55 ",43,null,8,4,5,null,null,null,null,null,null,3,6,8]
[null,"11. ","Hertha BSC Berlin ",12,7,15,null,41,":","53 ",43,null,7,6,4,null,null,null,null,null,null,5,1,11]
[null,"12. ","VfL Bochum ",11,8,15,null,41,":","49 ",41,null,8,4,5,null,null,null,null,null,null,3,4,10]
[null,"13. ","TSV 1860 München ",11,8,15,null,43,":","54 ",41,null,7,3,7,null,null,null,null,null,null,4,5,8]
[null,"14. ","VfL Wolfsburg ",11,6,17,null,38,":","54 ",39,null,7,4,6,null,null,null,null,null,null,4,2,11]
[null,"15. ","Bor. M'gladbach ",9,11,14,null,54,":","59 ",38,null,5,8,4,null,null,null,null,null,null,4,3,10]
[null,"16. ","Karlsruher SC ",9,11,14,null,48,":","60 ",38,null,6,5,6,null,null,null,null,null,null,3,6,8]
[null,"17. ","1. FC Köln ",10,6,18,null,49,":","64 ",36,null,8,3,6,null,null,null,null,null,null,2,3,12]
[null,"18. ","Arminia Bielefeld ",8,8,18,null,43,":","56 ",32,null,7,5,5,null,null,null,null,null,null,1,3,13]
[]
[]
[]
[null," -  1996/97  - "]
[null,null,"Mannschaft","Sieg","Remis","Nieder-"," ","Tore",null,null,"Punkte","Heim",null,null,null,null,null,null,null,null,"Auswärts"]
[null,null,null,null,null,"lagen"]
[null,"1.","Bayern München ",20,11,3,null,68,":","34 ",71,null,13,4,0,null,null,null,null,null,null,7,7,3]
[null,"2. ","Bayer Leverkusen ",21,6,7,null,69,":","41 ",69,null,15,1,1,null,null,null,null,null,null,6,5,6]
[null,"3. ","Borussia Dortmund ",19,6,9,null,63,":","41 ",63,null,12,4,1,null,null,null,null,null,null,7,2,8]
[null,"4. ","VfB Stuttgart ",18,7,9,null,78,":","40 ",61,null,12,2,3,null,null,null,null,null,null,6,5,6]
[null,"5. ","VfL Bochum ",14,11,9,null,54,":","51 ",53,null,11,5,1,null,null,null,null,null,null,3,6,8]
[null,"6. ","Karlsruher SC ",13,10,11,null,55,":","44 ",49,null,8,5,4,null,null,null,null,null,null,5,5,7]
[null,"7. ","TSV 1860 München ",13,10,11,null,56,":","56 ",49,null,9,3,5,null,null,null,null,null,null,4,7,6]
[null,"8. ","SV Werder Bremen ",14,6,14,null,53,":","52 ",48,null,10,5,2,null,null,null,null,null,null,4,1,12]
[null,"9. ","MSV Duisburg ",12,9,13,null,44,":","49 ",45,null,6,5,6,null,null,null,null,null,null,6,4,7]
[null,"10. ","1. FC Köln ",13,5,16,null,62,":","62 ",44,null,9,1,7,null,null,null,null,null,null,4,4,9]
[null,"11. ","Bor. M'gladbach ",12,7,15,null,46,":","48 ",43,null,9,5,3,null,null,null,null,null,null,3,2,12]
[null,"12. ","FC Schalke 04 ",11,10,13,null,35,":","40 ",43,null,5,7,5,null,null,null,null,null,null,6,3,8]
[null,"13. ","Hamburger SV ",10,11,13,null,46,":","60 ",41,null,8,4,5,null,null,null,null,null,null,2,7,8]
[null,"14. ","Arminia Bielefeld ",11,7,16,null,46,":","54 ",40,null,7,2,8,null,null,null,null,null,null,4,5,8]
[null,"15. ","Hansa Rostock ",11,7,16,null,35,":","46 ",40,null,6,4,7,null,null,null,null,null,null,5,3,9]
[null,"16. ","Fortuna Düsseldorf ",9,6,19,null,26,":","57 ",33,null,5,5,7,null,null,null,null,null,null,4,1,12]
[null,"17. ","SC Freiburg ",8,5,21,null,43,":","67 ",29,null,6,4,7,null,null,null,null,null,null,2,1,14]
[null,"18. ","FC St. Pauli ",7,6,21,null,32,":","69 ",27,null,5,4,8,null,null,null,null,null,null,2,2,13]
[]
[]
[]
[null," -  1995/96  - "]
[null,null,"Mannschaft","Sieg","Remis","Nieder-"," ","Tore",null,null,"Punkte","Heim",null,null,null,null,null,null,null,null,"Auswärts"]
[null,null,null,null,null,"lagen"]
[null,"1. ","Borussia Dortmund ",19,11,4,null,76,":","38 ",68,null,12,4,1,null,null,null,null,null,null,7,7,3]
[null,"2. ","Bayern München ",19,5,10,null,66,":","46 ",62,null,11,3,3,null,null,null,null,null,null,8,2,7]
[null,"3. ","FC Schalke 04 ",14,14,6,null,45,":","36 ",56,null,8,7,2,null,null,null,null,null,null,6,7,4]
[null,"4. ","Bor. M'gladbach ",15,8,11,null,52,":","51 ",53,null,8,5,4,null,null,null,null,null,null,7,3,7]
[null,"5. ","Hamburger SV ",12,14,8,null,52,":","47 ",50,null,7,10,0,null,null,null,null,null,null,5,4,8]
[null,"6. ","Hansa Rostock ",13,10,11,null,47,":","43 ",49,null,7,5,5,null,null,null,null,null,null,6,5,6]
[null,"7. ","Karlsruher SC ",12,12,10,null,53,":","47 ",48,null,6,6,5,null,null,null,null,null,null,6,6,5]
[null,"8. ","TSV 1860 München ",11,12,11,null,52,":","46 ",45,null,8,7,2,null,null,null,null,null,null,3,5,9]
[null,"9. ","SV Werder Bremen ",10,14,10,null,39,":","42 ",44,null,7,6,4,null,null,null,null,null,null,3,8,6]
[null,"10. ","VfB Stuttgart ",10,13,11,null,59,":","62 ",43,null,6,5,6,null,null,null,null,null,null,4,8,5]
[null,"11. ","SC Freiburg ",11,9,14,null,30,":","41 ",42,null,7,4,6,null,null,null,null,null,null,4,5,8]
[null,"12. ","1. FC Köln ",9,13,12,null,33,":","35 ",40,null,5,7,5,null,null,null,null,null,null,4,6,7]
[null,"13. ","Fortuna Düsseldorf ",8,16,10,null,40,":","47 ",40,null,6,8,3,null,null,null,null,null,null,2,8,7]
[null,"14. ","Bayer Leverkusen ",8,14,12,null,37,":","38 ",38,null,4,8,5,null,null,null,null,null,null,4,6,7]
[null,"15. ","FC St. Pauli ",9,11,14,null,43,":","51 ",38,null,6,4,7,null,null,null,null,null,null,3,7,7]
[null,"16. ","1. FC Kaiserslautern ",6,18,10,null,31,":","37 ",36,null,4,9,4,null,null,null,null,null,null,2,9,6]
[null,"17. ","Eintracht Frankfurt ",7,11,16,null,43,":","68 ",32,null,7,4,6,null,null,null,null,null,null,0,7,10]
[null,"18. ","KFC Uerdingen 05 ",5,11,18,null,33,":","56 ",26,null,4,6,7,null,null,null,null,null,null,1,5,11]

{"sheet":"Platz1","index":10,"n_rows":29,"n_cols":35,"rows_kept":29,"cut":false,"hidden":false,"merged":[[2,1,2,17],[2,18,2,34]]}
[null,1,9,2,8]
[null,1,2,3,4,5,6,7,8,9,10,11,12,13,14,15,16,17,18,19,20,21,22,23,24,25,26,27,28,29,30,31,32,33,34]
[null,"Hinrunde",null,null,null,null,null,null,null,null,null,null,null,null,null,null,null,null,"Rückrunde"]
[{"$f":"'1. Liga'!C6","v":"SV Werder Bremen"},{"$f":"IF(B$2<>0,'1. Liga'!$R$16,0)","v":17},{"$f":"IF(C$2<>0,'1. Liga'!$R$29,0)","v":18},{"$f":"IF(D$2<>0,'1. Liga'!$R$42,0)","v":11},{"$f":"IF(E$2<>0,'1. Liga'!$R$55,0)","v":12},{"$f":"IF(F$2<>0,'1. Liga'!$R$68,0)","v":11},{"$f":"IF(G$2<>0,'1. Liga'!$R$81,0)","v":12},{"$f":"IF(H$2<>0,'1. Liga'!$R$94,0)","v":14},{"$f":"IF(I$2<>0,'1. Liga'!$R$107,0)","v":14},{"$f":"IF(J$2<>0,'1. Liga'!$R$120,0)","v":12},{"$f":"IF(K$2<>0,'1. Liga'!$R$133,0)","v":12},{"$f":"IF(L$2<>0,'1. Liga'!$R$146,0)","v":12},{"$f":"IF(M$2<>0,'1. Liga'!$R$159,0)","v":12},{"$f":"IF(N$2<>0,'1. Liga'!$R$172,0)","v":13},{"$f":"IF(O$2<>0,'1. Liga'!$R$185,0)","v":12},{"$f":"IF(P$2<>0,'1. Liga'!$R$198,0)","v":14},{"$f":"IF(Q$2<>0,'1. Liga'!$R$211,0)","v":13},{"$f":"IF(R$2<>0,'1. Liga'!$R$224,0)","v":13},{"$f":"IF(S$2<>0,'1. Liga'!$R$237,0)","v":13},{"$f":"IF(T$2<>0,'1. Liga'!$R$250,0)","v":9},{"$f":"IF(U$2<>0,'1. Liga'!$R$263,0)","v":9},{"$f":"IF(V$2<>0,'1. Liga'!$R$276,0)","v":10},{"$f":"IF(W$2<>0,'1. Liga'!$R$289,0)","v":7},{"$f":"IF(X$2<>0,'1. Liga'!$R$302,0)","v":8},{"$f":"IF(Y$2<>0,'1. Liga'!$R$315,0)","v":8},{"$f":"IF(Z$2<>0,'1. Liga'!$R$328,0)","v":10},{"$f":"IF(AA$2<>0,'1. Liga'!$R$341,0)","v":10},{"$f":"IF(AB$2<>0,'1. Liga'!$R$354,0)","v":10},{"$f":"IF(AC$2<>0,'1. Liga'!$R$367,0)","v":12},{"$f":"IF(AD$2<>0,'1. Liga'!$R$380,0)","v":12},{"$f":"IF(AE$2<>0,'1. Liga'!$R$393,0)","v":11},{"$f":"IF(AF$2<>0,'1. Liga'!$R$406,0)","v":11},{"$f":"IF(AG$2<>0,'1. Liga'!$R$419,0)","v":11},{"$f":"IF(AH$2<>0,'1. Liga'!$R$432,0)","v":11},{"$f":"IF(AI$2<>0,'1. Liga'!$R$445,0)","v":9}]
[{"$f":"'1. Liga'!E6","v":"FC Bayern München"},{"$f":"IF(B$2<>0,'1. Liga'!$S$16,0)","v":2},{"$f":"IF(C$2<>0,'1. Liga'!$S$29,0)","v":2},{"$f":"IF(D$2<>0,'1. Liga'!$S$42,0)","v":2},{"$f":"IF(E$2<>0,'1. Liga'!$S$55,0)","v":2},{"$f":"IF(F$2<>0,'1. Liga'!$S$68,0)","v":1},{"$f":"IF(G$2<>0,'1. Liga'!$S$81,0)","v":3},{"$f":"IF(H$2<>0,'1. Liga'!$S$94,0)","v":3},{"$f":"IF(I$2<>0,'1. Liga'!$S$107,0)","v":3},{"$f":"IF(J$2<>0,'1. Liga'!$S$120,0)","v":2},{"$f":"IF(K$2<>0,'1. Liga'!$S$133,0)","v":2},{"$f":"IF(L$2<>0,'1. Liga'!$S$146,0)","v":2},{"$f":"IF(M$2<>0,'1. Liga'!$S$159,0)","v":2},{"$f":"IF(N$2<>0,'1. Liga'!$S$172,0)","v":1},{"$f":"IF(O$2<>0,'1. Liga'!$S$185,0)","v":2},{"$f":"IF(P$2<>0,'1. Liga'!$S$198,0)","v":2},{"$f":"IF(Q$2<>0,'1. Liga'!$S$211,0)","v":2},{"$f":"IF(R$2<>0,'1. Liga'!$S$224,0)","v":2},{"$f":"IF(S$2<>0,'1. Liga'!$S$237,0)","v":2},{"$f":"IF(T$2<>0,'1. Liga'!$S$250,0)","v":2},{"$f":"IF(U$2<>0,'1. Liga'!$S$263,0)","v":2},{"$f":"IF(V$2<>0,'1. Liga'!$S$276,0)","v":2},{"$f":"IF(W$2<>0,'1. Liga'!$S$289,0)","v":2},{"$f":"IF(X$2<>0,'1. Liga'!$S$302,0)","v":2},{"$f":"IF(Y$2<>0,'1. Liga'!$S$315,0)","v":2},{"$f":"IF(Z$2<>0,'1. Liga'!$S$328,0)","v":2},{"$f":"IF(AA$2<>0,'1. Liga'!$S$341,0)","v":2},{"$f":"IF(AB$2<>0,'1. Liga'!$S$354,0)","v":2},{"$f":"IF(AC$2<>0,'1. Liga'!$S$367,0)","v":2},{"$f":"IF(AD$2<>0,'1. Liga'!$S$380,0)","v":2},{"$f":"IF(AE$2<>0,'1. Liga'!$S$393,0)","v":2},{"$f":"IF(AF$2<>0,'1. Liga'!$S$406,0)","v":2},{"$f":"IF(AG$2<>0,'1. Liga'!$S$419,0)","v":2},{"$f":"IF(AH$2<>0,'1. Liga'!$S$432,0)","v":2},{"$f":"IF(AI$2<>0,'1. Liga'!$S$445,0)","v":3}]
[{"$f":"'1. Liga'!C7","v":"VfB Stuttgart"},{"$f":"IF(B$2<>0,'1. Liga'!$T$16,0)","v":1},{"$f":"IF(C$2<>0,'1. Liga'!$T$29,0)","v":9},{"$f":"IF(D$2<>0,'1. Liga'!$T$42,0)","v":3},{"$f":"IF(E$2<>0,'1. Liga'!$T$55,0)","v":4},{"$f":"IF(F$2<>0,'1. Liga'!$T$68,0)","v":3},{"$f":"IF(G$2<>0,'1. Liga'!$T$81,0)","v":2},{"$f":"IF(H$2<>0,'1. Liga'!$T$94,0)","v":2},{"$f":"IF(I$2<>0,'1. Liga'!$T$107,0)","v":2},{"$f":"IF(J$2<>0,'1. Liga'!$T$120,0)","v":3},{"$f":"IF(K$2<>0,'1. Liga'!$T$133,0)","v":3},{"$f":"IF(L$2<>0,'1. Liga'!$T$146,0)","v":3},{"$f":"IF(M$2<>0,'1. Liga'!$T$159,0)","v":3},{"$f":"IF(N$2<>0,'1. Liga'!$T$172,0)","v":3},{"$f":"IF(O$2<>0,'1. Liga'!$T$185,0)","v":3},{"$f":"IF(P$2<>0,'1. Liga'!$T$198,0)","v":4},{"$f":"IF(Q$2<>0,'1. Liga'!$T$211,0)","v":3},{"$f":"IF(R$2<>0,'1. Liga'!$T$224,0)","v":3},{"$f":"IF(S$2<>0,'1. Liga'!$T$237,0)","v":3},{"$f":"IF(T$2<>0,'1. Liga'!$T$250,0)","v":3},{"$f":"IF(U$2<>0,'1. Liga'!$T$263,0)","v":3},{"$f":"IF(V$2<>0,'1. Liga'!$T$276,0)","v":3},{"$f":"IF(W$2<>0,'1. Liga'!$T$289,0)","v":3},{"$f":"IF(X$2<>0,'1. Liga'!$T$302,0)","v":3},{"$f":"IF(Y$2<>0,'1. Liga'!$T$315,0)","v":3},{"$f":"IF(Z$2<>0,'1. Liga'!$T$328,0)","v":3},{"$f":"IF(AA$2<>0,'1. Liga'!$T$341,0)","v":3},{"$f":"IF(AB$2<>0,'1. Liga'!$T$354,0)","v":3},{"$f":"IF(AC$2<>0,'1. Liga'!$T$367,0)","v":3},{"$f":"IF(AD$2<>0,'1. Liga'!$T$380,0)","v":3},{"$f":"IF(AE$2<>0,'1. Liga'!$T$393,0)","v":3},{"$f":"IF(AF$2<>0,'1. Liga'!$T$406,0)","v":3},{"$f":"IF(AG$2<>0,'1. Liga'!$T$419,0)","v":3},{"$f":"IF(AH$2<>0,'1. Liga'!$T$432,0)","v":3},{"$f":"IF(AI$2<>0,'1. Liga'!$T$445,0)","v":2}]
[{"$f":"'1. Liga'!E7","v":"VfL Bochum 1848"},{"$f":"IF(B$2<>0,'1. Liga'!$U$16,0)","v":18},{"$f":"IF(C$2<>0,'1. Liga'!$U$29,0)","v":14},{"$f":"IF(D$2<>0,'1. Liga'!$U$42,0)","v":13},{"$f":"IF(E$2<>0,'1. Liga'!$U$55,0)","v":13},{"$f":"IF(F$2<>0,'1. Liga'!$U$68,0)","v":14},{"$f":"IF(G$2<>0,'1. Liga'!$U$81,0)","v":16},{"$f":"IF(H$2<>0,'1. Liga'!$U$94,0)","v":16},{"$f":"IF(I$2<>0,'1. Liga'!$U$107,0)","v":17},{"$f":"IF(J$2<>0,'1. Liga'!$U$120,0)","v":16},{"$f":"IF(K$2<>0,'1. Liga'!$U$133,0)","v":14},{"$f":"IF(L$2<>0,'1. Liga'!$U$146,0)","v":14},{"$f":"IF(M$2<>0,'1. Liga'!$U$159,0)","v":14},{"$f":"IF(N$2<>0,'1. Liga'!$U$172,0)","v":12},{"$f":"IF(O$2<>0,'1. Liga'!$U$185,0)","v":14},{"$f":"IF(P$2<>0,'1. Liga'!$U$198,0)","v":13},{"$f":"IF(Q$2<>0,'1. Liga'!$U$211,0)","v":14},{"$f":"IF(R$2<>0,'1. Liga'!$U$224,0)","v":14},{"$f":"IF(S$2<>0,'1. Liga'!$U$237,0)","v":14},{"$f":"IF(T$2<>0,'1. Liga'!$U$250,0)","v":14},{"$f":"IF(U$2<>0,'1. Liga'!$U$263,0)","v":14},{"$f":"IF(V$2<>0,'1. Liga'!$U$276,0)","v":14},{"$f":"IF(W$2<>0,'1. Liga'!$U$289,0)","v":11},{"$f":"IF(X$2<>0,'1. Liga'!$U$302,0)","v":15},{"$f":"IF(Y$2<>0,'1. Liga'!$U$315,0)","v":15},{"$f":"IF(Z$2<>0,'1. Liga'!$U$328,0)","v":15},{"$f":"IF(AA$2<>0,'1. Liga'!$U$341,0)","v":15},{"$f":"IF(AB$2<>0,'1. Liga'!$U$354,0)","v":15},{"$f":"IF(AC$2<>0,'1. Liga'!$U$367,0)","v":15},{"$f":"IF(AD$2<>0,'1. Liga'!$U$380,0)","v":15},{"$f":"IF(AE$2<>0,'1. Liga'!$U$393,0)","v":16},{"$f":"IF(AF$2<>0,'1. Liga'!$U$406,0)","v":15},{"$f":"IF(AG$2<>0,'1. Liga'!$U$419,0)","v":14},{"$f":"IF(AH$2<>0,'1. Liga'!$U$432,0)","v":14},{"$f":"IF(AI$2<>0,'1. Liga'!$U$445,0)","v":16}]
[{"$f":"'1. Liga'!C8","v":"Borussia Dortmund"},{"$f":"IF(B$2<>0,'1. Liga'!$V$16,0)","v":7},{"$f":"IF(C$2<>0,'1. Liga'!$V$29,0)","v":6},{"$f":"IF(D$2<>0,'1. Liga'!$V$42,0)","v":9},{"$f":"IF(E$2<>0,'1. Liga'!$V$55,0)","v":7},{"$f":"IF(F$2<>0,'1. Liga'!$V$68,0)","v":6},{"$f":"IF(G$2<>0,'1. Liga'!$V$81,0)","v":4},{"$f":"IF(H$2<>0,'1. Liga'!$V$94,0)","v":4},{"$f":"IF(I$2<>0,'1. Liga'!$V$107,0)","v":4},{"$f":"IF(J$2<>0,'1. Liga'!$V$120,0)","v":4},{"$f":"IF(K$2<>0,'1. Liga'!$V$133,0)","v":4},{"$f":"IF(L$2<>0,'1. Liga'!$V$146,0)","v":5},{"$f":"IF(M$2<>0,'1. Liga'!$V$159,0)","v":4},{"$f":"IF(N$2<>0,'1. Liga'!$V$172,0)","v":5},{"$f":"IF(O$2<>0,'1. Liga'!$V$185,0)","v":5},{"$f":"IF(P$2<>0,'1. Liga'!$V$198,0)","v":5},{"$f":"IF(Q$2<>0,'1. Liga'!$V$211,0)","v":5},{"$f":"IF(R$2<>0,'1. Liga'!$V$224,0)","v":5},{"$f":"IF(S$2<>0,'1. Liga'!$V$237,0)","v":5},{"$f":"IF(T$2<>0,'1. Liga'!$V$250,0)","v":4},{"$f":"IF(U$2<>0,'1. Liga'!$V$263,0)","v":4},{"$f":"IF(V$2<>0,'1. Liga'!$V$276,0)","v":4},{"$f":"IF(W$2<>0,'1. Liga'!$V$289,0)","v":4},{"$f":"IF(X$2<>0,'1. Liga'!$V$302,0)","v":4},{"$f":"IF(Y$2<>0,'1. Liga'!$V$315,0)","v":4},{"$f":"IF(Z$2<>0,'1. Liga'!$V$328,0)","v":4},{"$f":"IF(AA$2<>0,'1. Liga'!$V$341,0)","v":4},{"$f":"IF(AB$2<>0,'1. Liga'!$V$354,0)","v":4},{"$f":"IF(AC$2<>0,'1. Liga'!$V$367,0)","v":5},{"$f":"IF(AD$2<>0,'1. Liga'!$V$380,0)","v":5},{"$f":"IF(AE$2<>0,'1. Liga'!$V$393,0)","v":5},{"$f":"IF(AF$2<>0,'1. Liga'!$V$406,0)","v":5},{"$f":"IF(AG$2<>0,'1. Liga'!$V$419,0)","v":5},{"$f":"IF(AH$2<>0,'1. Liga'!$V$432,0)","v":5},{"$f":"IF(AI$2<>0,'1. Liga'!$V$445,0)","v":5}]
[{"$f":"'1. Liga'!E8","v":"1. FC Köln"},{"$f":"IF(B$2<>0,'1. Liga'!$W$16,0)","v":13},{"$f":"IF(C$2<>0,'1. Liga'!$W$29,0)","v":15},{"$f":"IF(D$2<>0,'1. Liga'!$W$42,0)","v":14},{"$f":"IF(E$2<>0,'1. Liga'!$W$55,0)","v":16},{"$f":"IF(F$2<>0,'1. Liga'!$W$68,0)","v":16},{"$f":"IF(G$2<>0,'1. Liga'!$W$81,0)","v":17},{"$f":"IF(H$2<>0,'1. Liga'!$W$94,0)","v":18},{"$f":"IF(I$2<>0,'1. Liga'!$W$107,0)","v":16},{"$f":"IF(J$2<>0,'1. Liga'!$W$120,0)","v":17},{"$f":"IF(K$2<>0,'1. Liga'!$W$133,0)","v":18},{"$f":"IF(L$2<>0,'1. Liga'!$W$146,0)","v":17},{"$f":"IF(M$2<>0,'1. Liga'!$W$159,0)","v":18},{"$f":"IF(N$2<>0,'1. Liga'!$W$172,0)","v":15},{"$f":"IF(O$2<>0,'1. Liga'!$W$185,0)","v":16},{"$f":"IF(P$2<>0,'1. Liga'!$W$198,0)","v":15},{"$f":"IF(Q$2<>0,'1. Liga'!$W$211,0)","v":17},{"$f":"IF(R$2<>0,'1. Liga'!$W$224,0)","v":17},{"$f":"IF(S$2<>0,'1. Liga'!$W$237,0)","v":17},{"$f":"IF(T$2<>0,'1. Liga'!$W$250,0)","v":17},{"$f":"IF(U$2<>0,'1. Liga'!$W$263,0)","v":16},{"$f":"IF(V$2<>0,'1. Liga'!$W$276,0)","v":16},{"$f":"IF(W$2<>0,'1. Liga'!$W$289,0)","v":16},{"$f":"IF(X$2<>0,'1. Liga'!$W$302,0)","v":16},{"$f":"IF(Y$2<>0,'1. Liga'!$W$315,0)","v":16},{"$f":"IF(Z$2<>0,'1. Liga'!$W$328,0)","v":16},{"$f":"IF(AA$2<>0,'1. Liga'!$W$341,0)","v":17},{"$f":"IF(AB$2<>0,'1. Liga'!$W$354,0)","v":17},{"$f":"IF(AC$2<>0,'1. Liga'!$W$367,0)","v":17},{"$f":"IF(AD$2<>0,'1. Liga'!$W$380,0)","v":17},{"$f":"IF(AE$2<>0,'1. Liga'!$W$393,0)","v":17},{"$f":"IF(AF$2<>0,'1. Liga'!$W$406,0)","v":17},{"$f":"IF(AG$2<>0,'1. Liga'!$W$419,0)","v":17},{"$f":"IF(AH$2<>0,'1. Liga'!$W$432,0)","v":17},{"$f":"IF(AI$2<>0,'1. Liga'!$W$445,0)","v":17}]
[{"$f":"'1. Liga'!C9","v":"Eintracht Frankfurt"},{"$f":"IF(B$2<>0,'1. Liga'!$X$16,0)","v":7},{"$f":"IF(C$2<>0,'1. Liga'!$X$29,0)","v":6},{"$f":"IF(D$2<>0,'1. Liga'!$X$42,0)","v":10},{"$f":"IF(E$2<>0,'1. Liga'!$X$55,0)","v":9},{"$f":"IF(F$2<>0,'1. Liga'!$X$68,0)","v":8},{"$f":"IF(G$2<>0,'1. Liga'!$X$81,0)","v":9},{"$f":"IF(H$2<>0,'1. Liga'!$X$94,0)","v":8},{"$f":"IF(I$2<>0,'1. Liga'!$X$107,0)","v":7},{"$f":"IF(J$2<>0,'1. Liga'!$X$120,0)","v":7},{"$f":"IF(K$2<>0,'1. Liga'!$X$133,0)","v":7},{"$f":"IF(L$2<>0,'1. Liga'!$X$146,0)","v":7},{"$f":"IF(M$2<>0,'1. Liga'!$X$159,0)","v":7},{"$f":"IF(N$2<>0,'1. Liga'!$X$172,0)","v":7},{"$f":"IF(O$2<>0,'1. Liga'!$X$185,0)","v":7},{"$f":"IF(P$2<>0,'1. Liga'!$X$198,0)","v":8},{"$f":"IF(Q$2<>0,'1. Liga'!$X$211,0)","v":6},{"$f":"IF(R$2<>0,'1. Liga'!$X$224,0)","v":6},{"$f":"IF(S$2<>0,'1. Liga'!$X$237,0)","v":6},{"$f":"IF(T$2<>0,'1. Liga'!$X$250,0)","v":6},{"$f":"IF(U$2<>0,'1. Liga'!$X$263,0)","v":6},{"$f":"IF(V$2<>0,'1. Liga'!$X$276,0)","v":6},{"$f":"IF(W$2<>0,'1. Liga'!$X$289,0)","v":6},{"$f":"IF(X$2<>0,'1. Liga'!$X$302,0)","v":6},{"$f":"IF(Y$2<>0,'1. Liga'!$X$315,0)","v":6},{"$f":"IF(Z$2<>0,'1. Liga'!$X$328,0)","v":6},{"$f":"IF(AA$2<>0,'1. Liga'!$X$341,0)","v":6},{"$f":"IF(AB$2<>0,'1. Liga'!$X$354,0)","v":6},{"$f":"IF(AC$2<>0,'1. Liga'!$X$367,0)","v":6},{"$f":"IF(AD$2<>0,'1. Liga'!$X$380,0)","v":6},{"$f":"IF(AE$2<>0,'1. Liga'!$X$393,0)","v":6},{"$f":"IF(AF$2<>0,'1. Liga'!$X$406,0)","v":6},{"$f":"IF(AG$2<>0,'1. Liga'!$X$419,0)","v":6},{"$f":"IF(AH$2<>0,'1. Liga'!$X$432,0)","v":6},{"$f":"IF(AI$2<>0,'1. Liga'!$X$445,0)","v":6}]
[{"$f":"'1. Liga'!E9","v":"SV Darmstadt 98"},{"$f":"IF(B$2<>0,'1. Liga'!$Y$16,0)","v":13},{"$f":"IF(C$2<>0,'1. Liga'!$Y$29,0)","v":17},{"$f":"IF(D$2<>0,'1. Liga'!$Y$42,0)","v":18},{"$f":"IF(E$2<>0,'1. Liga'!$Y$55,0)","v":17},{"$f":"IF(F$2<>0,'1. Liga'!$Y$68,0)","v":17},{"$f":"IF(G$2<>0,'1. Liga'!$Y$81,0)","v":15},{"$f":"IF(H$2<>0,'1. Liga'!$Y$94,0)","v":11},{"$f":"IF(I$2<>0,'1. Liga'!$Y$107,0)","v":12},{"$f":"IF(J$2<>0,'1. Liga'!$Y$120,0)","v":14},{"$f":"IF(K$2<>0,'1. Liga'!$Y$133,0)","v":15},{"$f":"IF(L$2<>0,'1. Liga'!$Y$146,0)","v":15},{"$f":"IF(M$2<>0,'1. Liga'!$Y$159,0)","v":15},{"$f":"IF(N$2<>0,'1. Liga'!$Y$172,0)","v":16},{"$f":"IF(O$2<>0,'1. Liga'!$Y$185,0)","v":18},{"$f":"IF(P$2<>0,'1. Liga'!$Y$198,0)","v":18},{"$f":"IF(Q$2<>0,'1. Liga'!$Y$211,0)","v":18},{"$f":"IF(R$2<>0,'1. Liga'!$Y$224,0)","v":18},{"$f":"IF(S$2<>0,'1. Liga'!$Y$237,0)","v":18},{"$f":"IF(T$2<>0,'1. Liga'!$Y$250,0)","v":18},{"$f":"IF(U$2<>0,'1. Liga'!$Y$263,0)","v":18},{"$f":"IF(V$2<>0,'1. Liga'!$Y$276,0)","v":18},{"$f":"IF(W$2<>0,'1. Liga'!$Y$289,0)","v":18},{"$f":"IF(X$2<>0,'1. Liga'!$Y$302,0)","v":18},{"$f":"IF(Y$2<>0,'1. Liga'!$Y$315,0)","v":18},{"$f":"IF(Z$2<>0,'1. Liga'!$Y$328,0)","v":18},{"$f":"IF(AA$2<>0,'1. Liga'!$Y$341,0)","v":18},{"$f":"IF(AB$2<>0,'1. Liga'!$Y$354,0)","v":18},{"$f":"IF(AC$2<>0,'1. Liga'!$Y$367,0)","v":18},{"$f":"IF(AD$2<>0,'1. Liga'!$Y$380,0)","v":18},{"$f":"IF(AE$2<>0,'1. Liga'!$Y$393,0)","v":18},{"$f":"IF(AF$2<>0,'1. Liga'!$Y$406,0)","v":18},{"$f":"IF(AG$2<>0,'1. Liga'!$Y$419,0)","v":18},{"$f":"IF(AH$2<>0,'1. Liga'!$Y$432,0)","v":18},{"$f":"IF(AI$2<>0,'1. Liga'!$Y$445,0)","v":18}]
[{"$f":"'1. Liga'!C10","v":"Bayer 04 Leverkusen"},{"$f":"IF(B$2<>0,'1. Liga'!$Z$16,0)","v":5},{"$f":"IF(C$2<>0,'1. Liga'!$Z$29,0)","v":3},{"$f":"IF(D$2<>0,'1. Liga'!$Z$42,0)","v":1},{"$f":"IF(E$2<>0,'1. Liga'!$Z$55,0)","v":1},{"$f":"IF(F$2<>0,'1. Liga'!$Z$68,0)","v":2},{"$f":"IF(G$2<>0,'1. Liga'!$Z$81,0)","v":1},{"$f":"IF(H$2<>0,'1. Liga'!$Z$94,0)","v":1},{"$f":"IF(I$2<>0,'1. Liga'!$Z$107,0)","v":1},{"$f":"IF(J$2<>0,'1. Liga'!$Z$120,0)","v":1},{"$f":"IF(K$2<>0,'1. Liga'!$Z$133,0)","v":1},{"$f":"IF(L$2<>0,'1. Liga'!$Z$146,0)","v":1},{"$f":"IF(M$2<>0,'1. Liga'!$Z$159,0)","v":1},{"$f":"IF(N$2<>0,'1. Liga'!$Z$172,0)","v":2},{"$f":"IF(O$2<>0,'1. Liga'!$Z$185,0)","v":1},{"$f":"IF(P$2<>0,'1. Liga'!$Z$198,0)","v":1},{"$f":"IF(Q$2<>0,'1. Liga'!$Z$211,0)","v":1},{"$f":"IF(R$2<>0,'1. Liga'!$Z$224,0)","v":1},{"$f":"IF(S$2<>0,'1. Liga'!$Z$237,0)","v":1},{"$f":"IF(T$2<>0,'1. Liga'!$Z$250,0)","v":1},{"$f":"IF(U$2<>0,'1. Liga'!$Z$263,0)","v":1},{"$f":"IF(V$2<>0,'1. Liga'!$Z$276,0)","v":1},{"$f":"IF(W$2<>0,'1. Liga'!$Z$289,0)","v":1},{"$f":"IF(X$2<>0,'1. Liga'!$Z$302,0)","v":1},{"$f":"IF(Y$2<>0,'1. Liga'!$Z$315,0)","v":1},{"$f":"IF(Z$2<>0,'1. Liga'!$Z$328,0)","v":1},{"$f":"IF(AA$2<>0,'1. Liga'!$Z$341,0)","v":1},{"$f":"IF(AB$2<>0,'1. Liga'!$Z$354,0)","v":1},{"$f":"IF(AC$2<>0,'1. Liga'!$Z$367,0)","v":1},{"$f":"IF(AD$2<>0,'1. Liga'!$Z$380,0)","v":1},{"$f":"IF(AE$2<>0,'1. Liga'!$Z$393,0)","v":1},{"$f":"IF(AF$2<>0,'1. Liga'!$Z$406,0)","v":1},{"$f":"IF(AG$2<>0,'1. Liga'!$Z$419,0)","v":1},{"$f":"IF(AH$2<>0,'1. Liga'!$Z$432,0)","v":1},{"$f":"IF(AI$2<>0,'1. Liga'!$Z$445,0)","v":1}]
[{"$f":"'1. Liga'!E10","v":"RB Leipzig"},{"$f":"IF(B$2<>0,'1. Liga'!$AA$16,0)","v":11},{"$f":"IF(C$2<>0,'1. Liga'!$AA$29,0)","v":8},{"$f":"IF(D$2<>0,'1. Liga'!$AA$42,0)","v":4},{"$f":"IF(E$2<>0,'1. Liga'!$AA$55,0)","v":3},{"$f":"IF(F$2<>0,'1. Liga'!$AA$68,0)","v":4},{"$f":"IF(G$2<>0,'1. Liga'!$AA$81,0)","v":5},{"$f":"IF(H$2<>0,'1. Liga'!$AA$94,0)","v":6},{"$f":"IF(I$2<>0,'1. Liga'!$AA$107,0)","v":5},{"$f":"IF(J$2<>0,'1. Liga'!$AA$120,0)","v":5},{"$f":"IF(K$2<>0,'1. Liga'!$AA$133,0)","v":5},{"$f":"IF(L$2<>0,'1. Liga'!$AA$146,0)","v":4},{"$f":"IF(M$2<>0,'1. Liga'!$AA$159,0)","v":5},{"$f":"IF(N$2<>0,'1. Liga'!$AA$172,0)","v":4},{"$f":"IF(O$2<>0,'1. Liga'!$AA$185,0)","v":4},{"$f":"IF(P$2<>0,'1. Liga'!$AA$198,0)","v":3},{"$f":"IF(Q$2<>0,'1. Liga'!$AA$211,0)","v":4},{"$f":"IF(R$2<>0,'1. Liga'!$AA$224,0)","v":4},{"$f":"IF(S$2<>0,'1. Liga'!$AA$237,0)","v":4},{"$f":"IF(T$2<>0,'1. Liga'!$AA$250,0)","v":5},{"$f":"IF(U$2<>0,'1. Liga'!$AA$263,0)","v":5},{"$f":"IF(V$2<>0,'1. Liga'!$AA$276,0)","v":5},{"$f":"IF(W$2<>0,'1. Liga'!$AA$289,0)","v":5},{"$f":"IF(X$2<>0,'1. Liga'!$AA$302,0)","v":5},{"$f":"IF(Y$2<>0,'1. Liga'!$AA$315,0)","v":5},{"$f":"IF(Z$2<>0,'1. Liga'!$AA$328,0)","v":5},{"$f":"IF(AA$2<>0,'1. Liga'!$AA$341,0)","v":5},{"$f":"IF(AB$2<>0,'1. Liga'!$AA$354,0)","v":5},{"$f":"IF(AC$2<>0,'1. Liga'!$AA$367,0)","v":4},{"$f":"IF(AD$2<>0,'1. Liga'!$AA$380,0)","v":4},{"$f":"IF(AE$2<>0,'1. Liga'!$AA$393,0)","v":4},{"$f":"IF(AF$2<>0,'1. Liga'!$AA$406,0)","v":4},{"$f":"IF(AG$2<>0,'1. Liga'!$AA$419,0)","v":4},{"$f":"IF(AH$2<>0,'1. Liga'!$AA$432,0)","v":4},{"$f":"IF(AI$2<>0,'1. Liga'!$AA$445,0)","v":4}]
[{"$f":"'1. Liga'!C11","v":"VfL Wolfsburg"},{"$f":"IF(B$2<>0,'1. Liga'!$AB$16,0)","v":4},{"$f":"IF(C$2<>0,'1. Liga'!$AB$29,0)","v":4},{"$f":"IF(D$2<>0,'1. Liga'!$AB$42,0)","v":7},{"$f":"IF(E$2<>0,'1. Liga'!$AB$55,0)","v":6},{"$f":"IF(F$2<>0,'1. Liga'!$AB$68,0)","v":7},{"$f":"IF(G$2<>0,'1. Liga'!$AB$81,0)","v":7},{"$f":"IF(H$2<>0,'1. Liga'!$AB$94,0)","v":7},{"$f":"IF(I$2<>0,'1. Liga'!$AB$107,0)","v":9},{"$f":"IF(J$2<>0,'1. Liga'!$AB$120,0)","v":9},{"$f":"IF(K$2<>0,'1. Liga'!$AB$133,0)","v":9},{"$f":"IF(L$2<>0,'1. Liga'!$AB$146,0)","v":11},{"$f":"IF(M$2<>0,'1. Liga'!$AB$159,0)","v":8},{"$f":"IF(N$2<>0,'1. Liga'!$AB$172,0)","v":11},{"$f":"IF(O$2<>0,'1. Liga'!$AB$185,0)","v":11},{"$f":"IF(P$2<>0,'1. Liga'!$AB$198,0)","v":9},{"$f":"IF(Q$2<>0,'1. Liga'!$AB$211,0)","v":10},{"$f":"IF(R$2<>0,'1. Liga'!$AB$224,0)","v":11},{"$f":"IF(S$2<>0,'1. Liga'!$AB$237,0)","v":11},{"$f":"IF(T$2<>0,'1. Liga'!$AB$250,0)","v":11},{"$f":"IF(U$2<>0,'1. Liga'!$AB$263,0)","v":11},{"$f":"IF(V$2<>0,'1. Liga'!$AB$276,0)","v":12},{"$f":"IF(W$2<>0,'1. Liga'!$AB$289,0)","v":12},{"$f":"IF(X$2<>0,'1. Liga'!$AB$302,0)","v":13},{"$f":"IF(Y$2<>0,'1. Liga'!$AB$315,0)","v":13},{"$f":"IF(Z$2<>0,'1. Liga'!$AB$328,0)","v":13},{"$f":"IF(AA$2<>0,'1. Liga'!$AB$341,0)","v":14},{"$f":"IF(AB$2<>0,'1. Liga'!$AB$354,0)","v":14},{"$f":"IF(AC$2<>0,'1. Liga'!$AB$367,0)","v":14},{"$f":"IF(AD$2<>0,'1. Liga'!$AB$380,0)","v":14},{"$f":"IF(AE$2<>0,'1. Liga'!$AB$393,0)","v":13},{"$f":"IF(AF$2<>0,'1. Liga'!$AB$406,0)","v":12},{"$f":"IF(AG$2<>0,'1. Liga'!$AB$419,0)","v":12},{"$f":"IF(AH$2<>0,'1. Liga'!$AB$432,0)","v":12},{"$f":"IF(AI$2<>0,'1. Liga'!$AB$445,0)","v":12}]
[{"$f":"'1. Liga'!E11","v":"1. FC Heidenheim 1846"},{"$f":"IF(B$2<>0,'1. Liga'!$AC$16,0)","v":15},{"$f":"IF(C$2<>0,'1. Liga'!$AC$29,0)","v":16},{"$f":"IF(D$2<>0,'1. Liga'!$AC$42,0)","v":15},{"$f":"IF(E$2<>0,'1. Liga'!$AC$55,0)","v":11},{"$f":"IF(F$2<>0,'1. Liga'!$AC$68,0)","v":13},{"$f":"IF(G$2<>0,'1. Liga'!$AC$81,0)","v":10},{"$f":"IF(H$2<>0,'1. Liga'!$AC$94,0)","v":10},{"$f":"IF(I$2<>0,'1. Liga'!$AC$107,0)","v":11},{"$f":"IF(J$2<>0,'1. Liga'!$AC$120,0)","v":13},{"$f":"IF(K$2<>0,'1. Liga'!$AC$133,0)","v":13},{"$f":"IF(L$2<>0,'1. Liga'!$AC$146,0)","v":13},{"$f":"IF(M$2<>0,'1. Liga'!$AC$159,0)","v":13},{"$f":"IF(N$2<>0,'1. Liga'!$AC$172,0)","v":14},{"$f":"IF(O$2<>0,'1. Liga'!$AC$185,0)","v":13},{"$f":"IF(P$2<>0,'1. Liga'!$AC$198,0)","v":12},{"$f":"IF(Q$2<>0,'1. Liga'!$AC$211,0)","v":9},{"$f":"IF(R$2<>0,'1. Liga'!$AC$224,0)","v":9},{"$f":"IF(S$2<>0,'1. Liga'!$AC$237,0)","v":9},{"$f":"IF(T$2<>0,'1. Liga'!$AC$250,0)","v":10},{"$f":"IF(U$2<>0,'1. Liga'!$AC$263,0)","v":10},{"$f":"IF(V$2<>0,'1. Liga'!$AC$276,0)","v":9},{"$f":"IF(W$2<>0,'1. Liga'!$AC$289,0)","v":10},{"$f":"IF(X$2<>0,'1. Liga'!$AC$302,0)","v":10},{"$f":"IF(Y$2<>0,'1. Liga'!$AC$315,0)","v":11},{"$f":"IF(Z$2<>0,'1. Liga'!$AC$328,0)","v":11},{"$f":"IF(AA$2<>0,'1. Liga'!$AC$341,0)","v":11},{"$f":"IF(AB$2<>0,'1. Liga'!$AC$354,0)","v":11},{"$f":"IF(AC$2<>0,'1. Liga'!$AC$367,0)","v":10},{"$f":"IF(AD$2<>0,'1. Liga'!$AC$380,0)","v":10},{"$f":"IF(AE$2<>0,'1. Liga'!$AC$393,0)","v":10},{"$f":"IF(AF$2<>0,'1. Liga'!$AC$406,0)","v":10},{"$f":"IF(AG$2<>0,'1. Liga'!$AC$419,0)","v":10},{"$f":"IF(AH$2<>0,'1. Liga'!$AC$432,0)","v":9},{"$f":"IF(AI$2<>0,'1. Liga'!$AC$445,0)","v":8}]
[{"$f":"'1. Liga'!C12","v":"1. FC Union Berlin"},{"$f":"IF(B$2<>0,'1. Liga'!$AD$16,0)","v":3},{"$f":"IF(C$2<>0,'1. Liga'!$AD$29,0)","v":1},{"$f":"IF(D$2<>0,'1. Liga'!$AD$42,0)","v":5},{"$f":"IF(E$2<>0,'1. Liga'!$AD$55,0)","v":8},{"$f":"IF(F$2<>0,'1. Liga'!$AD$68,0)","v":10},{"$f":"IF(G$2<>0,'1. Liga'!$AD$81,0)","v":11},{"$f":"IF(H$2<>0,'1. Liga'!$AD$94,0)","v":13},{"$f":"IF(I$2<>0,'1. Liga'!$AD$107,0)","v":15},{"$f":"IF(J$2<>0,'1. Liga'!$AD$120,0)","v":15},{"$f":"IF(K$2<>0,'1. Liga'!$AD$133,0)","v":16},{"$f":"IF(L$2<>0,'1. Liga'!$AD$146,0)","v":18},{"$f":"IF(M$2<>0,'1. Liga'!$AD$159,0)","v":17},{"$f":"IF(N$2<>0,'1. Liga'!$AD$172,0)","v":18},{"$f":"IF(O$2<>0,'1. Liga'!$AD$185,0)","v":15},{"$f":"IF(P$2<>0,'1. Liga'!$AD$198,0)","v":16},{"$f":"IF(Q$2<>0,'1. Liga'!$AD$211,0)","v":15},{"$f":"IF(R$2<>0,'1. Liga'!$AD$224,0)","v":15},{"$f":"IF(S$2<>0,'1. Liga'!$AD$237,0)","v":15},{"$f":"IF(T$2<>0,'1. Liga'!$AD$250,0)","v":15},{"$f":"IF(U$2<>0,'1. Liga'!$AD$263,0)","v":15},{"$f":"IF(V$2<>0,'1. Liga'!$AD$276,0)","v":15},{"$f":"IF(W$2<>0,'1. Liga'!$AD$289,0)","v":13},{"$f":"IF(X$2<>0,'1. Liga'!$AD$302,0)","v":14},{"$f":"IF(Y$2<>0,'1. Liga'!$AD$315,0)","v":14},{"$f":"IF(Z$2<>0,'1. Liga'!$AD$328,0)","v":14},{"$f":"IF(AA$2<>0,'1. Liga'!$AD$341,0)","v":13},{"$f":"IF(AB$2<>0,'1. Liga'!$AD$354,0)","v":12},{"$f":"IF(AC$2<>0,'1. Liga'!$AD$367,0)","v":13},{"$f":"IF(AD$2<>0,'1. Liga'!$AD$380,0)","v":13},{"$f":"IF(AE$2<>0,'1. Liga'!$AD$393,0)","v":14},{"$f":"IF(AF$2<>0,'1. Liga'!$AD$406,0)","v":14},{"$f":"IF(AG$2<>0,'1. Liga'!$AD$419,0)","v":15},{"$f":"IF(AH$2<>0,'1. Liga'!$AD$432,0)","v":16},{"$f":"IF(AI$2<>0,'1. Liga'!$AD$445,0)","v":15}]
[{"$f":"'1. Liga'!E12","v":"1. FSV Mainz 05"},{"$f":"IF(B$2<>0,'1. Liga'!$AE$16,0)","v":16},{"$f":"IF(C$2<>0,'1. Liga'!$AE$29,0)","v":13},{"$f":"IF(D$2<>0,'1. Liga'!$AE$42,0)","v":17},{"$f":"IF(E$2<>0,'1. Liga'!$AE$55,0)","v":18},{"$f":"IF(F$2<>0,'1. Liga'!$AE$68,0)","v":18},{"$f":"IF(G$2<>0,'1. Liga'!$AE$81,0)","v":18},{"$f":"IF(H$2<>0,'1. Liga'!$AE$94,0)","v":17},{"$f":"IF(I$2<>0,'1. Liga'!$AE$107,0)","v":18},{"$f":"IF(J$2<>0,'1. Liga'!$AE$120,0)","v":18},{"$f":"IF(K$2<>0,'1. Liga'!$AE$133,0)","v":17},{"$f":"IF(L$2<>0,'1. Liga'!$AE$146,0)","v":16},{"$f":"IF(M$2<>0,'1. Liga'!$AE$159,0)","v":16},{"$f":"IF(N$2<>0,'1. Liga'!$AE$172,0)","v":17},{"$f":"IF(O$2<>0,'1. Liga'!$AE$185,0)","v":17},{"$f":"IF(P$2<>0,'1. Liga'!$AE$198,0)","v":17},{"$f":"IF(Q$2<>0,'1. Liga'!$AE$211,0)","v":16},{"$f":"IF(R$2<>0,'1. Liga'!$AE$224,0)","v":16},{"$f":"IF(S$2<>0,'1. Liga'!$AE$237,0)","v":16},{"$f":"IF(T$2<>0,'1. Liga'!$AE$250,0)","v":16},{"$f":"IF(U$2<>0,'1. Liga'!$AE$263,0)","v":17},{"$f":"IF(V$2<>0,'1. Liga'!$AE$276,0)","v":17},{"$f":"IF(W$2<>0,'1. Liga'!$AE$289,0)","v":17},{"$f":"IF(X$2<>0,'1. Liga'!$AE$302,0)","v":17},{"$f":"IF(Y$2<>0,'1. Liga'!$AE$315,0)","v":17},{"$f":"IF(Z$2<>0,'1. Liga'!$AE$328,0)","v":17},{"$f":"IF(AA$2<>0,'1. Liga'!$AE$341,0)","v":16},{"$f":"IF(AB$2<>0,'1. Liga'!$AE$354,0)","v":16},{"$f":"IF(AC$2<>0,'1. Liga'!$AE$367,0)","v":16},{"$f":"IF(AD$2<>0,'1. Liga'!$AE$380,0)","v":16},{"$f":"IF(AE$2<>0,'1. Liga'!$AE$393,0)","v":15},{"$f":"IF(AF$2<>0,'1. Liga'!$AE$406,0)","v":16},{"$f":"IF(AG$2<>0,'1. Liga'!$AE$419,0)","v":16},{"$f":"IF(AH$2<>0,'1. Liga'!$AE$432,0)","v":15},{"$f":"IF(AI$2<>0,'1. Liga'!$AE$445,0)","v":13}]
[{"$f":"'1. Liga'!C13","v":"FC Augsburg"},{"$f":"IF(B$2<>0,'1. Liga'!$AF$16,0)","v":9},{"$f":"IF(C$2<>0,'1. Liga'!$AF$29,0)","v":11},{"$f":"IF(D$2<>0,'1. Liga'!$AF$42,0)","v":12},{"$f":"IF(E$2<>0,'1. Liga'!$AF$55,0)","v":15},{"$f":"IF(F$2<>0,'1. Liga'!$AF$68,0)","v":12},{"$f":"IF(G$2<>0,'1. Liga'!$AF$81,0)","v":14},{"$f":"IF(H$2<>0,'1. Liga'!$AF$94,0)","v":15},{"$f":"IF(I$2<>0,'1. Liga'!$AF$107,0)","v":10},{"$f":"IF(J$2<>0,'1. Liga'!$AF$120,0)","v":10},{"$f":"IF(K$2<>0,'1. Liga'!$AF$133,0)","v":10},{"$f":"IF(L$2<>0,'1. Liga'!$AF$146,0)","v":10},{"$f":"IF(M$2<>0,'1. Liga'!$AF$159,0)","v":10},{"$f":"IF(N$2<>0,'1. Liga'!$AF$172,0)","v":9},{"$f":"IF(O$2<>0,'1. Liga'!$AF$185,0)","v":9},{"$f":"IF(P$2<>0,'1. Liga'!$AF$198,0)","v":10},{"$f":"IF(Q$2<>0,'1. Liga'!$AF$211,0)","v":11},{"$f":"IF(R$2<>0,'1. Liga'!$AF$224,0)","v":12},{"$f":"IF(S$2<>0,'1. Liga'!$AF$237,0)","v":10},{"$f":"IF(T$2<>0,'1. Liga'!$AF$250,0)","v":13},{"$f":"IF(U$2<>0,'1. Liga'!$AF$263,0)","v":12},{"$f":"IF(V$2<>0,'1. Liga'!$AF$276,0)","v":11},{"$f":"IF(W$2<>0,'1. Liga'!$AF$289,0)","v":14},{"$f":"IF(X$2<>0,'1. Liga'!$AF$302,0)","v":11},{"$f":"IF(Y$2<>0,'1. Liga'!$AF$315,0)","v":10},{"$f":"IF(Z$2<>0,'1. Liga'!$AF$328,0)","v":9},{"$f":"IF(AA$2<>0,'1. Liga'!$AF$341,0)","v":7},{"$f":"IF(AB$2<>0,'1. Liga'!$AF$354,0)","v":7},{"$f":"IF(AC$2<>0,'1. Liga'!$AF$367,0)","v":7},{"$f":"IF(AD$2<>0,'1. Liga'!$AF$380,0)","v":7},{"$f":"IF(AE$2<>0,'1. Liga'!$AF$393,0)","v":8},{"$f":"IF(AF$2<>0,'1. Liga'!$AF$406,0)","v":8},{"$f":"IF(AG$2<>0,'1. Liga'!$AF$419,0)","v":9},{"$f":"IF(AH$2<>0,'1. Liga'!$AF$432,0)","v":10},{"$f":"IF(AI$2<>0,'1. Liga'!$AF$445,0)","v":11}]
[{"$f":"'1. Liga'!E13","v":"Borussia Mönchengladbach"},{"$f":"IF(B$2<>0,'1. Liga'!$AG$16,0)","v":9},{"$f":"IF(C$2<>0,'1. Liga'!$AG$29,0)","v":12},{"$f":"IF(D$2<>0,'1. Liga'!$AG$42,0)","v":16},{"$f":"IF(E$2<>0,'1. Liga'!$AG$55,0)","v":14},{"$f":"IF(F$2<>0,'1. Liga'!$AG$68,0)","v":15},{"$f":"IF(G$2<>0,'1. Liga'!$AG$81,0)","v":13},{"$f":"IF(H$2<>0,'1. Liga'!$AG$94,0)","v":12},{"$f":"IF(I$2<>0,'1. Liga'!$AG$107,0)","v":13},{"$f":"IF(J$2<>0,'1. Liga'!$AG$120,0)","v":11},{"$f":"IF(K$2<>0,'1. Liga'!$AG$133,0)","v":11},{"$f":"IF(L$2<>0,'1. Liga'!$AG$146,0)","v":9},{"$f":"IF(M$2<>0,'1. Liga'!$AG$159,0)","v":11},{"$f":"IF(N$2<>0,'1. Liga'!$AG$172,0)","v":10},{"$f":"IF(O$2<>0,'1. Liga'!$AG$185,0)","v":10},{"$f":"IF(P$2<>0,'1. Liga'!$AG$198,0)","v":11},{"$f":"IF(Q$2<>0,'1. Liga'!$AG$211,0)","v":12},{"$f":"IF(R$2<>0,'1. Liga'!$AG$224,0)","v":10},{"$f":"IF(S$2<>0,'1. Liga'!$AG$237,0)","v":12},{"$f":"IF(T$2<>0,'1. Liga'!$AG$250,0)","v":12},{"$f":"IF(U$2<>0,'1. Liga'!$AG$263,0)","v":13},{"$f":"IF(V$2<>0,'1. Liga'!$AG$276,0)","v":13},{"$f":"IF(W$2<>0,'1. Liga'!$AG$289,0)","v":15},{"$f":"IF(X$2<>0,'1. Liga'!$AG$302,0)","v":12},{"$f":"IF(Y$2<>0,'1. Liga'!$AG$315,0)","v":12},{"$f":"IF(Z$2<>0,'1. Liga'!$AG$328,0)","v":12},{"$f":"IF(AA$2<>0,'1. Liga'!$AG$341,0)","v":12},{"$f":"IF(AB$2<>0,'1. Liga'!$AG$354,0)","v":13},{"$f":"IF(AC$2<>0,'1. Liga'!$AG$367,0)","v":11},{"$f":"IF(AD$2<>0,'1. Liga'!$AG$380,0)","v":11},{"$f":"IF(AE$2<>0,'1. Liga'!$AG$393,0)","v":12},{"$f":"IF(AF$2<>0,'1. Liga'!$AG$406,0)","v":13},{"$f":"IF(AG$2<>0,'1. Liga'!$AG$419,0)","v":13},{"$f":"IF(AH$2<>0,'1. Liga'!$AG$432,0)","v":13},{"$f":"IF(AI$2<>0,'1. Liga'!$AG$445,0)","v":14}]
[{"$f":"'1. Liga'!C14","v":"TSG Hoffenheim"},{"$f":"IF(B$2<>0,'1. Liga'!$AH$16,0)","v":12},{"$f":"IF(C$2<>0,'1. Liga'!$AH$29,0)","v":10},{"$f":"IF(D$2<>0,'1. Liga'!$AH$42,0)","v":6},{"$f":"IF(E$2<>0,'1. Liga'!$AH$55,0)","v":5},{"$f":"IF(F$2<>0,'1. Liga'!$AH$68,0)","v":5},{"$f":"IF(G$2<>0,'1. Liga'!$AH$81,0)","v":6},{"$f":"IF(H$2<>0,'1. Liga'!$AH$94,0)","v":5},{"$f":"IF(I$2<>0,'1. Liga'!$AH$107,0)","v":6},{"$f":"IF(J$2<>0,'1. Liga'!$AH$120,0)","v":6},{"$f":"IF(K$2<>0,'1. Liga'!$AH$133,0)","v":6},{"$f":"IF(L$2<>0,'1. Liga'!$AH$146,0)","v":6},{"$f":"IF(M$2<>0,'1. Liga'!$AH$159,0)","v":6},{"$f":"IF(N$2<>0,'1. Liga'!$AH$172,0)","v":6},{"$f":"IF(O$2<>0,'1. Liga'!$AH$185,0)","v":6},{"$f":"IF(P$2<>0,'1. Liga'!$AH$198,0)","v":7},{"$f":"IF(Q$2<>0,'1. Liga'!$AH$211,0)","v":7},{"$f":"IF(R$2<>0,'1. Liga'!$AH$224,0)","v":8},{"$f":"IF(S$2<>0,'1. Liga'!$AH$237,0)","v":8},{"$f":"IF(T$2<>0,'1. Liga'!$AH$250,0)","v":8},{"$f":"IF(U$2<>0,'1. Liga'!$AH$263,0)","v":8},{"$f":"IF(V$2<>0,'1. Liga'!$AH$276,0)","v":8},{"$f":"IF(W$2<>0,'1. Liga'!$AH$289,0)","v":9},{"$f":"IF(X$2<>0,'1. Liga'!$AH$302,0)","v":7},{"$f":"IF(Y$2<>0,'1. Liga'!$AH$315,0)","v":7},{"$f":"IF(Z$2<>0,'1. Liga'!$AH$328,0)","v":7},{"$f":"IF(AA$2<>0,'1. Liga'!$AH$341,0)","v":8},{"$f":"IF(AB$2<>0,'1. Liga'!$AH$354,0)","v":9},{"$f":"IF(AC$2<>0,'1. Liga'!$AH$367,0)","v":8},{"$f":"IF(AD$2<>0,'1. Liga'!$AH$380,0)","v":9},{"$f":"IF(AE$2<>0,'1. Liga'!$AH$393,0)","v":9},{"$f":"IF(AF$2<>0,'1. Liga'!$AH$406,0)","v":9},{"$f":"IF(AG$2<>0,'1. Liga'!$AH$419,0)","v":8},{"$f":"IF(AH$2<>0,'1. Liga'!$AH$432,0)","v":7},{"$f":"IF(AI$2<>0,'1. Liga'!$AH$445,0)","v":7}]
[{"$f":"'1. Liga'!E14","v":"Sport-Club Freiburg"},{"$f":"IF(B$2<>0,'1. Liga'!$AI$16,0)","v":6},{"$f":"IF(C$2<>0,'1. Liga'!$AI$29,0)","v":5},{"$f":"IF(D$2<>0,'1. Liga'!$AI$42,0)","v":8},{"$f":"IF(E$2<>0,'1. Liga'!$AI$55,0)","v":10},{"$f":"IF(F$2<>0,'1. Liga'!$AI$68,0)","v":9},{"$f":"IF(G$2<>0,'1. Liga'!$AI$81,0)","v":8},{"$f":"IF(H$2<>0,'1. Liga'!$AI$94,0)","v":9},{"$f":"IF(I$2<>0,'1. Liga'!$AI$107,0)","v":8},{"$f":"IF(J$2<>0,'1. Liga'!$AI$120,0)","v":8},{"$f":"IF(K$2<>0,'1. Liga'!$AI$133,0)","v":8},{"$f":"IF(L$2<>0,'1. Liga'!$AI$146,0)","v":8},{"$f":"IF(M$2<>0,'1. Liga'!$AI$159,0)","v":9},{"$f":"IF(N$2<>0,'1. Liga'!$AI$172,0)","v":8},{"$f":"IF(O$2<>0,'1. Liga'!$AI$185,0)","v":8},{"$f":"IF(P$2<>0,'1. Liga'!$AI$198,0)","v":6},{"$f":"IF(Q$2<>0,'1. Liga'!$AI$211,0)","v":8},{"$f":"IF(R$2<>0,'1. Liga'!$AI$224,0)","v":7},{"$f":"IF(S$2<>0,'1. Liga'!$AI$237,0)","v":7},{"$f":"IF(T$2<>0,'1. Liga'!$AI$250,0)","v":7},{"$f":"IF(U$2<>0,'1. Liga'!$AI$263,0)","v":7},{"$f":"IF(V$2<>0,'1. Liga'!$AI$276,0)","v":7},{"$f":"IF(W$2<>0,'1. Liga'!$AI$289,0)","v":8},{"$f":"IF(X$2<>0,'1. Liga'!$AI$302,0)","v":9},{"$f":"IF(Y$2<>0,'1. Liga'!$AI$315,0)","v":9},{"$f":"IF(Z$2<>0,'1. Liga'!$AI$328,0)","v":8},{"$f":"IF(AA$2<>0,'1. Liga'!$AI$341,0)","v":9},{"$f":"IF(AB$2<>0,'1. Liga'!$AI$354,0)","v":8},{"$f":"IF(AC$2<>0,'1. Liga'!$AI$367,0)","v":9},{"$f":"IF(AD$2<>0,'1. Liga'!$AI$380,0)","v":8},{"$f":"IF(AE$2<>0,'1. Liga'!$AI$393,0)","v":7},{"$f":"IF(AF$2<>0,'1. Liga'!$AI$406,0)","v":7},{"$f":"IF(AG$2<>0,'1. Liga'!$AI$419,0)","v":7},{"$f":"IF(AH$2<>0,'1. Liga'!$AI$432,0)","v":8},{"$f":"IF(AI$2<>0,'1. Liga'!$AI$445,0)","v":10}]
[null,20,20,20,20,20,20,20,20,20,20,20,20,20,20,20,20,20,20,20,20,20,20,20,20,20,20,20,20,20,20,20,20,20,20]
[{"$f":"IF($B$1<17,IF($B$1<9,IF($B$1<5,IF($B$1<3,IF($B$1=1,A4,A5),IF($B$1=3,A6,A7)),IF($B$1<7,IF($B$1=5,A8,A9),IF($B$1=7,A10,A11))),IF($B$1<13,IF($B$1<11,IF($B$1=9,A12,A13),IF($B$1=11,A14,A15)),IF($B$1<15,IF($B$1=13,A16,A17),IF($B$1=15,A18,A19)))),IF($B$1<25,IF($B$1<21,IF($B$1<19,IF($B$1=17,A20,A21),IF($B$1=19,A22,A23)),IF($B$1<23,IF($B$1=21,A24,A25),IF($B$1=23,A26,A27))),IF($B$1<29,IF($B$1<27,IF($B$1=25,A28,A29),IF($B$1=27,A30,A31)),IF($B$1<31,IF($B$1=29,A32,A33),IF($B$1=31,A34,A35)))))","v":"SV Werder Bremen"},{"$f":"IF($B$1<17,IF($B$1<9,IF($B$1<5,IF($B$1<3,IF($B$1=1,B4,B5),IF($B$1=3,B6,B7)),IF($B$1<7,IF($B$1=5,B8,B9),IF($B$1=7,B10,B11))),IF($B$1<13,IF($B$1<11,IF($B$1=9,B12,B13),IF($B$1=11,B14,B15)),IF($B$1<15,IF($B$1=13,B16,B17),IF($B$1=15,B18,B19)))),IF($B$1<25,IF($B$1<21,IF($B$1<19,IF($B$1=17,B10,B21),IF($B$1=19,B22,B23)),IF($B$1<23,IF($B$1=21,B24,B25),IF($B$1=23,B26,B27))),IF($B$1<29,IF($B$1<27,IF($B$1=25,B28,B29),IF($B$1=27,B30,B31)),IF($B$1<31,IF($B$1=29,B32,B33),IF($B$1=31,B34,B35)))))","v":17},18,11,12,11,12,14,14,12,12,12,12,13,12,14,13,13,13,9,9,10,7,8,8,10,10,10,12,12,11,11,11,11,9]
[{"$f":"IF($C$1<17,IF($C$1<9,IF($C$1<5,IF($C$1<3,IF($C$1=1,A4,A5),IF($C$1=3,A6,A7)),IF($C$1<7,IF($C$1=5,A8,A9),IF($C$1=7,A10,A11))),IF($C$1<13,IF($C$1<11,IF($C$1=9,A12,A13),IF($C$1=11,A14,A15)),IF($C$1<15,IF($C$1=13,A16,A17),IF($C$1=15,A18,A19)))),IF($C$1<25,IF($C$1<21,IF($C$1<19,IF($C$1=17,A20,A21),IF($C$1=19,A22,A23)),IF($C$1<23,IF($C$1=21,A24,A25),IF($C$1=23,A26,A27))),IF($C$1<29,IF($C$1<27,IF($C$1=25,A28,A29),IF($C$1=27,A30,A31)),IF($C$1<31,IF($C$1=29,A32,A33),IF($C$1=31,A34,A35)))))","v":"Bayer 04 Leverkusen"},{"$f":"IF($C$1<17,IF($C$1<9,IF($C$1<5,IF($C$1<3,IF($C$1=1,B4,B5),IF($C$1=3,B6,B7)),IF($C$1<7,IF($C$1=5,B8,B9),IF($C$1=7,B10,B11))),IF($C$1<13,IF($C$1<11,IF($C$1=9,B12,B13),IF($C$1=11,B14,B15)),IF($C$1<15,IF($C$1=13,B16,B17),IF($C$1=15,B18,B19)))),IF($C$1<25,IF($C$1<21,IF($C$1<19,IF($C$1=17,B10,B21),IF($C$1=19,B22,B23)),IF($C$1<23,IF($C$1=21,B24,B25),IF($C$1=23,B26,B27))),IF($C$1<29,IF($C$1<27,IF($C$1=25,B28,B29),IF($C$1=27,B30,B31)),IF($C$1<31,IF($C$1=29,B32,B33),IF($C$1=31,B34,B35)))))","v":5},3,1,1,2,1,1,1,1,1,1,1,2,1,1,1,1,1,1,1,1,1,1,1,1,1,1,1,1,1,1,1,1,1]
[{"$f":"IF($D$1<17,IF($D$1<9,IF($D$1<5,IF($D$1<3,IF($D$1=1,A4,A5),IF($D$1=3,A6,A7)),IF($D$1<7,IF($D$1=5,A8,A9),IF($D$1=7,A10,A11))),IF($D$1<13,IF($D$1<11,IF($D$1=9,A12,A13),IF($D$1=11,A14,A15)),IF($D$1<15,IF($D$1=13,A16,A17),IF($D$1=15,A18,A19)))),IF($D$1<25,IF($D$1<21,IF($D$1<19,IF($D$1=17,A20,A21),IF($D$1=19,A22,A23)),IF($D$1<23,IF($D$1=21,A24,A25),IF($D$1=23,A26,A27))),IF($D$1<29,IF($D$1<27,IF($D$1=25,A28,A29),IF($D$1=27,A30,A31)),IF($D$1<31,IF($D$1=29,A32,A33),IF($D$1=31,A34,A35)))))","v":"FC Bayern München"},{"$f":"IF($D$1<17,IF($D$1<9,IF($D$1<5,IF($D$1<3,IF($D$1=1,B4,B5),IF($D$1=3,B6,B7)),IF($D$1<7,IF($D$1=5,B8,B9),IF($D$1=7,B10,B11))),IF($D$1<13,IF($D$1<11,IF($D$1=9,B12,B13),IF($D$1=11,B14,B15)),IF($D$1<15,IF($D$1=13,B16,B17),IF($D$1=15,B18,B19)))),IF($D$1<25,IF($D$1<21,IF($D$1<19,IF($D$1=17,B10,B21),IF($D$1=19,B22,B23)),IF($D$1<23,IF($D$1=21,B24,B25),IF($D$1=23,B26,B27))),IF($D$1<29,IF($D$1<27,IF($D$1=25,B28,B29),IF($D$1=27,B30,B31)),IF($D$1<31,IF($D$1=29,B32,B33),IF($D$1=31,B34,B35)))))","v":2},2,2,2,1,3,3,3,2,2,2,2,1,2,2,2,2,2,2,2,2,2,2,2,2,2,2,2,2,2,2,2,2,3]
[{"$f":"IF($E$1<17,IF($E$1<9,IF($E$1<5,IF($E$1<3,IF($E$1=1,A4,A5),IF($E$1=3,A6,A7)),IF($E$1<7,IF($E$1=5,A8,A9),IF($E$1=7,A10,A11))),IF($E$1<13,IF($E$1<11,IF($E$1=9,A12,A13),IF($E$1=11,A14,A15)),IF($E$1<15,IF($E$1=13,A16,A17),IF($E$1=15,A18,A19)))),IF($E$1<25,IF($E$1<21,IF($E$1<19,IF($E$1=17,A20,A21),IF($E$1=19,A22,A23)),IF($E$1<23,IF($E$1=21,A24,A25),IF($E$1=23,A26,A27))),IF($E$1<29,IF($E$1<27,IF($E$1=25,A28,A29),IF($E$1=27,A30,A31)),IF($E$1<31,IF($E$1=29,A32,A33),IF($E$1=31,A34,A35)))))","v":"SV Darmstadt 98"},{"$f":"IF($E$1<17,IF($E$1<9,IF($E$1<5,IF($E$1<3,IF($E$1=1,B4,B5),IF($E$1=3,B6,B7)),IF($E$1<7,IF($E$1=5,B8,B9),IF($E$1=7,B10,B11))),IF($E$1<13,IF($E$1<11,IF($E$1=9,B12,B13),IF($E$1=11,B14,B15)),IF($E$1<15,IF($E$1=13,B16,B17),IF($E$1=15,B18,B19)))),IF($E$1<25,IF($E$1<21,IF($E$1<19,IF($E$1=17,B10,B21),IF($E$1=19,B22,B23)),IF($E$1<23,IF($E$1=21,B24,B25),IF($E$1=23,B26,B27))),IF($E$1<29,IF($E$1<27,IF($E$1=25,B28,B29),IF($E$1=27,B30,B31)),IF($E$1<31,IF($E$1=29,B32,B33),IF($E$1=31,B34,B35)))))","v":13},17,18,17,17,15,11,12,14,15,15,15,16,18,18,18,18,18,18,18,18,18,18,18,18,18,18,18,18,18,18,18,18,18]
[]
[]
["Bundesliga-Tipp 20221/2023"]

{"sheet":"zur Grafik Teilnehmer","index":11,"n_rows":38,"n_cols":4,"rows_kept":38,"cut":false,"hidden":false,"merged":[]}
[]
[null,null,null,{"$f":"'1. Liga'!Q1","v":34}]
[]
[{"$f":"Teilnehmertabelle!A4","v":"Andreas Wähling (11-22-7-2-14-23-20-9-34-3-15)"},{"$f":"Teilnehmertabelle!D4","v":1},{"$f":"-Teilnehmertabelle!E4","v":130},{"$f":"Teilnehmertabelle!AR4","v":1}]
[{"$f":"Teilnehmertabelle!A5","v":"Ellen Flöttmann (10-2-6-9-5-19-7-19-23-10-7)"},{"$f":"Teilnehmertabelle!D5","v":2},{"$f":"-Teilnehmertabelle!E5","v":137},{"$f":"Teilnehmertabelle!AR5","v":-1}]
[{"$f":"Teilnehmertabelle!A6","v":"Hedwig Berning (19-5-24-10-21-12-8-15-24-12-33)"},{"$f":"Teilnehmertabelle!D6","v":3},{"$f":"-Teilnehmertabelle!E6","v":179},{"$f":"Teilnehmertabelle!AR6","v":7}]
[{"$f":"Teilnehmertabelle!A7","v":"Dejn Dakovic (X-X-8-X-27-18-28-X-26-26-19)"},{"$f":"Teilnehmertabelle!D7","v":4},{"$f":"-Teilnehmertabelle!E7","v":183},{"$f":"Teilnehmertabelle!AR7","v":-1}]
[{"$f":"Teilnehmertabelle!A8","v":"Heinrich Gralla (12-4-9-3-2-25-4-10-12-2-19)"},{"$f":"Teilnehmertabelle!D8","v":5},{"$f":"-Teilnehmertabelle!E8","v":188},{"$f":"Teilnehmertabelle!AR8","v":1}]
[{"$f":"Teilnehmertabelle!A9","v":"Gregor Tischel (6-18-12-7-1-1-13-5-14-17-19)"},{"$f":"Teilnehmertabelle!D9","v":6},{"$f":"-Teilnehmertabelle!E9","v":189},{"$f":"Teilnehmertabelle!AR9","v":3}]
[{"$f":"Teilnehmertabelle!A10","v":"Rainer Borgmann (24-9-23-12-28-2-9-18-3-20-25)"},{"$f":"Teilnehmertabelle!D10","v":7},{"$f":"-Teilnehmertabelle!E10","v":190},{"$f":"Teilnehmertabelle!AR10","v":1}]
[{"$f":"Teilnehmertabelle!A11","v":"Bodo Blume (13-14-14-8-24-3-1-1-32-16-29)"},{"$f":"Teilnehmertabelle!D11","v":8},{"$f":"-Teilnehmertabelle!E11","v":196},{"$f":"Teilnehmertabelle!AR11","v":-2}]
[{"$f":"Teilnehmertabelle!A12","v":"Marcus Tischel (17-3-16-4-3-28-24-13-21-14-26)"},{"$f":"Teilnehmertabelle!D12","v":9},{"$f":"-Teilnehmertabelle!E12","v":211},{"$f":"Teilnehmertabelle!AR12","v":2}]
[{"$f":"Teilnehmertabelle!A13","v":"Silvia Röder (2-X-X-X-X-X-X-X-X-X-X)"},{"$f":"Teilnehmertabelle!D13","v":10},{"$f":"-Teilnehmertabelle!E13","v":212},{"$f":"Teilnehmertabelle!AR13","v":-6}]
[{"$f":"Teilnehmertabelle!A14","v":"Heinz Ballach (6-10-10-6-23-11-17-4-7-6-3)"},{"$f":"Teilnehmertabelle!D14","v":10},{"$f":"-Teilnehmertabelle!E14","v":212},{"$f":"Teilnehmertabelle!AR14","v":-6}]
[{"$f":"Teilnehmertabelle!A15","v":"Eileen Klein (23-8-13-5-4-9-6-20-9-4-8)"},{"$f":"Teilnehmertabelle!D15","v":12},{"$f":"-Teilnehmertabelle!E15","v":216},{"$f":"Teilnehmertabelle!AR15","v":0}]
[{"$f":"Teilnehmertabelle!A16","v":"Bernhard Wähling (5-6-4-20-15-22-22-28-33-21-10)"},{"$f":"Teilnehmertabelle!D16","v":13},{"$f":"-Teilnehmertabelle!E16","v":225},{"$f":"Teilnehmertabelle!AR16","v":0}]
[{"$f":"Teilnehmertabelle!A17","v":"Siegbert Ruwwe (20-23-22-24-22-21-14-23-13-34-X)"},{"$f":"Teilnehmertabelle!D17","v":14},{"$f":"-Teilnehmertabelle!E17","v":226},{"$f":"Teilnehmertabelle!AR17","v":1}]
[{"$f":"Teilnehmertabelle!A18","v":"Patrick Schmidt (18-14-20-1-16-8-15-7-28-28-11)"},{"$f":"Teilnehmertabelle!D18","v":15},{"$f":"-Teilnehmertabelle!E18","v":227},{"$f":"Teilnehmertabelle!AR18","v":2}]
[{"$f":"Teilnehmertabelle!A19","v":"Frank Mader (9-12-3-21-20-10-3-27-19-19-1)"},{"$f":"Teilnehmertabelle!D19","v":16},{"$f":"-Teilnehmertabelle!E19","v":229},{"$f":"Teilnehmertabelle!AR19","v":-2}]
[{"$f":"Teilnehmertabelle!A20","v":"Dietmar Gallach (25-10-21-17-6-27-9-11-6-15-4)"},{"$f":"Teilnehmertabelle!D20","v":17},{"$f":"-Teilnehmertabelle!E20","v":234},{"$f":"Teilnehmertabelle!AR20","v":1}]
[{"$f":"Teilnehmertabelle!A21","v":"Hermann Bergfried (16-24-18-18-12-6-27-2-X-X-X)"},{"$f":"Teilnehmertabelle!D21","v":18},{"$f":"-Teilnehmertabelle!E21","v":236},{"$f":"Teilnehmertabelle!AR21","v":1}]
[{"$f":"Teilnehmertabelle!A22","v":"Egon Lümkemann (15-7-11-16-8-16-2-23-2-12-17)"},{"$f":"Teilnehmertabelle!D22","v":19},{"$f":"-Teilnehmertabelle!E22","v":239},{"$f":"Teilnehmertabelle!AR22","v":-3}]
[{"$f":"Teilnehmertabelle!A23","v":"Wilfried Franke (22-20-5-15-19-7-9-11-11-5-31)"},{"$f":"Teilnehmertabelle!D23","v":20},{"$f":"-Teilnehmertabelle!E23","v":243},{"$f":"Teilnehmertabelle!AR23","v":0}]
[{"$f":"Teilnehmertabelle!A24","v":"Stefan Burger (14-17-15-22-25-29-31-29-15-29-2)"},{"$f":"Teilnehmertabelle!D24","v":21},{"$f":"-Teilnehmertabelle!E24","v":275},{"$f":"Teilnehmertabelle!AR24","v":2}]
[{"$f":"Teilnehmertabelle!A25","v":"Anita Meesker (3-19-2-23-9-14-X-X-X-X-X)"},{"$f":"Teilnehmertabelle!D25","v":22},{"$f":"-Teilnehmertabelle!E25","v":280},{"$f":"Teilnehmertabelle!AR25","v":2}]
[{"$f":"Teilnehmertabelle!A26","v":"Sabine Gallach (4-14-17-14-10-23-12-17-19-31-13)"},{"$f":"Teilnehmertabelle!D26","v":23},{"$f":"-Teilnehmertabelle!E26","v":282},{"$f":"Teilnehmertabelle!AR26","v":-1}]
[{"$f":"Teilnehmertabelle!A27","v":"Neo Steinfurth (8-X-X-X-X-X-X-X-X-X-X)"},{"$f":"Teilnehmertabelle!D27","v":24},{"$f":"-Teilnehmertabelle!E27","v":284},{"$f":"Teilnehmertabelle!AR27","v":-3}]
[{"$f":"Teilnehmertabelle!A28","v":"Christian Bergfried (1-21-1-12-17-13-18-13-X-9-X)"},{"$f":"Teilnehmertabelle!D28","v":25},{"$f":"-Teilnehmertabelle!E28","v":303},{"$f":"Teilnehmertabelle!AR28","v":{"$error":"#REF!"}}]
[{"$f":"Teilnehmertabelle!A29","v":0},{"$f":"Teilnehmertabelle!D29","v":1},{"$f":"-Teilnehmertabelle!E29","v":0},{"$f":"Teilnehmertabelle!AR29","v":{"$error":"#REF!"}}]
[{"$f":"Teilnehmertabelle!A30","v":0},{"$f":"Teilnehmertabelle!D30","v":1},{"$f":"-Teilnehmertabelle!E30","v":0},{"$f":"Teilnehmertabelle!AR30","v":{"$error":"#REF!"}}]
[{"$f":"Teilnehmertabelle!A31","v":0},{"$f":"Teilnehmertabelle!D31","v":1},{"$f":"-Teilnehmertabelle!E31","v":0},{"$f":"Teilnehmertabelle!AR31","v":{"$error":"#REF!"}}]
[{"$f":"Teilnehmertabelle!A32","v":0},{"$f":"Teilnehmertabelle!D32","v":1},{"$f":"-Teilnehmertabelle!E32","v":0},{"$f":"Teilnehmertabelle!AR32","v":{"$error":"#REF!"}}]
[{"$f":"Teilnehmertabelle!A33","v":0},{"$f":"Teilnehmertabelle!D33","v":1},{"$f":"-Teilnehmertabelle!E33","v":0},{"$f":"Teilnehmertabelle!AR33","v":{"$error":"#REF!"}}]
[{"$f":"Teilnehmertabelle!A34","v":0},{"$f":"Teilnehmertabelle!D34","v":1},{"$f":"-Teilnehmertabelle!E34","v":0},{"$f":"Teilnehmertabelle!AR34","v":{"$error":"#REF!"}}]
[{"$f":"Teilnehmertabelle!A35","v":0},{"$f":"Teilnehmertabelle!D35","v":1},{"$f":"-Teilnehmertabelle!E35","v":0},{"$f":"Teilnehmertabelle!AR35","v":{"$error":"#REF!"}}]
[{"$f":"Teilnehmertabelle!A36","v":0},{"$f":"Teilnehmertabelle!D36","v":1},{"$f":"-Teilnehmertabelle!E36","v":0},{"$f":"Teilnehmertabelle!AR36","v":{"$error":"#REF!"}}]
[{"$f":"Teilnehmertabelle!A37","v":0},{"$f":"Teilnehmertabelle!D37","v":1},{"$f":"-Teilnehmertabelle!E37","v":0},{"$f":"Teilnehmertabelle!AR37","v":{"$error":"#REF!"}}]
[{"$f":"Teilnehmertabelle!A38","v":0},{"$f":"Teilnehmertabelle!D38","v":1},{"$f":"-Teilnehmertabelle!E38","v":0},{"$f":"Teilnehmertabelle!AR38","v":0}]

{"sheet":"zur Grafik","index":12,"n_rows":18,"n_cols":5,"rows_kept":18,"cut":false,"hidden":false,"merged":[]}
[{"$f":"Tabelle!A3","v":"Bayer 04 Leverkusen"},{"$f":"Tabelle!B3","v":1},{"$f":"Tabelle!C3","v":90},{"$f":"Tabelle!D3","v":65},{"$f":"'1. Liga'!Q1:Q3","v":34}]
[{"$f":"Tabelle!A4","v":"VfB Stuttgart"},{"$f":"Tabelle!B4","v":2},{"$f":"Tabelle!C4","v":73},{"$f":"Tabelle!D4","v":39}]
[{"$f":"Tabelle!A5","v":"FC Bayern München"},{"$f":"Tabelle!B5","v":3},{"$f":"Tabelle!C5","v":72},{"$f":"Tabelle!D5","v":49}]
[{"$f":"Tabelle!A6","v":"RB Leipzig"},{"$f":"Tabelle!B6","v":4},{"$f":"Tabelle!C6","v":65},{"$f":"Tabelle!D6","v":38}]
[{"$f":"Tabelle!A7","v":"Borussia Dortmund"},{"$f":"Tabelle!B7","v":5},{"$f":"Tabelle!C7","v":63},{"$f":"Tabelle!D7","v":25}]
[{"$f":"Tabelle!A8","v":"Eintracht Frankfurt"},{"$f":"Tabelle!B8","v":6},{"$f":"Tabelle!C8","v":47},{"$f":"Tabelle!D8","v":1}]
[{"$f":"Tabelle!A9","v":"TSG Hoffenheim"},{"$f":"Tabelle!B9","v":7},{"$f":"Tabelle!C9","v":46},{"$f":"Tabelle!D9","v":0}]
[{"$f":"Tabelle!A10","v":"1. FC Heidenheim 1846"},{"$f":"Tabelle!B10","v":8},{"$f":"Tabelle!C10","v":42},{"$f":"Tabelle!D10","v":-5}]
[{"$f":"Tabelle!A11","v":"SV Werder Bremen"},{"$f":"Tabelle!B11","v":9},{"$f":"Tabelle!C11","v":42},{"$f":"Tabelle!D11","v":-6}]
[{"$f":"Tabelle!A12","v":"Sport-Club Freiburg"},{"$f":"Tabelle!B12","v":10},{"$f":"Tabelle!C12","v":42},{"$f":"Tabelle!D12","v":-13}]
[{"$f":"Tabelle!A13","v":"FC Augsburg"},{"$f":"Tabelle!B13","v":11},{"$f":"Tabelle!C13","v":39},{"$f":"Tabelle!D13","v":-10}]
[{"$f":"Tabelle!A14","v":"VfL Wolfsburg"},{"$f":"Tabelle!B14","v":12},{"$f":"Tabelle!C14","v":37},{"$f":"Tabelle!D14","v":-15}]
[{"$f":"Tabelle!A15","v":"1. FSV Mainz 05"},{"$f":"Tabelle!B15","v":13},{"$f":"Tabelle!C15","v":35},{"$f":"Tabelle!D15","v":-12}]
[{"$f":"Tabelle!A16","v":"Borussia Mönchengladbach"},{"$f":"Tabelle!B16","v":14},{"$f":"Tabelle!C16","v":34},{"$f":"Tabelle!D16","v":-11}]
[{"$f":"Tabelle!A17","v":"1. FC Union Berlin"},{"$f":"Tabelle!B17","v":15},{"$f":"Tabelle!C17","v":33},{"$f":"Tabelle!D17","v":-25}]
[{"$f":"Tabelle!A18","v":"VfL Bochum 1848"},{"$f":"Tabelle!B18","v":16},{"$f":"Tabelle!C18","v":33},{"$f":"Tabelle!D18","v":-32}]
[{"$f":"Tabelle!A19","v":"1. FC Köln"},{"$f":"Tabelle!B19","v":17},{"$f":"Tabelle!C19","v":27},{"$f":"Tabelle!D19","v":-32}]
[{"$f":"Tabelle!A20","v":"SV Darmstadt 98"},{"$f":"Tabelle!B20","v":18},{"$f":"Tabelle!C20","v":17},{"$f":"Tabelle!D20","v":-56}]

{"sheet":"Index","index":13,"n_rows":36,"n_cols":7,"rows_kept":36,"cut":false,"hidden":false,"merged":[]}
[null,null,null,null,null,null,1]
[null,null,"S","E",null,1,{"$f":"'1. Liga'!AK1","v":"SV Werder Bremen"}]
[1,1,6,{"$f":"C3+8","v":14},null,2,{"$f":"'1. Liga'!AL1","v":"FC Bayern München"}]
[{"$f":"B4+A3","v":3},2,{"$f":"C3+13","v":19},27,null,3,{"$f":"'1. Liga'!AM1","v":"VfB Stuttgart"}]
[6,3,32,40,null,4,{"$f":"'1. Liga'!AN1","v":"VfL Bochum 1848"}]
[10,4,45,53,null,5,{"$f":"'1. Liga'!AO1","v":"Borussia Dortmund"}]
[15,5,58,66,null,6,{"$f":"'1. Liga'!AP1","v":"1. FC Köln"}]
[21,6,71,79,null,7,{"$f":"'1. Liga'!AQ1","v":"Eintracht Frankfurt"}]
[28,7,84,92,null,8,{"$f":"'1. Liga'!AR1","v":"SV Darmstadt 98"}]
[36,8,97,105,null,9,{"$f":"'1. Liga'!AS1","v":"Bayer 04 Leverkusen"}]
[45,9,110,118,null,10,{"$f":"'1. Liga'!AT1","v":"RB Leipzig"}]
[55,10,123,131,null,11,{"$f":"'1. Liga'!AU1","v":"VfL Wolfsburg"}]
[66,11,136,144,null,12,{"$f":"'1. Liga'!AV1","v":"1. FC Heidenheim 1846"}]
[78,12,149,157,null,13,{"$f":"'1. Liga'!AW1","v":"1. FC Union Berlin"}]
[91,13,162,170,null,14,{"$f":"'1. Liga'!AX1","v":"1. FSV Mainz 05"}]
[105,14,175,183,null,15,{"$f":"'1. Liga'!AY1","v":"FC Augsburg"}]
[120,15,188,196,null,16,{"$f":"'1. Liga'!AZ1","v":"Borussia Mönchengladbach"}]
[136,16,201,209,null,17,{"$f":"'1. Liga'!BA1","v":"TSG Hoffenheim"}]
[153,17,214,222,null,18,{"$f":"'1. Liga'!BB1","v":"Sport-Club Freiburg"}]
[171,18,227,235]
[190,19,240,248]
[210,20,253,261]
[231,21,266,274]
[253,22,279,287]
[276,23,292,300]
[300,24,305,313]
[325,25,318,326]
[351,26,331,339]
[378,27,344,352]
[406,28,357,365]
[435,29,370,378]
[465,30,383,391]
[496,31,396,404]
[528,32,409,417]
[561,33,422,430]
[595,34,435,443]

{"sheet":"zur Grafik2","index":15,"n_rows":18,"n_cols":5,"rows_kept":18,"cut":false,"hidden":false,"merged":[]}
[{"$f":"Tabelle!A3","v":"Bayer 04 Leverkusen"},{"$f":"Tabelle!H3","v":1},{"$f":"Tabelle!I3","v":14},{"$f":"Tabelle!D3","v":65},{"$f":"'1. Liga'!Q1:Q3","v":34}]
[{"$f":"Tabelle!A5","v":"FC Bayern München"},{"$f":"Tabelle!H5","v":3},{"$f":"Tabelle!I5","v":12},{"$f":"Tabelle!D5","v":49}]
[{"$f":"Tabelle!A6","v":"RB Leipzig"},{"$f":"Tabelle!H6","v":3},{"$f":"Tabelle!I6","v":12},{"$f":"Tabelle!D6","v":38}]
[{"$f":"Tabelle!A10","v":"1. FC Heidenheim 1846"},{"$f":"Tabelle!H10","v":9},{"$f":"Tabelle!I10","v":9},{"$f":"Tabelle!D10","v":-5}]
[{"$f":"Tabelle!A11","v":"SV Werder Bremen"},{"$f":"Tabelle!H11","v":6},{"$f":"Tabelle!I11","v":11},{"$f":"Tabelle!D11","v":-6}]
[{"$f":"Tabelle!A13","v":"FC Augsburg"},{"$f":"Tabelle!H13","v":16},{"$f":"Tabelle!I13","v":3},{"$f":"Tabelle!D13","v":-10}]
[{"$f":"Tabelle!A17","v":"1. FC Union Berlin"},{"$f":"Tabelle!H17","v":15},{"$f":"Tabelle!I17","v":4},{"$f":"Tabelle!D17","v":-25}]
[{"$f":"Tabelle!A4","v":"VfB Stuttgart"},{"$f":"Tabelle!H4","v":2},{"$f":"Tabelle!I4","v":13},{"$f":"Tabelle!D4","v":39}]
[{"$f":"Tabelle!A7","v":"Borussia Dortmund"},{"$f":"Tabelle!H7","v":7},{"$f":"Tabelle!I7","v":10},{"$f":"Tabelle!D7","v":25}]
[{"$f":"Tabelle!A9","v":"TSG Hoffenheim"},{"$f":"Tabelle!H9","v":7},{"$f":"Tabelle!I9","v":10},{"$f":"Tabelle!D9","v":0}]
[{"$f":"Tabelle!A16","v":"Borussia Mönchengladbach"},{"$f":"Tabelle!H16","v":16},{"$f":"Tabelle!I16","v":3},{"$f":"Tabelle!D16","v":-11}]
[{"$f":"Tabelle!A12","v":"Sport-Club Freiburg"},{"$f":"Tabelle!H12","v":12},{"$f":"Tabelle!I12","v":6},{"$f":"Tabelle!D12","v":-13}]
[{"$f":"Tabelle!A8","v":"Eintracht Frankfurt"},{"$f":"Tabelle!H8","v":13},{"$f":"Tabelle!I8","v":5},{"$f":"Tabelle!D8","v":1}]
[{"$f":"Tabelle!A15","v":"1. FSV Mainz 05"},{"$f":"Tabelle!H15","v":3},{"$f":"Tabelle!I15","v":12},{"$f":"Tabelle!D15","v":-12}]
[{"$f":"Tabelle!A19","v":"1. FC Köln"},{"$f":"Tabelle!H19","v":13},{"$f":"Tabelle!I19","v":5},{"$f":"Tabelle!D19","v":-32}]
[{"$f":"Tabelle!A14","v":"VfL Wolfsburg"},{"$f":"Tabelle!H14","v":9},{"$f":"Tabelle!I14","v":9},{"$f":"Tabelle!D14","v":-15}]
[{"$f":"Tabelle!A18","v":"VfL Bochum 1848"},{"$f":"Tabelle!H18","v":11},{"$f":"Tabelle!I18","v":7},{"$f":"Tabelle!D18","v":-32}]
[{"$f":"Tabelle!A20","v":"SV Darmstadt 98"},{"$f":"Tabelle!H20","v":16},{"$f":"Tabelle!I20","v":3},{"$f":"Tabelle!D20","v":-56}]